{"text_format":"1","workbook":"xlsx","n_sheets":6,"sheets":["US mthly rpt","PADD1 mthly rpt","PADD2 mthly rpt","PADD3 mthly rpt","PADD4 mthly rpt","PADD5 mthly rpt"],"not_rendered":{"charts":0,"images":0,"macros":1,"external_links":0,"defined_names":152,"comments":0,"pivot_tables":0},"unopened":[],"bounds":{"document_bytes":16777216,"sheet_cells":100000,"rows_first":2000,"rows_last":500,"rows_between":2000,"halvings":0,"cell_chars":16384,"cell_head_chars":4096},"cells_cut":0,"cells_raw":0,"read":"whole","date_system":"1900"}

{"sheet":"US mthly rpt","index":0,"n_rows":85,"n_cols":211,"rows_kept":85,"cut":false,"hidden":false,"merged":[]}
[null,null,null,null,null,null,null,null,null,null,null,null,null,null,null,null,null,null,null,null,null,null,null,null,null,null,null,null,null,null,null,null,null,null,null,null,null,null,null,null,null,null,null,null,null,null,null,null,null,null,null,null,null,null,null,null,null,null,null,null,null,null,null,null,null,null,null,null,null,null,null,null,null,null,null,null,null,null,null,null,null,null,null,null,null,null,null,null,null,null,null,null,null,null,null,null,null,null,null,null,null,null,null,null,null,null,null,null,null,null,null,null,null,null,null,null,null,null,null,null,null,null,null,null,null,null,null,null,null,null,null,null,null,null,null,null,null,null,null,null,null,null,null,null,null,null,null,null,null,null,null,null,null,null,null,null,null,null,null,null,null,null,null,null,null,null,null,null,null,null,null,null,null,null,"Legend:  BLACK - Actual / RED - Estimated (Inventory from US Dept. of Energy; Supply and Demand prepared by IHS) / BLUE - Forecast"]
["United States",null,null,null,null,null,null,null,null,null,null,null,null,null,null,null,null,null,null,null,null,null,null,null,null,null,null,null,null,null,null,null,null,null,null,null,null,null,null,null,null,null,null,null,null,null,null,null,null,null,null,null,null,null,null,null,null,null,null,null,null,null,null,null,null,null,null,null,null,null,null,null,null,null,null,null,null,null,null,null,null,null,null,null,null,null,null,null,null,null,null,null,null,null,null,null,null,null,null,null,null,null,null,null,null,null,null,null,null,null,null,null,null,null,null,null,null,null,null,null,null,null,null,"","","","","","","","","","","","","","","","","","","",null,"","",null,null,"","","","","","","","","","","","","","","","","","","",null,null,null,null,null,null,null,null,null,"",null,null,null,null,null,null,null,null,null,null,null,null,null,null,null,null,null,null,null,null,null,null,"   FCST -->"]
["(Barrels per Day)","2005-01-15","2005-02-15","2005-03-15","2005-04-15","2005-05-15","2005-06-15","2005-07-15","2005-08-15","2005-09-15","2005-10-15","2005-11-15","2005-12-15","2006-01-15","2006-02-15","2006-03-15","2006-04-15","2006-05-15","2006-06-15","2006-07-15","2006-08-15","2006-09-15","2006-10-15","2006-11-15","2006-12-15","2007-01-15","2007-02-15","2007-03-15","2007-04-15","2007-05-15","2007-06-15","2007-07-15","2007-08-15","2007-09-15","2007-10-15","2007-11-15","2007-12-15","2008-01-15","2008-02-15","2008-03-15","2008-04-15","2008-05-15","2008-06-15","2008-07-15","2008-08-15","2008-09-15","2008-10-15","2008-11-15","2008-12-15","2009-01-15","2009-02-15","2009-03-15","2009-04-15","2009-05-15","2009-06-15","2009-07-15","2009-08-15","2009-09-15","2009-10-15","2009-11-15","2009-12-15","2010-01-15","2010-02-15","2010-03-15","2010-04-15","2010-05-15","2010-06-15","2010-07-15","2010-08-15","2010-09-15","2010-10-15","2010-11-15","2010-12-15","2011-01-15","2011-02-15","2011-03-15","2011-04-15","2011-05-15","2011-06-15","2011-07-15","2011-08-15","2011-09-15","2011-10-15","2011-11-15","2011-12-15","2012-01-15","2012-02-15","2012-03-15","2012-04-15","2012-05-15","2012-06-15","2012-07-15","2012-08-15","2012-09-15","2012-10-15","2012-11-15","2012-12-15","2013-01-15","2013-02-15","2013-03-15","2013-04-15","2013-05-15","2013-06-15","2013-07-15","2013-08-15","2013-09-15","2013-10-15","2013-11-15","2013-12-15","2014-01-15","2014-02-15","2014-03-15","2014-04-15","2014-05-15","2014-06-15","2014-07-15","2014-08-15","2014-09-15","2014-10-15","2014-11-15","2014-12-15","2015-01-15","2015-02-15","2015-03-15","2015-04-15","2015-05-15","2015-06-15","2015-07-15","2015-08-15","2015-09-15","2015-10-15","2015-11-15","2015-12-15","2016-01-15","2016-02-15","2016-03-15","2016-04-15","2016-05-15","2016-06-15","2016-07-15","2016-08-15","2016-09-15","2016-10-15","2016-11-15","2016-12-15","2017-01-15","2017-02-15","2017-03-15","2017-04-15","2017-05-15","2017-06-15","2017-07-15","2017-08-15","2017-09-15","2017-10-15","2017-11-15","2017-12-15","2018-01-15","2018-02-15","2018-03-15","2018-04-15","2018-05-15","2018-06-15","2018-07-15","2018-08-15","2018-09-15","2018-10-15","2018-11-15","2018-12-15","2019-01-15","2019-02-15","2019-03-15","2019-04-15","2019-05-15","2019-06-15","2019-07-15","2019-08-15","2019-09-15","2019-10-15","2019-11-15","2019-12-15","2020-01-15","2020-02-15","2020-03-15","2020-04-15","2020-05-15","2020-06-15","2020-07-15","2020-08-15","2020-09-15","2020-10-15","2020-11-15","2020-12-15","2021-01-15","2021-02-15","2021-03-15","2021-04-15","2021-05-15","2021-06-15","2021-07-15","2021-08-15","2021-09-15","2021-10-15","2021-11-15","2021-12-15","2022-01-15","2022-02-15","2022-03-15","2022-04-15","2022-05-15","2022-06-15"]
["SUPPLY"]
["Gas Processing",{"$f":"'PADD1 mthly rpt'!B5+'PADD2 mthly rpt'!B5+'PADD3 mthly rpt'!B5+'PADD4 mthly rpt'!B5+'PADD5 mthly rpt'!B5","v":526612.90322580654},{"$f":"'PADD1 mthly rpt'!C5+'PADD2 mthly rpt'!C5+'PADD3 mthly rpt'!C5+'PADD4 mthly rpt'!C5+'PADD5 mthly rpt'!C5","v":540071.42857142864},{"$f":"'PADD1 mthly rpt'!D5+'PADD2 mthly rpt'!D5+'PADD3 mthly rpt'!D5+'PADD4 mthly rpt'!D5+'PADD5 mthly rpt'!D5","v":540064.51612903224},{"$f":"'PADD1 mthly rpt'!E5+'PADD2 mthly rpt'!E5+'PADD3 mthly rpt'!E5+'PADD4 mthly rpt'!E5+'PADD5 mthly rpt'!E5","v":531100},{"$f":"'PADD1 mthly rpt'!F5+'PADD2 mthly rpt'!F5+'PADD3 mthly rpt'!F5+'PADD4 mthly rpt'!F5+'PADD5 mthly rpt'!F5","v":530870.96774193551},{"$f":"'PADD1 mthly rpt'!G5+'PADD2 mthly rpt'!G5+'PADD3 mthly rpt'!G5+'PADD4 mthly rpt'!G5+'PADD5 mthly rpt'!G5","v":516466.66666666663},{"$f":"'PADD1 mthly rpt'!H5+'PADD2 mthly rpt'!H5+'PADD3 mthly rpt'!H5+'PADD4 mthly rpt'!H5+'PADD5 mthly rpt'!H5","v":505387.09677419357},{"$f":"'PADD1 mthly rpt'!I5+'PADD2 mthly rpt'!I5+'PADD3 mthly rpt'!I5+'PADD4 mthly rpt'!I5+'PADD5 mthly rpt'!I5","v":504935.48387096776},{"$f":"'PADD1 mthly rpt'!J5+'PADD2 mthly rpt'!J5+'PADD3 mthly rpt'!J5+'PADD4 mthly rpt'!J5+'PADD5 mthly rpt'!J5","v":437433.33333333337},{"$f":"'PADD1 mthly rpt'!K5+'PADD2 mthly rpt'!K5+'PADD3 mthly rpt'!K5+'PADD4 mthly rpt'!K5+'PADD5 mthly rpt'!K5","v":447806.45161290321},{"$f":"'PADD1 mthly rpt'!L5+'PADD2 mthly rpt'!L5+'PADD3 mthly rpt'!L5+'PADD4 mthly rpt'!L5+'PADD5 mthly rpt'!L5","v":469366.66666666663},{"$f":"'PADD1 mthly rpt'!M5+'PADD2 mthly rpt'!M5+'PADD3 mthly rpt'!M5+'PADD4 mthly rpt'!M5+'PADD5 mthly rpt'!M5","v":443774.19354838709},{"$f":"'PADD1 mthly rpt'!N5+'PADD2 mthly rpt'!N5+'PADD3 mthly rpt'!N5+'PADD4 mthly rpt'!N5+'PADD5 mthly rpt'!N5","v":489612.90322580643},{"$f":"'PADD1 mthly rpt'!O5+'PADD2 mthly rpt'!O5+'PADD3 mthly rpt'!O5+'PADD4 mthly rpt'!O5+'PADD5 mthly rpt'!O5","v":497285.71428571426},{"$f":"'PADD1 mthly rpt'!P5+'PADD2 mthly rpt'!P5+'PADD3 mthly rpt'!P5+'PADD4 mthly rpt'!P5+'PADD5 mthly rpt'!P5","v":499451.61290322582},{"$f":"'PADD1 mthly rpt'!Q5+'PADD2 mthly rpt'!Q5+'PADD3 mthly rpt'!Q5+'PADD4 mthly rpt'!Q5+'PADD5 mthly rpt'!Q5","v":502300},{"$f":"'PADD1 mthly rpt'!R5+'PADD2 mthly rpt'!R5+'PADD3 mthly rpt'!R5+'PADD4 mthly rpt'!R5+'PADD5 mthly rpt'!R5","v":503774.19354838709},{"$f":"'PADD1 mthly rpt'!S5+'PADD2 mthly rpt'!S5+'PADD3 mthly rpt'!S5+'PADD4 mthly rpt'!S5+'PADD5 mthly rpt'!S5","v":501633.33333333331},{"$f":"'PADD1 mthly rpt'!T5+'PADD2 mthly rpt'!T5+'PADD3 mthly rpt'!T5+'PADD4 mthly rpt'!T5+'PADD5 mthly rpt'!T5","v":504806.45161290327},{"$f":"'PADD1 mthly rpt'!U5+'PADD2 mthly rpt'!U5+'PADD3 mthly rpt'!U5+'PADD4 mthly rpt'!U5+'PADD5 mthly rpt'!U5","v":498806.45161290315},{"$f":"'PADD1 mthly rpt'!V5+'PADD2 mthly rpt'!V5+'PADD3 mthly rpt'!V5+'PADD4 mthly rpt'!V5+'PADD5 mthly rpt'!V5","v":505333.33333333331},{"$f":"'PADD1 mthly rpt'!W5+'PADD2 mthly rpt'!W5+'PADD3 mthly rpt'!W5+'PADD4 mthly rpt'!W5+'PADD5 mthly rpt'!W5","v":501548.38709677418},{"$f":"'PADD1 mthly rpt'!X5+'PADD2 mthly rpt'!X5+'PADD3 mthly rpt'!X5+'PADD4 mthly rpt'!X5+'PADD5 mthly rpt'!X5","v":513799.99999999994},{"$f":"'PADD1 mthly rpt'!Y5+'PADD2 mthly rpt'!Y5+'PADD3 mthly rpt'!Y5+'PADD4 mthly rpt'!Y5+'PADD5 mthly rpt'!Y5","v":499580.64516129036},{"$f":"'PADD1 mthly rpt'!Z5+'PADD2 mthly rpt'!Z5+'PADD3 mthly rpt'!Z5+'PADD4 mthly rpt'!Z5+'PADD5 mthly rpt'!Z5","v":481161.29032258067},{"$f":"'PADD1 mthly rpt'!AA5+'PADD2 mthly rpt'!AA5+'PADD3 mthly rpt'!AA5+'PADD4 mthly rpt'!AA5+'PADD5 mthly rpt'!AA5","v":498107.14285714284},{"$f":"'PADD1 mthly rpt'!AB5+'PADD2 mthly rpt'!AB5+'PADD3 mthly rpt'!AB5+'PADD4 mthly rpt'!AB5+'PADD5 mthly rpt'!AB5","v":509161.29032258072},{"$f":"'PADD1 mthly rpt'!AC5+'PADD2 mthly rpt'!AC5+'PADD3 mthly rpt'!AC5+'PADD4 mthly rpt'!AC5+'PADD5 mthly rpt'!AC5","v":502100},{"$f":"'PADD1 mthly rpt'!AD5+'PADD2 mthly rpt'!AD5+'PADD3 mthly rpt'!AD5+'PADD4 mthly rpt'!AD5+'PADD5 mthly rpt'!AD5","v":511032.25806451606},{"$f":"'PADD1 mthly rpt'!AE5+'PADD2 mthly rpt'!AE5+'PADD3 mthly rpt'!AE5+'PADD4 mthly rpt'!AE5+'PADD5 mthly rpt'!AE5","v":502033.33333333337},{"$f":"'PADD1 mthly rpt'!AF5+'PADD2 mthly rpt'!AF5+'PADD3 mthly rpt'!AF5+'PADD4 mthly rpt'!AF5+'PADD5 mthly rpt'!AF5","v":504838.70967741939},{"$f":"'PADD1 mthly rpt'!AG5+'PADD2 mthly rpt'!AG5+'PADD3 mthly rpt'!AG5+'PADD4 mthly rpt'!AG5+'PADD5 mthly rpt'!AG5","v":500548.38709677418},{"$f":"'PADD1 mthly rpt'!AH5+'PADD2 mthly rpt'!AH5+'PADD3 mthly rpt'!AH5+'PADD4 mthly rpt'!AH5+'PADD5 mthly rpt'!AH5","v":508366.66666666669},{"$f":"'PADD1 mthly rpt'!AI5+'PADD2 mthly rpt'!AI5+'PADD3 mthly rpt'!AI5+'PADD4 mthly rpt'!AI5+'PADD5 mthly rpt'!AI5","v":519967.74193548382},{"$f":"'PADD1 mthly rpt'!AJ5+'PADD2 mthly rpt'!AJ5+'PADD3 mthly rpt'!AJ5+'PADD4 mthly rpt'!AJ5+'PADD5 mthly rpt'!AJ5","v":529466.66666666674},{"$f":"'PADD1 mthly rpt'!AK5+'PADD2 mthly rpt'!AK5+'PADD3 mthly rpt'!AK5+'PADD4 mthly rpt'!AK5+'PADD5 mthly rpt'!AK5","v":518225.80645161291},{"$f":"'PADD1 mthly rpt'!AL5+'PADD2 mthly rpt'!AL5+'PADD3 mthly rpt'!AL5+'PADD4 mthly rpt'!AL5+'PADD5 mthly rpt'!AL5","v":510548.38709677418},{"$f":"'PADD1 mthly rpt'!AM5+'PADD2 mthly rpt'!AM5+'PADD3 mthly rpt'!AM5+'PADD4 mthly rpt'!AM5+'PADD5 mthly rpt'!AM5","v":524344.82758620684},{"$f":"'PADD1 mthly rpt'!AN5+'PADD2 mthly rpt'!AN5+'PADD3 mthly rpt'!AN5+'PADD4 mthly rpt'!AN5+'PADD5 mthly rpt'!AN5","v":533612.90322580654},{"$f":"'PADD1 mthly rpt'!AO5+'PADD2 mthly rpt'!AO5+'PADD3 mthly rpt'!AO5+'PADD4 mthly rpt'!AO5+'PADD5 mthly rpt'!AO5","v":533833.33333333337},{"$f":"'PADD1 mthly rpt'!AP5+'PADD2 mthly rpt'!AP5+'PADD3 mthly rpt'!AP5+'PADD4 mthly rpt'!AP5+'PADD5 mthly rpt'!AP5","v":534677.41935483867},{"$f":"'PADD1 mthly rpt'!AQ5+'PADD2 mthly rpt'!AQ5+'PADD3 mthly rpt'!AQ5+'PADD4 mthly rpt'!AQ5+'PADD5 mthly rpt'!AQ5","v":522133.33333333337},{"$f":"'PADD1 mthly rpt'!AR5+'PADD2 mthly rpt'!AR5+'PADD3 mthly rpt'!AR5+'PADD4 mthly rpt'!AR5+'PADD5 mthly rpt'!AR5","v":531935.48387096776},{"$f":"'PADD1 mthly rpt'!AS5+'PADD2 mthly rpt'!AS5+'PADD3 mthly rpt'!AS5+'PADD4 mthly rpt'!AS5+'PADD5 mthly rpt'!AS5","v":518677.41935483873},{"$f":"'PADD1 mthly rpt'!AT5+'PADD2 mthly rpt'!AT5+'PADD3 mthly rpt'!AT5+'PADD4 mthly rpt'!AT5+'PADD5 mthly rpt'!AT5","v":433666.66666666669},{"$f":"'PADD1 mthly rpt'!AU5+'PADD2 mthly rpt'!AU5+'PADD3 mthly rpt'!AU5+'PADD4 mthly rpt'!AU5+'PADD5 mthly rpt'!AU5","v":499387.09677419357},{"$f":"'PADD1 mthly rpt'!AV5+'PADD2 mthly rpt'!AV5+'PADD3 mthly rpt'!AV5+'PADD4 mthly rpt'!AV5+'PADD5 mthly rpt'!AV5","v":511900},{"$f":"'PADD1 mthly rpt'!AW5+'PADD2 mthly rpt'!AW5+'PADD3 mthly rpt'!AW5+'PADD4 mthly rpt'!AW5+'PADD5 mthly rpt'!AW5","v":486903.22580645158},{"$f":"'PADD1 mthly rpt'!AX5+'PADD2 mthly rpt'!AX5+'PADD3 mthly rpt'!AX5+'PADD4 mthly rpt'!AX5+'PADD5 mthly rpt'!AX5","v":520129.03225806454},{"$f":"'PADD1 mthly rpt'!AY5+'PADD2 mthly rpt'!AY5+'PADD3 mthly rpt'!AY5+'PADD4 mthly rpt'!AY5+'PADD5 mthly rpt'!AY5","v":538750},{"$f":"'PADD1 mthly rpt'!AZ5+'PADD2 mthly rpt'!AZ5+'PADD3 mthly rpt'!AZ5+'PADD4 mthly rpt'!AZ5+'PADD5 mthly rpt'!AZ5","v":541967.74193548388},{"$f":"'PADD1 mthly rpt'!BA5+'PADD2 mthly rpt'!BA5+'PADD3 mthly rpt'!BA5+'PADD4 mthly rpt'!BA5+'PADD5 mthly rpt'!BA5","v":545500},{"$f":"'PADD1 mthly rpt'!BB5+'PADD2 mthly rpt'!BB5+'PADD3 mthly rpt'!BB5+'PADD4 mthly rpt'!BB5+'PADD5 mthly rpt'!BB5","v":549548.38709677418},{"$f":"'PADD1 mthly rpt'!BC5+'PADD2 mthly rpt'!BC5+'PADD3 mthly rpt'!BC5+'PADD4 mthly rpt'!BC5+'PADD5 mthly rpt'!BC5","v":545200.00000000012},{"$f":"'PADD1 mthly rpt'!BD5+'PADD2 mthly rpt'!BD5+'PADD3 mthly rpt'!BD5+'PADD4 mthly rpt'!BD5+'PADD5 mthly rpt'!BD5","v":539322.58064516122},{"$f":"'PADD1 mthly rpt'!BE5+'PADD2 mthly rpt'!BE5+'PADD3 mthly rpt'!BE5+'PADD4 mthly rpt'!BE5+'PADD5 mthly rpt'!BE5","v":549483.87096774194},{"$f":"'PADD1 mthly rpt'!BF5+'PADD2 mthly rpt'!BF5+'PADD3 mthly rpt'!BF5+'PADD4 mthly rpt'!BF5+'PADD5 mthly rpt'!BF5","v":556333.33333333337},{"$f":"'PADD1 mthly rpt'!BG5+'PADD2 mthly rpt'!BG5+'PADD3 mthly rpt'!BG5+'PADD4 mthly rpt'!BG5+'PADD5 mthly rpt'!BG5","v":559806.45161290315},{"$f":"'PADD1 mthly rpt'!BH5+'PADD2 mthly rpt'!BH5+'PADD3 mthly rpt'!BH5+'PADD4 mthly rpt'!BH5+'PADD5 mthly rpt'!BH5","v":558466.66666666663},{"$f":"'PADD1 mthly rpt'!BI5+'PADD2 mthly rpt'!BI5+'PADD3 mthly rpt'!BI5+'PADD4 mthly rpt'!BI5+'PADD5 mthly rpt'!BI5","v":550967.74193548388},{"$f":"'PADD1 mthly rpt'!BJ5+'PADD2 mthly rpt'!BJ5+'PADD3 mthly rpt'!BJ5+'PADD4 mthly rpt'!BJ5+'PADD5 mthly rpt'!BJ5","v":564322.58064516122},{"$f":"'PADD1 mthly rpt'!BK5+'PADD2 mthly rpt'!BK5+'PADD3 mthly rpt'!BK5+'PADD4 mthly rpt'!BK5+'PADD5 mthly rpt'!BK5","v":571964.2857142858},{"$f":"'PADD1 mthly rpt'!BL5+'PADD2 mthly rpt'!BL5+'PADD3 mthly rpt'!BL5+'PADD4 mthly rpt'!BL5+'PADD5 mthly rpt'!BL5","v":582000},{"$f":"'PADD1 mthly rpt'!BM5+'PADD2 mthly rpt'!BM5+'PADD3 mthly rpt'!BM5+'PADD4 mthly rpt'!BM5+'PADD5 mthly rpt'!BM5","v":583700},{"$f":"'PADD1 mthly rpt'!BN5+'PADD2 mthly rpt'!BN5+'PADD3 mthly rpt'!BN5+'PADD4 mthly rpt'!BN5+'PADD5 mthly rpt'!BN5","v":589709.67741935479},{"$f":"'PADD1 mthly rpt'!BO5+'PADD2 mthly rpt'!BO5+'PADD3 mthly rpt'!BO5+'PADD4 mthly rpt'!BO5+'PADD5 mthly rpt'!BO5","v":578366.66666666663},{"$f":"'PADD1 mthly rpt'!BP5+'PADD2 mthly rpt'!BP5+'PADD3 mthly rpt'!BP5+'PADD4 mthly rpt'!BP5+'PADD5 mthly rpt'!BP5","v":568774.19354838715},{"$f":"'PADD1 mthly rpt'!BQ5+'PADD2 mthly rpt'!BQ5+'PADD3 mthly rpt'!BQ5+'PADD4 mthly rpt'!BQ5+'PADD5 mthly rpt'!BQ5","v":589935.48387096776},{"$f":"'PADD1 mthly rpt'!BR5+'PADD2 mthly rpt'!BR5+'PADD3 mthly rpt'!BR5+'PADD4 mthly rpt'!BR5+'PADD5 mthly rpt'!BR5","v":593633.33333333337},{"$f":"'PADD1 mthly rpt'!BS5+'PADD2 mthly rpt'!BS5+'PADD3 mthly rpt'!BS5+'PADD4 mthly rpt'!BS5+'PADD5 mthly rpt'!BS5","v":599903.22580645164},{"$f":"'PADD1 mthly rpt'!BT5+'PADD2 mthly rpt'!BT5+'PADD3 mthly rpt'!BT5+'PADD4 mthly rpt'!BT5+'PADD5 mthly rpt'!BT5","v":604500},{"$f":"'PADD1 mthly rpt'!BU5+'PADD2 mthly rpt'!BU5+'PADD3 mthly rpt'!BU5+'PADD4 mthly rpt'!BU5+'PADD5 mthly rpt'!BU5","v":600870.96774193551},{"$f":"'PADD1 mthly rpt'!BV5+'PADD2 mthly rpt'!BV5+'PADD3 mthly rpt'!BV5+'PADD4 mthly rpt'!BV5+'PADD5 mthly rpt'!BV5","v":603483.87096774194},{"$f":"'PADD1 mthly rpt'!BW5+'PADD2 mthly rpt'!BW5+'PADD3 mthly rpt'!BW5+'PADD4 mthly rpt'!BW5+'PADD5 mthly rpt'!BW5","v":572178.57142857136},{"$f":"'PADD1 mthly rpt'!BX5+'PADD2 mthly rpt'!BX5+'PADD3 mthly rpt'!BX5+'PADD4 mthly rpt'!BX5+'PADD5 mthly rpt'!BX5","v":621838.70967741939},{"$f":"'PADD1 mthly rpt'!BY5+'PADD2 mthly rpt'!BY5+'PADD3 mthly rpt'!BY5+'PADD4 mthly rpt'!BY5+'PADD5 mthly rpt'!BY5","v":616400},{"$f":"'PADD1 mthly rpt'!BZ5+'PADD2 mthly rpt'!BZ5+'PADD3 mthly rpt'!BZ5+'PADD4 mthly rpt'!BZ5+'PADD5 mthly rpt'!BZ5","v":629677.41935483878},{"$f":"'PADD1 mthly rpt'!CA5+'PADD2 mthly rpt'!CA5+'PADD3 mthly rpt'!CA5+'PADD4 mthly rpt'!CA5+'PADD5 mthly rpt'!CA5","v":619533.33333333326},{"$f":"'PADD1 mthly rpt'!CB5+'PADD2 mthly rpt'!CB5+'PADD3 mthly rpt'!CB5+'PADD4 mthly rpt'!CB5+'PADD5 mthly rpt'!CB5","v":629483.87096774194},{"$f":"'PADD1 mthly rpt'!CC5+'PADD2 mthly rpt'!CC5+'PADD3 mthly rpt'!CC5+'PADD4 mthly rpt'!CC5+'PADD5 mthly rpt'!CC5","v":637612.90322580643},{"$f":"'PADD1 mthly rpt'!CD5+'PADD2 mthly rpt'!CD5+'PADD3 mthly rpt'!CD5+'PADD4 mthly rpt'!CD5+'PADD5 mthly rpt'!CD5","v":623900},{"$f":"'PADD1 mthly rpt'!CE5+'PADD2 mthly rpt'!CE5+'PADD3 mthly rpt'!CE5+'PADD4 mthly rpt'!CE5+'PADD5 mthly rpt'!CE5","v":660677.41935483867},{"$f":"'PADD1 mthly rpt'!CF5+'PADD2 mthly rpt'!CF5+'PADD3 mthly rpt'!CF5+'PADD4 mthly rpt'!CF5+'PADD5 mthly rpt'!CF5","v":675000},{"$f":"'PADD1 mthly rpt'!CG5+'PADD2 mthly rpt'!CG5+'PADD3 mthly rpt'!CG5+'PADD4 mthly rpt'!CG5+'PADD5 mthly rpt'!CG5","v":674032.25806451624},{"$f":"'PADD1 mthly rpt'!CH5+'PADD2 mthly rpt'!CH5+'PADD3 mthly rpt'!CH5+'PADD4 mthly rpt'!CH5+'PADD5 mthly rpt'!CH5","v":682193.54838709685},{"$f":"'PADD1 mthly rpt'!CI5+'PADD2 mthly rpt'!CI5+'PADD3 mthly rpt'!CI5+'PADD4 mthly rpt'!CI5+'PADD5 mthly rpt'!CI5","v":709182.26600985217},{"$f":"'PADD1 mthly rpt'!CJ5+'PADD2 mthly rpt'!CJ5+'PADD3 mthly rpt'!CJ5+'PADD4 mthly rpt'!CJ5+'PADD5 mthly rpt'!CJ5","v":686290.32258064521},{"$f":"'PADD1 mthly rpt'!CK5+'PADD2 mthly rpt'!CK5+'PADD3 mthly rpt'!CK5+'PADD4 mthly rpt'!CK5+'PADD5 mthly rpt'!CK5","v":688400},{"$f":"'PADD1 mthly rpt'!CL5+'PADD2 mthly rpt'!CL5+'PADD3 mthly rpt'!CL5+'PADD4 mthly rpt'!CL5+'PADD5 mthly rpt'!CL5","v":702387.09677419357},{"$f":"'PADD1 mthly rpt'!CM5+'PADD2 mthly rpt'!CM5+'PADD3 mthly rpt'!CM5+'PADD4 mthly rpt'!CM5+'PADD5 mthly rpt'!CM5","v":692599.99999999988},{"$f":"'PADD1 mthly rpt'!CN5+'PADD2 mthly rpt'!CN5+'PADD3 mthly rpt'!CN5+'PADD4 mthly rpt'!CN5+'PADD5 mthly rpt'!CN5","v":697677.41935483867},{"$f":"'PADD1 mthly rpt'!CO5+'PADD2 mthly rpt'!CO5+'PADD3 mthly rpt'!CO5+'PADD4 mthly rpt'!CO5+'PADD5 mthly rpt'!CO5","v":710419.3548387097},{"$f":"'PADD1 mthly rpt'!CP5+'PADD2 mthly rpt'!CP5+'PADD3 mthly rpt'!CP5+'PADD4 mthly rpt'!CP5+'PADD5 mthly rpt'!CP5","v":725700},{"$f":"'PADD1 mthly rpt'!CQ5+'PADD2 mthly rpt'!CQ5+'PADD3 mthly rpt'!CQ5+'PADD4 mthly rpt'!CQ5+'PADD5 mthly rpt'!CQ5","v":745677.41935483867},{"$f":"'PADD1 mthly rpt'!CR5+'PADD2 mthly rpt'!CR5+'PADD3 mthly rpt'!CR5+'PADD4 mthly rpt'!CR5+'PADD5 mthly rpt'!CR5","v":765566.66666666663},{"$f":"'PADD1 mthly rpt'!CS5+'PADD2 mthly rpt'!CS5+'PADD3 mthly rpt'!CS5+'PADD4 mthly rpt'!CS5+'PADD5 mthly rpt'!CS5","v":756741.93548387103},{"$f":"'PADD1 mthly rpt'!CT5+'PADD2 mthly rpt'!CT5+'PADD3 mthly rpt'!CT5+'PADD4 mthly rpt'!CT5+'PADD5 mthly rpt'!CT5","v":746129.03225806449},{"$f":"'PADD1 mthly rpt'!CU5+'PADD2 mthly rpt'!CU5+'PADD3 mthly rpt'!CU5+'PADD4 mthly rpt'!CU5+'PADD5 mthly rpt'!CU5","v":774571.42857142864},{"$f":"'PADD1 mthly rpt'!CV5+'PADD2 mthly rpt'!CV5+'PADD3 mthly rpt'!CV5+'PADD4 mthly rpt'!CV5+'PADD5 mthly rpt'!CV5","v":770903.22580645164},{"$f":"'PADD1 mthly rpt'!CW5+'PADD2 mthly rpt'!CW5+'PADD3 mthly rpt'!CW5+'PADD4 mthly rpt'!CW5+'PADD5 mthly rpt'!CW5","v":797666.66666666674},{"$f":"'PADD1 mthly rpt'!CX5+'PADD2 mthly rpt'!CX5+'PADD3 mthly rpt'!CX5+'PADD4 mthly rpt'!CX5+'PADD5 mthly rpt'!CX5","v":814483.87096774194},{"$f":"'PADD1 mthly rpt'!CY5+'PADD2 mthly rpt'!CY5+'PADD3 mthly rpt'!CY5+'PADD4 mthly rpt'!CY5+'PADD5 mthly rpt'!CY5","v":819733.33333333326},{"$f":"'PADD1 mthly rpt'!CZ5+'PADD2 mthly rpt'!CZ5+'PADD3 mthly rpt'!CZ5+'PADD4 mthly rpt'!CZ5+'PADD5 mthly rpt'!CZ5","v":834806.45161290327},{"$f":"'PADD1 mthly rpt'!DA5+'PADD2 mthly rpt'!DA5+'PADD3 mthly rpt'!DA5+'PADD4 mthly rpt'!DA5+'PADD5 mthly rpt'!DA5","v":853483.87096774206},{"$f":"'PADD1 mthly rpt'!DB5+'PADD2 mthly rpt'!DB5+'PADD3 mthly rpt'!DB5+'PADD4 mthly rpt'!DB5+'PADD5 mthly rpt'!DB5","v":875933.33333333337},{"$f":"'PADD1 mthly rpt'!DC5+'PADD2 mthly rpt'!DC5+'PADD3 mthly rpt'!DC5+'PADD4 mthly rpt'!DC5+'PADD5 mthly rpt'!DC5","v":872967.74193548376},{"$f":"'PADD1 mthly rpt'!DD5+'PADD2 mthly rpt'!DD5+'PADD3 mthly rpt'!DD5+'PADD4 mthly rpt'!DD5+'PADD5 mthly rpt'!DD5","v":869833.33333333337},{"$f":"'PADD1 mthly rpt'!DE5+'PADD2 mthly rpt'!DE5+'PADD3 mthly rpt'!DE5+'PADD4 mthly rpt'!DE5+'PADD5 mthly rpt'!DE5","v":841580.6451612903},{"$f":"'PADD1 mthly rpt'!DF5+'PADD2 mthly rpt'!DF5+'PADD3 mthly rpt'!DF5+'PADD4 mthly rpt'!DF5+'PADD5 mthly rpt'!DF5","v":851096.77419354848},{"$f":"'PADD1 mthly rpt'!DG5+'PADD2 mthly rpt'!DG5+'PADD3 mthly rpt'!DG5+'PADD4 mthly rpt'!DG5+'PADD5 mthly rpt'!DG5","v":874857.14285714296},{"$f":"'PADD1 mthly rpt'!DH5+'PADD2 mthly rpt'!DH5+'PADD3 mthly rpt'!DH5+'PADD4 mthly rpt'!DH5+'PADD5 mthly rpt'!DH5","v":904451.61290322582},{"$f":"'PADD1 mthly rpt'!DI5+'PADD2 mthly rpt'!DI5+'PADD3 mthly rpt'!DI5+'PADD4 mthly rpt'!DI5+'PADD5 mthly rpt'!DI5","v":936666.66666666663},{"$f":"'PADD1 mthly rpt'!DJ5+'PADD2 mthly rpt'!DJ5+'PADD3 mthly rpt'!DJ5+'PADD4 mthly rpt'!DJ5+'PADD5 mthly rpt'!DJ5","v":958258.06451612897},{"$f":"'PADD1 mthly rpt'!DK5+'PADD2 mthly rpt'!DK5+'PADD3 mthly rpt'!DK5+'PADD4 mthly rpt'!DK5+'PADD5 mthly rpt'!DK5","v":993800},{"$f":"'PADD1 mthly rpt'!DL5+'PADD2 mthly rpt'!DL5+'PADD3 mthly rpt'!DL5+'PADD4 mthly rpt'!DL5+'PADD5 mthly rpt'!DL5","v":1016387.0967741936},{"$f":"'PADD1 mthly rpt'!DM5+'PADD2 mthly rpt'!DM5+'PADD3 mthly rpt'!DM5+'PADD4 mthly rpt'!DM5+'PADD5 mthly rpt'!DM5","v":1037903.2258064516},{"$f":"'PADD1 mthly rpt'!DN5+'PADD2 mthly rpt'!DN5+'PADD3 mthly rpt'!DN5+'PADD4 mthly rpt'!DN5+'PADD5 mthly rpt'!DN5","v":1049900},{"$f":"'PADD1 mthly rpt'!DO5+'PADD2 mthly rpt'!DO5+'PADD3 mthly rpt'!DO5+'PADD4 mthly rpt'!DO5+'PADD5 mthly rpt'!DO5","v":1058967.7419354839},{"$f":"'PADD1 mthly rpt'!DP5+'PADD2 mthly rpt'!DP5+'PADD3 mthly rpt'!DP5+'PADD4 mthly rpt'!DP5+'PADD5 mthly rpt'!DP5","v":1049000},{"$f":"'PADD1 mthly rpt'!DQ5+'PADD2 mthly rpt'!DQ5+'PADD3 mthly rpt'!DQ5+'PADD4 mthly rpt'!DQ5+'PADD5 mthly rpt'!DQ5","v":1077870.9677419355},{"$f":"'PADD1 mthly rpt'!DR5+'PADD2 mthly rpt'!DR5+'PADD3 mthly rpt'!DR5+'PADD4 mthly rpt'!DR5+'PADD5 mthly rpt'!DR5","v":1062838.7096774194},{"$f":"'PADD1 mthly rpt'!DS5+'PADD2 mthly rpt'!DS5+'PADD3 mthly rpt'!DS5+'PADD4 mthly rpt'!DS5+'PADD5 mthly rpt'!DS5","v":1097285.7142857143},{"$f":"'PADD1 mthly rpt'!DT5+'PADD2 mthly rpt'!DT5+'PADD3 mthly rpt'!DT5+'PADD4 mthly rpt'!DT5+'PADD5 mthly rpt'!DT5","v":1122645.1612903227},{"$f":"'PADD1 mthly rpt'!DU5+'PADD2 mthly rpt'!DU5+'PADD3 mthly rpt'!DU5+'PADD4 mthly rpt'!DU5+'PADD5 mthly rpt'!DU5","v":1154000},{"$f":"'PADD1 mthly rpt'!DV5+'PADD2 mthly rpt'!DV5+'PADD3 mthly rpt'!DV5+'PADD4 mthly rpt'!DV5+'PADD5 mthly rpt'!DV5","v":1147032.2580645164},{"$f":"'PADD1 mthly rpt'!DW5+'PADD2 mthly rpt'!DW5+'PADD3 mthly rpt'!DW5+'PADD4 mthly rpt'!DW5+'PADD5 mthly rpt'!DW5","v":1140566.6666666667},{"$f":"'PADD1 mthly rpt'!DX5+'PADD2 mthly rpt'!DX5+'PADD3 mthly rpt'!DX5+'PADD4 mthly rpt'!DX5+'PADD5 mthly rpt'!DX5","v":1151032.2580645159},{"$f":"'PADD1 mthly rpt'!DY5+'PADD2 mthly rpt'!DY5+'PADD3 mthly rpt'!DY5+'PADD4 mthly rpt'!DY5+'PADD5 mthly rpt'!DY5","v":1164806.4516129033},{"$f":"'PADD1 mthly rpt'!DZ5+'PADD2 mthly rpt'!DZ5+'PADD3 mthly rpt'!DZ5+'PADD4 mthly rpt'!DZ5+'PADD5 mthly rpt'!DZ5","v":1175633.3333333335},{"$f":"'PADD1 mthly rpt'!EA5+'PADD2 mthly rpt'!EA5+'PADD3 mthly rpt'!EA5+'PADD4 mthly rpt'!EA5+'PADD5 mthly rpt'!EA5","v":1189580.6451612904},{"$f":"'PADD1 mthly rpt'!EB5+'PADD2 mthly rpt'!EB5+'PADD3 mthly rpt'!EB5+'PADD4 mthly rpt'!EB5+'PADD5 mthly rpt'!EB5","v":1174166.6666666667},{"$f":"'PADD1 mthly rpt'!EC5+'PADD2 mthly rpt'!EC5+'PADD3 mthly rpt'!EC5+'PADD4 mthly rpt'!EC5+'PADD5 mthly rpt'!EC5","v":1148419.3548387096},{"$f":"'PADD1 mthly rpt'!ED5+'PADD2 mthly rpt'!ED5+'PADD3 mthly rpt'!ED5+'PADD4 mthly rpt'!ED5+'PADD5 mthly rpt'!ED5","v":1126741.935483871},{"$f":"'PADD1 mthly rpt'!EE5+'PADD2 mthly rpt'!EE5+'PADD3 mthly rpt'!EE5+'PADD4 mthly rpt'!EE5+'PADD5 mthly rpt'!EE5","v":1148655.1724137932},{"$f":"'PADD1 mthly rpt'!EF5+'PADD2 mthly rpt'!EF5+'PADD3 mthly rpt'!EF5+'PADD4 mthly rpt'!EF5+'PADD5 mthly rpt'!EF5","v":1176129.0322580645},{"$f":"'PADD1 mthly rpt'!EG5+'PADD2 mthly rpt'!EG5+'PADD3 mthly rpt'!EG5+'PADD4 mthly rpt'!EG5+'PADD5 mthly rpt'!EG5","v":1173333.3333333335},{"$f":"'PADD1 mthly rpt'!EH5+'PADD2 mthly rpt'!EH5+'PADD3 mthly rpt'!EH5+'PADD4 mthly rpt'!EH5+'PADD5 mthly rpt'!EH5","v":1166741.935483871},{"$f":"'PADD1 mthly rpt'!EI5+'PADD2 mthly rpt'!EI5+'PADD3 mthly rpt'!EI5+'PADD4 mthly rpt'!EI5+'PADD5 mthly rpt'!EI5","v":1157200.0000000002},{"$f":"'PADD1 mthly rpt'!EJ5+'PADD2 mthly rpt'!EJ5+'PADD3 mthly rpt'!EJ5+'PADD4 mthly rpt'!EJ5+'PADD5 mthly rpt'!EJ5","v":1168548.3870967741},{"$f":"'PADD1 mthly rpt'!EK5+'PADD2 mthly rpt'!EK5+'PADD3 mthly rpt'!EK5+'PADD4 mthly rpt'!EK5+'PADD5 mthly rpt'!EK5","v":1176483.8709677421},{"$f":"'PADD1 mthly rpt'!EL5+'PADD2 mthly rpt'!EL5+'PADD3 mthly rpt'!EL5+'PADD4 mthly rpt'!EL5+'PADD5 mthly rpt'!EL5","v":1162166.6666666667},{"$f":"'PADD1 mthly rpt'!EM5+'PADD2 mthly rpt'!EM5+'PADD3 mthly rpt'!EM5+'PADD4 mthly rpt'!EM5+'PADD5 mthly rpt'!EM5","v":1160000},{"$f":"'PADD1 mthly rpt'!EN5+'PADD2 mthly rpt'!EN5+'PADD3 mthly rpt'!EN5+'PADD4 mthly rpt'!EN5+'PADD5 mthly rpt'!EN5","v":1175500},{"$f":"'PADD1 mthly rpt'!EO5+'PADD2 mthly rpt'!EO5+'PADD3 mthly rpt'!EO5+'PADD4 mthly rpt'!EO5+'PADD5 mthly rpt'!EO5","v":1119774.1935483874},{"$f":"'PADD1 mthly rpt'!EP5+'PADD2 mthly rpt'!EP5+'PADD3 mthly rpt'!EP5+'PADD4 mthly rpt'!EP5+'PADD5 mthly rpt'!EP5","v":1128677.4193548388},{"$f":"'PADD1 mthly rpt'!EQ5+'PADD2 mthly rpt'!EQ5+'PADD3 mthly rpt'!EQ5+'PADD4 mthly rpt'!EQ5+'PADD5 mthly rpt'!EQ5","v":1155134.2364532021},{"$f":"'PADD1 mthly rpt'!ER5+'PADD2 mthly rpt'!ER5+'PADD3 mthly rpt'!ER5+'PADD4 mthly rpt'!ER5+'PADD5 mthly rpt'!ER5","v":1186451.6129032259},{"$f":"'PADD1 mthly rpt'!ES5+'PADD2 mthly rpt'!ES5+'PADD3 mthly rpt'!ES5+'PADD4 mthly rpt'!ES5+'PADD5 mthly rpt'!ES5","v":1195200},{"$f":"'PADD1 mthly rpt'!ET5+'PADD2 mthly rpt'!ET5+'PADD3 mthly rpt'!ET5+'PADD4 mthly rpt'!ET5+'PADD5 mthly rpt'!ET5","v":1210870.9677419353},{"$f":"'PADD1 mthly rpt'!EU5+'PADD2 mthly rpt'!EU5+'PADD3 mthly rpt'!EU5+'PADD4 mthly rpt'!EU5+'PADD5 mthly rpt'!EU5","v":1230866.6666666665},{"$f":"'PADD1 mthly rpt'!EV5+'PADD2 mthly rpt'!EV5+'PADD3 mthly rpt'!EV5+'PADD4 mthly rpt'!EV5+'PADD5 mthly rpt'!EV5","v":1251193.5483870967},{"$f":"'PADD1 mthly rpt'!EW5+'PADD2 mthly rpt'!EW5+'PADD3 mthly rpt'!EW5+'PADD4 mthly rpt'!EW5+'PADD5 mthly rpt'!EW5","v":1241935.4838709678},{"$f":"'PADD1 mthly rpt'!EX5+'PADD2 mthly rpt'!EX5+'PADD3 mthly rpt'!EX5+'PADD4 mthly rpt'!EX5+'PADD5 mthly rpt'!EX5","v":1248066.6666666667},{"$f":"'PADD1 mthly rpt'!EY5+'PADD2 mthly rpt'!EY5+'PADD3 mthly rpt'!EY5+'PADD4 mthly rpt'!EY5+'PADD5 mthly rpt'!EY5","v":1283709.6774193547},{"$f":"'PADD1 mthly rpt'!EZ5+'PADD2 mthly rpt'!EZ5+'PADD3 mthly rpt'!EZ5+'PADD4 mthly rpt'!EZ5+'PADD5 mthly rpt'!EZ5","v":1314266.6666666667},{"$f":"'PADD1 mthly rpt'!FA5+'PADD2 mthly rpt'!FA5+'PADD3 mthly rpt'!FA5+'PADD4 mthly rpt'!FA5+'PADD5 mthly rpt'!FA5","v":1291903.2258064516},{"$f":"'PADD1 mthly rpt'!FB5+'PADD2 mthly rpt'!FB5+'PADD3 mthly rpt'!FB5+'PADD4 mthly rpt'!FB5+'PADD5 mthly rpt'!FB5","v":1249419.3548387096},{"$f":"'PADD1 mthly rpt'!FC5+'PADD2 mthly rpt'!FC5+'PADD3 mthly rpt'!FC5+'PADD4 mthly rpt'!FC5+'PADD5 mthly rpt'!FC5","v":1309857.1428571427},{"$f":"'PADD1 mthly rpt'!FD5+'PADD2 mthly rpt'!FD5+'PADD3 mthly rpt'!FD5+'PADD4 mthly rpt'!FD5+'PADD5 mthly rpt'!FD5","v":1349516.1290322579},{"$f":"'PADD1 mthly rpt'!FE5+'PADD2 mthly rpt'!FE5+'PADD3 mthly rpt'!FE5+'PADD4 mthly rpt'!FE5+'PADD5 mthly rpt'!FE5","v":1360333.3333333333},{"$f":"'PADD1 mthly rpt'!FF5+'PADD2 mthly rpt'!FF5+'PADD3 mthly rpt'!FF5+'PADD4 mthly rpt'!FF5+'PADD5 mthly rpt'!FF5","v":1383161.2903225806},{"$f":"'PADD1 mthly rpt'!FG5+'PADD2 mthly rpt'!FG5+'PADD3 mthly rpt'!FG5+'PADD4 mthly rpt'!FG5+'PADD5 mthly rpt'!FG5","v":1385399.9999999998},{"$f":"'PADD1 mthly rpt'!FH5+'PADD2 mthly rpt'!FH5+'PADD3 mthly rpt'!FH5+'PADD4 mthly rpt'!FH5+'PADD5 mthly rpt'!FH5","v":1414580.6451612902},{"$f":"'PADD1 mthly rpt'!FI5+'PADD2 mthly rpt'!FI5+'PADD3 mthly rpt'!FI5+'PADD4 mthly rpt'!FI5+'PADD5 mthly rpt'!FI5","v":1460870.9677419353},{"$f":"'PADD1 mthly rpt'!FJ5+'PADD2 mthly rpt'!FJ5+'PADD3 mthly rpt'!FJ5+'PADD4 mthly rpt'!FJ5+'PADD5 mthly rpt'!FJ5","v":1472066.6666666667},{"$f":"'PADD1 mthly rpt'!FK5+'PADD2 mthly rpt'!FK5+'PADD3 mthly rpt'!FK5+'PADD4 mthly rpt'!FK5+'PADD5 mthly rpt'!FK5","v":1468709.6774193549},{"$f":"'PADD1 mthly rpt'!FL5+'PADD2 mthly rpt'!FL5+'PADD3 mthly rpt'!FL5+'PADD4 mthly rpt'!FL5+'PADD5 mthly rpt'!FL5","v":1474433.3333333333},{"$f":"'PADD1 mthly rpt'!FM5+'PADD2 mthly rpt'!FM5+'PADD3 mthly rpt'!FM5+'PADD4 mthly rpt'!FM5+'PADD5 mthly rpt'!FM5","v":1476387.0967741935},{"$f":"'PADD1 mthly rpt'!FN5+'PADD2 mthly rpt'!FN5+'PADD3 mthly rpt'!FN5+'PADD4 mthly rpt'!FN5+'PADD5 mthly rpt'!FN5","v":1486516.1290322582},{"$f":"'PADD1 mthly rpt'!FO5+'PADD2 mthly rpt'!FO5+'PADD3 mthly rpt'!FO5+'PADD4 mthly rpt'!FO5+'PADD5 mthly rpt'!FO5","v":1502428.5714285714},{"$f":"'PADD1 mthly rpt'!FP5+'PADD2 mthly rpt'!FP5+'PADD3 mthly rpt'!FP5+'PADD4 mthly rpt'!FP5+'PADD5 mthly rpt'!FP5","v":1522741.935483871},{"$f":"'PADD1 mthly rpt'!FQ5+'PADD2 mthly rpt'!FQ5+'PADD3 mthly rpt'!FQ5+'PADD4 mthly rpt'!FQ5+'PADD5 mthly rpt'!FQ5","v":1552500},{"$f":"'PADD1 mthly rpt'!FR5+'PADD2 mthly rpt'!FR5+'PADD3 mthly rpt'!FR5+'PADD4 mthly rpt'!FR5+'PADD5 mthly rpt'!FR5","v":1562451.6129032257},{"$f":"'PADD1 mthly rpt'!FS5+'PADD2 mthly rpt'!FS5+'PADD3 mthly rpt'!FS5+'PADD4 mthly rpt'!FS5+'PADD5 mthly rpt'!FS5","v":1556366.6666666665},{"$f":"'PADD1 mthly rpt'!FT5+'PADD2 mthly rpt'!FT5+'PADD3 mthly rpt'!FT5+'PADD4 mthly rpt'!FT5+'PADD5 mthly rpt'!FT5","v":1577709.6774193549},{"$f":"'PADD1 mthly rpt'!FU5+'PADD2 mthly rpt'!FU5+'PADD3 mthly rpt'!FU5+'PADD4 mthly rpt'!FU5+'PADD5 mthly rpt'!FU5","v":1604806.4516129033},{"$f":"'PADD1 mthly rpt'!FV5+'PADD2 mthly rpt'!FV5+'PADD3 mthly rpt'!FV5+'PADD4 mthly rpt'!FV5+'PADD5 mthly rpt'!FV5","v":1661100},{"$f":"'PADD1 mthly rpt'!FW5+'PADD2 mthly rpt'!FW5+'PADD3 mthly rpt'!FW5+'PADD4 mthly rpt'!FW5+'PADD5 mthly rpt'!FW5","v":1665999.9999999998},{"$f":"'PADD1 mthly rpt'!FX5+'PADD2 mthly rpt'!FX5+'PADD3 mthly rpt'!FX5+'PADD4 mthly rpt'!FX5+'PADD5 mthly rpt'!FX5","v":1682233.3333333333},{"$f":"'PADD1 mthly rpt'!FY5+'PADD2 mthly rpt'!FY5+'PADD3 mthly rpt'!FY5+'PADD4 mthly rpt'!FY5+'PADD5 mthly rpt'!FY5","v":1684419.3548387098},{"$f":"'PADD1 mthly rpt'!FZ5+'PADD2 mthly rpt'!FZ5+'PADD3 mthly rpt'!FZ5+'PADD4 mthly rpt'!FZ5+'PADD5 mthly rpt'!FZ5","v":1732806.451612903},{"$f":"'PADD1 mthly rpt'!GA5+'PADD2 mthly rpt'!GA5+'PADD3 mthly rpt'!GA5+'PADD4 mthly rpt'!GA5+'PADD5 mthly rpt'!GA5","v":1674896.551724138},{"$f":"'PADD1 mthly rpt'!GB5+'PADD2 mthly rpt'!GB5+'PADD3 mthly rpt'!GB5+'PADD4 mthly rpt'!GB5+'PADD5 mthly rpt'!GB5","v":1760032.2580645161},{"$f":"'PADD1 mthly rpt'!GC5+'PADD2 mthly rpt'!GC5+'PADD3 mthly rpt'!GC5+'PADD4 mthly rpt'!GC5+'PADD5 mthly rpt'!GC5","v":1691400},{"$f":"'PADD1 mthly rpt'!GD5+'PADD2 mthly rpt'!GD5+'PADD3 mthly rpt'!GD5+'PADD4 mthly rpt'!GD5+'PADD5 mthly rpt'!GD5","v":1530451.6129032257},{"$f":"'PADD1 mthly rpt'!GE5+'PADD2 mthly rpt'!GE5+'PADD3 mthly rpt'!GE5+'PADD4 mthly rpt'!GE5+'PADD5 mthly rpt'!GE5","v":1614366.6666666667},{"$f":"'PADD1 mthly rpt'!GF5+'PADD2 mthly rpt'!GF5+'PADD3 mthly rpt'!GF5+'PADD4 mthly rpt'!GF5+'PADD5 mthly rpt'!GF5","v":1671645.1612903229},{"$f":"'PADD1 mthly rpt'!GG5+'PADD2 mthly rpt'!GG5+'PADD3 mthly rpt'!GG5+'PADD4 mthly rpt'!GG5+'PADD5 mthly rpt'!GG5","v":1670709.6774193547},{"$f":"'PADD1 mthly rpt'!GH5+'PADD2 mthly rpt'!GH5+'PADD3 mthly rpt'!GH5+'PADD4 mthly rpt'!GH5+'PADD5 mthly rpt'!GH5","v":1692433.3333333333},{"$f":"'PADD1 mthly rpt'!GI5+'PADD2 mthly rpt'!GI5+'PADD3 mthly rpt'!GI5+'PADD4 mthly rpt'!GI5+'PADD5 mthly rpt'!GI5","v":1680935.4838709678},{"$f":"'PADD1 mthly rpt'!GJ5+'PADD2 mthly rpt'!GJ5+'PADD3 mthly rpt'!GJ5+'PADD4 mthly rpt'!GJ5+'PADD5 mthly rpt'!GJ5","v":1715600},{"$f":"'PADD1 mthly rpt'!GK5+'PADD2 mthly rpt'!GK5+'PADD3 mthly rpt'!GK5+'PADD4 mthly rpt'!GK5+'PADD5 mthly rpt'!GK5","v":1696322.5806451612},{"$f":"'PADD1 mthly rpt'!GL5+'PADD2 mthly rpt'!GL5+'PADD3 mthly rpt'!GL5+'PADD4 mthly rpt'!GL5+'PADD5 mthly rpt'!GL5","v":1707161.2903225806},{"$f":"'PADD1 mthly rpt'!GM5+'PADD2 mthly rpt'!GM5+'PADD3 mthly rpt'!GM5+'PADD4 mthly rpt'!GM5+'PADD5 mthly rpt'!GM5","v":1431392.8571428573},{"$f":"'PADD1 mthly rpt'!GN5+'PADD2 mthly rpt'!GN5+'PADD3 mthly rpt'!GN5+'PADD4 mthly rpt'!GN5+'PADD5 mthly rpt'!GN5","v":1693129.0322580645},{"$f":"'PADD1 mthly rpt'!GO5+'PADD2 mthly rpt'!GO5+'PADD3 mthly rpt'!GO5+'PADD4 mthly rpt'!GO5+'PADD5 mthly rpt'!GO5","v":1741300},{"$f":"'PADD1 mthly rpt'!GP5+'PADD2 mthly rpt'!GP5+'PADD3 mthly rpt'!GP5+'PADD4 mthly rpt'!GP5+'PADD5 mthly rpt'!GP5","v":1753678.1764807955},{"$f":"'PADD1 mthly rpt'!GQ5+'PADD2 mthly rpt'!GQ5+'PADD3 mthly rpt'!GQ5+'PADD4 mthly rpt'!GQ5+'PADD5 mthly rpt'!GQ5","v":1746699.490405516},{"$f":"'PADD1 mthly rpt'!GR5+'PADD2 mthly rpt'!GR5+'PADD3 mthly rpt'!GR5+'PADD4 mthly rpt'!GR5+'PADD5 mthly rpt'!GR5","v":1800831.8070654985},{"$f":"'PADD1 mthly rpt'!GS5+'PADD2 mthly rpt'!GS5+'PADD3 mthly rpt'!GS5+'PADD4 mthly rpt'!GS5+'PADD5 mthly rpt'!GS5","v":1810085.878718666},{"$f":"'PADD1 mthly rpt'!GT5+'PADD2 mthly rpt'!GT5+'PADD3 mthly rpt'!GT5+'PADD4 mthly rpt'!GT5+'PADD5 mthly rpt'!GT5","v":1811219.1097802061},{"$f":"'PADD1 mthly rpt'!GU5+'PADD2 mthly rpt'!GU5+'PADD3 mthly rpt'!GU5+'PADD4 mthly rpt'!GU5+'PADD5 mthly rpt'!GU5","v":1813391.441831724},{"$f":"'PADD1 mthly rpt'!GV5+'PADD2 mthly rpt'!GV5+'PADD3 mthly rpt'!GV5+'PADD4 mthly rpt'!GV5+'PADD5 mthly rpt'!GV5","v":1819432.889659242},{"$f":"'PADD1 mthly rpt'!GW5+'PADD2 mthly rpt'!GW5+'PADD3 mthly rpt'!GW5+'PADD4 mthly rpt'!GW5+'PADD5 mthly rpt'!GW5","v":1821419.7316414134},{"$f":"'PADD1 mthly rpt'!GX5+'PADD2 mthly rpt'!GX5+'PADD3 mthly rpt'!GX5+'PADD4 mthly rpt'!GX5+'PADD5 mthly rpt'!GX5","v":1820145.6045423932},{"$f":"'PADD1 mthly rpt'!GY5+'PADD2 mthly rpt'!GY5+'PADD3 mthly rpt'!GY5+'PADD4 mthly rpt'!GY5+'PADD5 mthly rpt'!GY5","v":1824733.9796380126},{"$f":"'PADD1 mthly rpt'!GZ5+'PADD2 mthly rpt'!GZ5+'PADD3 mthly rpt'!GZ5+'PADD4 mthly rpt'!GZ5+'PADD5 mthly rpt'!GZ5","v":1836437.304672051},{"$f":"'PADD1 mthly rpt'!HA5+'PADD2 mthly rpt'!HA5+'PADD3 mthly rpt'!HA5+'PADD4 mthly rpt'!HA5+'PADD5 mthly rpt'!HA5","v":1843817.45613688},{"$f":"'PADD1 mthly rpt'!HB5+'PADD2 mthly rpt'!HB5+'PADD3 mthly rpt'!HB5+'PADD4 mthly rpt'!HB5+'PADD5 mthly rpt'!HB5","v":1852568.8414941512},{"$f":"'PADD1 mthly rpt'!HC5+'PADD2 mthly rpt'!HC5+'PADD3 mthly rpt'!HC5+'PADD4 mthly rpt'!HC5+'PADD5 mthly rpt'!HC5","v":1857763.1353933166}]
["Refinery Production",{"$f":"'PADD1 mthly rpt'!B6+'PADD2 mthly rpt'!B6+'PADD3 mthly rpt'!B6+'PADD4 mthly rpt'!B6+'PADD5 mthly rpt'!B6","v":560000},{"$f":"'PADD1 mthly rpt'!C6+'PADD2 mthly rpt'!C6+'PADD3 mthly rpt'!C6+'PADD4 mthly rpt'!C6+'PADD5 mthly rpt'!C6","v":578535.71428571432},{"$f":"'PADD1 mthly rpt'!D6+'PADD2 mthly rpt'!D6+'PADD3 mthly rpt'!D6+'PADD4 mthly rpt'!D6+'PADD5 mthly rpt'!D6","v":548935.48387096776},{"$f":"'PADD1 mthly rpt'!E6+'PADD2 mthly rpt'!E6+'PADD3 mthly rpt'!E6+'PADD4 mthly rpt'!E6+'PADD5 mthly rpt'!E6","v":585866.66666666663},{"$f":"'PADD1 mthly rpt'!F6+'PADD2 mthly rpt'!F6+'PADD3 mthly rpt'!F6+'PADD4 mthly rpt'!F6+'PADD5 mthly rpt'!F6","v":586645.16129032255},{"$f":"'PADD1 mthly rpt'!G6+'PADD2 mthly rpt'!G6+'PADD3 mthly rpt'!G6+'PADD4 mthly rpt'!G6+'PADD5 mthly rpt'!G6","v":576033.33333333337},{"$f":"'PADD1 mthly rpt'!H6+'PADD2 mthly rpt'!H6+'PADD3 mthly rpt'!H6+'PADD4 mthly rpt'!H6+'PADD5 mthly rpt'!H6","v":551709.67741935491},{"$f":"'PADD1 mthly rpt'!I6+'PADD2 mthly rpt'!I6+'PADD3 mthly rpt'!I6+'PADD4 mthly rpt'!I6+'PADD5 mthly rpt'!I6","v":539612.90322580643},{"$f":"'PADD1 mthly rpt'!J6+'PADD2 mthly rpt'!J6+'PADD3 mthly rpt'!J6+'PADD4 mthly rpt'!J6+'PADD5 mthly rpt'!J6","v":465600},{"$f":"'PADD1 mthly rpt'!K6+'PADD2 mthly rpt'!K6+'PADD3 mthly rpt'!K6+'PADD4 mthly rpt'!K6+'PADD5 mthly rpt'!K6","v":440903.22580645152},{"$f":"'PADD1 mthly rpt'!L6+'PADD2 mthly rpt'!L6+'PADD3 mthly rpt'!L6+'PADD4 mthly rpt'!L6+'PADD5 mthly rpt'!L6","v":513433.33333333337},{"$f":"'PADD1 mthly rpt'!M6+'PADD2 mthly rpt'!M6+'PADD3 mthly rpt'!M6+'PADD4 mthly rpt'!M6+'PADD5 mthly rpt'!M6","v":540870.96774193551},{"$f":"'PADD1 mthly rpt'!N6+'PADD2 mthly rpt'!N6+'PADD3 mthly rpt'!N6+'PADD4 mthly rpt'!N6+'PADD5 mthly rpt'!N6","v":528032.25806451612},{"$f":"'PADD1 mthly rpt'!O6+'PADD2 mthly rpt'!O6+'PADD3 mthly rpt'!O6+'PADD4 mthly rpt'!O6+'PADD5 mthly rpt'!O6","v":510142.85714285716},{"$f":"'PADD1 mthly rpt'!P6+'PADD2 mthly rpt'!P6+'PADD3 mthly rpt'!P6+'PADD4 mthly rpt'!P6+'PADD5 mthly rpt'!P6","v":485032.25806451618},{"$f":"'PADD1 mthly rpt'!Q6+'PADD2 mthly rpt'!Q6+'PADD3 mthly rpt'!Q6+'PADD4 mthly rpt'!Q6+'PADD5 mthly rpt'!Q6","v":536933.33333333337},{"$f":"'PADD1 mthly rpt'!R6+'PADD2 mthly rpt'!R6+'PADD3 mthly rpt'!R6+'PADD4 mthly rpt'!R6+'PADD5 mthly rpt'!R6","v":567161.29032258061},{"$f":"'PADD1 mthly rpt'!S6+'PADD2 mthly rpt'!S6+'PADD3 mthly rpt'!S6+'PADD4 mthly rpt'!S6+'PADD5 mthly rpt'!S6","v":542900},{"$f":"'PADD1 mthly rpt'!T6+'PADD2 mthly rpt'!T6+'PADD3 mthly rpt'!T6+'PADD4 mthly rpt'!T6+'PADD5 mthly rpt'!T6","v":548516.12903225806},{"$f":"'PADD1 mthly rpt'!U6+'PADD2 mthly rpt'!U6+'PADD3 mthly rpt'!U6+'PADD4 mthly rpt'!U6+'PADD5 mthly rpt'!U6","v":573935.48387096776},{"$f":"'PADD1 mthly rpt'!V6+'PADD2 mthly rpt'!V6+'PADD3 mthly rpt'!V6+'PADD4 mthly rpt'!V6+'PADD5 mthly rpt'!V6","v":559833.33333333337},{"$f":"'PADD1 mthly rpt'!W6+'PADD2 mthly rpt'!W6+'PADD3 mthly rpt'!W6+'PADD4 mthly rpt'!W6+'PADD5 mthly rpt'!W6","v":531193.54838709673},{"$f":"'PADD1 mthly rpt'!X6+'PADD2 mthly rpt'!X6+'PADD3 mthly rpt'!X6+'PADD4 mthly rpt'!X6+'PADD5 mthly rpt'!X6","v":548533.33333333326},{"$f":"'PADD1 mthly rpt'!Y6+'PADD2 mthly rpt'!Y6+'PADD3 mthly rpt'!Y6+'PADD4 mthly rpt'!Y6+'PADD5 mthly rpt'!Y6","v":580967.74193548388},{"$f":"'PADD1 mthly rpt'!Z6+'PADD2 mthly rpt'!Z6+'PADD3 mthly rpt'!Z6+'PADD4 mthly rpt'!Z6+'PADD5 mthly rpt'!Z6","v":574967.74193548388},{"$f":"'PADD1 mthly rpt'!AA6+'PADD2 mthly rpt'!AA6+'PADD3 mthly rpt'!AA6+'PADD4 mthly rpt'!AA6+'PADD5 mthly rpt'!AA6","v":533928.57142857136},{"$f":"'PADD1 mthly rpt'!AB6+'PADD2 mthly rpt'!AB6+'PADD3 mthly rpt'!AB6+'PADD4 mthly rpt'!AB6+'PADD5 mthly rpt'!AB6","v":562516.12903225806},{"$f":"'PADD1 mthly rpt'!AC6+'PADD2 mthly rpt'!AC6+'PADD3 mthly rpt'!AC6+'PADD4 mthly rpt'!AC6+'PADD5 mthly rpt'!AC6","v":562133.33333333337},{"$f":"'PADD1 mthly rpt'!AD6+'PADD2 mthly rpt'!AD6+'PADD3 mthly rpt'!AD6+'PADD4 mthly rpt'!AD6+'PADD5 mthly rpt'!AD6","v":576322.58064516133},{"$f":"'PADD1 mthly rpt'!AE6+'PADD2 mthly rpt'!AE6+'PADD3 mthly rpt'!AE6+'PADD4 mthly rpt'!AE6+'PADD5 mthly rpt'!AE6","v":568100},{"$f":"'PADD1 mthly rpt'!AF6+'PADD2 mthly rpt'!AF6+'PADD3 mthly rpt'!AF6+'PADD4 mthly rpt'!AF6+'PADD5 mthly rpt'!AF6","v":562032.25806451612},{"$f":"'PADD1 mthly rpt'!AG6+'PADD2 mthly rpt'!AG6+'PADD3 mthly rpt'!AG6+'PADD4 mthly rpt'!AG6+'PADD5 mthly rpt'!AG6","v":541580.6451612903},{"$f":"'PADD1 mthly rpt'!AH6+'PADD2 mthly rpt'!AH6+'PADD3 mthly rpt'!AH6+'PADD4 mthly rpt'!AH6+'PADD5 mthly rpt'!AH6","v":560133.33333333337},{"$f":"'PADD1 mthly rpt'!AI6+'PADD2 mthly rpt'!AI6+'PADD3 mthly rpt'!AI6+'PADD4 mthly rpt'!AI6+'PADD5 mthly rpt'!AI6","v":538709.67741935491},{"$f":"'PADD1 mthly rpt'!AJ6+'PADD2 mthly rpt'!AJ6+'PADD3 mthly rpt'!AJ6+'PADD4 mthly rpt'!AJ6+'PADD5 mthly rpt'!AJ6","v":567566.66666666674},{"$f":"'PADD1 mthly rpt'!AK6+'PADD2 mthly rpt'!AK6+'PADD3 mthly rpt'!AK6+'PADD4 mthly rpt'!AK6+'PADD5 mthly rpt'!AK6","v":595193.54838709685},{"$f":"'PADD1 mthly rpt'!AL6+'PADD2 mthly rpt'!AL6+'PADD3 mthly rpt'!AL6+'PADD4 mthly rpt'!AL6+'PADD5 mthly rpt'!AL6","v":569096.77419354836},{"$f":"'PADD1 mthly rpt'!AM6+'PADD2 mthly rpt'!AM6+'PADD3 mthly rpt'!AM6+'PADD4 mthly rpt'!AM6+'PADD5 mthly rpt'!AM6","v":535344.82758620684},{"$f":"'PADD1 mthly rpt'!AN6+'PADD2 mthly rpt'!AN6+'PADD3 mthly rpt'!AN6+'PADD4 mthly rpt'!AN6+'PADD5 mthly rpt'!AN6","v":526258.06451612909},{"$f":"'PADD1 mthly rpt'!AO6+'PADD2 mthly rpt'!AO6+'PADD3 mthly rpt'!AO6+'PADD4 mthly rpt'!AO6+'PADD5 mthly rpt'!AO6","v":519900},{"$f":"'PADD1 mthly rpt'!AP6+'PADD2 mthly rpt'!AP6+'PADD3 mthly rpt'!AP6+'PADD4 mthly rpt'!AP6+'PADD5 mthly rpt'!AP6","v":545806.45161290327},{"$f":"'PADD1 mthly rpt'!AQ6+'PADD2 mthly rpt'!AQ6+'PADD3 mthly rpt'!AQ6+'PADD4 mthly rpt'!AQ6+'PADD5 mthly rpt'!AQ6","v":544200},{"$f":"'PADD1 mthly rpt'!AR6+'PADD2 mthly rpt'!AR6+'PADD3 mthly rpt'!AR6+'PADD4 mthly rpt'!AR6+'PADD5 mthly rpt'!AR6","v":534161.29032258072},{"$f":"'PADD1 mthly rpt'!AS6+'PADD2 mthly rpt'!AS6+'PADD3 mthly rpt'!AS6+'PADD4 mthly rpt'!AS6+'PADD5 mthly rpt'!AS6","v":526387.09677419357},{"$f":"'PADD1 mthly rpt'!AT6+'PADD2 mthly rpt'!AT6+'PADD3 mthly rpt'!AT6+'PADD4 mthly rpt'!AT6+'PADD5 mthly rpt'!AT6","v":420133.33333333337},{"$f":"'PADD1 mthly rpt'!AU6+'PADD2 mthly rpt'!AU6+'PADD3 mthly rpt'!AU6+'PADD4 mthly rpt'!AU6+'PADD5 mthly rpt'!AU6","v":503451.61290322576},{"$f":"'PADD1 mthly rpt'!AV6+'PADD2 mthly rpt'!AV6+'PADD3 mthly rpt'!AV6+'PADD4 mthly rpt'!AV6+'PADD5 mthly rpt'!AV6","v":514900},{"$f":"'PADD1 mthly rpt'!AW6+'PADD2 mthly rpt'!AW6+'PADD3 mthly rpt'!AW6+'PADD4 mthly rpt'!AW6+'PADD5 mthly rpt'!AW6","v":489064.51612903224},{"$f":"'PADD1 mthly rpt'!AX6+'PADD2 mthly rpt'!AX6+'PADD3 mthly rpt'!AX6+'PADD4 mthly rpt'!AX6+'PADD5 mthly rpt'!AX6","v":479064.5161290323},{"$f":"'PADD1 mthly rpt'!AY6+'PADD2 mthly rpt'!AY6+'PADD3 mthly rpt'!AY6+'PADD4 mthly rpt'!AY6+'PADD5 mthly rpt'!AY6","v":482928.57142857136},{"$f":"'PADD1 mthly rpt'!AZ6+'PADD2 mthly rpt'!AZ6+'PADD3 mthly rpt'!AZ6+'PADD4 mthly rpt'!AZ6+'PADD5 mthly rpt'!AZ6","v":519290.32258064509},{"$f":"'PADD1 mthly rpt'!BA6+'PADD2 mthly rpt'!BA6+'PADD3 mthly rpt'!BA6+'PADD4 mthly rpt'!BA6+'PADD5 mthly rpt'!BA6","v":542200},{"$f":"'PADD1 mthly rpt'!BB6+'PADD2 mthly rpt'!BB6+'PADD3 mthly rpt'!BB6+'PADD4 mthly rpt'!BB6+'PADD5 mthly rpt'!BB6","v":553612.90322580654},{"$f":"'PADD1 mthly rpt'!BC6+'PADD2 mthly rpt'!BC6+'PADD3 mthly rpt'!BC6+'PADD4 mthly rpt'!BC6+'PADD5 mthly rpt'!BC6","v":566433.33333333326},{"$f":"'PADD1 mthly rpt'!BD6+'PADD2 mthly rpt'!BD6+'PADD3 mthly rpt'!BD6+'PADD4 mthly rpt'!BD6+'PADD5 mthly rpt'!BD6","v":553967.74193548388},{"$f":"'PADD1 mthly rpt'!BE6+'PADD2 mthly rpt'!BE6+'PADD3 mthly rpt'!BE6+'PADD4 mthly rpt'!BE6+'PADD5 mthly rpt'!BE6","v":553838.70967741939},{"$f":"'PADD1 mthly rpt'!BF6+'PADD2 mthly rpt'!BF6+'PADD3 mthly rpt'!BF6+'PADD4 mthly rpt'!BF6+'PADD5 mthly rpt'!BF6","v":559133.33333333326},{"$f":"'PADD1 mthly rpt'!BG6+'PADD2 mthly rpt'!BG6+'PADD3 mthly rpt'!BG6+'PADD4 mthly rpt'!BG6+'PADD5 mthly rpt'!BG6","v":527096.77419354836},{"$f":"'PADD1 mthly rpt'!BH6+'PADD2 mthly rpt'!BH6+'PADD3 mthly rpt'!BH6+'PADD4 mthly rpt'!BH6+'PADD5 mthly rpt'!BH6","v":550000},{"$f":"'PADD1 mthly rpt'!BI6+'PADD2 mthly rpt'!BI6+'PADD3 mthly rpt'!BI6+'PADD4 mthly rpt'!BI6+'PADD5 mthly rpt'!BI6","v":553645.16129032255},{"$f":"'PADD1 mthly rpt'!BJ6+'PADD2 mthly rpt'!BJ6+'PADD3 mthly rpt'!BJ6+'PADD4 mthly rpt'!BJ6+'PADD5 mthly rpt'!BJ6","v":531419.3548387097},{"$f":"'PADD1 mthly rpt'!BK6+'PADD2 mthly rpt'!BK6+'PADD3 mthly rpt'!BK6+'PADD4 mthly rpt'!BK6+'PADD5 mthly rpt'!BK6","v":561857.14285714284},{"$f":"'PADD1 mthly rpt'!BL6+'PADD2 mthly rpt'!BL6+'PADD3 mthly rpt'!BL6+'PADD4 mthly rpt'!BL6+'PADD5 mthly rpt'!BL6","v":575064.51612903224},{"$f":"'PADD1 mthly rpt'!BM6+'PADD2 mthly rpt'!BM6+'PADD3 mthly rpt'!BM6+'PADD4 mthly rpt'!BM6+'PADD5 mthly rpt'!BM6","v":584833.33333333326},{"$f":"'PADD1 mthly rpt'!BN6+'PADD2 mthly rpt'!BN6+'PADD3 mthly rpt'!BN6+'PADD4 mthly rpt'!BN6+'PADD5 mthly rpt'!BN6","v":571225.80645161297},{"$f":"'PADD1 mthly rpt'!BO6+'PADD2 mthly rpt'!BO6+'PADD3 mthly rpt'!BO6+'PADD4 mthly rpt'!BO6+'PADD5 mthly rpt'!BO6","v":571666.66666666674},{"$f":"'PADD1 mthly rpt'!BP6+'PADD2 mthly rpt'!BP6+'PADD3 mthly rpt'!BP6+'PADD4 mthly rpt'!BP6+'PADD5 mthly rpt'!BP6","v":574129.0322580646},{"$f":"'PADD1 mthly rpt'!BQ6+'PADD2 mthly rpt'!BQ6+'PADD3 mthly rpt'!BQ6+'PADD4 mthly rpt'!BQ6+'PADD5 mthly rpt'!BQ6","v":552387.09677419357},{"$f":"'PADD1 mthly rpt'!BR6+'PADD2 mthly rpt'!BR6+'PADD3 mthly rpt'!BR6+'PADD4 mthly rpt'!BR6+'PADD5 mthly rpt'!BR6","v":551000},{"$f":"'PADD1 mthly rpt'!BS6+'PADD2 mthly rpt'!BS6+'PADD3 mthly rpt'!BS6+'PADD4 mthly rpt'!BS6+'PADD5 mthly rpt'!BS6","v":525967.74193548388},{"$f":"'PADD1 mthly rpt'!BT6+'PADD2 mthly rpt'!BT6+'PADD3 mthly rpt'!BT6+'PADD4 mthly rpt'!BT6+'PADD5 mthly rpt'!BT6","v":543466.66666666674},{"$f":"'PADD1 mthly rpt'!BU6+'PADD2 mthly rpt'!BU6+'PADD3 mthly rpt'!BU6+'PADD4 mthly rpt'!BU6+'PADD5 mthly rpt'!BU6","v":571806.45161290327},{"$f":"'PADD1 mthly rpt'!BV6+'PADD2 mthly rpt'!BV6+'PADD3 mthly rpt'!BV6+'PADD4 mthly rpt'!BV6+'PADD5 mthly rpt'!BV6","v":560612.90322580643},{"$f":"'PADD1 mthly rpt'!BW6+'PADD2 mthly rpt'!BW6+'PADD3 mthly rpt'!BW6+'PADD4 mthly rpt'!BW6+'PADD5 mthly rpt'!BW6","v":511750},{"$f":"'PADD1 mthly rpt'!BX6+'PADD2 mthly rpt'!BX6+'PADD3 mthly rpt'!BX6+'PADD4 mthly rpt'!BX6+'PADD5 mthly rpt'!BX6","v":528161.29032258061},{"$f":"'PADD1 mthly rpt'!BY6+'PADD2 mthly rpt'!BY6+'PADD3 mthly rpt'!BY6+'PADD4 mthly rpt'!BY6+'PADD5 mthly rpt'!BY6","v":542100},{"$f":"'PADD1 mthly rpt'!BZ6+'PADD2 mthly rpt'!BZ6+'PADD3 mthly rpt'!BZ6+'PADD4 mthly rpt'!BZ6+'PADD5 mthly rpt'!BZ6","v":563258.06451612897},{"$f":"'PADD1 mthly rpt'!CA6+'PADD2 mthly rpt'!CA6+'PADD3 mthly rpt'!CA6+'PADD4 mthly rpt'!CA6+'PADD5 mthly rpt'!CA6","v":566966.66666666663},{"$f":"'PADD1 mthly rpt'!CB6+'PADD2 mthly rpt'!CB6+'PADD3 mthly rpt'!CB6+'PADD4 mthly rpt'!CB6+'PADD5 mthly rpt'!CB6","v":557483.87096774194},{"$f":"'PADD1 mthly rpt'!CC6+'PADD2 mthly rpt'!CC6+'PADD3 mthly rpt'!CC6+'PADD4 mthly rpt'!CC6+'PADD5 mthly rpt'!CC6","v":552580.6451612903},{"$f":"'PADD1 mthly rpt'!CD6+'PADD2 mthly rpt'!CD6+'PADD3 mthly rpt'!CD6+'PADD4 mthly rpt'!CD6+'PADD5 mthly rpt'!CD6","v":568966.66666666663},{"$f":"'PADD1 mthly rpt'!CE6+'PADD2 mthly rpt'!CE6+'PADD3 mthly rpt'!CE6+'PADD4 mthly rpt'!CE6+'PADD5 mthly rpt'!CE6","v":539548.38709677418},{"$f":"'PADD1 mthly rpt'!CF6+'PADD2 mthly rpt'!CF6+'PADD3 mthly rpt'!CF6+'PADD4 mthly rpt'!CF6+'PADD5 mthly rpt'!CF6","v":563933.33333333326},{"$f":"'PADD1 mthly rpt'!CG6+'PADD2 mthly rpt'!CG6+'PADD3 mthly rpt'!CG6+'PADD4 mthly rpt'!CG6+'PADD5 mthly rpt'!CG6","v":566225.80645161297},{"$f":"'PADD1 mthly rpt'!CH6+'PADD2 mthly rpt'!CH6+'PADD3 mthly rpt'!CH6+'PADD4 mthly rpt'!CH6+'PADD5 mthly rpt'!CH6","v":531096.77419354836},{"$f":"'PADD1 mthly rpt'!CI6+'PADD2 mthly rpt'!CI6+'PADD3 mthly rpt'!CI6+'PADD4 mthly rpt'!CI6+'PADD5 mthly rpt'!CI6","v":556506.15763546806},{"$f":"'PADD1 mthly rpt'!CJ6+'PADD2 mthly rpt'!CJ6+'PADD3 mthly rpt'!CJ6+'PADD4 mthly rpt'!CJ6+'PADD5 mthly rpt'!CJ6","v":544580.6451612903},{"$f":"'PADD1 mthly rpt'!CK6+'PADD2 mthly rpt'!CK6+'PADD3 mthly rpt'!CK6+'PADD4 mthly rpt'!CK6+'PADD5 mthly rpt'!CK6","v":558033.33333333326},{"$f":"'PADD1 mthly rpt'!CL6+'PADD2 mthly rpt'!CL6+'PADD3 mthly rpt'!CL6+'PADD4 mthly rpt'!CL6+'PADD5 mthly rpt'!CL6","v":568483.87096774194},{"$f":"'PADD1 mthly rpt'!CM6+'PADD2 mthly rpt'!CM6+'PADD3 mthly rpt'!CM6+'PADD4 mthly rpt'!CM6+'PADD5 mthly rpt'!CM6","v":585400},{"$f":"'PADD1 mthly rpt'!CN6+'PADD2 mthly rpt'!CN6+'PADD3 mthly rpt'!CN6+'PADD4 mthly rpt'!CN6+'PADD5 mthly rpt'!CN6","v":568580.64516129042},{"$f":"'PADD1 mthly rpt'!CO6+'PADD2 mthly rpt'!CO6+'PADD3 mthly rpt'!CO6+'PADD4 mthly rpt'!CO6+'PADD5 mthly rpt'!CO6","v":543258.06451612897},{"$f":"'PADD1 mthly rpt'!CP6+'PADD2 mthly rpt'!CP6+'PADD3 mthly rpt'!CP6+'PADD4 mthly rpt'!CP6+'PADD5 mthly rpt'!CP6","v":522066.66666666663},{"$f":"'PADD1 mthly rpt'!CQ6+'PADD2 mthly rpt'!CQ6+'PADD3 mthly rpt'!CQ6+'PADD4 mthly rpt'!CQ6+'PADD5 mthly rpt'!CQ6","v":540580.6451612903},{"$f":"'PADD1 mthly rpt'!CR6+'PADD2 mthly rpt'!CR6+'PADD3 mthly rpt'!CR6+'PADD4 mthly rpt'!CR6+'PADD5 mthly rpt'!CR6","v":550133.33333333337},{"$f":"'PADD1 mthly rpt'!CS6+'PADD2 mthly rpt'!CS6+'PADD3 mthly rpt'!CS6+'PADD4 mthly rpt'!CS6+'PADD5 mthly rpt'!CS6","v":578612.90322580654},{"$f":"'PADD1 mthly rpt'!CT6+'PADD2 mthly rpt'!CT6+'PADD3 mthly rpt'!CT6+'PADD4 mthly rpt'!CT6+'PADD5 mthly rpt'!CT6","v":542677.41935483867},{"$f":"'PADD1 mthly rpt'!CU6+'PADD2 mthly rpt'!CU6+'PADD3 mthly rpt'!CU6+'PADD4 mthly rpt'!CU6+'PADD5 mthly rpt'!CU6","v":535928.57142857148},{"$f":"'PADD1 mthly rpt'!CV6+'PADD2 mthly rpt'!CV6+'PADD3 mthly rpt'!CV6+'PADD4 mthly rpt'!CV6+'PADD5 mthly rpt'!CV6","v":559322.58064516133},{"$f":"'PADD1 mthly rpt'!CW6+'PADD2 mthly rpt'!CW6+'PADD3 mthly rpt'!CW6+'PADD4 mthly rpt'!CW6+'PADD5 mthly rpt'!CW6","v":561400},{"$f":"'PADD1 mthly rpt'!CX6+'PADD2 mthly rpt'!CX6+'PADD3 mthly rpt'!CX6+'PADD4 mthly rpt'!CX6+'PADD5 mthly rpt'!CX6","v":574096.77419354836},{"$f":"'PADD1 mthly rpt'!CY6+'PADD2 mthly rpt'!CY6+'PADD3 mthly rpt'!CY6+'PADD4 mthly rpt'!CY6+'PADD5 mthly rpt'!CY6","v":565566.66666666674},{"$f":"'PADD1 mthly rpt'!CZ6+'PADD2 mthly rpt'!CZ6+'PADD3 mthly rpt'!CZ6+'PADD4 mthly rpt'!CZ6+'PADD5 mthly rpt'!CZ6","v":575451.61290322582},{"$f":"'PADD1 mthly rpt'!DA6+'PADD2 mthly rpt'!DA6+'PADD3 mthly rpt'!DA6+'PADD4 mthly rpt'!DA6+'PADD5 mthly rpt'!DA6","v":583612.90322580654},{"$f":"'PADD1 mthly rpt'!DB6+'PADD2 mthly rpt'!DB6+'PADD3 mthly rpt'!DB6+'PADD4 mthly rpt'!DB6+'PADD5 mthly rpt'!DB6","v":573766.66666666663},{"$f":"'PADD1 mthly rpt'!DC6+'PADD2 mthly rpt'!DC6+'PADD3 mthly rpt'!DC6+'PADD4 mthly rpt'!DC6+'PADD5 mthly rpt'!DC6","v":542258.06451612909},{"$f":"'PADD1 mthly rpt'!DD6+'PADD2 mthly rpt'!DD6+'PADD3 mthly rpt'!DD6+'PADD4 mthly rpt'!DD6+'PADD5 mthly rpt'!DD6","v":557233.33333333326},{"$f":"'PADD1 mthly rpt'!DE6+'PADD2 mthly rpt'!DE6+'PADD3 mthly rpt'!DE6+'PADD4 mthly rpt'!DE6+'PADD5 mthly rpt'!DE6","v":599774.19354838703},{"$f":"'PADD1 mthly rpt'!DF6+'PADD2 mthly rpt'!DF6+'PADD3 mthly rpt'!DF6+'PADD4 mthly rpt'!DF6+'PADD5 mthly rpt'!DF6","v":583935.48387096776},{"$f":"'PADD1 mthly rpt'!DG6+'PADD2 mthly rpt'!DG6+'PADD3 mthly rpt'!DG6+'PADD4 mthly rpt'!DG6+'PADD5 mthly rpt'!DG6","v":572214.2857142858},{"$f":"'PADD1 mthly rpt'!DH6+'PADD2 mthly rpt'!DH6+'PADD3 mthly rpt'!DH6+'PADD4 mthly rpt'!DH6+'PADD5 mthly rpt'!DH6","v":564258.06451612909},{"$f":"'PADD1 mthly rpt'!DI6+'PADD2 mthly rpt'!DI6+'PADD3 mthly rpt'!DI6+'PADD4 mthly rpt'!DI6+'PADD5 mthly rpt'!DI6","v":600300.00000000012},{"$f":"'PADD1 mthly rpt'!DJ6+'PADD2 mthly rpt'!DJ6+'PADD3 mthly rpt'!DJ6+'PADD4 mthly rpt'!DJ6+'PADD5 mthly rpt'!DJ6","v":596225.80645161285},{"$f":"'PADD1 mthly rpt'!DK6+'PADD2 mthly rpt'!DK6+'PADD3 mthly rpt'!DK6+'PADD4 mthly rpt'!DK6+'PADD5 mthly rpt'!DK6","v":596000},{"$f":"'PADD1 mthly rpt'!DL6+'PADD2 mthly rpt'!DL6+'PADD3 mthly rpt'!DL6+'PADD4 mthly rpt'!DL6+'PADD5 mthly rpt'!DL6","v":612548.38709677407},{"$f":"'PADD1 mthly rpt'!DM6+'PADD2 mthly rpt'!DM6+'PADD3 mthly rpt'!DM6+'PADD4 mthly rpt'!DM6+'PADD5 mthly rpt'!DM6","v":601903.22580645152},{"$f":"'PADD1 mthly rpt'!DN6+'PADD2 mthly rpt'!DN6+'PADD3 mthly rpt'!DN6+'PADD4 mthly rpt'!DN6+'PADD5 mthly rpt'!DN6","v":551766.66666666674},{"$f":"'PADD1 mthly rpt'!DO6+'PADD2 mthly rpt'!DO6+'PADD3 mthly rpt'!DO6+'PADD4 mthly rpt'!DO6+'PADD5 mthly rpt'!DO6","v":528838.70967741939},{"$f":"'PADD1 mthly rpt'!DP6+'PADD2 mthly rpt'!DP6+'PADD3 mthly rpt'!DP6+'PADD4 mthly rpt'!DP6+'PADD5 mthly rpt'!DP6","v":603433.33333333349},{"$f":"'PADD1 mthly rpt'!DQ6+'PADD2 mthly rpt'!DQ6+'PADD3 mthly rpt'!DQ6+'PADD4 mthly rpt'!DQ6+'PADD5 mthly rpt'!DQ6","v":635225.80645161285},{"$f":"'PADD1 mthly rpt'!DR6+'PADD2 mthly rpt'!DR6+'PADD3 mthly rpt'!DR6+'PADD4 mthly rpt'!DR6+'PADD5 mthly rpt'!DR6","v":561064.51612903224},{"$f":"'PADD1 mthly rpt'!DS6+'PADD2 mthly rpt'!DS6+'PADD3 mthly rpt'!DS6+'PADD4 mthly rpt'!DS6+'PADD5 mthly rpt'!DS6","v":529071.42857142852},{"$f":"'PADD1 mthly rpt'!DT6+'PADD2 mthly rpt'!DT6+'PADD3 mthly rpt'!DT6+'PADD4 mthly rpt'!DT6+'PADD5 mthly rpt'!DT6","v":535516.12903225806},{"$f":"'PADD1 mthly rpt'!DU6+'PADD2 mthly rpt'!DU6+'PADD3 mthly rpt'!DU6+'PADD4 mthly rpt'!DU6+'PADD5 mthly rpt'!DU6","v":589299.99999999988},{"$f":"'PADD1 mthly rpt'!DV6+'PADD2 mthly rpt'!DV6+'PADD3 mthly rpt'!DV6+'PADD4 mthly rpt'!DV6+'PADD5 mthly rpt'!DV6","v":581903.22580645164},{"$f":"'PADD1 mthly rpt'!DW6+'PADD2 mthly rpt'!DW6+'PADD3 mthly rpt'!DW6+'PADD4 mthly rpt'!DW6+'PADD5 mthly rpt'!DW6","v":569366.66666666663},{"$f":"'PADD1 mthly rpt'!DX6+'PADD2 mthly rpt'!DX6+'PADD3 mthly rpt'!DX6+'PADD4 mthly rpt'!DX6+'PADD5 mthly rpt'!DX6","v":580322.58064516133},{"$f":"'PADD1 mthly rpt'!DY6+'PADD2 mthly rpt'!DY6+'PADD3 mthly rpt'!DY6+'PADD4 mthly rpt'!DY6+'PADD5 mthly rpt'!DY6","v":574032.25806451624},{"$f":"'PADD1 mthly rpt'!DZ6+'PADD2 mthly rpt'!DZ6+'PADD3 mthly rpt'!DZ6+'PADD4 mthly rpt'!DZ6+'PADD5 mthly rpt'!DZ6","v":529033.33333333337},{"$f":"'PADD1 mthly rpt'!EA6+'PADD2 mthly rpt'!EA6+'PADD3 mthly rpt'!EA6+'PADD4 mthly rpt'!EA6+'PADD5 mthly rpt'!EA6","v":520129.03225806449},{"$f":"'PADD1 mthly rpt'!EB6+'PADD2 mthly rpt'!EB6+'PADD3 mthly rpt'!EB6+'PADD4 mthly rpt'!EB6+'PADD5 mthly rpt'!EB6","v":559233.33333333326},{"$f":"'PADD1 mthly rpt'!EC6+'PADD2 mthly rpt'!EC6+'PADD3 mthly rpt'!EC6+'PADD4 mthly rpt'!EC6+'PADD5 mthly rpt'!EC6","v":577580.6451612903},{"$f":"'PADD1 mthly rpt'!ED6+'PADD2 mthly rpt'!ED6+'PADD3 mthly rpt'!ED6+'PADD4 mthly rpt'!ED6+'PADD5 mthly rpt'!ED6","v":580580.6451612903},{"$f":"'PADD1 mthly rpt'!EE6+'PADD2 mthly rpt'!EE6+'PADD3 mthly rpt'!EE6+'PADD4 mthly rpt'!EE6+'PADD5 mthly rpt'!EE6","v":565586.20689655177},{"$f":"'PADD1 mthly rpt'!EF6+'PADD2 mthly rpt'!EF6+'PADD3 mthly rpt'!EF6+'PADD4 mthly rpt'!EF6+'PADD5 mthly rpt'!EF6","v":585709.67741935467},{"$f":"'PADD1 mthly rpt'!EG6+'PADD2 mthly rpt'!EG6+'PADD3 mthly rpt'!EG6+'PADD4 mthly rpt'!EG6+'PADD5 mthly rpt'!EG6","v":590966.66666666674},{"$f":"'PADD1 mthly rpt'!EH6+'PADD2 mthly rpt'!EH6+'PADD3 mthly rpt'!EH6+'PADD4 mthly rpt'!EH6+'PADD5 mthly rpt'!EH6","v":609161.29032258072},{"$f":"'PADD1 mthly rpt'!EI6+'PADD2 mthly rpt'!EI6+'PADD3 mthly rpt'!EI6+'PADD4 mthly rpt'!EI6+'PADD5 mthly rpt'!EI6","v":589666.66666666674},{"$f":"'PADD1 mthly rpt'!EJ6+'PADD2 mthly rpt'!EJ6+'PADD3 mthly rpt'!EJ6+'PADD4 mthly rpt'!EJ6+'PADD5 mthly rpt'!EJ6","v":584129.03225806449},{"$f":"'PADD1 mthly rpt'!EK6+'PADD2 mthly rpt'!EK6+'PADD3 mthly rpt'!EK6+'PADD4 mthly rpt'!EK6+'PADD5 mthly rpt'!EK6","v":570709.67741935479},{"$f":"'PADD1 mthly rpt'!EL6+'PADD2 mthly rpt'!EL6+'PADD3 mthly rpt'!EL6+'PADD4 mthly rpt'!EL6+'PADD5 mthly rpt'!EL6","v":575700},{"$f":"'PADD1 mthly rpt'!EM6+'PADD2 mthly rpt'!EM6+'PADD3 mthly rpt'!EM6+'PADD4 mthly rpt'!EM6+'PADD5 mthly rpt'!EM6","v":556032.25806451612},{"$f":"'PADD1 mthly rpt'!EN6+'PADD2 mthly rpt'!EN6+'PADD3 mthly rpt'!EN6+'PADD4 mthly rpt'!EN6+'PADD5 mthly rpt'!EN6","v":589733.33333333337},{"$f":"'PADD1 mthly rpt'!EO6+'PADD2 mthly rpt'!EO6+'PADD3 mthly rpt'!EO6+'PADD4 mthly rpt'!EO6+'PADD5 mthly rpt'!EO6","v":594451.61290322582},{"$f":"'PADD1 mthly rpt'!EP6+'PADD2 mthly rpt'!EP6+'PADD3 mthly rpt'!EP6+'PADD4 mthly rpt'!EP6+'PADD5 mthly rpt'!EP6","v":564064.51612903224},{"$f":"'PADD1 mthly rpt'!EQ6+'PADD2 mthly rpt'!EQ6+'PADD3 mthly rpt'!EQ6+'PADD4 mthly rpt'!EQ6+'PADD5 mthly rpt'!EQ6","v":529795.56650246296},{"$f":"'PADD1 mthly rpt'!ER6+'PADD2 mthly rpt'!ER6+'PADD3 mthly rpt'!ER6+'PADD4 mthly rpt'!ER6+'PADD5 mthly rpt'!ER6","v":586451.61290322582},{"$f":"'PADD1 mthly rpt'!ES6+'PADD2 mthly rpt'!ES6+'PADD3 mthly rpt'!ES6+'PADD4 mthly rpt'!ES6+'PADD5 mthly rpt'!ES6","v":600933.33333333326},{"$f":"'PADD1 mthly rpt'!ET6+'PADD2 mthly rpt'!ET6+'PADD3 mthly rpt'!ET6+'PADD4 mthly rpt'!ET6+'PADD5 mthly rpt'!ET6","v":622096.77419354836},{"$f":"'PADD1 mthly rpt'!EU6+'PADD2 mthly rpt'!EU6+'PADD3 mthly rpt'!EU6+'PADD4 mthly rpt'!EU6+'PADD5 mthly rpt'!EU6","v":615233.33333333326},{"$f":"'PADD1 mthly rpt'!EV6+'PADD2 mthly rpt'!EV6+'PADD3 mthly rpt'!EV6+'PADD4 mthly rpt'!EV6+'PADD5 mthly rpt'!EV6","v":606774.19354838715},{"$f":"'PADD1 mthly rpt'!EW6+'PADD2 mthly rpt'!EW6+'PADD3 mthly rpt'!EW6+'PADD4 mthly rpt'!EW6+'PADD5 mthly rpt'!EW6","v":588612.90322580643},{"$f":"'PADD1 mthly rpt'!EX6+'PADD2 mthly rpt'!EX6+'PADD3 mthly rpt'!EX6+'PADD4 mthly rpt'!EX6+'PADD5 mthly rpt'!EX6","v":513333.33333333337},{"$f":"'PADD1 mthly rpt'!EY6+'PADD2 mthly rpt'!EY6+'PADD3 mthly rpt'!EY6+'PADD4 mthly rpt'!EY6+'PADD5 mthly rpt'!EY6","v":594161.29032258061},{"$f":"'PADD1 mthly rpt'!EZ6+'PADD2 mthly rpt'!EZ6+'PADD3 mthly rpt'!EZ6+'PADD4 mthly rpt'!EZ6+'PADD5 mthly rpt'!EZ6","v":615900},{"$f":"'PADD1 mthly rpt'!FA6+'PADD2 mthly rpt'!FA6+'PADD3 mthly rpt'!FA6+'PADD4 mthly rpt'!FA6+'PADD5 mthly rpt'!FA6","v":642096.77419354848},{"$f":"'PADD1 mthly rpt'!FB6+'PADD2 mthly rpt'!FB6+'PADD3 mthly rpt'!FB6+'PADD4 mthly rpt'!FB6+'PADD5 mthly rpt'!FB6","v":599967.74193548388},{"$f":"'PADD1 mthly rpt'!FC6+'PADD2 mthly rpt'!FC6+'PADD3 mthly rpt'!FC6+'PADD4 mthly rpt'!FC6+'PADD5 mthly rpt'!FC6","v":568392.85714285728},{"$f":"'PADD1 mthly rpt'!FD6+'PADD2 mthly rpt'!FD6+'PADD3 mthly rpt'!FD6+'PADD4 mthly rpt'!FD6+'PADD5 mthly rpt'!FD6","v":571032.25806451612},{"$f":"'PADD1 mthly rpt'!FE6+'PADD2 mthly rpt'!FE6+'PADD3 mthly rpt'!FE6+'PADD4 mthly rpt'!FE6+'PADD5 mthly rpt'!FE6","v":592766.66666666674},{"$f":"'PADD1 mthly rpt'!FF6+'PADD2 mthly rpt'!FF6+'PADD3 mthly rpt'!FF6+'PADD4 mthly rpt'!FF6+'PADD5 mthly rpt'!FF6","v":591225.80645161297},{"$f":"'PADD1 mthly rpt'!FG6+'PADD2 mthly rpt'!FG6+'PADD3 mthly rpt'!FG6+'PADD4 mthly rpt'!FG6+'PADD5 mthly rpt'!FG6","v":607100},{"$f":"'PADD1 mthly rpt'!FH6+'PADD2 mthly rpt'!FH6+'PADD3 mthly rpt'!FH6+'PADD4 mthly rpt'!FH6+'PADD5 mthly rpt'!FH6","v":606516.12903225818},{"$f":"'PADD1 mthly rpt'!FI6+'PADD2 mthly rpt'!FI6+'PADD3 mthly rpt'!FI6+'PADD4 mthly rpt'!FI6+'PADD5 mthly rpt'!FI6","v":603580.64516129042},{"$f":"'PADD1 mthly rpt'!FJ6+'PADD2 mthly rpt'!FJ6+'PADD3 mthly rpt'!FJ6+'PADD4 mthly rpt'!FJ6+'PADD5 mthly rpt'!FJ6","v":590133.33333333337},{"$f":"'PADD1 mthly rpt'!FK6+'PADD2 mthly rpt'!FK6+'PADD3 mthly rpt'!FK6+'PADD4 mthly rpt'!FK6+'PADD5 mthly rpt'!FK6","v":573774.19354838715},{"$f":"'PADD1 mthly rpt'!FL6+'PADD2 mthly rpt'!FL6+'PADD3 mthly rpt'!FL6+'PADD4 mthly rpt'!FL6+'PADD5 mthly rpt'!FL6","v":608266.66666666674},{"$f":"'PADD1 mthly rpt'!FM6+'PADD2 mthly rpt'!FM6+'PADD3 mthly rpt'!FM6+'PADD4 mthly rpt'!FM6+'PADD5 mthly rpt'!FM6","v":615709.67741935467},{"$f":"'PADD1 mthly rpt'!FN6+'PADD2 mthly rpt'!FN6+'PADD3 mthly rpt'!FN6+'PADD4 mthly rpt'!FN6+'PADD5 mthly rpt'!FN6","v":588967.74193548388},{"$f":"'PADD1 mthly rpt'!FO6+'PADD2 mthly rpt'!FO6+'PADD3 mthly rpt'!FO6+'PADD4 mthly rpt'!FO6+'PADD5 mthly rpt'!FO6","v":545357.14285714284},{"$f":"'PADD1 mthly rpt'!FP6+'PADD2 mthly rpt'!FP6+'PADD3 mthly rpt'!FP6+'PADD4 mthly rpt'!FP6+'PADD5 mthly rpt'!FP6","v":549096.77419354836},{"$f":"'PADD1 mthly rpt'!FQ6+'PADD2 mthly rpt'!FQ6+'PADD3 mthly rpt'!FQ6+'PADD4 mthly rpt'!FQ6+'PADD5 mthly rpt'!FQ6","v":566733.33333333337},{"$f":"'PADD1 mthly rpt'!FR6+'PADD2 mthly rpt'!FR6+'PADD3 mthly rpt'!FR6+'PADD4 mthly rpt'!FR6+'PADD5 mthly rpt'!FR6","v":577419.35483870958},{"$f":"'PADD1 mthly rpt'!FS6+'PADD2 mthly rpt'!FS6+'PADD3 mthly rpt'!FS6+'PADD4 mthly rpt'!FS6+'PADD5 mthly rpt'!FS6","v":590566.66666666663},{"$f":"'PADD1 mthly rpt'!FT6+'PADD2 mthly rpt'!FT6+'PADD3 mthly rpt'!FT6+'PADD4 mthly rpt'!FT6+'PADD5 mthly rpt'!FT6","v":578806.45161290315},{"$f":"'PADD1 mthly rpt'!FU6+'PADD2 mthly rpt'!FU6+'PADD3 mthly rpt'!FU6+'PADD4 mthly rpt'!FU6+'PADD5 mthly rpt'!FU6","v":579064.51612903236},{"$f":"'PADD1 mthly rpt'!FV6+'PADD2 mthly rpt'!FV6+'PADD3 mthly rpt'!FV6+'PADD4 mthly rpt'!FV6+'PADD5 mthly rpt'!FV6","v":553433.33333333337},{"$f":"'PADD1 mthly rpt'!FW6+'PADD2 mthly rpt'!FW6+'PADD3 mthly rpt'!FW6+'PADD4 mthly rpt'!FW6+'PADD5 mthly rpt'!FW6","v":532677.41935483867},{"$f":"'PADD1 mthly rpt'!FX6+'PADD2 mthly rpt'!FX6+'PADD3 mthly rpt'!FX6+'PADD4 mthly rpt'!FX6+'PADD5 mthly rpt'!FX6","v":581066.66666666674},{"$f":"'PADD1 mthly rpt'!FY6+'PADD2 mthly rpt'!FY6+'PADD3 mthly rpt'!FY6+'PADD4 mthly rpt'!FY6+'PADD5 mthly rpt'!FY6","v":596032.25806451612},{"$f":"'PADD1 mthly rpt'!FZ6+'PADD2 mthly rpt'!FZ6+'PADD3 mthly rpt'!FZ6+'PADD4 mthly rpt'!FZ6+'PADD5 mthly rpt'!FZ6","v":565645.16129032255},{"$f":"'PADD1 mthly rpt'!GA6+'PADD2 mthly rpt'!GA6+'PADD3 mthly rpt'!GA6+'PADD4 mthly rpt'!GA6+'PADD5 mthly rpt'!GA6","v":514344.82758620684},{"$f":"'PADD1 mthly rpt'!GB6+'PADD2 mthly rpt'!GB6+'PADD3 mthly rpt'!GB6+'PADD4 mthly rpt'!GB6+'PADD5 mthly rpt'!GB6","v":524612.90322580643},{"$f":"'PADD1 mthly rpt'!GC6+'PADD2 mthly rpt'!GC6+'PADD3 mthly rpt'!GC6+'PADD4 mthly rpt'!GC6+'PADD5 mthly rpt'!GC6","v":494266.66666666663},{"$f":"'PADD1 mthly rpt'!GD6+'PADD2 mthly rpt'!GD6+'PADD3 mthly rpt'!GD6+'PADD4 mthly rpt'!GD6+'PADD5 mthly rpt'!GD6","v":492129.03225806449},{"$f":"'PADD1 mthly rpt'!GE6+'PADD2 mthly rpt'!GE6+'PADD3 mthly rpt'!GE6+'PADD4 mthly rpt'!GE6+'PADD5 mthly rpt'!GE6","v":503966.66666666663},{"$f":"'PADD1 mthly rpt'!GF6+'PADD2 mthly rpt'!GF6+'PADD3 mthly rpt'!GF6+'PADD4 mthly rpt'!GF6+'PADD5 mthly rpt'!GF6","v":522419.35483870964},{"$f":"'PADD1 mthly rpt'!GG6+'PADD2 mthly rpt'!GG6+'PADD3 mthly rpt'!GG6+'PADD4 mthly rpt'!GG6+'PADD5 mthly rpt'!GG6","v":526741.93548387091},{"$f":"'PADD1 mthly rpt'!GH6+'PADD2 mthly rpt'!GH6+'PADD3 mthly rpt'!GH6+'PADD4 mthly rpt'!GH6+'PADD5 mthly rpt'!GH6","v":529633.33333333337},{"$f":"'PADD1 mthly rpt'!GI6+'PADD2 mthly rpt'!GI6+'PADD3 mthly rpt'!GI6+'PADD4 mthly rpt'!GI6+'PADD5 mthly rpt'!GI6","v":537806.45161290327},{"$f":"'PADD1 mthly rpt'!GJ6+'PADD2 mthly rpt'!GJ6+'PADD3 mthly rpt'!GJ6+'PADD4 mthly rpt'!GJ6+'PADD5 mthly rpt'!GJ6","v":559700},{"$f":"'PADD1 mthly rpt'!GK6+'PADD2 mthly rpt'!GK6+'PADD3 mthly rpt'!GK6+'PADD4 mthly rpt'!GK6+'PADD5 mthly rpt'!GK6","v":557935.48387096776},{"$f":"'PADD1 mthly rpt'!GL6+'PADD2 mthly rpt'!GL6+'PADD3 mthly rpt'!GL6+'PADD4 mthly rpt'!GL6+'PADD5 mthly rpt'!GL6","v":555225.80645161297},{"$f":"'PADD1 mthly rpt'!GM6+'PADD2 mthly rpt'!GM6+'PADD3 mthly rpt'!GM6+'PADD4 mthly rpt'!GM6+'PADD5 mthly rpt'!GM6","v":463928.57142857142},{"$f":"'PADD1 mthly rpt'!GN6+'PADD2 mthly rpt'!GN6+'PADD3 mthly rpt'!GN6+'PADD4 mthly rpt'!GN6+'PADD5 mthly rpt'!GN6","v":538290.32258064521},{"$f":"'PADD1 mthly rpt'!GO6+'PADD2 mthly rpt'!GO6+'PADD3 mthly rpt'!GO6+'PADD4 mthly rpt'!GO6+'PADD5 mthly rpt'!GO6","v":579199.99999999988},{"$f":"'PADD1 mthly rpt'!GP6+'PADD2 mthly rpt'!GP6+'PADD3 mthly rpt'!GP6+'PADD4 mthly rpt'!GP6+'PADD5 mthly rpt'!GP6","v":624697.98925553204},{"$f":"'PADD1 mthly rpt'!GQ6+'PADD2 mthly rpt'!GQ6+'PADD3 mthly rpt'!GQ6+'PADD4 mthly rpt'!GQ6+'PADD5 mthly rpt'!GQ6","v":586203.34155645315},{"$f":"'PADD1 mthly rpt'!GR6+'PADD2 mthly rpt'!GR6+'PADD3 mthly rpt'!GR6+'PADD4 mthly rpt'!GR6+'PADD5 mthly rpt'!GR6","v":594243.31146707444},{"$f":"'PADD1 mthly rpt'!GS6+'PADD2 mthly rpt'!GS6+'PADD3 mthly rpt'!GS6+'PADD4 mthly rpt'!GS6+'PADD5 mthly rpt'!GS6","v":582656.10886515025},{"$f":"'PADD1 mthly rpt'!GT6+'PADD2 mthly rpt'!GT6+'PADD3 mthly rpt'!GT6+'PADD4 mthly rpt'!GT6+'PADD5 mthly rpt'!GT6","v":556456.51117509708},{"$f":"'PADD1 mthly rpt'!GU6+'PADD2 mthly rpt'!GU6+'PADD3 mthly rpt'!GU6+'PADD4 mthly rpt'!GU6+'PADD5 mthly rpt'!GU6","v":553079.09893475182},{"$f":"'PADD1 mthly rpt'!GV6+'PADD2 mthly rpt'!GV6+'PADD3 mthly rpt'!GV6+'PADD4 mthly rpt'!GV6+'PADD5 mthly rpt'!GV6","v":576342.98903689464},{"$f":"'PADD1 mthly rpt'!GW6+'PADD2 mthly rpt'!GW6+'PADD3 mthly rpt'!GW6+'PADD4 mthly rpt'!GW6+'PADD5 mthly rpt'!GW6","v":598997.80107913201},{"$f":"'PADD1 mthly rpt'!GX6+'PADD2 mthly rpt'!GX6+'PADD3 mthly rpt'!GX6+'PADD4 mthly rpt'!GX6+'PADD5 mthly rpt'!GX6","v":615109.94596114242},{"$f":"'PADD1 mthly rpt'!GY6+'PADD2 mthly rpt'!GY6+'PADD3 mthly rpt'!GY6+'PADD4 mthly rpt'!GY6+'PADD5 mthly rpt'!GY6","v":591752.53810337232},{"$f":"'PADD1 mthly rpt'!GZ6+'PADD2 mthly rpt'!GZ6+'PADD3 mthly rpt'!GZ6+'PADD4 mthly rpt'!GZ6+'PADD5 mthly rpt'!GZ6","v":623442.52236421453},{"$f":"'PADD1 mthly rpt'!HA6+'PADD2 mthly rpt'!HA6+'PADD3 mthly rpt'!HA6+'PADD4 mthly rpt'!HA6+'PADD5 mthly rpt'!HA6","v":643532.48133574345},{"$f":"'PADD1 mthly rpt'!HB6+'PADD2 mthly rpt'!HB6+'PADD3 mthly rpt'!HB6+'PADD4 mthly rpt'!HB6+'PADD5 mthly rpt'!HB6","v":649712.76595160586},{"$f":"'PADD1 mthly rpt'!HC6+'PADD2 mthly rpt'!HC6+'PADD3 mthly rpt'!HC6+'PADD4 mthly rpt'!HC6+'PADD5 mthly rpt'!HC6","v":652978.33319007477}]
["Imports",{"$f":"'PADD1 mthly rpt'!B7+'PADD2 mthly rpt'!B7+'PADD3 mthly rpt'!B7+'PADD4 mthly rpt'!B7+'PADD5 mthly rpt'!B7","v":274000},{"$f":"'PADD1 mthly rpt'!C7+'PADD2 mthly rpt'!C7+'PADD3 mthly rpt'!C7+'PADD4 mthly rpt'!C7+'PADD5 mthly rpt'!C7","v":244142.85714285713},{"$f":"'PADD1 mthly rpt'!D7+'PADD2 mthly rpt'!D7+'PADD3 mthly rpt'!D7+'PADD4 mthly rpt'!D7+'PADD5 mthly rpt'!D7","v":163580.6451612903},{"$f":"'PADD1 mthly rpt'!E7+'PADD2 mthly rpt'!E7+'PADD3 mthly rpt'!E7+'PADD4 mthly rpt'!E7+'PADD5 mthly rpt'!E7","v":178499.99999999997},{"$f":"'PADD1 mthly rpt'!F7+'PADD2 mthly rpt'!F7+'PADD3 mthly rpt'!F7+'PADD4 mthly rpt'!F7+'PADD5 mthly rpt'!F7","v":174935.48387096776},{"$f":"'PADD1 mthly rpt'!G7+'PADD2 mthly rpt'!G7+'PADD3 mthly rpt'!G7+'PADD4 mthly rpt'!G7+'PADD5 mthly rpt'!G7","v":151833.33333333334},{"$f":"'PADD1 mthly rpt'!H7+'PADD2 mthly rpt'!H7+'PADD3 mthly rpt'!H7+'PADD4 mthly rpt'!H7+'PADD5 mthly rpt'!H7","v":220161.29032258067},{"$f":"'PADD1 mthly rpt'!I7+'PADD2 mthly rpt'!I7+'PADD3 mthly rpt'!I7+'PADD4 mthly rpt'!I7+'PADD5 mthly rpt'!I7","v":171064.51612903224},{"$f":"'PADD1 mthly rpt'!J7+'PADD2 mthly rpt'!J7+'PADD3 mthly rpt'!J7+'PADD4 mthly rpt'!J7+'PADD5 mthly rpt'!J7","v":256199.99999999997},{"$f":"'PADD1 mthly rpt'!K7+'PADD2 mthly rpt'!K7+'PADD3 mthly rpt'!K7+'PADD4 mthly rpt'!K7+'PADD5 mthly rpt'!K7","v":376935.48387096776},{"$f":"'PADD1 mthly rpt'!L7+'PADD2 mthly rpt'!L7+'PADD3 mthly rpt'!L7+'PADD4 mthly rpt'!L7+'PADD5 mthly rpt'!L7","v":292866.66666666669},{"$f":"'PADD1 mthly rpt'!M7+'PADD2 mthly rpt'!M7+'PADD3 mthly rpt'!M7+'PADD4 mthly rpt'!M7+'PADD5 mthly rpt'!M7","v":293193.54838709679},{"$f":"'PADD1 mthly rpt'!N7+'PADD2 mthly rpt'!N7+'PADD3 mthly rpt'!N7+'PADD4 mthly rpt'!N7+'PADD5 mthly rpt'!N7","v":206322.58064516127},{"$f":"'PADD1 mthly rpt'!O7+'PADD2 mthly rpt'!O7+'PADD3 mthly rpt'!O7+'PADD4 mthly rpt'!O7+'PADD5 mthly rpt'!O7","v":206285.71428571429},{"$f":"'PADD1 mthly rpt'!P7+'PADD2 mthly rpt'!P7+'PADD3 mthly rpt'!P7+'PADD4 mthly rpt'!P7+'PADD5 mthly rpt'!P7","v":180806.45161290321},{"$f":"'PADD1 mthly rpt'!Q7+'PADD2 mthly rpt'!Q7+'PADD3 mthly rpt'!Q7+'PADD4 mthly rpt'!Q7+'PADD5 mthly rpt'!Q7","v":242800},{"$f":"'PADD1 mthly rpt'!R7+'PADD2 mthly rpt'!R7+'PADD3 mthly rpt'!R7+'PADD4 mthly rpt'!R7+'PADD5 mthly rpt'!R7","v":174225.80645161294},{"$f":"'PADD1 mthly rpt'!S7+'PADD2 mthly rpt'!S7+'PADD3 mthly rpt'!S7+'PADD4 mthly rpt'!S7+'PADD5 mthly rpt'!S7","v":241000.00000000003},{"$f":"'PADD1 mthly rpt'!T7+'PADD2 mthly rpt'!T7+'PADD3 mthly rpt'!T7+'PADD4 mthly rpt'!T7+'PADD5 mthly rpt'!T7","v":226580.6451612903},{"$f":"'PADD1 mthly rpt'!U7+'PADD2 mthly rpt'!U7+'PADD3 mthly rpt'!U7+'PADD4 mthly rpt'!U7+'PADD5 mthly rpt'!U7","v":265064.51612903224},{"$f":"'PADD1 mthly rpt'!V7+'PADD2 mthly rpt'!V7+'PADD3 mthly rpt'!V7+'PADD4 mthly rpt'!V7+'PADD5 mthly rpt'!V7","v":280666.66666666663},{"$f":"'PADD1 mthly rpt'!W7+'PADD2 mthly rpt'!W7+'PADD3 mthly rpt'!W7+'PADD4 mthly rpt'!W7+'PADD5 mthly rpt'!W7","v":267225.80645161285},{"$f":"'PADD1 mthly rpt'!X7+'PADD2 mthly rpt'!X7+'PADD3 mthly rpt'!X7+'PADD4 mthly rpt'!X7+'PADD5 mthly rpt'!X7","v":215433.33333333334},{"$f":"'PADD1 mthly rpt'!Y7+'PADD2 mthly rpt'!Y7+'PADD3 mthly rpt'!Y7+'PADD4 mthly rpt'!Y7+'PADD5 mthly rpt'!Y7","v":224258.06451612903},{"$f":"'PADD1 mthly rpt'!Z7+'PADD2 mthly rpt'!Z7+'PADD3 mthly rpt'!Z7+'PADD4 mthly rpt'!Z7+'PADD5 mthly rpt'!Z7","v":244258.06451612906},{"$f":"'PADD1 mthly rpt'!AA7+'PADD2 mthly rpt'!AA7+'PADD3 mthly rpt'!AA7+'PADD4 mthly rpt'!AA7+'PADD5 mthly rpt'!AA7","v":212642.85714285716},{"$f":"'PADD1 mthly rpt'!AB7+'PADD2 mthly rpt'!AB7+'PADD3 mthly rpt'!AB7+'PADD4 mthly rpt'!AB7+'PADD5 mthly rpt'!AB7","v":184838.70967741936},{"$f":"'PADD1 mthly rpt'!AC7+'PADD2 mthly rpt'!AC7+'PADD3 mthly rpt'!AC7+'PADD4 mthly rpt'!AC7+'PADD5 mthly rpt'!AC7","v":121066.66666666667},{"$f":"'PADD1 mthly rpt'!AD7+'PADD2 mthly rpt'!AD7+'PADD3 mthly rpt'!AD7+'PADD4 mthly rpt'!AD7+'PADD5 mthly rpt'!AD7","v":145709.67741935485},{"$f":"'PADD1 mthly rpt'!AE7+'PADD2 mthly rpt'!AE7+'PADD3 mthly rpt'!AE7+'PADD4 mthly rpt'!AE7+'PADD5 mthly rpt'!AE7","v":151333.33333333331},{"$f":"'PADD1 mthly rpt'!AF7+'PADD2 mthly rpt'!AF7+'PADD3 mthly rpt'!AF7+'PADD4 mthly rpt'!AF7+'PADD5 mthly rpt'!AF7","v":134903.22580645164},{"$f":"'PADD1 mthly rpt'!AG7+'PADD2 mthly rpt'!AG7+'PADD3 mthly rpt'!AG7+'PADD4 mthly rpt'!AG7+'PADD5 mthly rpt'!AG7","v":163967.74193548391},{"$f":"'PADD1 mthly rpt'!AH7+'PADD2 mthly rpt'!AH7+'PADD3 mthly rpt'!AH7+'PADD4 mthly rpt'!AH7+'PADD5 mthly rpt'!AH7","v":232300},{"$f":"'PADD1 mthly rpt'!AI7+'PADD2 mthly rpt'!AI7+'PADD3 mthly rpt'!AI7+'PADD4 mthly rpt'!AI7+'PADD5 mthly rpt'!AI7","v":204483.87096774191},{"$f":"'PADD1 mthly rpt'!AJ7+'PADD2 mthly rpt'!AJ7+'PADD3 mthly rpt'!AJ7+'PADD4 mthly rpt'!AJ7+'PADD5 mthly rpt'!AJ7","v":200433.33333333334},{"$f":"'PADD1 mthly rpt'!AK7+'PADD2 mthly rpt'!AK7+'PADD3 mthly rpt'!AK7+'PADD4 mthly rpt'!AK7+'PADD5 mthly rpt'!AK7","v":187935.48387096776},{"$f":"'PADD1 mthly rpt'!AL7+'PADD2 mthly rpt'!AL7+'PADD3 mthly rpt'!AL7+'PADD4 mthly rpt'!AL7+'PADD5 mthly rpt'!AL7","v":262806.45161290321},{"$f":"'PADD1 mthly rpt'!AM7+'PADD2 mthly rpt'!AM7+'PADD3 mthly rpt'!AM7+'PADD4 mthly rpt'!AM7+'PADD5 mthly rpt'!AM7","v":214448.27586206896},{"$f":"'PADD1 mthly rpt'!AN7+'PADD2 mthly rpt'!AN7+'PADD3 mthly rpt'!AN7+'PADD4 mthly rpt'!AN7+'PADD5 mthly rpt'!AN7","v":217645.16129032255},{"$f":"'PADD1 mthly rpt'!AO7+'PADD2 mthly rpt'!AO7+'PADD3 mthly rpt'!AO7+'PADD4 mthly rpt'!AO7+'PADD5 mthly rpt'!AO7","v":155366.66666666666},{"$f":"'PADD1 mthly rpt'!AP7+'PADD2 mthly rpt'!AP7+'PADD3 mthly rpt'!AP7+'PADD4 mthly rpt'!AP7+'PADD5 mthly rpt'!AP7","v":163967.74193548388},{"$f":"'PADD1 mthly rpt'!AQ7+'PADD2 mthly rpt'!AQ7+'PADD3 mthly rpt'!AQ7+'PADD4 mthly rpt'!AQ7+'PADD5 mthly rpt'!AQ7","v":98833.333333333343},{"$f":"'PADD1 mthly rpt'!AR7+'PADD2 mthly rpt'!AR7+'PADD3 mthly rpt'!AR7+'PADD4 mthly rpt'!AR7+'PADD5 mthly rpt'!AR7","v":130483.87096774194},{"$f":"'PADD1 mthly rpt'!AS7+'PADD2 mthly rpt'!AS7+'PADD3 mthly rpt'!AS7+'PADD4 mthly rpt'!AS7+'PADD5 mthly rpt'!AS7","v":186032.25806451612},{"$f":"'PADD1 mthly rpt'!AT7+'PADD2 mthly rpt'!AT7+'PADD3 mthly rpt'!AT7+'PADD4 mthly rpt'!AT7+'PADD5 mthly rpt'!AT7","v":186300},{"$f":"'PADD1 mthly rpt'!AU7+'PADD2 mthly rpt'!AU7+'PADD3 mthly rpt'!AU7+'PADD4 mthly rpt'!AU7+'PADD5 mthly rpt'!AU7","v":178935.48387096779},{"$f":"'PADD1 mthly rpt'!AV7+'PADD2 mthly rpt'!AV7+'PADD3 mthly rpt'!AV7+'PADD4 mthly rpt'!AV7+'PADD5 mthly rpt'!AV7","v":196233.33333333334},{"$f":"'PADD1 mthly rpt'!AW7+'PADD2 mthly rpt'!AW7+'PADD3 mthly rpt'!AW7+'PADD4 mthly rpt'!AW7+'PADD5 mthly rpt'!AW7","v":228612.90322580643},{"$f":"'PADD1 mthly rpt'!AX7+'PADD2 mthly rpt'!AX7+'PADD3 mthly rpt'!AX7+'PADD4 mthly rpt'!AX7+'PADD5 mthly rpt'!AX7","v":222741.93548387094},{"$f":"'PADD1 mthly rpt'!AY7+'PADD2 mthly rpt'!AY7+'PADD3 mthly rpt'!AY7+'PADD4 mthly rpt'!AY7+'PADD5 mthly rpt'!AY7","v":206535.71428571429},{"$f":"'PADD1 mthly rpt'!AZ7+'PADD2 mthly rpt'!AZ7+'PADD3 mthly rpt'!AZ7+'PADD4 mthly rpt'!AZ7+'PADD5 mthly rpt'!AZ7","v":218322.5806451613},{"$f":"'PADD1 mthly rpt'!BA7+'PADD2 mthly rpt'!BA7+'PADD3 mthly rpt'!BA7+'PADD4 mthly rpt'!BA7+'PADD5 mthly rpt'!BA7","v":124233.33333333331},{"$f":"'PADD1 mthly rpt'!BB7+'PADD2 mthly rpt'!BB7+'PADD3 mthly rpt'!BB7+'PADD4 mthly rpt'!BB7+'PADD5 mthly rpt'!BB7","v":105096.77419354839},{"$f":"'PADD1 mthly rpt'!BC7+'PADD2 mthly rpt'!BC7+'PADD3 mthly rpt'!BC7+'PADD4 mthly rpt'!BC7+'PADD5 mthly rpt'!BC7","v":69966.666666666672},{"$f":"'PADD1 mthly rpt'!BD7+'PADD2 mthly rpt'!BD7+'PADD3 mthly rpt'!BD7+'PADD4 mthly rpt'!BD7+'PADD5 mthly rpt'!BD7","v":99903.225806451606},{"$f":"'PADD1 mthly rpt'!BE7+'PADD2 mthly rpt'!BE7+'PADD3 mthly rpt'!BE7+'PADD4 mthly rpt'!BE7+'PADD5 mthly rpt'!BE7","v":62645.161290322583},{"$f":"'PADD1 mthly rpt'!BF7+'PADD2 mthly rpt'!BF7+'PADD3 mthly rpt'!BF7+'PADD4 mthly rpt'!BF7+'PADD5 mthly rpt'!BF7","v":94800},{"$f":"'PADD1 mthly rpt'!BG7+'PADD2 mthly rpt'!BG7+'PADD3 mthly rpt'!BG7+'PADD4 mthly rpt'!BG7+'PADD5 mthly rpt'!BG7","v":145000},{"$f":"'PADD1 mthly rpt'!BH7+'PADD2 mthly rpt'!BH7+'PADD3 mthly rpt'!BH7+'PADD4 mthly rpt'!BH7+'PADD5 mthly rpt'!BH7","v":205966.66666666666},{"$f":"'PADD1 mthly rpt'!BI7+'PADD2 mthly rpt'!BI7+'PADD3 mthly rpt'!BI7+'PADD4 mthly rpt'!BI7+'PADD5 mthly rpt'!BI7","v":211999.99999999997},{"$f":"'PADD1 mthly rpt'!BJ7+'PADD2 mthly rpt'!BJ7+'PADD3 mthly rpt'!BJ7+'PADD4 mthly rpt'!BJ7+'PADD5 mthly rpt'!BJ7","v":192000},{"$f":"'PADD1 mthly rpt'!BK7+'PADD2 mthly rpt'!BK7+'PADD3 mthly rpt'!BK7+'PADD4 mthly rpt'!BK7+'PADD5 mthly rpt'!BK7","v":217178.57142857139},{"$f":"'PADD1 mthly rpt'!BL7+'PADD2 mthly rpt'!BL7+'PADD3 mthly rpt'!BL7+'PADD4 mthly rpt'!BL7+'PADD5 mthly rpt'!BL7","v":136806.45161290324},{"$f":"'PADD1 mthly rpt'!BM7+'PADD2 mthly rpt'!BM7+'PADD3 mthly rpt'!BM7+'PADD4 mthly rpt'!BM7+'PADD5 mthly rpt'!BM7","v":78500},{"$f":"'PADD1 mthly rpt'!BN7+'PADD2 mthly rpt'!BN7+'PADD3 mthly rpt'!BN7+'PADD4 mthly rpt'!BN7+'PADD5 mthly rpt'!BN7","v":81935.483870967742},{"$f":"'PADD1 mthly rpt'!BO7+'PADD2 mthly rpt'!BO7+'PADD3 mthly rpt'!BO7+'PADD4 mthly rpt'!BO7+'PADD5 mthly rpt'!BO7","v":72500},{"$f":"'PADD1 mthly rpt'!BP7+'PADD2 mthly rpt'!BP7+'PADD3 mthly rpt'!BP7+'PADD4 mthly rpt'!BP7+'PADD5 mthly rpt'!BP7","v":55741.93548387097},{"$f":"'PADD1 mthly rpt'!BQ7+'PADD2 mthly rpt'!BQ7+'PADD3 mthly rpt'!BQ7+'PADD4 mthly rpt'!BQ7+'PADD5 mthly rpt'!BQ7","v":62387.096774193553},{"$f":"'PADD1 mthly rpt'!BR7+'PADD2 mthly rpt'!BR7+'PADD3 mthly rpt'!BR7+'PADD4 mthly rpt'!BR7+'PADD5 mthly rpt'!BR7","v":84966.666666666657},{"$f":"'PADD1 mthly rpt'!BS7+'PADD2 mthly rpt'!BS7+'PADD3 mthly rpt'!BS7+'PADD4 mthly rpt'!BS7+'PADD5 mthly rpt'!BS7","v":131129.03225806452},{"$f":"'PADD1 mthly rpt'!BT7+'PADD2 mthly rpt'!BT7+'PADD3 mthly rpt'!BT7+'PADD4 mthly rpt'!BT7+'PADD5 mthly rpt'!BT7","v":132300},{"$f":"'PADD1 mthly rpt'!BU7+'PADD2 mthly rpt'!BU7+'PADD3 mthly rpt'!BU7+'PADD4 mthly rpt'!BU7+'PADD5 mthly rpt'!BU7","v":214064.51612903224},{"$f":"'PADD1 mthly rpt'!BV7+'PADD2 mthly rpt'!BV7+'PADD3 mthly rpt'!BV7+'PADD4 mthly rpt'!BV7+'PADD5 mthly rpt'!BV7","v":174903.22580645161},{"$f":"'PADD1 mthly rpt'!BW7+'PADD2 mthly rpt'!BW7+'PADD3 mthly rpt'!BW7+'PADD4 mthly rpt'!BW7+'PADD5 mthly rpt'!BW7","v":174571.42857142858},{"$f":"'PADD1 mthly rpt'!BX7+'PADD2 mthly rpt'!BX7+'PADD3 mthly rpt'!BX7+'PADD4 mthly rpt'!BX7+'PADD5 mthly rpt'!BX7","v":137161.29032258064},{"$f":"'PADD1 mthly rpt'!BY7+'PADD2 mthly rpt'!BY7+'PADD3 mthly rpt'!BY7+'PADD4 mthly rpt'!BY7+'PADD5 mthly rpt'!BY7","v":96333.333333333328},{"$f":"'PADD1 mthly rpt'!BZ7+'PADD2 mthly rpt'!BZ7+'PADD3 mthly rpt'!BZ7+'PADD4 mthly rpt'!BZ7+'PADD5 mthly rpt'!BZ7","v":74032.258064516151},{"$f":"'PADD1 mthly rpt'!CA7+'PADD2 mthly rpt'!CA7+'PADD3 mthly rpt'!CA7+'PADD4 mthly rpt'!CA7+'PADD5 mthly rpt'!CA7","v":62466.666666666664},{"$f":"'PADD1 mthly rpt'!CB7+'PADD2 mthly rpt'!CB7+'PADD3 mthly rpt'!CB7+'PADD4 mthly rpt'!CB7+'PADD5 mthly rpt'!CB7","v":60548.38709677419},{"$f":"'PADD1 mthly rpt'!CC7+'PADD2 mthly rpt'!CC7+'PADD3 mthly rpt'!CC7+'PADD4 mthly rpt'!CC7+'PADD5 mthly rpt'!CC7","v":73064.516129032258},{"$f":"'PADD1 mthly rpt'!CD7+'PADD2 mthly rpt'!CD7+'PADD3 mthly rpt'!CD7+'PADD4 mthly rpt'!CD7+'PADD5 mthly rpt'!CD7","v":109200},{"$f":"'PADD1 mthly rpt'!CE7+'PADD2 mthly rpt'!CE7+'PADD3 mthly rpt'!CE7+'PADD4 mthly rpt'!CE7+'PADD5 mthly rpt'!CE7","v":95258.06451612903},{"$f":"'PADD1 mthly rpt'!CF7+'PADD2 mthly rpt'!CF7+'PADD3 mthly rpt'!CF7+'PADD4 mthly rpt'!CF7+'PADD5 mthly rpt'!CF7","v":109633.33333333333},{"$f":"'PADD1 mthly rpt'!CG7+'PADD2 mthly rpt'!CG7+'PADD3 mthly rpt'!CG7+'PADD4 mthly rpt'!CG7+'PADD5 mthly rpt'!CG7","v":151806.45161290324},{"$f":"'PADD1 mthly rpt'!CH7+'PADD2 mthly rpt'!CH7+'PADD3 mthly rpt'!CH7+'PADD4 mthly rpt'!CH7+'PADD5 mthly rpt'!CH7","v":145645.16129032261},{"$f":"'PADD1 mthly rpt'!CI7+'PADD2 mthly rpt'!CI7+'PADD3 mthly rpt'!CI7+'PADD4 mthly rpt'!CI7+'PADD5 mthly rpt'!CI7","v":127048.02955665026},{"$f":"'PADD1 mthly rpt'!CJ7+'PADD2 mthly rpt'!CJ7+'PADD3 mthly rpt'!CJ7+'PADD4 mthly rpt'!CJ7+'PADD5 mthly rpt'!CJ7","v":108580.6451612903},{"$f":"'PADD1 mthly rpt'!CK7+'PADD2 mthly rpt'!CK7+'PADD3 mthly rpt'!CK7+'PADD4 mthly rpt'!CK7+'PADD5 mthly rpt'!CK7","v":114600},{"$f":"'PADD1 mthly rpt'!CL7+'PADD2 mthly rpt'!CL7+'PADD3 mthly rpt'!CL7+'PADD4 mthly rpt'!CL7+'PADD5 mthly rpt'!CL7","v":106290.32258064517},{"$f":"'PADD1 mthly rpt'!CM7+'PADD2 mthly rpt'!CM7+'PADD3 mthly rpt'!CM7+'PADD4 mthly rpt'!CM7+'PADD5 mthly rpt'!CM7","v":102300},{"$f":"'PADD1 mthly rpt'!CN7+'PADD2 mthly rpt'!CN7+'PADD3 mthly rpt'!CN7+'PADD4 mthly rpt'!CN7+'PADD5 mthly rpt'!CN7","v":114741.93548387097},{"$f":"'PADD1 mthly rpt'!CO7+'PADD2 mthly rpt'!CO7+'PADD3 mthly rpt'!CO7+'PADD4 mthly rpt'!CO7+'PADD5 mthly rpt'!CO7","v":84677.419354838712},{"$f":"'PADD1 mthly rpt'!CP7+'PADD2 mthly rpt'!CP7+'PADD3 mthly rpt'!CP7+'PADD4 mthly rpt'!CP7+'PADD5 mthly rpt'!CP7","v":100433.33333333334},{"$f":"'PADD1 mthly rpt'!CQ7+'PADD2 mthly rpt'!CQ7+'PADD3 mthly rpt'!CQ7+'PADD4 mthly rpt'!CQ7+'PADD5 mthly rpt'!CQ7","v":90741.935483870984},{"$f":"'PADD1 mthly rpt'!CR7+'PADD2 mthly rpt'!CR7+'PADD3 mthly rpt'!CR7+'PADD4 mthly rpt'!CR7+'PADD5 mthly rpt'!CR7","v":137766.66666666666},{"$f":"'PADD1 mthly rpt'!CS7+'PADD2 mthly rpt'!CS7+'PADD3 mthly rpt'!CS7+'PADD4 mthly rpt'!CS7+'PADD5 mthly rpt'!CS7","v":161419.35483870967},{"$f":"'PADD1 mthly rpt'!CT7+'PADD2 mthly rpt'!CT7+'PADD3 mthly rpt'!CT7+'PADD4 mthly rpt'!CT7+'PADD5 mthly rpt'!CT7","v":183741.93548387097},{"$f":"'PADD1 mthly rpt'!CU7+'PADD2 mthly rpt'!CU7+'PADD3 mthly rpt'!CU7+'PADD4 mthly rpt'!CU7+'PADD5 mthly rpt'!CU7","v":165714.28571428571},{"$f":"'PADD1 mthly rpt'!CV7+'PADD2 mthly rpt'!CV7+'PADD3 mthly rpt'!CV7+'PADD4 mthly rpt'!CV7+'PADD5 mthly rpt'!CV7","v":140806.45161290324},{"$f":"'PADD1 mthly rpt'!CW7+'PADD2 mthly rpt'!CW7+'PADD3 mthly rpt'!CW7+'PADD4 mthly rpt'!CW7+'PADD5 mthly rpt'!CW7","v":110766.66666666666},{"$f":"'PADD1 mthly rpt'!CX7+'PADD2 mthly rpt'!CX7+'PADD3 mthly rpt'!CX7+'PADD4 mthly rpt'!CX7+'PADD5 mthly rpt'!CX7","v":80709.677419354848},{"$f":"'PADD1 mthly rpt'!CY7+'PADD2 mthly rpt'!CY7+'PADD3 mthly rpt'!CY7+'PADD4 mthly rpt'!CY7+'PADD5 mthly rpt'!CY7","v":111099.99999999999},{"$f":"'PADD1 mthly rpt'!CZ7+'PADD2 mthly rpt'!CZ7+'PADD3 mthly rpt'!CZ7+'PADD4 mthly rpt'!CZ7+'PADD5 mthly rpt'!CZ7","v":87548.387096774197},{"$f":"'PADD1 mthly rpt'!DA7+'PADD2 mthly rpt'!DA7+'PADD3 mthly rpt'!DA7+'PADD4 mthly rpt'!DA7+'PADD5 mthly rpt'!DA7","v":84354.838709677424},{"$f":"'PADD1 mthly rpt'!DB7+'PADD2 mthly rpt'!DB7+'PADD3 mthly rpt'!DB7+'PADD4 mthly rpt'!DB7+'PADD5 mthly rpt'!DB7","v":86833.333333333343},{"$f":"'PADD1 mthly rpt'!DC7+'PADD2 mthly rpt'!DC7+'PADD3 mthly rpt'!DC7+'PADD4 mthly rpt'!DC7+'PADD5 mthly rpt'!DC7","v":157612.90322580648},{"$f":"'PADD1 mthly rpt'!DD7+'PADD2 mthly rpt'!DD7+'PADD3 mthly rpt'!DD7+'PADD4 mthly rpt'!DD7+'PADD5 mthly rpt'!DD7","v":168866.66666666663},{"$f":"'PADD1 mthly rpt'!DE7+'PADD2 mthly rpt'!DE7+'PADD3 mthly rpt'!DE7+'PADD4 mthly rpt'!DE7+'PADD5 mthly rpt'!DE7","v":146419.3548387097},{"$f":"'PADD1 mthly rpt'!DF7+'PADD2 mthly rpt'!DF7+'PADD3 mthly rpt'!DF7+'PADD4 mthly rpt'!DF7+'PADD5 mthly rpt'!DF7","v":187064.51612903227},{"$f":"'PADD1 mthly rpt'!DG7+'PADD2 mthly rpt'!DG7+'PADD3 mthly rpt'!DG7+'PADD4 mthly rpt'!DG7+'PADD5 mthly rpt'!DG7","v":220750.00000000003},{"$f":"'PADD1 mthly rpt'!DH7+'PADD2 mthly rpt'!DH7+'PADD3 mthly rpt'!DH7+'PADD4 mthly rpt'!DH7+'PADD5 mthly rpt'!DH7","v":122322.58064516129},{"$f":"'PADD1 mthly rpt'!DI7+'PADD2 mthly rpt'!DI7+'PADD3 mthly rpt'!DI7+'PADD4 mthly rpt'!DI7+'PADD5 mthly rpt'!DI7","v":78700},{"$f":"'PADD1 mthly rpt'!DJ7+'PADD2 mthly rpt'!DJ7+'PADD3 mthly rpt'!DJ7+'PADD4 mthly rpt'!DJ7+'PADD5 mthly rpt'!DJ7","v":66258.06451612903},{"$f":"'PADD1 mthly rpt'!DK7+'PADD2 mthly rpt'!DK7+'PADD3 mthly rpt'!DK7+'PADD4 mthly rpt'!DK7+'PADD5 mthly rpt'!DK7","v":91299.999999999985},{"$f":"'PADD1 mthly rpt'!DL7+'PADD2 mthly rpt'!DL7+'PADD3 mthly rpt'!DL7+'PADD4 mthly rpt'!DL7+'PADD5 mthly rpt'!DL7","v":64032.258064516136},{"$f":"'PADD1 mthly rpt'!DM7+'PADD2 mthly rpt'!DM7+'PADD3 mthly rpt'!DM7+'PADD4 mthly rpt'!DM7+'PADD5 mthly rpt'!DM7","v":76322.580645161273},{"$f":"'PADD1 mthly rpt'!DN7+'PADD2 mthly rpt'!DN7+'PADD3 mthly rpt'!DN7+'PADD4 mthly rpt'!DN7+'PADD5 mthly rpt'!DN7","v":75333.333333333328},{"$f":"'PADD1 mthly rpt'!DO7+'PADD2 mthly rpt'!DO7+'PADD3 mthly rpt'!DO7+'PADD4 mthly rpt'!DO7+'PADD5 mthly rpt'!DO7","v":98903.225806451606},{"$f":"'PADD1 mthly rpt'!DP7+'PADD2 mthly rpt'!DP7+'PADD3 mthly rpt'!DP7+'PADD4 mthly rpt'!DP7+'PADD5 mthly rpt'!DP7","v":89666.666666666657},{"$f":"'PADD1 mthly rpt'!DQ7+'PADD2 mthly rpt'!DQ7+'PADD3 mthly rpt'!DQ7+'PADD4 mthly rpt'!DQ7+'PADD5 mthly rpt'!DQ7","v":128709.67741935483},{"$f":"'PADD1 mthly rpt'!DR7+'PADD2 mthly rpt'!DR7+'PADD3 mthly rpt'!DR7+'PADD4 mthly rpt'!DR7+'PADD5 mthly rpt'!DR7","v":156225.80645161291},{"$f":"'PADD1 mthly rpt'!DS7+'PADD2 mthly rpt'!DS7+'PADD3 mthly rpt'!DS7+'PADD4 mthly rpt'!DS7+'PADD5 mthly rpt'!DS7","v":163142.85714285716},{"$f":"'PADD1 mthly rpt'!DT7+'PADD2 mthly rpt'!DT7+'PADD3 mthly rpt'!DT7+'PADD4 mthly rpt'!DT7+'PADD5 mthly rpt'!DT7","v":147451.61290322582},{"$f":"'PADD1 mthly rpt'!DU7+'PADD2 mthly rpt'!DU7+'PADD3 mthly rpt'!DU7+'PADD4 mthly rpt'!DU7+'PADD5 mthly rpt'!DU7","v":127300},{"$f":"'PADD1 mthly rpt'!DV7+'PADD2 mthly rpt'!DV7+'PADD3 mthly rpt'!DV7+'PADD4 mthly rpt'!DV7+'PADD5 mthly rpt'!DV7","v":91354.838709677424},{"$f":"'PADD1 mthly rpt'!DW7+'PADD2 mthly rpt'!DW7+'PADD3 mthly rpt'!DW7+'PADD4 mthly rpt'!DW7+'PADD5 mthly rpt'!DW7","v":96400},{"$f":"'PADD1 mthly rpt'!DX7+'PADD2 mthly rpt'!DX7+'PADD3 mthly rpt'!DX7+'PADD4 mthly rpt'!DX7+'PADD5 mthly rpt'!DX7","v":107483.87096774194},{"$f":"'PADD1 mthly rpt'!DY7+'PADD2 mthly rpt'!DY7+'PADD3 mthly rpt'!DY7+'PADD4 mthly rpt'!DY7+'PADD5 mthly rpt'!DY7","v":111387.09677419355},{"$f":"'PADD1 mthly rpt'!DZ7+'PADD2 mthly rpt'!DZ7+'PADD3 mthly rpt'!DZ7+'PADD4 mthly rpt'!DZ7+'PADD5 mthly rpt'!DZ7","v":91833.333333333328},{"$f":"'PADD1 mthly rpt'!EA7+'PADD2 mthly rpt'!EA7+'PADD3 mthly rpt'!EA7+'PADD4 mthly rpt'!EA7+'PADD5 mthly rpt'!EA7","v":119645.16129032259},{"$f":"'PADD1 mthly rpt'!EB7+'PADD2 mthly rpt'!EB7+'PADD3 mthly rpt'!EB7+'PADD4 mthly rpt'!EB7+'PADD5 mthly rpt'!EB7","v":128633.33333333334},{"$f":"'PADD1 mthly rpt'!EC7+'PADD2 mthly rpt'!EC7+'PADD3 mthly rpt'!EC7+'PADD4 mthly rpt'!EC7+'PADD5 mthly rpt'!EC7","v":145193.54838709676},{"$f":"'PADD1 mthly rpt'!ED7+'PADD2 mthly rpt'!ED7+'PADD3 mthly rpt'!ED7+'PADD4 mthly rpt'!ED7+'PADD5 mthly rpt'!ED7","v":146903.22580645164},{"$f":"'PADD1 mthly rpt'!EE7+'PADD2 mthly rpt'!EE7+'PADD3 mthly rpt'!EE7+'PADD4 mthly rpt'!EE7+'PADD5 mthly rpt'!EE7","v":196241.37931034484},{"$f":"'PADD1 mthly rpt'!EF7+'PADD2 mthly rpt'!EF7+'PADD3 mthly rpt'!EF7+'PADD4 mthly rpt'!EF7+'PADD5 mthly rpt'!EF7","v":128387.09677419355},{"$f":"'PADD1 mthly rpt'!EG7+'PADD2 mthly rpt'!EG7+'PADD3 mthly rpt'!EG7+'PADD4 mthly rpt'!EG7+'PADD5 mthly rpt'!EG7","v":109299.99999999999},{"$f":"'PADD1 mthly rpt'!EH7+'PADD2 mthly rpt'!EH7+'PADD3 mthly rpt'!EH7+'PADD4 mthly rpt'!EH7+'PADD5 mthly rpt'!EH7","v":106645.16129032259},{"$f":"'PADD1 mthly rpt'!EI7+'PADD2 mthly rpt'!EI7+'PADD3 mthly rpt'!EI7+'PADD4 mthly rpt'!EI7+'PADD5 mthly rpt'!EI7","v":101733.33333333334},{"$f":"'PADD1 mthly rpt'!EJ7+'PADD2 mthly rpt'!EJ7+'PADD3 mthly rpt'!EJ7+'PADD4 mthly rpt'!EJ7+'PADD5 mthly rpt'!EJ7","v":110225.80645161291},{"$f":"'PADD1 mthly rpt'!EK7+'PADD2 mthly rpt'!EK7+'PADD3 mthly rpt'!EK7+'PADD4 mthly rpt'!EK7+'PADD5 mthly rpt'!EK7","v":123193.54838709679},{"$f":"'PADD1 mthly rpt'!EL7+'PADD2 mthly rpt'!EL7+'PADD3 mthly rpt'!EL7+'PADD4 mthly rpt'!EL7+'PADD5 mthly rpt'!EL7","v":126840.10166315518},{"$f":"'PADD1 mthly rpt'!EM7+'PADD2 mthly rpt'!EM7+'PADD3 mthly rpt'!EM7+'PADD4 mthly rpt'!EM7+'PADD5 mthly rpt'!EM7","v":142366.98338358529},{"$f":"'PADD1 mthly rpt'!EN7+'PADD2 mthly rpt'!EN7+'PADD3 mthly rpt'!EN7+'PADD4 mthly rpt'!EN7+'PADD5 mthly rpt'!EN7","v":166541.10166315519},{"$f":"'PADD1 mthly rpt'!EO7+'PADD2 mthly rpt'!EO7+'PADD3 mthly rpt'!EO7+'PADD4 mthly rpt'!EO7+'PADD5 mthly rpt'!EO7","v":178498.01564164978},{"$f":"'PADD1 mthly rpt'!EP7+'PADD2 mthly rpt'!EP7+'PADD3 mthly rpt'!EP7+'PADD4 mthly rpt'!EP7+'PADD5 mthly rpt'!EP7","v":247918.3704803595},{"$f":"'PADD1 mthly rpt'!EQ7+'PADD2 mthly rpt'!EQ7+'PADD3 mthly rpt'!EQ7+'PADD4 mthly rpt'!EQ7+'PADD5 mthly rpt'!EQ7","v":218882.07881773397},{"$f":"'PADD1 mthly rpt'!ER7+'PADD2 mthly rpt'!ER7+'PADD3 mthly rpt'!ER7+'PADD4 mthly rpt'!ER7+'PADD5 mthly rpt'!ER7","v":172371.98338358529},{"$f":"'PADD1 mthly rpt'!ES7+'PADD2 mthly rpt'!ES7+'PADD3 mthly rpt'!ES7+'PADD4 mthly rpt'!ES7+'PADD5 mthly rpt'!ES7","v":117746.10166315519},{"$f":"'PADD1 mthly rpt'!ET7+'PADD2 mthly rpt'!ET7+'PADD3 mthly rpt'!ET7+'PADD4 mthly rpt'!ET7+'PADD5 mthly rpt'!ET7","v":126341.72531906916},{"$f":"'PADD1 mthly rpt'!EU7+'PADD2 mthly rpt'!EU7+'PADD3 mthly rpt'!EU7+'PADD4 mthly rpt'!EU7+'PADD5 mthly rpt'!EU7","v":105700},{"$f":"'PADD1 mthly rpt'!EV7+'PADD2 mthly rpt'!EV7+'PADD3 mthly rpt'!EV7+'PADD4 mthly rpt'!EV7+'PADD5 mthly rpt'!EV7","v":97354.838709677424},{"$f":"'PADD1 mthly rpt'!EW7+'PADD2 mthly rpt'!EW7+'PADD3 mthly rpt'!EW7+'PADD4 mthly rpt'!EW7+'PADD5 mthly rpt'!EW7","v":102954.60759976224},{"$f":"'PADD1 mthly rpt'!EX7+'PADD2 mthly rpt'!EX7+'PADD3 mthly rpt'!EX7+'PADD4 mthly rpt'!EX7+'PADD5 mthly rpt'!EX7","v":127612.29150382073},{"$f":"'PADD1 mthly rpt'!EY7+'PADD2 mthly rpt'!EY7+'PADD3 mthly rpt'!EY7+'PADD4 mthly rpt'!EY7+'PADD5 mthly rpt'!EY7","v":166677.07129081621},{"$f":"'PADD1 mthly rpt'!EZ7+'PADD2 mthly rpt'!EZ7+'PADD3 mthly rpt'!EZ7+'PADD4 mthly rpt'!EZ7+'PADD5 mthly rpt'!EZ7","v":131573.02231765294},{"$f":"'PADD1 mthly rpt'!FA7+'PADD2 mthly rpt'!FA7+'PADD3 mthly rpt'!FA7+'PADD4 mthly rpt'!FA7+'PADD5 mthly rpt'!FA7","v":148480.72816387279},{"$f":"'PADD1 mthly rpt'!FB7+'PADD2 mthly rpt'!FB7+'PADD3 mthly rpt'!FB7+'PADD4 mthly rpt'!FB7+'PADD5 mthly rpt'!FB7","v":216595.34939156746},{"$f":"'PADD1 mthly rpt'!FC7+'PADD2 mthly rpt'!FC7+'PADD3 mthly rpt'!FC7+'PADD4 mthly rpt'!FC7+'PADD5 mthly rpt'!FC7","v":181064.36197549608},{"$f":"'PADD1 mthly rpt'!FD7+'PADD2 mthly rpt'!FD7+'PADD3 mthly rpt'!FD7+'PADD4 mthly rpt'!FD7+'PADD5 mthly rpt'!FD7","v":116289.28757586097},{"$f":"'PADD1 mthly rpt'!FE7+'PADD2 mthly rpt'!FE7+'PADD3 mthly rpt'!FE7+'PADD4 mthly rpt'!FE7+'PADD5 mthly rpt'!FE7","v":87878.804119641252},{"$f":"'PADD1 mthly rpt'!FF7+'PADD2 mthly rpt'!FF7+'PADD3 mthly rpt'!FF7+'PADD4 mthly rpt'!FF7+'PADD5 mthly rpt'!FF7","v":60527.349254206172},{"$f":"'PADD1 mthly rpt'!FG7+'PADD2 mthly rpt'!FG7+'PADD3 mthly rpt'!FG7+'PADD4 mthly rpt'!FG7+'PADD5 mthly rpt'!FG7","v":59974.784654222691},{"$f":"'PADD1 mthly rpt'!FH7+'PADD2 mthly rpt'!FH7+'PADD3 mthly rpt'!FH7+'PADD4 mthly rpt'!FH7+'PADD5 mthly rpt'!FH7","v":68888.94635362261},{"$f":"'PADD1 mthly rpt'!FI7+'PADD2 mthly rpt'!FI7+'PADD3 mthly rpt'!FI7+'PADD4 mthly rpt'!FI7+'PADD5 mthly rpt'!FI7","v":74176.976857712463},{"$f":"'PADD1 mthly rpt'!FJ7+'PADD2 mthly rpt'!FJ7+'PADD3 mthly rpt'!FJ7+'PADD4 mthly rpt'!FJ7+'PADD5 mthly rpt'!FJ7","v":76485.706464603849},{"$f":"'PADD1 mthly rpt'!FK7+'PADD2 mthly rpt'!FK7+'PADD3 mthly rpt'!FK7+'PADD4 mthly rpt'!FK7+'PADD5 mthly rpt'!FK7","v":111483.49723244741},{"$f":"'PADD1 mthly rpt'!FL7+'PADD2 mthly rpt'!FL7+'PADD3 mthly rpt'!FL7+'PADD4 mthly rpt'!FL7+'PADD5 mthly rpt'!FL7","v":142810.94153041235},{"$f":"'PADD1 mthly rpt'!FM7+'PADD2 mthly rpt'!FM7+'PADD3 mthly rpt'!FM7+'PADD4 mthly rpt'!FM7+'PADD5 mthly rpt'!FM7","v":155917.288178424},{"$f":"'PADD1 mthly rpt'!FN7+'PADD2 mthly rpt'!FN7+'PADD3 mthly rpt'!FN7+'PADD4 mthly rpt'!FN7+'PADD5 mthly rpt'!FN7","v":213052.33139258379},{"$f":"'PADD1 mthly rpt'!FO7+'PADD2 mthly rpt'!FO7+'PADD3 mthly rpt'!FO7+'PADD4 mthly rpt'!FO7+'PADD5 mthly rpt'!FO7","v":179557.53531450892},{"$f":"'PADD1 mthly rpt'!FP7+'PADD2 mthly rpt'!FP7+'PADD3 mthly rpt'!FP7+'PADD4 mthly rpt'!FP7+'PADD5 mthly rpt'!FP7","v":144921.52811417056},{"$f":"'PADD1 mthly rpt'!FQ7+'PADD2 mthly rpt'!FQ7+'PADD3 mthly rpt'!FQ7+'PADD4 mthly rpt'!FQ7+'PADD5 mthly rpt'!FQ7","v":113067.29034124983},{"$f":"'PADD1 mthly rpt'!FR7+'PADD2 mthly rpt'!FR7+'PADD3 mthly rpt'!FR7+'PADD4 mthly rpt'!FR7+'PADD5 mthly rpt'!FR7","v":82214.012654400314},{"$f":"'PADD1 mthly rpt'!FS7+'PADD2 mthly rpt'!FS7+'PADD3 mthly rpt'!FS7+'PADD4 mthly rpt'!FS7+'PADD5 mthly rpt'!FS7","v":97513.209265139245},{"$f":"'PADD1 mthly rpt'!FT7+'PADD2 mthly rpt'!FT7+'PADD3 mthly rpt'!FT7+'PADD4 mthly rpt'!FT7+'PADD5 mthly rpt'!FT7","v":99914.958940302124},{"$f":"'PADD1 mthly rpt'!FU7+'PADD2 mthly rpt'!FU7+'PADD3 mthly rpt'!FU7+'PADD4 mthly rpt'!FU7+'PADD5 mthly rpt'!FU7","v":86000.697006295406},{"$f":"'PADD1 mthly rpt'!FV7+'PADD2 mthly rpt'!FV7+'PADD3 mthly rpt'!FV7+'PADD4 mthly rpt'!FV7+'PADD5 mthly rpt'!FV7","v":100346.92914353443},{"$f":"'PADD1 mthly rpt'!FW7+'PADD2 mthly rpt'!FW7+'PADD3 mthly rpt'!FW7+'PADD4 mthly rpt'!FW7+'PADD5 mthly rpt'!FW7","v":142326.16156522723},{"$f":"'PADD1 mthly rpt'!FX7+'PADD2 mthly rpt'!FX7+'PADD3 mthly rpt'!FX7+'PADD4 mthly rpt'!FX7+'PADD5 mthly rpt'!FX7","v":157961.47636273474},{"$f":"'PADD1 mthly rpt'!FY7+'PADD2 mthly rpt'!FY7+'PADD3 mthly rpt'!FY7+'PADD4 mthly rpt'!FY7+'PADD5 mthly rpt'!FY7","v":169287.30003392824},{"$f":"'PADD1 mthly rpt'!FZ7+'PADD2 mthly rpt'!FZ7+'PADD3 mthly rpt'!FZ7+'PADD4 mthly rpt'!FZ7+'PADD5 mthly rpt'!FZ7","v":208585.72038702911},{"$f":"'PADD1 mthly rpt'!GA7+'PADD2 mthly rpt'!GA7+'PADD3 mthly rpt'!GA7+'PADD4 mthly rpt'!GA7+'PADD5 mthly rpt'!GA7","v":149413.38016312293},{"$f":"'PADD1 mthly rpt'!GB7+'PADD2 mthly rpt'!GB7+'PADD3 mthly rpt'!GB7+'PADD4 mthly rpt'!GB7+'PADD5 mthly rpt'!GB7","v":129737.83813442939},{"$f":"'PADD1 mthly rpt'!GC7+'PADD2 mthly rpt'!GC7+'PADD3 mthly rpt'!GC7+'PADD4 mthly rpt'!GC7+'PADD5 mthly rpt'!GC7","v":99664.878430596233},{"$f":"'PADD1 mthly rpt'!GD7+'PADD2 mthly rpt'!GD7+'PADD3 mthly rpt'!GD7+'PADD4 mthly rpt'!GD7+'PADD5 mthly rpt'!GD7","v":81669.327633225737},{"$f":"'PADD1 mthly rpt'!GE7+'PADD2 mthly rpt'!GE7+'PADD3 mthly rpt'!GE7+'PADD4 mthly rpt'!GE7+'PADD5 mthly rpt'!GE7","v":81430.795778710512},{"$f":"'PADD1 mthly rpt'!GF7+'PADD2 mthly rpt'!GF7+'PADD3 mthly rpt'!GF7+'PADD4 mthly rpt'!GF7+'PADD5 mthly rpt'!GF7","v":111919.22675212106},{"$f":"'PADD1 mthly rpt'!GG7+'PADD2 mthly rpt'!GG7+'PADD3 mthly rpt'!GG7+'PADD4 mthly rpt'!GG7+'PADD5 mthly rpt'!GG7","v":81000.116134630502},{"$f":"'PADD1 mthly rpt'!GH7+'PADD2 mthly rpt'!GH7+'PADD3 mthly rpt'!GH7+'PADD4 mthly rpt'!GH7+'PADD5 mthly rpt'!GH7","v":89479.805057538615},{"$f":"'PADD1 mthly rpt'!GI7+'PADD2 mthly rpt'!GI7+'PADD3 mthly rpt'!GI7+'PADD4 mthly rpt'!GI7+'PADD5 mthly rpt'!GI7","v":140252.97724514361},{"$f":"'PADD1 mthly rpt'!GJ7+'PADD2 mthly rpt'!GJ7+'PADD3 mthly rpt'!GJ7+'PADD4 mthly rpt'!GJ7+'PADD5 mthly rpt'!GJ7","v":166468.84511980001},{"$f":"'PADD1 mthly rpt'!GK7+'PADD2 mthly rpt'!GK7+'PADD3 mthly rpt'!GK7+'PADD4 mthly rpt'!GK7+'PADD5 mthly rpt'!GK7","v":186711.12479174195},{"$f":"'PADD1 mthly rpt'!GL7+'PADD2 mthly rpt'!GL7+'PADD3 mthly rpt'!GL7+'PADD4 mthly rpt'!GL7+'PADD5 mthly rpt'!GL7","v":153865.41085003226},{"$f":"'PADD1 mthly rpt'!GM7+'PADD2 mthly rpt'!GM7+'PADD3 mthly rpt'!GM7+'PADD4 mthly rpt'!GM7+'PADD5 mthly rpt'!GM7","v":165419.32413769572},{"$f":"'PADD1 mthly rpt'!GN7+'PADD2 mthly rpt'!GN7+'PADD3 mthly rpt'!GN7+'PADD4 mthly rpt'!GN7+'PADD5 mthly rpt'!GN7","v":185728.12323855638},{"$f":"'PADD1 mthly rpt'!GO7+'PADD2 mthly rpt'!GO7+'PADD3 mthly rpt'!GO7+'PADD4 mthly rpt'!GO7+'PADD5 mthly rpt'!GO7","v":75472.784849616772},{"$f":"'PADD1 mthly rpt'!GP7+'PADD2 mthly rpt'!GP7+'PADD3 mthly rpt'!GP7+'PADD4 mthly rpt'!GP7+'PADD5 mthly rpt'!GP7","v":38758.999244419203},{"$f":"'PADD1 mthly rpt'!GQ7+'PADD2 mthly rpt'!GQ7+'PADD3 mthly rpt'!GQ7+'PADD4 mthly rpt'!GQ7+'PADD5 mthly rpt'!GQ7","v":118986.12053258353},{"$f":"'PADD1 mthly rpt'!GR7+'PADD2 mthly rpt'!GR7+'PADD3 mthly rpt'!GR7+'PADD4 mthly rpt'!GR7+'PADD5 mthly rpt'!GR7","v":211506.51571087143},{"$f":"'PADD1 mthly rpt'!GS7+'PADD2 mthly rpt'!GS7+'PADD3 mthly rpt'!GS7+'PADD4 mthly rpt'!GS7+'PADD5 mthly rpt'!GS7","v":133490.25891599443},{"$f":"'PADD1 mthly rpt'!GT7+'PADD2 mthly rpt'!GT7+'PADD3 mthly rpt'!GT7+'PADD4 mthly rpt'!GT7+'PADD5 mthly rpt'!GT7","v":157356.33701378564},{"$f":"'PADD1 mthly rpt'!GU7+'PADD2 mthly rpt'!GU7+'PADD3 mthly rpt'!GU7+'PADD4 mthly rpt'!GU7+'PADD5 mthly rpt'!GU7","v":175872.99519344399},{"$f":"'PADD1 mthly rpt'!GV7+'PADD2 mthly rpt'!GV7+'PADD3 mthly rpt'!GV7+'PADD4 mthly rpt'!GV7+'PADD5 mthly rpt'!GV7","v":171409.14126325023},{"$f":"'PADD1 mthly rpt'!GW7+'PADD2 mthly rpt'!GW7+'PADD3 mthly rpt'!GW7+'PADD4 mthly rpt'!GW7+'PADD5 mthly rpt'!GW7","v":194384.34177982408},{"$f":"'PADD1 mthly rpt'!GX7+'PADD2 mthly rpt'!GX7+'PADD3 mthly rpt'!GX7+'PADD4 mthly rpt'!GX7+'PADD5 mthly rpt'!GX7","v":206372.64322125152},{"$f":"'PADD1 mthly rpt'!GY7+'PADD2 mthly rpt'!GY7+'PADD3 mthly rpt'!GY7+'PADD4 mthly rpt'!GY7+'PADD5 mthly rpt'!GY7","v":207374.52249325512},{"$f":"'PADD1 mthly rpt'!GZ7+'PADD2 mthly rpt'!GZ7+'PADD3 mthly rpt'!GZ7+'PADD4 mthly rpt'!GZ7+'PADD5 mthly rpt'!GZ7","v":220247.66831028418},{"$f":"'PADD1 mthly rpt'!HA7+'PADD2 mthly rpt'!HA7+'PADD3 mthly rpt'!HA7+'PADD4 mthly rpt'!HA7+'PADD5 mthly rpt'!HA7","v":153512.4236995113},{"$f":"'PADD1 mthly rpt'!HB7+'PADD2 mthly rpt'!HB7+'PADD3 mthly rpt'!HB7+'PADD4 mthly rpt'!HB7+'PADD5 mthly rpt'!HB7","v":133516.21248373287},{"$f":"'PADD1 mthly rpt'!HC7+'PADD2 mthly rpt'!HC7+'PADD3 mthly rpt'!HC7+'PADD4 mthly rpt'!HC7+'PADD5 mthly rpt'!HC7","v":128272.63234182689}]
["Net Inter-PADD Transfers",{"$f":"'PADD1 mthly rpt'!B8+'PADD2 mthly rpt'!B8+'PADD3 mthly rpt'!B8+'PADD4 mthly rpt'!B8+'PADD5 mthly rpt'!B8","v":0},{"$f":"'PADD1 mthly rpt'!C8+'PADD2 mthly rpt'!C8+'PADD3 mthly rpt'!C8+'PADD4 mthly rpt'!C8+'PADD5 mthly rpt'!C8","v":0},{"$f":"'PADD1 mthly rpt'!D8+'PADD2 mthly rpt'!D8+'PADD3 mthly rpt'!D8+'PADD4 mthly rpt'!D8+'PADD5 mthly rpt'!D8","v":0},{"$f":"'PADD1 mthly rpt'!E8+'PADD2 mthly rpt'!E8+'PADD3 mthly rpt'!E8+'PADD4 mthly rpt'!E8+'PADD5 mthly rpt'!E8","v":0},{"$f":"'PADD1 mthly rpt'!F8+'PADD2 mthly rpt'!F8+'PADD3 mthly rpt'!F8+'PADD4 mthly rpt'!F8+'PADD5 mthly rpt'!F8","v":0},{"$f":"'PADD1 mthly rpt'!G8+'PADD2 mthly rpt'!G8+'PADD3 mthly rpt'!G8+'PADD4 mthly rpt'!G8+'PADD5 mthly rpt'!G8","v":0},{"$f":"'PADD1 mthly rpt'!H8+'PADD2 mthly rpt'!H8+'PADD3 mthly rpt'!H8+'PADD4 mthly rpt'!H8+'PADD5 mthly rpt'!H8","v":0},{"$f":"'PADD1 mthly rpt'!I8+'PADD2 mthly rpt'!I8+'PADD3 mthly rpt'!I8+'PADD4 mthly rpt'!I8+'PADD5 mthly rpt'!I8","v":0},{"$f":"'PADD1 mthly rpt'!J8+'PADD2 mthly rpt'!J8+'PADD3 mthly rpt'!J8+'PADD4 mthly rpt'!J8+'PADD5 mthly rpt'!J8","v":0},{"$f":"'PADD1 mthly rpt'!K8+'PADD2 mthly rpt'!K8+'PADD3 mthly rpt'!K8+'PADD4 mthly rpt'!K8+'PADD5 mthly rpt'!K8","v":0},{"$f":"'PADD1 mthly rpt'!L8+'PADD2 mthly rpt'!L8+'PADD3 mthly rpt'!L8+'PADD4 mthly rpt'!L8+'PADD5 mthly rpt'!L8","v":0},{"$f":"'PADD1 mthly rpt'!M8+'PADD2 mthly rpt'!M8+'PADD3 mthly rpt'!M8+'PADD4 mthly rpt'!M8+'PADD5 mthly rpt'!M8","v":0},{"$f":"'PADD1 mthly rpt'!N8+'PADD2 mthly rpt'!N8+'PADD3 mthly rpt'!N8+'PADD4 mthly rpt'!N8+'PADD5 mthly rpt'!N8","v":0},{"$f":"'PADD1 mthly rpt'!O8+'PADD2 mthly rpt'!O8+'PADD3 mthly rpt'!O8+'PADD4 mthly rpt'!O8+'PADD5 mthly rpt'!O8","v":0},{"$f":"'PADD1 mthly rpt'!P8+'PADD2 mthly rpt'!P8+'PADD3 mthly rpt'!P8+'PADD4 mthly rpt'!P8+'PADD5 mthly rpt'!P8","v":0},{"$f":"'PADD1 mthly rpt'!Q8+'PADD2 mthly rpt'!Q8+'PADD3 mthly rpt'!Q8+'PADD4 mthly rpt'!Q8+'PADD5 mthly rpt'!Q8","v":0},{"$f":"'PADD1 mthly rpt'!R8+'PADD2 mthly rpt'!R8+'PADD3 mthly rpt'!R8+'PADD4 mthly rpt'!R8+'PADD5 mthly rpt'!R8","v":0},{"$f":"'PADD1 mthly rpt'!S8+'PADD2 mthly rpt'!S8+'PADD3 mthly rpt'!S8+'PADD4 mthly rpt'!S8+'PADD5 mthly rpt'!S8","v":0},{"$f":"'PADD1 mthly rpt'!T8+'PADD2 mthly rpt'!T8+'PADD3 mthly rpt'!T8+'PADD4 mthly rpt'!T8+'PADD5 mthly rpt'!T8","v":0},{"$f":"'PADD1 mthly rpt'!U8+'PADD2 mthly rpt'!U8+'PADD3 mthly rpt'!U8+'PADD4 mthly rpt'!U8+'PADD5 mthly rpt'!U8","v":0},{"$f":"'PADD1 mthly rpt'!V8+'PADD2 mthly rpt'!V8+'PADD3 mthly rpt'!V8+'PADD4 mthly rpt'!V8+'PADD5 mthly rpt'!V8","v":0},{"$f":"'PADD1 mthly rpt'!W8+'PADD2 mthly rpt'!W8+'PADD3 mthly rpt'!W8+'PADD4 mthly rpt'!W8+'PADD5 mthly rpt'!W8","v":0},{"$f":"'PADD1 mthly rpt'!X8+'PADD2 mthly rpt'!X8+'PADD3 mthly rpt'!X8+'PADD4 mthly rpt'!X8+'PADD5 mthly rpt'!X8","v":0},{"$f":"'PADD1 mthly rpt'!Y8+'PADD2 mthly rpt'!Y8+'PADD3 mthly rpt'!Y8+'PADD4 mthly rpt'!Y8+'PADD5 mthly rpt'!Y8","v":0},{"$f":"'PADD1 mthly rpt'!Z8+'PADD2 mthly rpt'!Z8+'PADD3 mthly rpt'!Z8+'PADD4 mthly rpt'!Z8+'PADD5 mthly rpt'!Z8","v":0},{"$f":"'PADD1 mthly rpt'!AA8+'PADD2 mthly rpt'!AA8+'PADD3 mthly rpt'!AA8+'PADD4 mthly rpt'!AA8+'PADD5 mthly rpt'!AA8","v":0},{"$f":"'PADD1 mthly rpt'!AB8+'PADD2 mthly rpt'!AB8+'PADD3 mthly rpt'!AB8+'PADD4 mthly rpt'!AB8+'PADD5 mthly rpt'!AB8","v":0},{"$f":"'PADD1 mthly rpt'!AC8+'PADD2 mthly rpt'!AC8+'PADD3 mthly rpt'!AC8+'PADD4 mthly rpt'!AC8+'PADD5 mthly rpt'!AC8","v":0},{"$f":"'PADD1 mthly rpt'!AD8+'PADD2 mthly rpt'!AD8+'PADD3 mthly rpt'!AD8+'PADD4 mthly rpt'!AD8+'PADD5 mthly rpt'!AD8","v":0},{"$f":"'PADD1 mthly rpt'!AE8+'PADD2 mthly rpt'!AE8+'PADD3 mthly rpt'!AE8+'PADD4 mthly rpt'!AE8+'PADD5 mthly rpt'!AE8","v":0},{"$f":"'PADD1 mthly rpt'!AF8+'PADD2 mthly rpt'!AF8+'PADD3 mthly rpt'!AF8+'PADD4 mthly rpt'!AF8+'PADD5 mthly rpt'!AF8","v":0},{"$f":"'PADD1 mthly rpt'!AG8+'PADD2 mthly rpt'!AG8+'PADD3 mthly rpt'!AG8+'PADD4 mthly rpt'!AG8+'PADD5 mthly rpt'!AG8","v":0},{"$f":"'PADD1 mthly rpt'!AH8+'PADD2 mthly rpt'!AH8+'PADD3 mthly rpt'!AH8+'PADD4 mthly rpt'!AH8+'PADD5 mthly rpt'!AH8","v":0},{"$f":"'PADD1 mthly rpt'!AI8+'PADD2 mthly rpt'!AI8+'PADD3 mthly rpt'!AI8+'PADD4 mthly rpt'!AI8+'PADD5 mthly rpt'!AI8","v":0},{"$f":"'PADD1 mthly rpt'!AJ8+'PADD2 mthly rpt'!AJ8+'PADD3 mthly rpt'!AJ8+'PADD4 mthly rpt'!AJ8+'PADD5 mthly rpt'!AJ8","v":0},{"$f":"'PADD1 mthly rpt'!AK8+'PADD2 mthly rpt'!AK8+'PADD3 mthly rpt'!AK8+'PADD4 mthly rpt'!AK8+'PADD5 mthly rpt'!AK8","v":0},{"$f":"'PADD1 mthly rpt'!AL8+'PADD2 mthly rpt'!AL8+'PADD3 mthly rpt'!AL8+'PADD4 mthly rpt'!AL8+'PADD5 mthly rpt'!AL8","v":0},{"$f":"'PADD1 mthly rpt'!AM8+'PADD2 mthly rpt'!AM8+'PADD3 mthly rpt'!AM8+'PADD4 mthly rpt'!AM8+'PADD5 mthly rpt'!AM8","v":0},{"$f":"'PADD1 mthly rpt'!AN8+'PADD2 mthly rpt'!AN8+'PADD3 mthly rpt'!AN8+'PADD4 mthly rpt'!AN8+'PADD5 mthly rpt'!AN8","v":0},{"$f":"'PADD1 mthly rpt'!AO8+'PADD2 mthly rpt'!AO8+'PADD3 mthly rpt'!AO8+'PADD4 mthly rpt'!AO8+'PADD5 mthly rpt'!AO8","v":0},{"$f":"'PADD1 mthly rpt'!AP8+'PADD2 mthly rpt'!AP8+'PADD3 mthly rpt'!AP8+'PADD4 mthly rpt'!AP8+'PADD5 mthly rpt'!AP8","v":0},{"$f":"'PADD1 mthly rpt'!AQ8+'PADD2 mthly rpt'!AQ8+'PADD3 mthly rpt'!AQ8+'PADD4 mthly rpt'!AQ8+'PADD5 mthly rpt'!AQ8","v":0},{"$f":"'PADD1 mthly rpt'!AR8+'PADD2 mthly rpt'!AR8+'PADD3 mthly rpt'!AR8+'PADD4 mthly rpt'!AR8+'PADD5 mthly rpt'!AR8","v":0},{"$f":"'PADD1 mthly rpt'!AS8+'PADD2 mthly rpt'!AS8+'PADD3 mthly rpt'!AS8+'PADD4 mthly rpt'!AS8+'PADD5 mthly rpt'!AS8","v":0},{"$f":"'PADD1 mthly rpt'!AT8+'PADD2 mthly rpt'!AT8+'PADD3 mthly rpt'!AT8+'PADD4 mthly rpt'!AT8+'PADD5 mthly rpt'!AT8","v":0},{"$f":"'PADD1 mthly rpt'!AU8+'PADD2 mthly rpt'!AU8+'PADD3 mthly rpt'!AU8+'PADD4 mthly rpt'!AU8+'PADD5 mthly rpt'!AU8","v":0},{"$f":"'PADD1 mthly rpt'!AV8+'PADD2 mthly rpt'!AV8+'PADD3 mthly rpt'!AV8+'PADD4 mthly rpt'!AV8+'PADD5 mthly rpt'!AV8","v":0},{"$f":"'PADD1 mthly rpt'!AW8+'PADD2 mthly rpt'!AW8+'PADD3 mthly rpt'!AW8+'PADD4 mthly rpt'!AW8+'PADD5 mthly rpt'!AW8","v":0},{"$f":"'PADD1 mthly rpt'!AX8+'PADD2 mthly rpt'!AX8+'PADD3 mthly rpt'!AX8+'PADD4 mthly rpt'!AX8+'PADD5 mthly rpt'!AX8","v":0},{"$f":"'PADD1 mthly rpt'!AY8+'PADD2 mthly rpt'!AY8+'PADD3 mthly rpt'!AY8+'PADD4 mthly rpt'!AY8+'PADD5 mthly rpt'!AY8","v":0},{"$f":"'PADD1 mthly rpt'!AZ8+'PADD2 mthly rpt'!AZ8+'PADD3 mthly rpt'!AZ8+'PADD4 mthly rpt'!AZ8+'PADD5 mthly rpt'!AZ8","v":0},{"$f":"'PADD1 mthly rpt'!BA8+'PADD2 mthly rpt'!BA8+'PADD3 mthly rpt'!BA8+'PADD4 mthly rpt'!BA8+'PADD5 mthly rpt'!BA8","v":0},{"$f":"'PADD1 mthly rpt'!BB8+'PADD2 mthly rpt'!BB8+'PADD3 mthly rpt'!BB8+'PADD4 mthly rpt'!BB8+'PADD5 mthly rpt'!BB8","v":0},{"$f":"'PADD1 mthly rpt'!BC8+'PADD2 mthly rpt'!BC8+'PADD3 mthly rpt'!BC8+'PADD4 mthly rpt'!BC8+'PADD5 mthly rpt'!BC8","v":0},{"$f":"'PADD1 mthly rpt'!BD8+'PADD2 mthly rpt'!BD8+'PADD3 mthly rpt'!BD8+'PADD4 mthly rpt'!BD8+'PADD5 mthly rpt'!BD8","v":0},{"$f":"'PADD1 mthly rpt'!BE8+'PADD2 mthly rpt'!BE8+'PADD3 mthly rpt'!BE8+'PADD4 mthly rpt'!BE8+'PADD5 mthly rpt'!BE8","v":0},{"$f":"'PADD1 mthly rpt'!BF8+'PADD2 mthly rpt'!BF8+'PADD3 mthly rpt'!BF8+'PADD4 mthly rpt'!BF8+'PADD5 mthly rpt'!BF8","v":0},{"$f":"'PADD1 mthly rpt'!BG8+'PADD2 mthly rpt'!BG8+'PADD3 mthly rpt'!BG8+'PADD4 mthly rpt'!BG8+'PADD5 mthly rpt'!BG8","v":0},{"$f":"'PADD1 mthly rpt'!BH8+'PADD2 mthly rpt'!BH8+'PADD3 mthly rpt'!BH8+'PADD4 mthly rpt'!BH8+'PADD5 mthly rpt'!BH8","v":0},{"$f":"'PADD1 mthly rpt'!BI8+'PADD2 mthly rpt'!BI8+'PADD3 mthly rpt'!BI8+'PADD4 mthly rpt'!BI8+'PADD5 mthly rpt'!BI8","v":0},{"$f":"'PADD1 mthly rpt'!BJ8+'PADD2 mthly rpt'!BJ8+'PADD3 mthly rpt'!BJ8+'PADD4 mthly rpt'!BJ8+'PADD5 mthly rpt'!BJ8","v":0},{"$f":"'PADD1 mthly rpt'!BK8+'PADD2 mthly rpt'!BK8+'PADD3 mthly rpt'!BK8+'PADD4 mthly rpt'!BK8+'PADD5 mthly rpt'!BK8","v":0},{"$f":"'PADD1 mthly rpt'!BL8+'PADD2 mthly rpt'!BL8+'PADD3 mthly rpt'!BL8+'PADD4 mthly rpt'!BL8+'PADD5 mthly rpt'!BL8","v":0},{"$f":"'PADD1 mthly rpt'!BM8+'PADD2 mthly rpt'!BM8+'PADD3 mthly rpt'!BM8+'PADD4 mthly rpt'!BM8+'PADD5 mthly rpt'!BM8","v":0},{"$f":"'PADD1 mthly rpt'!BN8+'PADD2 mthly rpt'!BN8+'PADD3 mthly rpt'!BN8+'PADD4 mthly rpt'!BN8+'PADD5 mthly rpt'!BN8","v":0},{"$f":"'PADD1 mthly rpt'!BO8+'PADD2 mthly rpt'!BO8+'PADD3 mthly rpt'!BO8+'PADD4 mthly rpt'!BO8+'PADD5 mthly rpt'!BO8","v":0},{"$f":"'PADD1 mthly rpt'!BP8+'PADD2 mthly rpt'!BP8+'PADD3 mthly rpt'!BP8+'PADD4 mthly rpt'!BP8+'PADD5 mthly rpt'!BP8","v":0},{"$f":"'PADD1 mthly rpt'!BQ8+'PADD2 mthly rpt'!BQ8+'PADD3 mthly rpt'!BQ8+'PADD4 mthly rpt'!BQ8+'PADD5 mthly rpt'!BQ8","v":0},{"$f":"'PADD1 mthly rpt'!BR8+'PADD2 mthly rpt'!BR8+'PADD3 mthly rpt'!BR8+'PADD4 mthly rpt'!BR8+'PADD5 mthly rpt'!BR8","v":0},{"$f":"'PADD1 mthly rpt'!BS8+'PADD2 mthly rpt'!BS8+'PADD3 mthly rpt'!BS8+'PADD4 mthly rpt'!BS8+'PADD5 mthly rpt'!BS8","v":0},{"$f":"'PADD1 mthly rpt'!BT8+'PADD2 mthly rpt'!BT8+'PADD3 mthly rpt'!BT8+'PADD4 mthly rpt'!BT8+'PADD5 mthly rpt'!BT8","v":0},{"$f":"'PADD1 mthly rpt'!BU8+'PADD2 mthly rpt'!BU8+'PADD3 mthly rpt'!BU8+'PADD4 mthly rpt'!BU8+'PADD5 mthly rpt'!BU8","v":0},{"$f":"'PADD1 mthly rpt'!BV8+'PADD2 mthly rpt'!BV8+'PADD3 mthly rpt'!BV8+'PADD4 mthly rpt'!BV8+'PADD5 mthly rpt'!BV8","v":0},{"$f":"'PADD1 mthly rpt'!BW8+'PADD2 mthly rpt'!BW8+'PADD3 mthly rpt'!BW8+'PADD4 mthly rpt'!BW8+'PADD5 mthly rpt'!BW8","v":0},{"$f":"'PADD1 mthly rpt'!BX8+'PADD2 mthly rpt'!BX8+'PADD3 mthly rpt'!BX8+'PADD4 mthly rpt'!BX8+'PADD5 mthly rpt'!BX8","v":0},{"$f":"'PADD1 mthly rpt'!BY8+'PADD2 mthly rpt'!BY8+'PADD3 mthly rpt'!BY8+'PADD4 mthly rpt'!BY8+'PADD5 mthly rpt'!BY8","v":0},{"$f":"'PADD1 mthly rpt'!BZ8+'PADD2 mthly rpt'!BZ8+'PADD3 mthly rpt'!BZ8+'PADD4 mthly rpt'!BZ8+'PADD5 mthly rpt'!BZ8","v":0},{"$f":"'PADD1 mthly rpt'!CA8+'PADD2 mthly rpt'!CA8+'PADD3 mthly rpt'!CA8+'PADD4 mthly rpt'!CA8+'PADD5 mthly rpt'!CA8","v":0},{"$f":"'PADD1 mthly rpt'!CB8+'PADD2 mthly rpt'!CB8+'PADD3 mthly rpt'!CB8+'PADD4 mthly rpt'!CB8+'PADD5 mthly rpt'!CB8","v":0},{"$f":"'PADD1 mthly rpt'!CC8+'PADD2 mthly rpt'!CC8+'PADD3 mthly rpt'!CC8+'PADD4 mthly rpt'!CC8+'PADD5 mthly rpt'!CC8","v":0},{"$f":"'PADD1 mthly rpt'!CD8+'PADD2 mthly rpt'!CD8+'PADD3 mthly rpt'!CD8+'PADD4 mthly rpt'!CD8+'PADD5 mthly rpt'!CD8","v":0},{"$f":"'PADD1 mthly rpt'!CE8+'PADD2 mthly rpt'!CE8+'PADD3 mthly rpt'!CE8+'PADD4 mthly rpt'!CE8+'PADD5 mthly rpt'!CE8","v":0},{"$f":"'PADD1 mthly rpt'!CF8+'PADD2 mthly rpt'!CF8+'PADD3 mthly rpt'!CF8+'PADD4 mthly rpt'!CF8+'PADD5 mthly rpt'!CF8","v":0},{"$f":"'PADD1 mthly rpt'!CG8+'PADD2 mthly rpt'!CG8+'PADD3 mthly rpt'!CG8+'PADD4 mthly rpt'!CG8+'PADD5 mthly rpt'!CG8","v":0},{"$f":"'PADD1 mthly rpt'!CH8+'PADD2 mthly rpt'!CH8+'PADD3 mthly rpt'!CH8+'PADD4 mthly rpt'!CH8+'PADD5 mthly rpt'!CH8","v":0},{"$f":"'PADD1 mthly rpt'!CI8+'PADD2 mthly rpt'!CI8+'PADD3 mthly rpt'!CI8+'PADD4 mthly rpt'!CI8+'PADD5 mthly rpt'!CI8","v":0},{"$f":"'PADD1 mthly rpt'!CJ8+'PADD2 mthly rpt'!CJ8+'PADD3 mthly rpt'!CJ8+'PADD4 mthly rpt'!CJ8+'PADD5 mthly rpt'!CJ8","v":0},{"$f":"'PADD1 mthly rpt'!CK8+'PADD2 mthly rpt'!CK8+'PADD3 mthly rpt'!CK8+'PADD4 mthly rpt'!CK8+'PADD5 mthly rpt'!CK8","v":0},{"$f":"'PADD1 mthly rpt'!CL8+'PADD2 mthly rpt'!CL8+'PADD3 mthly rpt'!CL8+'PADD4 mthly rpt'!CL8+'PADD5 mthly rpt'!CL8","v":0},{"$f":"'PADD1 mthly rpt'!CM8+'PADD2 mthly rpt'!CM8+'PADD3 mthly rpt'!CM8+'PADD4 mthly rpt'!CM8+'PADD5 mthly rpt'!CM8","v":0},{"$f":"'PADD1 mthly rpt'!CN8+'PADD2 mthly rpt'!CN8+'PADD3 mthly rpt'!CN8+'PADD4 mthly rpt'!CN8+'PADD5 mthly rpt'!CN8","v":0},{"$f":"'PADD1 mthly rpt'!CO8+'PADD2 mthly rpt'!CO8+'PADD3 mthly rpt'!CO8+'PADD4 mthly rpt'!CO8+'PADD5 mthly rpt'!CO8","v":0},{"$f":"'PADD1 mthly rpt'!CP8+'PADD2 mthly rpt'!CP8+'PADD3 mthly rpt'!CP8+'PADD4 mthly rpt'!CP8+'PADD5 mthly rpt'!CP8","v":0},{"$f":"'PADD1 mthly rpt'!CQ8+'PADD2 mthly rpt'!CQ8+'PADD3 mthly rpt'!CQ8+'PADD4 mthly rpt'!CQ8+'PADD5 mthly rpt'!CQ8","v":0},{"$f":"'PADD1 mthly rpt'!CR8+'PADD2 mthly rpt'!CR8+'PADD3 mthly rpt'!CR8+'PADD4 mthly rpt'!CR8+'PADD5 mthly rpt'!CR8","v":0},{"$f":"'PADD1 mthly rpt'!CS8+'PADD2 mthly rpt'!CS8+'PADD3 mthly rpt'!CS8+'PADD4 mthly rpt'!CS8+'PADD5 mthly rpt'!CS8","v":0},{"$f":"'PADD1 mthly rpt'!CT8+'PADD2 mthly rpt'!CT8+'PADD3 mthly rpt'!CT8+'PADD4 mthly rpt'!CT8+'PADD5 mthly rpt'!CT8","v":-1.546140993013978E-11},{"$f":"'PADD1 mthly rpt'!CU8+'PADD2 mthly rpt'!CU8+'PADD3 mthly rpt'!CU8+'PADD4 mthly rpt'!CU8+'PADD5 mthly rpt'!CU8","v":-1.546140993013978E-11},{"$f":"'PADD1 mthly rpt'!CV8+'PADD2 mthly rpt'!CV8+'PADD3 mthly rpt'!CV8+'PADD4 mthly rpt'!CV8+'PADD5 mthly rpt'!CV8","v":-1.546140993013978E-11},{"$f":"'PADD1 mthly rpt'!CW8+'PADD2 mthly rpt'!CW8+'PADD3 mthly rpt'!CW8+'PADD4 mthly rpt'!CW8+'PADD5 mthly rpt'!CW8","v":-1.546140993013978E-11},{"$f":"'PADD1 mthly rpt'!CX8+'PADD2 mthly rpt'!CX8+'PADD3 mthly rpt'!CX8+'PADD4 mthly rpt'!CX8+'PADD5 mthly rpt'!CX8","v":-1.546140993013978E-11},{"$f":"'PADD1 mthly rpt'!CY8+'PADD2 mthly rpt'!CY8+'PADD3 mthly rpt'!CY8+'PADD4 mthly rpt'!CY8+'PADD5 mthly rpt'!CY8","v":-1.546140993013978E-11},{"$f":"'PADD1 mthly rpt'!CZ8+'PADD2 mthly rpt'!CZ8+'PADD3 mthly rpt'!CZ8+'PADD4 mthly rpt'!CZ8+'PADD5 mthly rpt'!CZ8","v":-1.546140993013978E-11},{"$f":"'PADD1 mthly rpt'!DA8+'PADD2 mthly rpt'!DA8+'PADD3 mthly rpt'!DA8+'PADD4 mthly rpt'!DA8+'PADD5 mthly rpt'!DA8","v":-1.546140993013978E-11},{"$f":"'PADD1 mthly rpt'!DB8+'PADD2 mthly rpt'!DB8+'PADD3 mthly rpt'!DB8+'PADD4 mthly rpt'!DB8+'PADD5 mthly rpt'!DB8","v":-1.546140993013978E-11},{"$f":"'PADD1 mthly rpt'!DC8+'PADD2 mthly rpt'!DC8+'PADD3 mthly rpt'!DC8+'PADD4 mthly rpt'!DC8+'PADD5 mthly rpt'!DC8","v":-1.546140993013978E-11},{"$f":"'PADD1 mthly rpt'!DD8+'PADD2 mthly rpt'!DD8+'PADD3 mthly rpt'!DD8+'PADD4 mthly rpt'!DD8+'PADD5 mthly rpt'!DD8","v":-1.546140993013978E-11},{"$f":"'PADD1 mthly rpt'!DE8+'PADD2 mthly rpt'!DE8+'PADD3 mthly rpt'!DE8+'PADD4 mthly rpt'!DE8+'PADD5 mthly rpt'!DE8","v":-1.546140993013978E-11},{"$f":"'PADD1 mthly rpt'!DF8+'PADD2 mthly rpt'!DF8+'PADD3 mthly rpt'!DF8+'PADD4 mthly rpt'!DF8+'PADD5 mthly rpt'!DF8","v":0},{"$f":"'PADD1 mthly rpt'!DG8+'PADD2 mthly rpt'!DG8+'PADD3 mthly rpt'!DG8+'PADD4 mthly rpt'!DG8+'PADD5 mthly rpt'!DG8","v":0},{"$f":"'PADD1 mthly rpt'!DH8+'PADD2 mthly rpt'!DH8+'PADD3 mthly rpt'!DH8+'PADD4 mthly rpt'!DH8+'PADD5 mthly rpt'!DH8","v":0},{"$f":"'PADD1 mthly rpt'!DI8+'PADD2 mthly rpt'!DI8+'PADD3 mthly rpt'!DI8+'PADD4 mthly rpt'!DI8+'PADD5 mthly rpt'!DI8","v":0},{"$f":"'PADD1 mthly rpt'!DJ8+'PADD2 mthly rpt'!DJ8+'PADD3 mthly rpt'!DJ8+'PADD4 mthly rpt'!DJ8+'PADD5 mthly rpt'!DJ8","v":0},{"$f":"'PADD1 mthly rpt'!DK8+'PADD2 mthly rpt'!DK8+'PADD3 mthly rpt'!DK8+'PADD4 mthly rpt'!DK8+'PADD5 mthly rpt'!DK8","v":0},{"$f":"'PADD1 mthly rpt'!DL8+'PADD2 mthly rpt'!DL8+'PADD3 mthly rpt'!DL8+'PADD4 mthly rpt'!DL8+'PADD5 mthly rpt'!DL8","v":0},{"$f":"'PADD1 mthly rpt'!DM8+'PADD2 mthly rpt'!DM8+'PADD3 mthly rpt'!DM8+'PADD4 mthly rpt'!DM8+'PADD5 mthly rpt'!DM8","v":0},{"$f":"'PADD1 mthly rpt'!DN8+'PADD2 mthly rpt'!DN8+'PADD3 mthly rpt'!DN8+'PADD4 mthly rpt'!DN8+'PADD5 mthly rpt'!DN8","v":0},{"$f":"'PADD1 mthly rpt'!DO8+'PADD2 mthly rpt'!DO8+'PADD3 mthly rpt'!DO8+'PADD4 mthly rpt'!DO8+'PADD5 mthly rpt'!DO8","v":0},{"$f":"'PADD1 mthly rpt'!DP8+'PADD2 mthly rpt'!DP8+'PADD3 mthly rpt'!DP8+'PADD4 mthly rpt'!DP8+'PADD5 mthly rpt'!DP8","v":0},{"$f":"'PADD1 mthly rpt'!DQ8+'PADD2 mthly rpt'!DQ8+'PADD3 mthly rpt'!DQ8+'PADD4 mthly rpt'!DQ8+'PADD5 mthly rpt'!DQ8","v":0},{"$f":"'PADD1 mthly rpt'!DR8+'PADD2 mthly rpt'!DR8+'PADD3 mthly rpt'!DR8+'PADD4 mthly rpt'!DR8+'PADD5 mthly rpt'!DR8","v":0},{"$f":"'PADD1 mthly rpt'!DS8+'PADD2 mthly rpt'!DS8+'PADD3 mthly rpt'!DS8+'PADD4 mthly rpt'!DS8+'PADD5 mthly rpt'!DS8","v":0},{"$f":"'PADD1 mthly rpt'!DT8+'PADD2 mthly rpt'!DT8+'PADD3 mthly rpt'!DT8+'PADD4 mthly rpt'!DT8+'PADD5 mthly rpt'!DT8","v":0},{"$f":"'PADD1 mthly rpt'!DU8+'PADD2 mthly rpt'!DU8+'PADD3 mthly rpt'!DU8+'PADD4 mthly rpt'!DU8+'PADD5 mthly rpt'!DU8","v":0},{"$f":"'PADD1 mthly rpt'!DV8+'PADD2 mthly rpt'!DV8+'PADD3 mthly rpt'!DV8+'PADD4 mthly rpt'!DV8+'PADD5 mthly rpt'!DV8","v":0},{"$f":"'PADD1 mthly rpt'!DW8+'PADD2 mthly rpt'!DW8+'PADD3 mthly rpt'!DW8+'PADD4 mthly rpt'!DW8+'PADD5 mthly rpt'!DW8","v":0},{"$f":"'PADD1 mthly rpt'!DX8+'PADD2 mthly rpt'!DX8+'PADD3 mthly rpt'!DX8+'PADD4 mthly rpt'!DX8+'PADD5 mthly rpt'!DX8","v":0},{"$f":"'PADD1 mthly rpt'!DY8+'PADD2 mthly rpt'!DY8+'PADD3 mthly rpt'!DY8+'PADD4 mthly rpt'!DY8+'PADD5 mthly rpt'!DY8","v":0},{"$f":"'PADD1 mthly rpt'!DZ8+'PADD2 mthly rpt'!DZ8+'PADD3 mthly rpt'!DZ8+'PADD4 mthly rpt'!DZ8+'PADD5 mthly rpt'!DZ8","v":0},{"$f":"'PADD1 mthly rpt'!EA8+'PADD2 mthly rpt'!EA8+'PADD3 mthly rpt'!EA8+'PADD4 mthly rpt'!EA8+'PADD5 mthly rpt'!EA8","v":0},{"$f":"'PADD1 mthly rpt'!EB8+'PADD2 mthly rpt'!EB8+'PADD3 mthly rpt'!EB8+'PADD4 mthly rpt'!EB8+'PADD5 mthly rpt'!EB8","v":0},{"$f":"'PADD1 mthly rpt'!EC8+'PADD2 mthly rpt'!EC8+'PADD3 mthly rpt'!EC8+'PADD4 mthly rpt'!EC8+'PADD5 mthly rpt'!EC8","v":0},{"$f":"'PADD1 mthly rpt'!ED8+'PADD2 mthly rpt'!ED8+'PADD3 mthly rpt'!ED8+'PADD4 mthly rpt'!ED8+'PADD5 mthly rpt'!ED8","v":1.4551915228366852E-11},{"$f":"'PADD1 mthly rpt'!EE8+'PADD2 mthly rpt'!EE8+'PADD3 mthly rpt'!EE8+'PADD4 mthly rpt'!EE8+'PADD5 mthly rpt'!EE8","v":1.4551915228366852E-11},{"$f":"'PADD1 mthly rpt'!EF8+'PADD2 mthly rpt'!EF8+'PADD3 mthly rpt'!EF8+'PADD4 mthly rpt'!EF8+'PADD5 mthly rpt'!EF8","v":1.4551915228366852E-11},{"$f":"'PADD1 mthly rpt'!EG8+'PADD2 mthly rpt'!EG8+'PADD3 mthly rpt'!EG8+'PADD4 mthly rpt'!EG8+'PADD5 mthly rpt'!EG8","v":1.4551915228366852E-11},{"$f":"'PADD1 mthly rpt'!EH8+'PADD2 mthly rpt'!EH8+'PADD3 mthly rpt'!EH8+'PADD4 mthly rpt'!EH8+'PADD5 mthly rpt'!EH8","v":1.4551915228366852E-11},{"$f":"'PADD1 mthly rpt'!EI8+'PADD2 mthly rpt'!EI8+'PADD3 mthly rpt'!EI8+'PADD4 mthly rpt'!EI8+'PADD5 mthly rpt'!EI8","v":1.4551915228366852E-11},{"$f":"'PADD1 mthly rpt'!EJ8+'PADD2 mthly rpt'!EJ8+'PADD3 mthly rpt'!EJ8+'PADD4 mthly rpt'!EJ8+'PADD5 mthly rpt'!EJ8","v":1.4551915228366852E-11},{"$f":"'PADD1 mthly rpt'!EK8+'PADD2 mthly rpt'!EK8+'PADD3 mthly rpt'!EK8+'PADD4 mthly rpt'!EK8+'PADD5 mthly rpt'!EK8","v":1.4551915228366852E-11},{"$f":"'PADD1 mthly rpt'!EL8+'PADD2 mthly rpt'!EL8+'PADD3 mthly rpt'!EL8+'PADD4 mthly rpt'!EL8+'PADD5 mthly rpt'!EL8","v":1.4551915228366852E-11},{"$f":"'PADD1 mthly rpt'!EM8+'PADD2 mthly rpt'!EM8+'PADD3 mthly rpt'!EM8+'PADD4 mthly rpt'!EM8+'PADD5 mthly rpt'!EM8","v":1.4551915228366852E-11},{"$f":"'PADD1 mthly rpt'!EN8+'PADD2 mthly rpt'!EN8+'PADD3 mthly rpt'!EN8+'PADD4 mthly rpt'!EN8+'PADD5 mthly rpt'!EN8","v":1.4551915228366852E-11},{"$f":"'PADD1 mthly rpt'!EO8+'PADD2 mthly rpt'!EO8+'PADD3 mthly rpt'!EO8+'PADD4 mthly rpt'!EO8+'PADD5 mthly rpt'!EO8","v":1.4551915228366852E-11},{"$f":"'PADD1 mthly rpt'!EP8+'PADD2 mthly rpt'!EP8+'PADD3 mthly rpt'!EP8+'PADD4 mthly rpt'!EP8+'PADD5 mthly rpt'!EP8","v":3.2741809263825417E-11},{"$f":"'PADD1 mthly rpt'!EQ8+'PADD2 mthly rpt'!EQ8+'PADD3 mthly rpt'!EQ8+'PADD4 mthly rpt'!EQ8+'PADD5 mthly rpt'!EQ8","v":3.2741809263825417E-11},{"$f":"'PADD1 mthly rpt'!ER8+'PADD2 mthly rpt'!ER8+'PADD3 mthly rpt'!ER8+'PADD4 mthly rpt'!ER8+'PADD5 mthly rpt'!ER8","v":3.2741809263825417E-11},{"$f":"'PADD1 mthly rpt'!ES8+'PADD2 mthly rpt'!ES8+'PADD3 mthly rpt'!ES8+'PADD4 mthly rpt'!ES8+'PADD5 mthly rpt'!ES8","v":3.2741809263825417E-11},{"$f":"'PADD1 mthly rpt'!ET8+'PADD2 mthly rpt'!ET8+'PADD3 mthly rpt'!ET8+'PADD4 mthly rpt'!ET8+'PADD5 mthly rpt'!ET8","v":3.2741809263825417E-11},{"$f":"'PADD1 mthly rpt'!EU8+'PADD2 mthly rpt'!EU8+'PADD3 mthly rpt'!EU8+'PADD4 mthly rpt'!EU8+'PADD5 mthly rpt'!EU8","v":3.2741809263825417E-11},{"$f":"'PADD1 mthly rpt'!EV8+'PADD2 mthly rpt'!EV8+'PADD3 mthly rpt'!EV8+'PADD4 mthly rpt'!EV8+'PADD5 mthly rpt'!EV8","v":3.2741809263825417E-11},{"$f":"'PADD1 mthly rpt'!EW8+'PADD2 mthly rpt'!EW8+'PADD3 mthly rpt'!EW8+'PADD4 mthly rpt'!EW8+'PADD5 mthly rpt'!EW8","v":3.2741809263825417E-11},{"$f":"'PADD1 mthly rpt'!EX8+'PADD2 mthly rpt'!EX8+'PADD3 mthly rpt'!EX8+'PADD4 mthly rpt'!EX8+'PADD5 mthly rpt'!EX8","v":3.2741809263825417E-11},{"$f":"'PADD1 mthly rpt'!EY8+'PADD2 mthly rpt'!EY8+'PADD3 mthly rpt'!EY8+'PADD4 mthly rpt'!EY8+'PADD5 mthly rpt'!EY8","v":3.2741809263825417E-11},{"$f":"'PADD1 mthly rpt'!EZ8+'PADD2 mthly rpt'!EZ8+'PADD3 mthly rpt'!EZ8+'PADD4 mthly rpt'!EZ8+'PADD5 mthly rpt'!EZ8","v":3.2741809263825417E-11},{"$f":"'PADD1 mthly rpt'!FA8+'PADD2 mthly rpt'!FA8+'PADD3 mthly rpt'!FA8+'PADD4 mthly rpt'!FA8+'PADD5 mthly rpt'!FA8","v":3.2741809263825417E-11},{"$f":"'PADD1 mthly rpt'!FB8+'PADD2 mthly rpt'!FB8+'PADD3 mthly rpt'!FB8+'PADD4 mthly rpt'!FB8+'PADD5 mthly rpt'!FB8","v":70204.234948901169},{"$f":"'PADD1 mthly rpt'!FC8+'PADD2 mthly rpt'!FC8+'PADD3 mthly rpt'!FC8+'PADD4 mthly rpt'!FC8+'PADD5 mthly rpt'!FC8","v":70204.234948901169},{"$f":"'PADD1 mthly rpt'!FD8+'PADD2 mthly rpt'!FD8+'PADD3 mthly rpt'!FD8+'PADD4 mthly rpt'!FD8+'PADD5 mthly rpt'!FD8","v":70204.234948901169},{"$f":"'PADD1 mthly rpt'!FE8+'PADD2 mthly rpt'!FE8+'PADD3 mthly rpt'!FE8+'PADD4 mthly rpt'!FE8+'PADD5 mthly rpt'!FE8","v":62204.234948901169},{"$f":"'PADD1 mthly rpt'!FF8+'PADD2 mthly rpt'!FF8+'PADD3 mthly rpt'!FF8+'PADD4 mthly rpt'!FF8+'PADD5 mthly rpt'!FF8","v":64204.234948901169},{"$f":"'PADD1 mthly rpt'!FG8+'PADD2 mthly rpt'!FG8+'PADD3 mthly rpt'!FG8+'PADD4 mthly rpt'!FG8+'PADD5 mthly rpt'!FG8","v":66204.234948901169},{"$f":"'PADD1 mthly rpt'!FH8+'PADD2 mthly rpt'!FH8+'PADD3 mthly rpt'!FH8+'PADD4 mthly rpt'!FH8+'PADD5 mthly rpt'!FH8","v":68204.234948901169},{"$f":"'PADD1 mthly rpt'!FI8+'PADD2 mthly rpt'!FI8+'PADD3 mthly rpt'!FI8+'PADD4 mthly rpt'!FI8+'PADD5 mthly rpt'!FI8","v":70204.234948901169},{"$f":"'PADD1 mthly rpt'!FJ8+'PADD2 mthly rpt'!FJ8+'PADD3 mthly rpt'!FJ8+'PADD4 mthly rpt'!FJ8+'PADD5 mthly rpt'!FJ8","v":90204.234948901169},{"$f":"'PADD1 mthly rpt'!FK8+'PADD2 mthly rpt'!FK8+'PADD3 mthly rpt'!FK8+'PADD4 mthly rpt'!FK8+'PADD5 mthly rpt'!FK8","v":92204.234948901169},{"$f":"'PADD1 mthly rpt'!FL8+'PADD2 mthly rpt'!FL8+'PADD3 mthly rpt'!FL8+'PADD4 mthly rpt'!FL8+'PADD5 mthly rpt'!FL8","v":94204.234948901169},{"$f":"'PADD1 mthly rpt'!FM8+'PADD2 mthly rpt'!FM8+'PADD3 mthly rpt'!FM8+'PADD4 mthly rpt'!FM8+'PADD5 mthly rpt'!FM8","v":96204.234948901169},{"$f":"'PADD1 mthly rpt'!FN8+'PADD2 mthly rpt'!FN8+'PADD3 mthly rpt'!FN8+'PADD4 mthly rpt'!FN8+'PADD5 mthly rpt'!FN8","v":34845.396457091105},{"$f":"'PADD1 mthly rpt'!FO8+'PADD2 mthly rpt'!FO8+'PADD3 mthly rpt'!FO8+'PADD4 mthly rpt'!FO8+'PADD5 mthly rpt'!FO8","v":34845.396457091105},{"$f":"'PADD1 mthly rpt'!FP8+'PADD2 mthly rpt'!FP8+'PADD3 mthly rpt'!FP8+'PADD4 mthly rpt'!FP8+'PADD5 mthly rpt'!FP8","v":1.4551915228366852E-11},{"$f":"'PADD1 mthly rpt'!FQ8+'PADD2 mthly rpt'!FQ8+'PADD3 mthly rpt'!FQ8+'PADD4 mthly rpt'!FQ8+'PADD5 mthly rpt'!FQ8","v":1.4551915228366852E-11},{"$f":"'PADD1 mthly rpt'!FR8+'PADD2 mthly rpt'!FR8+'PADD3 mthly rpt'!FR8+'PADD4 mthly rpt'!FR8+'PADD5 mthly rpt'!FR8","v":1.4551915228366852E-11},{"$f":"'PADD1 mthly rpt'!FS8+'PADD2 mthly rpt'!FS8+'PADD3 mthly rpt'!FS8+'PADD4 mthly rpt'!FS8+'PADD5 mthly rpt'!FS8","v":1.4551915228366852E-11},{"$f":"'PADD1 mthly rpt'!FT8+'PADD2 mthly rpt'!FT8+'PADD3 mthly rpt'!FT8+'PADD4 mthly rpt'!FT8+'PADD5 mthly rpt'!FT8","v":1.4551915228366852E-11},{"$f":"'PADD1 mthly rpt'!FU8+'PADD2 mthly rpt'!FU8+'PADD3 mthly rpt'!FU8+'PADD4 mthly rpt'!FU8+'PADD5 mthly rpt'!FU8","v":12000.000000000015},{"$f":"'PADD1 mthly rpt'!FV8+'PADD2 mthly rpt'!FV8+'PADD3 mthly rpt'!FV8+'PADD4 mthly rpt'!FV8+'PADD5 mthly rpt'!FV8","v":39312.911908021066},{"$f":"'PADD1 mthly rpt'!FW8+'PADD2 mthly rpt'!FW8+'PADD3 mthly rpt'!FW8+'PADD4 mthly rpt'!FW8+'PADD5 mthly rpt'!FW8","v":19242.875487087396},{"$f":"'PADD1 mthly rpt'!FX8+'PADD2 mthly rpt'!FX8+'PADD3 mthly rpt'!FX8+'PADD4 mthly rpt'!FX8+'PADD5 mthly rpt'!FX8","v":-220025.29707773082},{"$f":"'PADD1 mthly rpt'!FY8+'PADD2 mthly rpt'!FY8+'PADD3 mthly rpt'!FY8+'PADD4 mthly rpt'!FY8+'PADD5 mthly rpt'!FY8","v":-124727.76441962093},{"$f":"'PADD1 mthly rpt'!FZ8+'PADD2 mthly rpt'!FZ8+'PADD3 mthly rpt'!FZ8+'PADD4 mthly rpt'!FZ8+'PADD5 mthly rpt'!FZ8","v":102032.566923626},{"$f":"'PADD1 mthly rpt'!GA8+'PADD2 mthly rpt'!GA8+'PADD3 mthly rpt'!GA8+'PADD4 mthly rpt'!GA8+'PADD5 mthly rpt'!GA8","v":-414234.83042515529},{"$f":"'PADD1 mthly rpt'!GB8+'PADD2 mthly rpt'!GB8+'PADD3 mthly rpt'!GB8+'PADD4 mthly rpt'!GB8+'PADD5 mthly rpt'!GB8","v":-171547.36457103584},{"$f":"'PADD1 mthly rpt'!GC8+'PADD2 mthly rpt'!GC8+'PADD3 mthly rpt'!GC8+'PADD4 mthly rpt'!GC8+'PADD5 mthly rpt'!GC8","v":-311597.26892350963},{"$f":"'PADD1 mthly rpt'!GD8+'PADD2 mthly rpt'!GD8+'PADD3 mthly rpt'!GD8+'PADD4 mthly rpt'!GD8+'PADD5 mthly rpt'!GD8","v":-54134.339419645985},{"$f":"'PADD1 mthly rpt'!GE8+'PADD2 mthly rpt'!GE8+'PADD3 mthly rpt'!GE8+'PADD4 mthly rpt'!GE8+'PADD5 mthly rpt'!GE8","v":-6485.7103683323076},{"$f":"'PADD1 mthly rpt'!GF8+'PADD2 mthly rpt'!GF8+'PADD3 mthly rpt'!GF8+'PADD4 mthly rpt'!GF8+'PADD5 mthly rpt'!GF8","v":46768.147636678681},{"$f":"'PADD1 mthly rpt'!GG8+'PADD2 mthly rpt'!GG8+'PADD3 mthly rpt'!GG8+'PADD4 mthly rpt'!GG8+'PADD5 mthly rpt'!GG8","v":76314.458007538662},{"$f":"'PADD1 mthly rpt'!GH8+'PADD2 mthly rpt'!GH8+'PADD3 mthly rpt'!GH8+'PADD4 mthly rpt'!GH8+'PADD5 mthly rpt'!GH8","v":-99700.88929589442},{"$f":"'PADD1 mthly rpt'!GI8+'PADD2 mthly rpt'!GI8+'PADD3 mthly rpt'!GI8+'PADD4 mthly rpt'!GI8+'PADD5 mthly rpt'!GI8","v":-29841.796501603647},{"$f":"'PADD1 mthly rpt'!GJ8+'PADD2 mthly rpt'!GJ8+'PADD3 mthly rpt'!GJ8+'PADD4 mthly rpt'!GJ8+'PADD5 mthly rpt'!GJ8","v":55278.243818279123},{"$f":"'PADD1 mthly rpt'!GK8+'PADD2 mthly rpt'!GK8+'PADD3 mthly rpt'!GK8+'PADD4 mthly rpt'!GK8+'PADD5 mthly rpt'!GK8","v":-367071.64903119823},{"$f":"'PADD1 mthly rpt'!GL8+'PADD2 mthly rpt'!GL8+'PADD3 mthly rpt'!GL8+'PADD4 mthly rpt'!GL8+'PADD5 mthly rpt'!GL8","v":-5205.3905281009265},{"$f":"'PADD1 mthly rpt'!GM8+'PADD2 mthly rpt'!GM8+'PADD3 mthly rpt'!GM8+'PADD4 mthly rpt'!GM8+'PADD5 mthly rpt'!GM8","v":-381474.87082697137},{"$f":"'PADD1 mthly rpt'!GN8+'PADD2 mthly rpt'!GN8+'PADD3 mthly rpt'!GN8+'PADD4 mthly rpt'!GN8+'PADD5 mthly rpt'!GN8","v":32732.824826374577},{"$f":"'PADD1 mthly rpt'!GO8+'PADD2 mthly rpt'!GO8+'PADD3 mthly rpt'!GO8+'PADD4 mthly rpt'!GO8+'PADD5 mthly rpt'!GO8","v":188612.74278084503},{"$f":"'PADD1 mthly rpt'!GP8+'PADD2 mthly rpt'!GP8+'PADD3 mthly rpt'!GP8+'PADD4 mthly rpt'!GP8+'PADD5 mthly rpt'!GP8","v":460273.20170329174},{"$f":"'PADD1 mthly rpt'!GQ8+'PADD2 mthly rpt'!GQ8+'PADD3 mthly rpt'!GQ8+'PADD4 mthly rpt'!GQ8+'PADD5 mthly rpt'!GQ8","v":110857.81672509864},{"$f":"'PADD1 mthly rpt'!GR8+'PADD2 mthly rpt'!GR8+'PADD3 mthly rpt'!GR8+'PADD4 mthly rpt'!GR8+'PADD5 mthly rpt'!GR8","v":-139917.95812837913},{"$f":"'PADD1 mthly rpt'!GS8+'PADD2 mthly rpt'!GS8+'PADD3 mthly rpt'!GS8+'PADD4 mthly rpt'!GS8+'PADD5 mthly rpt'!GS8","v":57354.838709677497},{"$f":"'PADD1 mthly rpt'!GT8+'PADD2 mthly rpt'!GT8+'PADD3 mthly rpt'!GT8+'PADD4 mthly rpt'!GT8+'PADD5 mthly rpt'!GT8","v":48100.000000000073},{"$f":"'PADD1 mthly rpt'!GU8+'PADD2 mthly rpt'!GU8+'PADD3 mthly rpt'!GU8+'PADD4 mthly rpt'!GU8+'PADD5 mthly rpt'!GU8","v":98322.580645161288},{"$f":"'PADD1 mthly rpt'!GV8+'PADD2 mthly rpt'!GV8+'PADD3 mthly rpt'!GV8+'PADD4 mthly rpt'!GV8+'PADD5 mthly rpt'!GV8","v":118700.00000000001},{"$f":"'PADD1 mthly rpt'!GW8+'PADD2 mthly rpt'!GW8+'PADD3 mthly rpt'!GW8+'PADD4 mthly rpt'!GW8+'PADD5 mthly rpt'!GW8","v":158677.41935483864},{"$f":"'PADD1 mthly rpt'!GX8+'PADD2 mthly rpt'!GX8+'PADD3 mthly rpt'!GX8+'PADD4 mthly rpt'!GX8+'PADD5 mthly rpt'!GX8","v":120806.45161290327},{"$f":"'PADD1 mthly rpt'!GY8+'PADD2 mthly rpt'!GY8+'PADD3 mthly rpt'!GY8+'PADD4 mthly rpt'!GY8+'PADD5 mthly rpt'!GY8","v":92838.669950738811},{"$f":"'PADD1 mthly rpt'!GZ8+'PADD2 mthly rpt'!GZ8+'PADD3 mthly rpt'!GZ8+'PADD4 mthly rpt'!GZ8+'PADD5 mthly rpt'!GZ8","v":65709.677419354775},{"$f":"'PADD1 mthly rpt'!HA8+'PADD2 mthly rpt'!HA8+'PADD3 mthly rpt'!HA8+'PADD4 mthly rpt'!HA8+'PADD5 mthly rpt'!HA8","v":58700.000000000029},{"$f":"'PADD1 mthly rpt'!HB8+'PADD2 mthly rpt'!HB8+'PADD3 mthly rpt'!HB8+'PADD4 mthly rpt'!HB8+'PADD5 mthly rpt'!HB8","v":92596.774193548365},{"$f":"'PADD1 mthly rpt'!HC8+'PADD2 mthly rpt'!HC8+'PADD3 mthly rpt'!HC8+'PADD4 mthly rpt'!HC8+'PADD5 mthly rpt'!HC8","v":83533.333333333561}]
["Total Stock Change (Primary+Secondary+Tertiary)",{"$f":"'PADD1 mthly rpt'!B9+'PADD2 mthly rpt'!B9+'PADD3 mthly rpt'!B9+'PADD4 mthly rpt'!B9+'PADD5 mthly rpt'!B9","v":266080.49428183655},{"$f":"'PADD1 mthly rpt'!C9+'PADD2 mthly rpt'!C9+'PADD3 mthly rpt'!C9+'PADD4 mthly rpt'!C9+'PADD5 mthly rpt'!C9","v":161433.41471608987},{"$f":"'PADD1 mthly rpt'!D9+'PADD2 mthly rpt'!D9+'PADD3 mthly rpt'!D9+'PADD4 mthly rpt'!D9+'PADD5 mthly rpt'!D9","v":116459.81533760007},{"$f":"'PADD1 mthly rpt'!E9+'PADD2 mthly rpt'!E9+'PADD3 mthly rpt'!E9+'PADD4 mthly rpt'!E9+'PADD5 mthly rpt'!E9","v":-206144.14236079756},{"$f":"'PADD1 mthly rpt'!F9+'PADD2 mthly rpt'!F9+'PADD3 mthly rpt'!F9+'PADD4 mthly rpt'!F9+'PADD5 mthly rpt'!F9","v":-154207.53804186784},{"$f":"'PADD1 mthly rpt'!G9+'PADD2 mthly rpt'!G9+'PADD3 mthly rpt'!G9+'PADD4 mthly rpt'!G9+'PADD5 mthly rpt'!G9","v":-221229.17292883084},{"$f":"'PADD1 mthly rpt'!H9+'PADD2 mthly rpt'!H9+'PADD3 mthly rpt'!H9+'PADD4 mthly rpt'!H9+'PADD5 mthly rpt'!H9","v":-250496.49408051497},{"$f":"'PADD1 mthly rpt'!I9+'PADD2 mthly rpt'!I9+'PADD3 mthly rpt'!I9+'PADD4 mthly rpt'!I9+'PADD5 mthly rpt'!I9","v":-84605.391034070301},{"$f":"'PADD1 mthly rpt'!J9+'PADD2 mthly rpt'!J9+'PADD3 mthly rpt'!J9+'PADD4 mthly rpt'!J9+'PADD5 mthly rpt'!J9","v":5497.0396763995323},{"$f":"'PADD1 mthly rpt'!K9+'PADD2 mthly rpt'!K9+'PADD3 mthly rpt'!K9+'PADD4 mthly rpt'!K9+'PADD5 mthly rpt'!K9","v":-124675.65044408856},{"$f":"'PADD1 mthly rpt'!L9+'PADD2 mthly rpt'!L9+'PADD3 mthly rpt'!L9+'PADD4 mthly rpt'!L9+'PADD5 mthly rpt'!L9","v":23038.757321177218},{"$f":"'PADD1 mthly rpt'!M9+'PADD2 mthly rpt'!M9+'PADD3 mthly rpt'!M9+'PADD4 mthly rpt'!M9+'PADD5 mthly rpt'!M9","v":350397.82130075281},{"$f":"'PADD1 mthly rpt'!N9+'PADD2 mthly rpt'!N9+'PADD3 mthly rpt'!N9+'PADD4 mthly rpt'!N9+'PADD5 mthly rpt'!N9","v":158385.85536039207},{"$f":"'PADD1 mthly rpt'!O9+'PADD2 mthly rpt'!O9+'PADD3 mthly rpt'!O9+'PADD4 mthly rpt'!O9+'PADD5 mthly rpt'!O9","v":323397.15456591127},{"$f":"'PADD1 mthly rpt'!P9+'PADD2 mthly rpt'!P9+'PADD3 mthly rpt'!P9+'PADD4 mthly rpt'!P9+'PADD5 mthly rpt'!P9","v":216054.51046406015},{"$f":"'PADD1 mthly rpt'!Q9+'PADD2 mthly rpt'!Q9+'PADD3 mthly rpt'!Q9+'PADD4 mthly rpt'!Q9+'PADD5 mthly rpt'!Q9","v":-127907.71326168957},{"$f":"'PADD1 mthly rpt'!R9+'PADD2 mthly rpt'!R9+'PADD3 mthly rpt'!R9+'PADD4 mthly rpt'!R9+'PADD5 mthly rpt'!R9","v":-78365.531567152895},{"$f":"'PADD1 mthly rpt'!S9+'PADD2 mthly rpt'!S9+'PADD3 mthly rpt'!S9+'PADD4 mthly rpt'!S9+'PADD5 mthly rpt'!S9","v":-175168.68412969616},{"$f":"'PADD1 mthly rpt'!T9+'PADD2 mthly rpt'!T9+'PADD3 mthly rpt'!T9+'PADD4 mthly rpt'!T9+'PADD5 mthly rpt'!T9","v":-206448.24052199145},{"$f":"'PADD1 mthly rpt'!U9+'PADD2 mthly rpt'!U9+'PADD3 mthly rpt'!U9+'PADD4 mthly rpt'!U9+'PADD5 mthly rpt'!U9","v":-215774.8162944701},{"$f":"'PADD1 mthly rpt'!V9+'PADD2 mthly rpt'!V9+'PADD3 mthly rpt'!V9+'PADD4 mthly rpt'!V9+'PADD5 mthly rpt'!V9","v":-169524.2786200617},{"$f":"'PADD1 mthly rpt'!W9+'PADD2 mthly rpt'!W9+'PADD3 mthly rpt'!W9+'PADD4 mthly rpt'!W9+'PADD5 mthly rpt'!W9","v":-15023.710479456649},{"$f":"'PADD1 mthly rpt'!X9+'PADD2 mthly rpt'!X9+'PADD3 mthly rpt'!X9+'PADD4 mthly rpt'!X9+'PADD5 mthly rpt'!X9","v":53513.823694258164},{"$f":"'PADD1 mthly rpt'!Y9+'PADD2 mthly rpt'!Y9+'PADD3 mthly rpt'!Y9+'PADD4 mthly rpt'!Y9+'PADD5 mthly rpt'!Y9","v":139805.46666135386},{"$f":"'PADD1 mthly rpt'!Z9+'PADD2 mthly rpt'!Z9+'PADD3 mthly rpt'!Z9+'PADD4 mthly rpt'!Z9+'PADD5 mthly rpt'!Z9","v":408320.78245714423},{"$f":"'PADD1 mthly rpt'!AA9+'PADD2 mthly rpt'!AA9+'PADD3 mthly rpt'!AA9+'PADD4 mthly rpt'!AA9+'PADD5 mthly rpt'!AA9","v":475059.54587914358},{"$f":"'PADD1 mthly rpt'!AB9+'PADD2 mthly rpt'!AB9+'PADD3 mthly rpt'!AB9+'PADD4 mthly rpt'!AB9+'PADD5 mthly rpt'!AB9","v":76379.036276142389},{"$f":"'PADD1 mthly rpt'!AC9+'PADD2 mthly rpt'!AC9+'PADD3 mthly rpt'!AC9+'PADD4 mthly rpt'!AC9+'PADD5 mthly rpt'!AC9","v":-6076.5109011915756},{"$f":"'PADD1 mthly rpt'!AD9+'PADD2 mthly rpt'!AD9+'PADD3 mthly rpt'!AD9+'PADD4 mthly rpt'!AD9+'PADD5 mthly rpt'!AD9","v":-111031.52528814382},{"$f":"'PADD1 mthly rpt'!AE9+'PADD2 mthly rpt'!AE9+'PADD3 mthly rpt'!AE9+'PADD4 mthly rpt'!AE9+'PADD5 mthly rpt'!AE9","v":-113035.43404888813},{"$f":"'PADD1 mthly rpt'!AF9+'PADD2 mthly rpt'!AF9+'PADD3 mthly rpt'!AF9+'PADD4 mthly rpt'!AF9+'PADD5 mthly rpt'!AF9","v":-24760.105241762583},{"$f":"'PADD1 mthly rpt'!AG9+'PADD2 mthly rpt'!AG9+'PADD3 mthly rpt'!AG9+'PADD4 mthly rpt'!AG9+'PADD5 mthly rpt'!AG9","v":19648.894673672432},{"$f":"'PADD1 mthly rpt'!AH9+'PADD2 mthly rpt'!AH9+'PADD3 mthly rpt'!AH9+'PADD4 mthly rpt'!AH9+'PADD5 mthly rpt'!AH9","v":-15497.328124272073},{"$f":"'PADD1 mthly rpt'!AI9+'PADD2 mthly rpt'!AI9+'PADD3 mthly rpt'!AI9+'PADD4 mthly rpt'!AI9+'PADD5 mthly rpt'!AI9","v":35110.151455531151},{"$f":"'PADD1 mthly rpt'!AJ9+'PADD2 mthly rpt'!AJ9+'PADD3 mthly rpt'!AJ9+'PADD4 mthly rpt'!AJ9+'PADD5 mthly rpt'!AJ9","v":183491.02262319095},{"$f":"'PADD1 mthly rpt'!AK9+'PADD2 mthly rpt'!AK9+'PADD3 mthly rpt'!AK9+'PADD4 mthly rpt'!AK9+'PADD5 mthly rpt'!AK9","v":216375.65628121907},{"$f":"'PADD1 mthly rpt'!AL9+'PADD2 mthly rpt'!AL9+'PADD3 mthly rpt'!AL9+'PADD4 mthly rpt'!AL9+'PADD5 mthly rpt'!AL9","v":263584.18717085791},{"$f":"'PADD1 mthly rpt'!AM9+'PADD2 mthly rpt'!AM9+'PADD3 mthly rpt'!AM9+'PADD4 mthly rpt'!AM9+'PADD5 mthly rpt'!AM9","v":248612.20311594789},{"$f":"'PADD1 mthly rpt'!AN9+'PADD2 mthly rpt'!AN9+'PADD3 mthly rpt'!AN9+'PADD4 mthly rpt'!AN9+'PADD5 mthly rpt'!AN9","v":54002.031104174181},{"$f":"'PADD1 mthly rpt'!AO9+'PADD2 mthly rpt'!AO9+'PADD3 mthly rpt'!AO9+'PADD4 mthly rpt'!AO9+'PADD5 mthly rpt'!AO9","v":-25248.756264041789},{"$f":"'PADD1 mthly rpt'!AP9+'PADD2 mthly rpt'!AP9+'PADD3 mthly rpt'!AP9+'PADD4 mthly rpt'!AP9+'PADD5 mthly rpt'!AP9","v":-154720.13825394065},{"$f":"'PADD1 mthly rpt'!AQ9+'PADD2 mthly rpt'!AQ9+'PADD3 mthly rpt'!AQ9+'PADD4 mthly rpt'!AQ9+'PADD5 mthly rpt'!AQ9","v":-51997.272581177967},{"$f":"'PADD1 mthly rpt'!AR9+'PADD2 mthly rpt'!AR9+'PADD3 mthly rpt'!AR9+'PADD4 mthly rpt'!AR9+'PADD5 mthly rpt'!AR9","v":-98005.907629717403},{"$f":"'PADD1 mthly rpt'!AS9+'PADD2 mthly rpt'!AS9+'PADD3 mthly rpt'!AS9+'PADD4 mthly rpt'!AS9+'PADD5 mthly rpt'!AS9","v":-142973.07312557063},{"$f":"'PADD1 mthly rpt'!AT9+'PADD2 mthly rpt'!AT9+'PADD3 mthly rpt'!AT9+'PADD4 mthly rpt'!AT9+'PADD5 mthly rpt'!AT9","v":-128020.28029997124},{"$f":"'PADD1 mthly rpt'!AU9+'PADD2 mthly rpt'!AU9+'PADD3 mthly rpt'!AU9+'PADD4 mthly rpt'!AU9+'PADD5 mthly rpt'!AU9","v":-2799.4971261921755},{"$f":"'PADD1 mthly rpt'!AV9+'PADD2 mthly rpt'!AV9+'PADD3 mthly rpt'!AV9+'PADD4 mthly rpt'!AV9+'PADD5 mthly rpt'!AV9","v":-79616.954693787513},{"$f":"'PADD1 mthly rpt'!AW9+'PADD2 mthly rpt'!AW9+'PADD3 mthly rpt'!AW9+'PADD4 mthly rpt'!AW9+'PADD5 mthly rpt'!AW9","v":-39134.226368819742},{"$f":"'PADD1 mthly rpt'!AX9+'PADD2 mthly rpt'!AX9+'PADD3 mthly rpt'!AX9+'PADD4 mthly rpt'!AX9+'PADD5 mthly rpt'!AX9","v":154390.24893991894},{"$f":"'PADD1 mthly rpt'!AY9+'PADD2 mthly rpt'!AY9+'PADD3 mthly rpt'!AY9+'PADD4 mthly rpt'!AY9+'PADD5 mthly rpt'!AY9","v":56403.152767108739},{"$f":"'PADD1 mthly rpt'!AZ9+'PADD2 mthly rpt'!AZ9+'PADD3 mthly rpt'!AZ9+'PADD4 mthly rpt'!AZ9+'PADD5 mthly rpt'!AZ9","v":-55844.450040147305},{"$f":"'PADD1 mthly rpt'!BA9+'PADD2 mthly rpt'!BA9+'PADD3 mthly rpt'!BA9+'PADD4 mthly rpt'!BA9+'PADD5 mthly rpt'!BA9","v":-136773.51426511884},{"$f":"'PADD1 mthly rpt'!BB9+'PADD2 mthly rpt'!BB9+'PADD3 mthly rpt'!BB9+'PADD4 mthly rpt'!BB9+'PADD5 mthly rpt'!BB9","v":-228713.23567400122},{"$f":"'PADD1 mthly rpt'!BC9+'PADD2 mthly rpt'!BC9+'PADD3 mthly rpt'!BC9+'PADD4 mthly rpt'!BC9+'PADD5 mthly rpt'!BC9","v":-133356.89021238266},{"$f":"'PADD1 mthly rpt'!BD9+'PADD2 mthly rpt'!BD9+'PADD3 mthly rpt'!BD9+'PADD4 mthly rpt'!BD9+'PADD5 mthly rpt'!BD9","v":-129380.4590178903},{"$f":"'PADD1 mthly rpt'!BE9+'PADD2 mthly rpt'!BE9+'PADD3 mthly rpt'!BE9+'PADD4 mthly rpt'!BE9+'PADD5 mthly rpt'!BE9","v":53724.308181245964},{"$f":"'PADD1 mthly rpt'!BF9+'PADD2 mthly rpt'!BF9+'PADD3 mthly rpt'!BF9+'PADD4 mthly rpt'!BF9+'PADD5 mthly rpt'!BF9","v":-31434.350283824737},{"$f":"'PADD1 mthly rpt'!BG9+'PADD2 mthly rpt'!BG9+'PADD3 mthly rpt'!BG9+'PADD4 mthly rpt'!BG9+'PADD5 mthly rpt'!BG9","v":118738.12910941083},{"$f":"'PADD1 mthly rpt'!BH9+'PADD2 mthly rpt'!BH9+'PADD3 mthly rpt'!BH9+'PADD4 mthly rpt'!BH9+'PADD5 mthly rpt'!BH9","v":173574.34983315784},{"$f":"'PADD1 mthly rpt'!BI9+'PADD2 mthly rpt'!BI9+'PADD3 mthly rpt'!BI9+'PADD4 mthly rpt'!BI9+'PADD5 mthly rpt'!BI9","v":242674.81962593476},{"$f":"'PADD1 mthly rpt'!BJ9+'PADD2 mthly rpt'!BJ9+'PADD3 mthly rpt'!BJ9+'PADD4 mthly rpt'!BJ9+'PADD5 mthly rpt'!BJ9","v":313062.57668276824},{"$f":"'PADD1 mthly rpt'!BK9+'PADD2 mthly rpt'!BK9+'PADD3 mthly rpt'!BK9+'PADD4 mthly rpt'!BK9+'PADD5 mthly rpt'!BK9","v":158625.42952317322},{"$f":"'PADD1 mthly rpt'!BL9+'PADD2 mthly rpt'!BL9+'PADD3 mthly rpt'!BL9+'PADD4 mthly rpt'!BL9+'PADD5 mthly rpt'!BL9","v":-37077.075689466794},{"$f":"'PADD1 mthly rpt'!BM9+'PADD2 mthly rpt'!BM9+'PADD3 mthly rpt'!BM9+'PADD4 mthly rpt'!BM9+'PADD5 mthly rpt'!BM9","v":-148162.35035108295},{"$f":"'PADD1 mthly rpt'!BN9+'PADD2 mthly rpt'!BN9+'PADD3 mthly rpt'!BN9+'PADD4 mthly rpt'!BN9+'PADD5 mthly rpt'!BN9","v":-149040.65938427468},{"$f":"'PADD1 mthly rpt'!BO9+'PADD2 mthly rpt'!BO9+'PADD3 mthly rpt'!BO9+'PADD4 mthly rpt'!BO9+'PADD5 mthly rpt'!BO9","v":-108181.44614106392},{"$f":"'PADD1 mthly rpt'!BP9+'PADD2 mthly rpt'!BP9+'PADD3 mthly rpt'!BP9+'PADD4 mthly rpt'!BP9+'PADD5 mthly rpt'!BP9","v":-61729.31138365357},{"$f":"'PADD1 mthly rpt'!BQ9+'PADD2 mthly rpt'!BQ9+'PADD3 mthly rpt'!BQ9+'PADD4 mthly rpt'!BQ9+'PADD5 mthly rpt'!BQ9","v":-49690.087303564651},{"$f":"'PADD1 mthly rpt'!BR9+'PADD2 mthly rpt'!BR9+'PADD3 mthly rpt'!BR9+'PADD4 mthly rpt'!BR9+'PADD5 mthly rpt'!BR9","v":12159.279037799772},{"$f":"'PADD1 mthly rpt'!BS9+'PADD2 mthly rpt'!BS9+'PADD3 mthly rpt'!BS9+'PADD4 mthly rpt'!BS9+'PADD5 mthly rpt'!BS9","v":-10469.6298695},{"$f":"'PADD1 mthly rpt'!BT9+'PADD2 mthly rpt'!BT9+'PADD3 mthly rpt'!BT9+'PADD4 mthly rpt'!BT9+'PADD5 mthly rpt'!BT9","v":26758.759802327637},{"$f":"'PADD1 mthly rpt'!BU9+'PADD2 mthly rpt'!BU9+'PADD3 mthly rpt'!BU9+'PADD4 mthly rpt'!BU9+'PADD5 mthly rpt'!BU9","v":292083.63444023329},{"$f":"'PADD1 mthly rpt'!BV9+'PADD2 mthly rpt'!BV9+'PADD3 mthly rpt'!BV9+'PADD4 mthly rpt'!BV9+'PADD5 mthly rpt'!BV9","v":317452.04180682707},{"$f":"'PADD1 mthly rpt'!BW9+'PADD2 mthly rpt'!BW9+'PADD3 mthly rpt'!BW9+'PADD4 mthly rpt'!BW9+'PADD5 mthly rpt'!BW9","v":322533.49063696101},{"$f":"'PADD1 mthly rpt'!BX9+'PADD2 mthly rpt'!BX9+'PADD3 mthly rpt'!BX9+'PADD4 mthly rpt'!BX9+'PADD5 mthly rpt'!BX9","v":159038.36716775014},{"$f":"'PADD1 mthly rpt'!BY9+'PADD2 mthly rpt'!BY9+'PADD3 mthly rpt'!BY9+'PADD4 mthly rpt'!BY9+'PADD5 mthly rpt'!BY9","v":9307.8542008395689},{"$f":"'PADD1 mthly rpt'!BZ9+'PADD2 mthly rpt'!BZ9+'PADD3 mthly rpt'!BZ9+'PADD4 mthly rpt'!BZ9+'PADD5 mthly rpt'!BZ9","v":-73077.569936510234},{"$f":"'PADD1 mthly rpt'!CA9+'PADD2 mthly rpt'!CA9+'PADD3 mthly rpt'!CA9+'PADD4 mthly rpt'!CA9+'PADD5 mthly rpt'!CA9","v":-73618.177286765364},{"$f":"'PADD1 mthly rpt'!CB9+'PADD2 mthly rpt'!CB9+'PADD3 mthly rpt'!CB9+'PADD4 mthly rpt'!CB9+'PADD5 mthly rpt'!CB9","v":-162441.74852817325},{"$f":"'PADD1 mthly rpt'!CC9+'PADD2 mthly rpt'!CC9+'PADD3 mthly rpt'!CC9+'PADD4 mthly rpt'!CC9+'PADD5 mthly rpt'!CC9","v":-124890.65476504725},{"$f":"'PADD1 mthly rpt'!CD9+'PADD2 mthly rpt'!CD9+'PADD3 mthly rpt'!CD9+'PADD4 mthly rpt'!CD9+'PADD5 mthly rpt'!CD9","v":-70039.396818461857},{"$f":"'PADD1 mthly rpt'!CE9+'PADD2 mthly rpt'!CE9+'PADD3 mthly rpt'!CE9+'PADD4 mthly rpt'!CE9+'PADD5 mthly rpt'!CE9","v":-105388.38103940579},{"$f":"'PADD1 mthly rpt'!CF9+'PADD2 mthly rpt'!CF9+'PADD3 mthly rpt'!CF9+'PADD4 mthly rpt'!CF9+'PADD5 mthly rpt'!CF9","v":22170.232950138441},{"$f":"'PADD1 mthly rpt'!CG9+'PADD2 mthly rpt'!CG9+'PADD3 mthly rpt'!CG9+'PADD4 mthly rpt'!CG9+'PADD5 mthly rpt'!CG9","v":69053.045969618164},{"$f":"'PADD1 mthly rpt'!CH9+'PADD2 mthly rpt'!CH9+'PADD3 mthly rpt'!CH9+'PADD4 mthly rpt'!CH9+'PADD5 mthly rpt'!CH9","v":121454.04146861433},{"$f":"'PADD1 mthly rpt'!CI9+'PADD2 mthly rpt'!CI9+'PADD3 mthly rpt'!CI9+'PADD4 mthly rpt'!CI9+'PADD5 mthly rpt'!CI9","v":76802.992382703858},{"$f":"'PADD1 mthly rpt'!CJ9+'PADD2 mthly rpt'!CJ9+'PADD3 mthly rpt'!CJ9+'PADD4 mthly rpt'!CJ9+'PADD5 mthly rpt'!CJ9","v":-83533.032950402092},{"$f":"'PADD1 mthly rpt'!CK9+'PADD2 mthly rpt'!CK9+'PADD3 mthly rpt'!CK9+'PADD4 mthly rpt'!CK9+'PADD5 mthly rpt'!CK9","v":-167285.45810192154},{"$f":"'PADD1 mthly rpt'!CL9+'PADD2 mthly rpt'!CL9+'PADD3 mthly rpt'!CL9+'PADD4 mthly rpt'!CL9+'PADD5 mthly rpt'!CL9","v":-231541.64343592257},{"$f":"'PADD1 mthly rpt'!CM9+'PADD2 mthly rpt'!CM9+'PADD3 mthly rpt'!CM9+'PADD4 mthly rpt'!CM9+'PADD5 mthly rpt'!CM9","v":-187497.30456489223},{"$f":"'PADD1 mthly rpt'!CN9+'PADD2 mthly rpt'!CN9+'PADD3 mthly rpt'!CN9+'PADD4 mthly rpt'!CN9+'PADD5 mthly rpt'!CN9","v":-163911.71698431324},{"$f":"'PADD1 mthly rpt'!CO9+'PADD2 mthly rpt'!CO9+'PADD3 mthly rpt'!CO9+'PADD4 mthly rpt'!CO9+'PADD5 mthly rpt'!CO9","v":-100192.43053820354},{"$f":"'PADD1 mthly rpt'!CP9+'PADD2 mthly rpt'!CP9+'PADD3 mthly rpt'!CP9+'PADD4 mthly rpt'!CP9+'PADD5 mthly rpt'!CP9","v":-113712.42381583901},{"$f":"'PADD1 mthly rpt'!CQ9+'PADD2 mthly rpt'!CQ9+'PADD3 mthly rpt'!CQ9+'PADD4 mthly rpt'!CQ9+'PADD5 mthly rpt'!CQ9","v":-51936.545302720093},{"$f":"'PADD1 mthly rpt'!CR9+'PADD2 mthly rpt'!CR9+'PADD3 mthly rpt'!CR9+'PADD4 mthly rpt'!CR9+'PADD5 mthly rpt'!CR9","v":11091.037175671168},{"$f":"'PADD1 mthly rpt'!CS9+'PADD2 mthly rpt'!CS9+'PADD3 mthly rpt'!CS9+'PADD4 mthly rpt'!CS9+'PADD5 mthly rpt'!CS9","v":109238.08509424256},{"$f":"'PADD1 mthly rpt'!CT9+'PADD2 mthly rpt'!CT9+'PADD3 mthly rpt'!CT9+'PADD4 mthly rpt'!CT9+'PADD5 mthly rpt'!CT9","v":262311.02516920678},{"$f":"'PADD1 mthly rpt'!CU9+'PADD2 mthly rpt'!CU9+'PADD3 mthly rpt'!CU9+'PADD4 mthly rpt'!CU9+'PADD5 mthly rpt'!CU9","v":155600.55610047103},{"$f":"'PADD1 mthly rpt'!CV9+'PADD2 mthly rpt'!CV9+'PADD3 mthly rpt'!CV9+'PADD4 mthly rpt'!CV9+'PADD5 mthly rpt'!CV9","v":98057.466424538463},{"$f":"'PADD1 mthly rpt'!CW9+'PADD2 mthly rpt'!CW9+'PADD3 mthly rpt'!CW9+'PADD4 mthly rpt'!CW9+'PADD5 mthly rpt'!CW9","v":-102647.32186554665},{"$f":"'PADD1 mthly rpt'!CX9+'PADD2 mthly rpt'!CX9+'PADD3 mthly rpt'!CX9+'PADD4 mthly rpt'!CX9+'PADD5 mthly rpt'!CX9","v":-143788.51648936968},{"$f":"'PADD1 mthly rpt'!CY9+'PADD2 mthly rpt'!CY9+'PADD3 mthly rpt'!CY9+'PADD4 mthly rpt'!CY9+'PADD5 mthly rpt'!CY9","v":-179283.16426009446},{"$f":"'PADD1 mthly rpt'!CZ9+'PADD2 mthly rpt'!CZ9+'PADD3 mthly rpt'!CZ9+'PADD4 mthly rpt'!CZ9+'PADD5 mthly rpt'!CZ9","v":-98602.05875586874},{"$f":"'PADD1 mthly rpt'!DA9+'PADD2 mthly rpt'!DA9+'PADD3 mthly rpt'!DA9+'PADD4 mthly rpt'!DA9+'PADD5 mthly rpt'!DA9","v":-135778.24801404806},{"$f":"'PADD1 mthly rpt'!DB9+'PADD2 mthly rpt'!DB9+'PADD3 mthly rpt'!DB9+'PADD4 mthly rpt'!DB9+'PADD5 mthly rpt'!DB9","v":-66991.710273137651},{"$f":"'PADD1 mthly rpt'!DC9+'PADD2 mthly rpt'!DC9+'PADD3 mthly rpt'!DC9+'PADD4 mthly rpt'!DC9+'PADD5 mthly rpt'!DC9","v":129866.96800218559},{"$f":"'PADD1 mthly rpt'!DD9+'PADD2 mthly rpt'!DD9+'PADD3 mthly rpt'!DD9+'PADD4 mthly rpt'!DD9+'PADD5 mthly rpt'!DD9","v":191454.14389063948},{"$f":"'PADD1 mthly rpt'!DE9+'PADD2 mthly rpt'!DE9+'PADD3 mthly rpt'!DE9+'PADD4 mthly rpt'!DE9+'PADD5 mthly rpt'!DE9","v":254748.38195491215},{"$f":"'PADD1 mthly rpt'!DF9+'PADD2 mthly rpt'!DF9+'PADD3 mthly rpt'!DF9+'PADD4 mthly rpt'!DF9+'PADD5 mthly rpt'!DF9","v":218457.16524809902},{"$f":"'PADD1 mthly rpt'!DG9+'PADD2 mthly rpt'!DG9+'PADD3 mthly rpt'!DG9+'PADD4 mthly rpt'!DG9+'PADD5 mthly rpt'!DG9","v":81549.494913467017},{"$f":"'PADD1 mthly rpt'!DH9+'PADD2 mthly rpt'!DH9+'PADD3 mthly rpt'!DH9+'PADD4 mthly rpt'!DH9+'PADD5 mthly rpt'!DH9","v":-58912.648916107602},{"$f":"'PADD1 mthly rpt'!DI9+'PADD2 mthly rpt'!DI9+'PADD3 mthly rpt'!DI9+'PADD4 mthly rpt'!DI9+'PADD5 mthly rpt'!DI9","v":-163741.13541170442},{"$f":"'PADD1 mthly rpt'!DJ9+'PADD2 mthly rpt'!DJ9+'PADD3 mthly rpt'!DJ9+'PADD4 mthly rpt'!DJ9+'PADD5 mthly rpt'!DJ9","v":-183317.14740185684},{"$f":"'PADD1 mthly rpt'!DK9+'PADD2 mthly rpt'!DK9+'PADD3 mthly rpt'!DK9+'PADD4 mthly rpt'!DK9+'PADD5 mthly rpt'!DK9","v":-283617.52706894028},{"$f":"'PADD1 mthly rpt'!DL9+'PADD2 mthly rpt'!DL9+'PADD3 mthly rpt'!DL9+'PADD4 mthly rpt'!DL9+'PADD5 mthly rpt'!DL9","v":-218862.69798012121},{"$f":"'PADD1 mthly rpt'!DM9+'PADD2 mthly rpt'!DM9+'PADD3 mthly rpt'!DM9+'PADD4 mthly rpt'!DM9+'PADD5 mthly rpt'!DM9","v":-282811.51663838344},{"$f":"'PADD1 mthly rpt'!DN9+'PADD2 mthly rpt'!DN9+'PADD3 mthly rpt'!DN9+'PADD4 mthly rpt'!DN9+'PADD5 mthly rpt'!DN9","v":-141890.74378023116},{"$f":"'PADD1 mthly rpt'!DO9+'PADD2 mthly rpt'!DO9+'PADD3 mthly rpt'!DO9+'PADD4 mthly rpt'!DO9+'PADD5 mthly rpt'!DO9","v":38444.872334664091},{"$f":"'PADD1 mthly rpt'!DP9+'PADD2 mthly rpt'!DP9+'PADD3 mthly rpt'!DP9+'PADD4 mthly rpt'!DP9+'PADD5 mthly rpt'!DP9","v":-40533.018369946258},{"$f":"'PADD1 mthly rpt'!DQ9+'PADD2 mthly rpt'!DQ9+'PADD3 mthly rpt'!DQ9+'PADD4 mthly rpt'!DQ9+'PADD5 mthly rpt'!DQ9","v":123821.36379594571},{"$f":"'PADD1 mthly rpt'!DR9+'PADD2 mthly rpt'!DR9+'PADD3 mthly rpt'!DR9+'PADD4 mthly rpt'!DR9+'PADD5 mthly rpt'!DR9","v":204661.37245897297},{"$f":"'PADD1 mthly rpt'!DS9+'PADD2 mthly rpt'!DS9+'PADD3 mthly rpt'!DS9+'PADD4 mthly rpt'!DS9+'PADD5 mthly rpt'!DS9","v":281201.88644200307},{"$f":"'PADD1 mthly rpt'!DT9+'PADD2 mthly rpt'!DT9+'PADD3 mthly rpt'!DT9+'PADD4 mthly rpt'!DT9+'PADD5 mthly rpt'!DT9","v":-102788.24999052277},{"$f":"'PADD1 mthly rpt'!DU9+'PADD2 mthly rpt'!DU9+'PADD3 mthly rpt'!DU9+'PADD4 mthly rpt'!DU9+'PADD5 mthly rpt'!DU9","v":-140352.80921566489},{"$f":"'PADD1 mthly rpt'!DV9+'PADD2 mthly rpt'!DV9+'PADD3 mthly rpt'!DV9+'PADD4 mthly rpt'!DV9+'PADD5 mthly rpt'!DV9","v":-170704.64052479094},{"$f":"'PADD1 mthly rpt'!DW9+'PADD2 mthly rpt'!DW9+'PADD3 mthly rpt'!DW9+'PADD4 mthly rpt'!DW9+'PADD5 mthly rpt'!DW9","v":-177689.0581086842},{"$f":"'PADD1 mthly rpt'!DX9+'PADD2 mthly rpt'!DX9+'PADD3 mthly rpt'!DX9+'PADD4 mthly rpt'!DX9+'PADD5 mthly rpt'!DX9","v":-252485.58837749623},{"$f":"'PADD1 mthly rpt'!DY9+'PADD2 mthly rpt'!DY9+'PADD3 mthly rpt'!DY9+'PADD4 mthly rpt'!DY9+'PADD5 mthly rpt'!DY9","v":-232166.67407394765},{"$f":"'PADD1 mthly rpt'!DZ9+'PADD2 mthly rpt'!DZ9+'PADD3 mthly rpt'!DZ9+'PADD4 mthly rpt'!DZ9+'PADD5 mthly rpt'!DZ9","v":-16077.308560589643},{"$f":"'PADD1 mthly rpt'!EA9+'PADD2 mthly rpt'!EA9+'PADD3 mthly rpt'!EA9+'PADD4 mthly rpt'!EA9+'PADD5 mthly rpt'!EA9","v":-125142.74758013996},{"$f":"'PADD1 mthly rpt'!EB9+'PADD2 mthly rpt'!EB9+'PADD3 mthly rpt'!EB9+'PADD4 mthly rpt'!EB9+'PADD5 mthly rpt'!EB9","v":24429.849730169604},{"$f":"'PADD1 mthly rpt'!EC9+'PADD2 mthly rpt'!EC9+'PADD3 mthly rpt'!EC9+'PADD4 mthly rpt'!EC9+'PADD5 mthly rpt'!EC9","v":233155.94648774329},{"$f":"'PADD1 mthly rpt'!ED9+'PADD2 mthly rpt'!ED9+'PADD3 mthly rpt'!ED9+'PADD4 mthly rpt'!ED9+'PADD5 mthly rpt'!ED9","v":433807.11591024877},{"$f":"'PADD1 mthly rpt'!EE9+'PADD2 mthly rpt'!EE9+'PADD3 mthly rpt'!EE9+'PADD4 mthly rpt'!EE9+'PADD5 mthly rpt'!EE9","v":344954.67014187772},{"$f":"'PADD1 mthly rpt'!EF9+'PADD2 mthly rpt'!EF9+'PADD3 mthly rpt'!EF9+'PADD4 mthly rpt'!EF9+'PADD5 mthly rpt'!EF9","v":-86050.25047672748},{"$f":"'PADD1 mthly rpt'!EG9+'PADD2 mthly rpt'!EG9+'PADD3 mthly rpt'!EG9+'PADD4 mthly rpt'!EG9+'PADD5 mthly rpt'!EG9","v":-198952.21113418261},{"$f":"'PADD1 mthly rpt'!EH9+'PADD2 mthly rpt'!EH9+'PADD3 mthly rpt'!EH9+'PADD4 mthly rpt'!EH9+'PADD5 mthly rpt'!EH9","v":-93436.076168039843},{"$f":"'PADD1 mthly rpt'!EI9+'PADD2 mthly rpt'!EI9+'PADD3 mthly rpt'!EI9+'PADD4 mthly rpt'!EI9+'PADD5 mthly rpt'!EI9","v":-202097.17917137663},{"$f":"'PADD1 mthly rpt'!EJ9+'PADD2 mthly rpt'!EJ9+'PADD3 mthly rpt'!EJ9+'PADD4 mthly rpt'!EJ9+'PADD5 mthly rpt'!EJ9","v":-128000.65299593114},{"$f":"'PADD1 mthly rpt'!EK9+'PADD2 mthly rpt'!EK9+'PADD3 mthly rpt'!EK9+'PADD4 mthly rpt'!EK9+'PADD5 mthly rpt'!EK9","v":-71346.678991313122},{"$f":"'PADD1 mthly rpt'!EL9+'PADD2 mthly rpt'!EL9+'PADD3 mthly rpt'!EL9+'PADD4 mthly rpt'!EL9+'PADD5 mthly rpt'!EL9","v":-140225.54326780839},{"$f":"'PADD1 mthly rpt'!EM9+'PADD2 mthly rpt'!EM9+'PADD3 mthly rpt'!EM9+'PADD4 mthly rpt'!EM9+'PADD5 mthly rpt'!EM9","v":215469.31030070269},{"$f":"'PADD1 mthly rpt'!EN9+'PADD2 mthly rpt'!EN9+'PADD3 mthly rpt'!EN9+'PADD4 mthly rpt'!EN9+'PADD5 mthly rpt'!EN9","v":187649.83138033171},{"$f":"'PADD1 mthly rpt'!EO9+'PADD2 mthly rpt'!EO9+'PADD3 mthly rpt'!EO9+'PADD4 mthly rpt'!EO9+'PADD5 mthly rpt'!EO9","v":581602.20640680939},{"$f":"'PADD1 mthly rpt'!EP9+'PADD2 mthly rpt'!EP9+'PADD3 mthly rpt'!EP9+'PADD4 mthly rpt'!EP9+'PADD5 mthly rpt'!EP9","v":573193.79913099494},{"$f":"'PADD1 mthly rpt'!EQ9+'PADD2 mthly rpt'!EQ9+'PADD3 mthly rpt'!EQ9+'PADD4 mthly rpt'!EQ9+'PADD5 mthly rpt'!EQ9","v":373222.10420575016},{"$f":"'PADD1 mthly rpt'!ER9+'PADD2 mthly rpt'!ER9+'PADD3 mthly rpt'!ER9+'PADD4 mthly rpt'!ER9+'PADD5 mthly rpt'!ER9","v":334968.79328839021},{"$f":"'PADD1 mthly rpt'!ES9+'PADD2 mthly rpt'!ES9+'PADD3 mthly rpt'!ES9+'PADD4 mthly rpt'!ES9+'PADD5 mthly rpt'!ES9","v":95813.260546141508},{"$f":"'PADD1 mthly rpt'!ET9+'PADD2 mthly rpt'!ET9+'PADD3 mthly rpt'!ET9+'PADD4 mthly rpt'!ET9+'PADD5 mthly rpt'!ET9","v":-77208.866543594035},{"$f":"'PADD1 mthly rpt'!EU9+'PADD2 mthly rpt'!EU9+'PADD3 mthly rpt'!EU9+'PADD4 mthly rpt'!EU9+'PADD5 mthly rpt'!EU9","v":-187163.17535696953},{"$f":"'PADD1 mthly rpt'!EV9+'PADD2 mthly rpt'!EV9+'PADD3 mthly rpt'!EV9+'PADD4 mthly rpt'!EV9+'PADD5 mthly rpt'!EV9","v":-150049.56759071609},{"$f":"'PADD1 mthly rpt'!EW9+'PADD2 mthly rpt'!EW9+'PADD3 mthly rpt'!EW9+'PADD4 mthly rpt'!EW9+'PADD5 mthly rpt'!EW9","v":-183306.71652915704},{"$f":"'PADD1 mthly rpt'!EX9+'PADD2 mthly rpt'!EX9+'PADD3 mthly rpt'!EX9+'PADD4 mthly rpt'!EX9+'PADD5 mthly rpt'!EX9","v":58747.056362754971},{"$f":"'PADD1 mthly rpt'!EY9+'PADD2 mthly rpt'!EY9+'PADD3 mthly rpt'!EY9+'PADD4 mthly rpt'!EY9+'PADD5 mthly rpt'!EY9","v":181259.86935333535},{"$f":"'PADD1 mthly rpt'!EZ9+'PADD2 mthly rpt'!EZ9+'PADD3 mthly rpt'!EZ9+'PADD4 mthly rpt'!EZ9+'PADD5 mthly rpt'!EZ9","v":144973.16188363943},{"$f":"'PADD1 mthly rpt'!FA9+'PADD2 mthly rpt'!FA9+'PADD3 mthly rpt'!FA9+'PADD4 mthly rpt'!FA9+'PADD5 mthly rpt'!FA9","v":276523.82961104199},{"$f":"'PADD1 mthly rpt'!FB9+'PADD2 mthly rpt'!FB9+'PADD3 mthly rpt'!FB9+'PADD4 mthly rpt'!FB9+'PADD5 mthly rpt'!FB9","v":246022.31965139162},{"$f":"'PADD1 mthly rpt'!FC9+'PADD2 mthly rpt'!FC9+'PADD3 mthly rpt'!FC9+'PADD4 mthly rpt'!FC9+'PADD5 mthly rpt'!FC9","v":63768.988162405309},{"$f":"'PADD1 mthly rpt'!FD9+'PADD2 mthly rpt'!FD9+'PADD3 mthly rpt'!FD9+'PADD4 mthly rpt'!FD9+'PADD5 mthly rpt'!FD9","v":-624.42256684521271},{"$f":"'PADD1 mthly rpt'!FE9+'PADD2 mthly rpt'!FE9+'PADD3 mthly rpt'!FE9+'PADD4 mthly rpt'!FE9+'PADD5 mthly rpt'!FE9","v":-98079.832639848377},{"$f":"'PADD1 mthly rpt'!FF9+'PADD2 mthly rpt'!FF9+'PADD3 mthly rpt'!FF9+'PADD4 mthly rpt'!FF9+'PADD5 mthly rpt'!FF9","v":-140529.38643451227},{"$f":"'PADD1 mthly rpt'!FG9+'PADD2 mthly rpt'!FG9+'PADD3 mthly rpt'!FG9+'PADD4 mthly rpt'!FG9+'PADD5 mthly rpt'!FG9","v":-211362.5522766388},{"$f":"'PADD1 mthly rpt'!FH9+'PADD2 mthly rpt'!FH9+'PADD3 mthly rpt'!FH9+'PADD4 mthly rpt'!FH9+'PADD5 mthly rpt'!FH9","v":-92753.003661854993},{"$f":"'PADD1 mthly rpt'!FI9+'PADD2 mthly rpt'!FI9+'PADD3 mthly rpt'!FI9+'PADD4 mthly rpt'!FI9+'PADD5 mthly rpt'!FI9","v":-133843.142382338},{"$f":"'PADD1 mthly rpt'!FJ9+'PADD2 mthly rpt'!FJ9+'PADD3 mthly rpt'!FJ9+'PADD4 mthly rpt'!FJ9+'PADD5 mthly rpt'!FJ9","v":-327040.31007138593},{"$f":"'PADD1 mthly rpt'!FK9+'PADD2 mthly rpt'!FK9+'PADD3 mthly rpt'!FK9+'PADD4 mthly rpt'!FK9+'PADD5 mthly rpt'!FK9","v":-90221.546932041485},{"$f":"'PADD1 mthly rpt'!FL9+'PADD2 mthly rpt'!FL9+'PADD3 mthly rpt'!FL9+'PADD4 mthly rpt'!FL9+'PADD5 mthly rpt'!FL9","v":13701.305872122553},{"$f":"'PADD1 mthly rpt'!FM9+'PADD2 mthly rpt'!FM9+'PADD3 mthly rpt'!FM9+'PADD4 mthly rpt'!FM9+'PADD5 mthly rpt'!FM9","v":191915.3273839943},{"$f":"'PADD1 mthly rpt'!FN9+'PADD2 mthly rpt'!FN9+'PADD3 mthly rpt'!FN9+'PADD4 mthly rpt'!FN9+'PADD5 mthly rpt'!FN9","v":159214.63798473234},{"$f":"'PADD1 mthly rpt'!FO9+'PADD2 mthly rpt'!FO9+'PADD3 mthly rpt'!FO9+'PADD4 mthly rpt'!FO9+'PADD5 mthly rpt'!FO9","v":56891.145913556036},{"$f":"'PADD1 mthly rpt'!FP9+'PADD2 mthly rpt'!FP9+'PADD3 mthly rpt'!FP9+'PADD4 mthly rpt'!FP9+'PADD5 mthly rpt'!FP9","v":-102679.04672185428},{"$f":"'PADD1 mthly rpt'!FQ9+'PADD2 mthly rpt'!FQ9+'PADD3 mthly rpt'!FQ9+'PADD4 mthly rpt'!FQ9+'PADD5 mthly rpt'!FQ9","v":-83258.594420234353},{"$f":"'PADD1 mthly rpt'!FR9+'PADD2 mthly rpt'!FR9+'PADD3 mthly rpt'!FR9+'PADD4 mthly rpt'!FR9+'PADD5 mthly rpt'!FR9","v":-192367.4397101358},{"$f":"'PADD1 mthly rpt'!FS9+'PADD2 mthly rpt'!FS9+'PADD3 mthly rpt'!FS9+'PADD4 mthly rpt'!FS9+'PADD5 mthly rpt'!FS9","v":-156312.92088681686},{"$f":"'PADD1 mthly rpt'!FT9+'PADD2 mthly rpt'!FT9+'PADD3 mthly rpt'!FT9+'PADD4 mthly rpt'!FT9+'PADD5 mthly rpt'!FT9","v":-133095.43872818555},{"$f":"'PADD1 mthly rpt'!FU9+'PADD2 mthly rpt'!FU9+'PADD3 mthly rpt'!FU9+'PADD4 mthly rpt'!FU9+'PADD5 mthly rpt'!FU9","v":-241835.10754989489},{"$f":"'PADD1 mthly rpt'!FV9+'PADD2 mthly rpt'!FV9+'PADD3 mthly rpt'!FV9+'PADD4 mthly rpt'!FV9+'PADD5 mthly rpt'!FV9","v":-217307.81348099784},{"$f":"'PADD1 mthly rpt'!FW9+'PADD2 mthly rpt'!FW9+'PADD3 mthly rpt'!FW9+'PADD4 mthly rpt'!FW9+'PADD5 mthly rpt'!FW9","v":-55913.838889596656},{"$f":"'PADD1 mthly rpt'!FX9+'PADD2 mthly rpt'!FX9+'PADD3 mthly rpt'!FX9+'PADD4 mthly rpt'!FX9+'PADD5 mthly rpt'!FX9","v":147668.35581080243},{"$f":"'PADD1 mthly rpt'!FY9+'PADD2 mthly rpt'!FY9+'PADD3 mthly rpt'!FY9+'PADD4 mthly rpt'!FY9+'PADD5 mthly rpt'!FY9","v":198508.84467033902},{"$f":"'PADD1 mthly rpt'!FZ9+'PADD2 mthly rpt'!FZ9+'PADD3 mthly rpt'!FZ9+'PADD4 mthly rpt'!FZ9+'PADD5 mthly rpt'!FZ9","v":-32087.634517399572},{"$f":"'PADD1 mthly rpt'!GA9+'PADD2 mthly rpt'!GA9+'PADD3 mthly rpt'!GA9+'PADD4 mthly rpt'!GA9+'PADD5 mthly rpt'!GA9","v":533448.85703418637},{"$f":"'PADD1 mthly rpt'!GB9+'PADD2 mthly rpt'!GB9+'PADD3 mthly rpt'!GB9+'PADD4 mthly rpt'!GB9+'PADD5 mthly rpt'!GB9","v":189964.43629721575},{"$f":"'PADD1 mthly rpt'!GC9+'PADD2 mthly rpt'!GC9+'PADD3 mthly rpt'!GC9+'PADD4 mthly rpt'!GC9+'PADD5 mthly rpt'!GC9","v":205757.77225780726},{"$f":"'PADD1 mthly rpt'!GD9+'PADD2 mthly rpt'!GD9+'PADD3 mthly rpt'!GD9+'PADD4 mthly rpt'!GD9+'PADD5 mthly rpt'!GD9","v":-81619.510567486432},{"$f":"'PADD1 mthly rpt'!GE9+'PADD2 mthly rpt'!GE9+'PADD3 mthly rpt'!GE9+'PADD4 mthly rpt'!GE9+'PADD5 mthly rpt'!GE9","v":-39521.413245775635},{"$f":"'PADD1 mthly rpt'!GF9+'PADD2 mthly rpt'!GF9+'PADD3 mthly rpt'!GF9+'PADD4 mthly rpt'!GF9+'PADD5 mthly rpt'!GF9","v":-211592.45122666535},{"$f":"'PADD1 mthly rpt'!GG9+'PADD2 mthly rpt'!GG9+'PADD3 mthly rpt'!GG9+'PADD4 mthly rpt'!GG9+'PADD5 mthly rpt'!GG9","v":-247202.30232083666},{"$f":"'PADD1 mthly rpt'!GH9+'PADD2 mthly rpt'!GH9+'PADD3 mthly rpt'!GH9+'PADD4 mthly rpt'!GH9+'PADD5 mthly rpt'!GH9","v":-5832.6497352384722},{"$f":"'PADD1 mthly rpt'!GI9+'PADD2 mthly rpt'!GI9+'PADD3 mthly rpt'!GI9+'PADD4 mthly rpt'!GI9+'PADD5 mthly rpt'!GI9","v":160706.40331748483},{"$f":"'PADD1 mthly rpt'!GJ9+'PADD2 mthly rpt'!GJ9+'PADD3 mthly rpt'!GJ9+'PADD4 mthly rpt'!GJ9+'PADD5 mthly rpt'!GJ9","v":92092.351492767921},{"$f":"'PADD1 mthly rpt'!GK9+'PADD2 mthly rpt'!GK9+'PADD3 mthly rpt'!GK9+'PADD4 mthly rpt'!GK9+'PADD5 mthly rpt'!GK9","v":1062249.3786356854},{"$f":"'PADD1 mthly rpt'!GL9+'PADD2 mthly rpt'!GL9+'PADD3 mthly rpt'!GL9+'PADD4 mthly rpt'!GL9+'PADD5 mthly rpt'!GL9","v":651321.2836884557},{"$f":"'PADD1 mthly rpt'!GM9+'PADD2 mthly rpt'!GM9+'PADD3 mthly rpt'!GM9+'PADD4 mthly rpt'!GM9+'PADD5 mthly rpt'!GM9","v":1018764.8128371213},{"$f":"'PADD1 mthly rpt'!GN9+'PADD2 mthly rpt'!GN9+'PADD3 mthly rpt'!GN9+'PADD4 mthly rpt'!GN9+'PADD5 mthly rpt'!GN9","v":-20409.404299408838},{"$f":"'PADD1 mthly rpt'!GO9+'PADD2 mthly rpt'!GO9+'PADD3 mthly rpt'!GO9+'PADD4 mthly rpt'!GO9+'PADD5 mthly rpt'!GO9","v":23028.419145991862},{"$f":"'PADD1 mthly rpt'!GP9+'PADD2 mthly rpt'!GP9+'PADD3 mthly rpt'!GP9+'PADD4 mthly rpt'!GP9+'PADD5 mthly rpt'!GP9","v":-543568.08580499352},{"$f":"'PADD1 mthly rpt'!GQ9+'PADD2 mthly rpt'!GQ9+'PADD3 mthly rpt'!GQ9+'PADD4 mthly rpt'!GQ9+'PADD5 mthly rpt'!GQ9","v":-269045.08955259679},{"$f":"'PADD1 mthly rpt'!GR9+'PADD2 mthly rpt'!GR9+'PADD3 mthly rpt'!GR9+'PADD4 mthly rpt'!GR9+'PADD5 mthly rpt'!GR9","v":-275547.91702546692},{"$f":"'PADD1 mthly rpt'!GS9+'PADD2 mthly rpt'!GS9+'PADD3 mthly rpt'!GS9+'PADD4 mthly rpt'!GS9+'PADD5 mthly rpt'!GS9","v":-212162.27796884673},{"$f":"'PADD1 mthly rpt'!GT9+'PADD2 mthly rpt'!GT9+'PADD3 mthly rpt'!GT9+'PADD4 mthly rpt'!GT9+'PADD5 mthly rpt'!GT9","v":-170556.3895566916},{"$f":"'PADD1 mthly rpt'!GU9+'PADD2 mthly rpt'!GU9+'PADD3 mthly rpt'!GU9+'PADD4 mthly rpt'!GU9+'PADD5 mthly rpt'!GU9","v":-76531.100415429013},{"$f":"'PADD1 mthly rpt'!GV9+'PADD2 mthly rpt'!GV9+'PADD3 mthly rpt'!GV9+'PADD4 mthly rpt'!GV9+'PADD5 mthly rpt'!GV9","v":-17222.259995715402},{"$f":"'PADD1 mthly rpt'!GW9+'PADD2 mthly rpt'!GW9+'PADD3 mthly rpt'!GW9+'PADD4 mthly rpt'!GW9+'PADD5 mthly rpt'!GW9","v":172633.28081219608},{"$f":"'PADD1 mthly rpt'!GX9+'PADD2 mthly rpt'!GX9+'PADD3 mthly rpt'!GX9+'PADD4 mthly rpt'!GX9+'PADD5 mthly rpt'!GX9","v":244723.13023183338},{"$f":"'PADD1 mthly rpt'!GY9+'PADD2 mthly rpt'!GY9+'PADD3 mthly rpt'!GY9+'PADD4 mthly rpt'!GY9+'PADD5 mthly rpt'!GY9","v":217933.9473262839},{"$f":"'PADD1 mthly rpt'!GZ9+'PADD2 mthly rpt'!GZ9+'PADD3 mthly rpt'!GZ9+'PADD4 mthly rpt'!GZ9+'PADD5 mthly rpt'!GZ9","v":-31548.332339005898},{"$f":"'PADD1 mthly rpt'!HA9+'PADD2 mthly rpt'!HA9+'PADD3 mthly rpt'!HA9+'PADD4 mthly rpt'!HA9+'PADD5 mthly rpt'!HA9","v":-157129.33669845504},{"$f":"'PADD1 mthly rpt'!HB9+'PADD2 mthly rpt'!HB9+'PADD3 mthly rpt'!HB9+'PADD4 mthly rpt'!HB9+'PADD5 mthly rpt'!HB9","v":-155362.2738696154},{"$f":"'PADD1 mthly rpt'!HC9+'PADD2 mthly rpt'!HC9+'PADD3 mthly rpt'!HC9+'PADD4 mthly rpt'!HC9+'PADD5 mthly rpt'!HC9","v":-193379.54396736444}]
["     TOTAL SUPPLY",{"$f":"SUM(B5:B9)","v":1626693.3975076431},{"$f":"SUM(C5:C9)","v":1524183.4147160898},1369040.4604988904,1089322.5243058689,1138244.0748613579,1023104.1604045024,1026761.5704356142,1131007.5121917361,1164730.3730097327,1140969.5108462339,1298705.423987844,1628236.5309781721,1382353.5972958759,1537111.440280197,1381344.8330447054,1154125.620071644,1166795.7587554278,1110364.6492036371,1073454.98528446,1122031.6353184332,1176309.0547132718,1284944.0314560269,1331280.4903609247,1444611.9182742571,1708707.8792313377,1719738.1173077149,1332895.1653084005,1179223.4890988087,1122032.9908408883,1108431.2326177787,1177014.0883066247,1225745.6688672209,1285302.6718757278,1298271.4417781117,1480957.6892898576,1517730.4949908967,1606035.8000740837,1522750.1341504306,1331518.1601364322,1183851.2437359584,1089731.4746492852,1113169.3940854887,1098574.7375315733,1088123.7010679778,912079.71970002877,1178974.6964221951,1143416.3786395458,1165446.4187924704,1376325.7328108866,1284617.4384813944,1223736.1951211428,1075159.8190682144,979544.82884212793,1048243.1097876176,1063813.0893692065,1219692.0501167299,1178832.3163828417,1350641.3549158622,1488007.6831664911,1559287.7228517414,1600804.5121666393,1509625.4295231733,1256793.8920524686,1098870.9829822504,1093830.3083576609,{"$f":"SUM(BO5:BO9)","v":1114351.8871922696},1136915.8499066692,1155019.59011579,1241759.2790377999,1246530.3701305001,1307025.4264689945,1678825.5699241043,1656452.0418068271,1581033.4906369611,1446199.6574903307,1264141.1875341728,1193890.1719989737,1175348.4893799014,1085074.380504085,1138367.4097510818,1232027.2698482047,1190095.4899283361,1370736.8996168049,1461117.5620986507,1480389.5253395822,1469539.4455846744,1255918.5799528237,1193747.8752314118,1145619.6468866579,1192802.6954351077,1217088.2830156868,1238162.408171474,1234487.5761841608,1325063.45469728,1464557.7038423379,1606012.2786426297,1734859.4122659811,1631814.8418147566,1569089.7244890549,1367186.0114677867,1325501.8060912755,1317116.8357399055,1399204.3928570345,1385673.364889178,1469541.6230601957,1702705.6776796051,1787387.4772239726,1842522.575503299,1840553.9394416476,1749370.9234848956,1532119.6091484085,1451925.5312549623,1437424.7880820138,1397482.4729310598,1474105.0439553626,1433317.515619681,1535109.2562197689,1725154.5497540189,1701566.9816300541,1965627.8154088489,1984790.4047170375,2070701.8864420031,1702824.6532352837,1730247.1907843351,1649585.6820558545,1628644.2752246493,1586353.1212999229,1618059.1323776655,1780422.6914394107,{"$f":"SUM(EA5:EA9)","v":1704212.0911295377},1886463.1830635029,2104349.4948748401,2288032.9223618614,2255437.4287625672,1804175.5559748851,1674647.7888658177,1789112.3109287347,1646502.8208286236,1734902.5728105202,1799040.4177828804,1724481.2250620136,2073868.551748804,2119424.2663768204,2474326.0285000722,2513854.1050952254,2277033.9859791491,2280244.0024784273,2009692.69554263,1882100.6007109587,1764636.8246430303,1805273.0130544452,1750196.2781673796,1947759.3478665757,2225807.908386087,2206712.8508679592,2359004.5577749149,2382209.0007660538,2193287.5850868025,2106417.4870546912,2005103.2064286941,1958589.2945427885,{"$f":"SUM(FG5:FG9)","v":1907316.4673264846},2065436.9518342174,{"$f":"SUM(FI5:FI9)","v":2074989.6823275012},1901849.6313421191,{"$f":"SUM(FK5:FK9)","v":2155950.0562170488},{"$f":"SUM(FL5:FL9)","v":2333416.4823514363},2536133.6247048671,{"$f":"SUM(FN5:FN9)","v":2482596.2368021491},2319079.79197087,2114081.1910697357,{"$f":"SUM(FQ5:FQ9)","v":2149042.0292543489},2029717.5406862001,{"$f":"SUM(FS5:FS9)","v":2088133.6217116555},{"$f":"SUM(FT5:FT9)","v":2123335.6492443746},2040036.5571983361,{"$f":"SUM(FV5:FV9)","v":2136885.3609038913},{"$f":"SUM(FW5:FW9)","v":2304332.6175175565},2348904.5350958062,{"$f":"SUM(FY5:FY9)","v":2523519.9931878727},2576982.2656964809,{"$f":"SUM(GA5:GA9)","v":2457868.7860824987},2432800.0711509315,{"$f":"SUM(GC5:GC9)","v":2179492.0484315604},1968496.1228073835,{"$f":"SUM(GE5:GE9)","v":2153757.0054979357},2141159.4392911671,{"$f":"SUM(GG5:GG9)","v":2107563.8847245583},2206012.9326930726,{"$f":"SUM(GI5:GI9)","v":2489859.5195448962},2589139.440430847,{"$f":"SUM(GK5:GK9)","v":3136146.9189123581},3062368.4007845805,{"$f":"SUM(GM5:GM9)","v":2698030.6947192745},2429470.8986042324,{"$f":"SUM(GO5:GO9)","v":2607613.9467764539},2333840.2808790449,{"$f":"SUM(GQ5:GQ9)","v":2293701.6796670542},2191115.7590895984,{"$f":"SUM(GS5:GS9)","v":2371424.8072406412},2402575.5684123975,{"$f":"SUM(GU5:GU9)","v":2564135.016189652},2668662.7599636717,{"$f":"SUM(GW5:GW9)","v":2946112.5746674039},3007157.7755695242,{"$f":"SUM(GY5:GY9)","v":2934633.6575116632},2714288.8404268981,{"$f":"SUM(HA5:HA9)","v":2542433.0244736793},2573032.3202534229,{"$f":"SUM(HC5:HC9)","v":2529167.8902911874}]
["DEMAND"]
["  Residential and Commercial ",{"$f":"'PADD1 mthly rpt'!B12+'PADD2 mthly rpt'!B12+'PADD3 mthly rpt'!B12+'PADD4 mthly rpt'!B12+'PADD5 mthly rpt'!B12","v":815628.25039788918},{"$f":"'PADD1 mthly rpt'!C12+'PADD2 mthly rpt'!C12+'PADD3 mthly rpt'!C12+'PADD4 mthly rpt'!C12+'PADD5 mthly rpt'!C12","v":734884.27293011849},{"$f":"'PADD1 mthly rpt'!D12+'PADD2 mthly rpt'!D12+'PADD3 mthly rpt'!D12+'PADD4 mthly rpt'!D12+'PADD5 mthly rpt'!D12","v":620200.65172080277},{"$f":"'PADD1 mthly rpt'!E12+'PADD2 mthly rpt'!E12+'PADD3 mthly rpt'!E12+'PADD4 mthly rpt'!E12+'PADD5 mthly rpt'!E12","v":362426.48615994729},{"$f":"'PADD1 mthly rpt'!F12+'PADD2 mthly rpt'!F12+'PADD3 mthly rpt'!F12+'PADD4 mthly rpt'!F12+'PADD5 mthly rpt'!F12","v":363365.75533994997},{"$f":"'PADD1 mthly rpt'!G12+'PADD2 mthly rpt'!G12+'PADD3 mthly rpt'!G12+'PADD4 mthly rpt'!G12+'PADD5 mthly rpt'!G12","v":325937.26562930312},{"$f":"'PADD1 mthly rpt'!H12+'PADD2 mthly rpt'!H12+'PADD3 mthly rpt'!H12+'PADD4 mthly rpt'!H12+'PADD5 mthly rpt'!H12","v":311614.89293238072},{"$f":"'PADD1 mthly rpt'!I12+'PADD2 mthly rpt'!I12+'PADD3 mthly rpt'!I12+'PADD4 mthly rpt'!I12+'PADD5 mthly rpt'!I12","v":365404.50910246203},{"$f":"'PADD1 mthly rpt'!J12+'PADD2 mthly rpt'!J12+'PADD3 mthly rpt'!J12+'PADD4 mthly rpt'!J12+'PADD5 mthly rpt'!J12","v":419034.26509810984},{"$f":"'PADD1 mthly rpt'!K12+'PADD2 mthly rpt'!K12+'PADD3 mthly rpt'!K12+'PADD4 mthly rpt'!K12+'PADD5 mthly rpt'!K12","v":336794.73236763908},{"$f":"'PADD1 mthly rpt'!L12+'PADD2 mthly rpt'!L12+'PADD3 mthly rpt'!L12+'PADD4 mthly rpt'!L12+'PADD5 mthly rpt'!L12","v":423749.4624010144},{"$f":"'PADD1 mthly rpt'!M12+'PADD2 mthly rpt'!M12+'PADD3 mthly rpt'!M12+'PADD4 mthly rpt'!M12+'PADD5 mthly rpt'!M12","v":765643.84465147823},{"$f":"'PADD1 mthly rpt'!N12+'PADD2 mthly rpt'!N12+'PADD3 mthly rpt'!N12+'PADD4 mthly rpt'!N12+'PADD5 mthly rpt'!N12","v":578398.42011979665},{"$f":"'PADD1 mthly rpt'!O12+'PADD2 mthly rpt'!O12+'PADD3 mthly rpt'!O12+'PADD4 mthly rpt'!O12+'PADD5 mthly rpt'!O12","v":659758.48260305205},{"$f":"'PADD1 mthly rpt'!P12+'PADD2 mthly rpt'!P12+'PADD3 mthly rpt'!P12+'PADD4 mthly rpt'!P12+'PADD5 mthly rpt'!P12","v":557162.86178948253},{"$f":"'PADD1 mthly rpt'!Q12+'PADD2 mthly rpt'!Q12+'PADD3 mthly rpt'!Q12+'PADD4 mthly rpt'!Q12+'PADD5 mthly rpt'!Q12","v":356288.83008005953},{"$f":"'PADD1 mthly rpt'!R12+'PADD2 mthly rpt'!R12+'PADD3 mthly rpt'!R12+'PADD4 mthly rpt'!R12+'PADD5 mthly rpt'!R12","v":337702.53798891912},{"$f":"'PADD1 mthly rpt'!S12+'PADD2 mthly rpt'!S12+'PADD3 mthly rpt'!S12+'PADD4 mthly rpt'!S12+'PADD5 mthly rpt'!S12","v":332274.08710270521},{"$f":"'PADD1 mthly rpt'!T12+'PADD2 mthly rpt'!T12+'PADD3 mthly rpt'!T12+'PADD4 mthly rpt'!T12+'PADD5 mthly rpt'!T12","v":337711.50495700946},{"$f":"'PADD1 mthly rpt'!U12+'PADD2 mthly rpt'!U12+'PADD3 mthly rpt'!U12+'PADD4 mthly rpt'!U12+'PADD5 mthly rpt'!U12","v":328483.00198762736},{"$f":"'PADD1 mthly rpt'!V12+'PADD2 mthly rpt'!V12+'PADD3 mthly rpt'!V12+'PADD4 mthly rpt'!V12+'PADD5 mthly rpt'!V12","v":397434.27261350898},{"$f":"'PADD1 mthly rpt'!W12+'PADD2 mthly rpt'!W12+'PADD3 mthly rpt'!W12+'PADD4 mthly rpt'!W12+'PADD5 mthly rpt'!W12","v":437098.29636661708},{"$f":"'PADD1 mthly rpt'!X12+'PADD2 mthly rpt'!X12+'PADD3 mthly rpt'!X12+'PADD4 mthly rpt'!X12+'PADD5 mthly rpt'!X12","v":474185.49264420313},{"$f":"'PADD1 mthly rpt'!Y12+'PADD2 mthly rpt'!Y12+'PADD3 mthly rpt'!Y12+'PADD4 mthly rpt'!Y12+'PADD5 mthly rpt'!Y12","v":590952.42343666393},{"$f":"'PADD1 mthly rpt'!Z12+'PADD2 mthly rpt'!Z12+'PADD3 mthly rpt'!Z12+'PADD4 mthly rpt'!Z12+'PADD5 mthly rpt'!Z12","v":787885.08413816476},{"$f":"'PADD1 mthly rpt'!AA12+'PADD2 mthly rpt'!AA12+'PADD3 mthly rpt'!AA12+'PADD4 mthly rpt'!AA12+'PADD5 mthly rpt'!AA12","v":932384.59450162516},{"$f":"'PADD1 mthly rpt'!AB12+'PADD2 mthly rpt'!AB12+'PADD3 mthly rpt'!AB12+'PADD4 mthly rpt'!AB12+'PADD5 mthly rpt'!AB12","v":564775.34622626007},{"$f":"'PADD1 mthly rpt'!AC12+'PADD2 mthly rpt'!AC12+'PADD3 mthly rpt'!AC12+'PADD4 mthly rpt'!AC12+'PADD5 mthly rpt'!AC12","v":420213.84210711636},{"$f":"'PADD1 mthly rpt'!AD12+'PADD2 mthly rpt'!AD12+'PADD3 mthly rpt'!AD12+'PADD4 mthly rpt'!AD12+'PADD5 mthly rpt'!AD12","v":339831.31122498226},{"$f":"'PADD1 mthly rpt'!AE12+'PADD2 mthly rpt'!AE12+'PADD3 mthly rpt'!AE12+'PADD4 mthly rpt'!AE12+'PADD5 mthly rpt'!AE12","v":320085.59365804342},{"$f":"'PADD1 mthly rpt'!AF12+'PADD2 mthly rpt'!AF12+'PADD3 mthly rpt'!AF12+'PADD4 mthly rpt'!AF12+'PADD5 mthly rpt'!AF12","v":350611.57786828151},{"$f":"'PADD1 mthly rpt'!AG12+'PADD2 mthly rpt'!AG12+'PADD3 mthly rpt'!AG12+'PADD4 mthly rpt'!AG12+'PADD5 mthly rpt'!AG12","v":373471.32657894253},{"$f":"'PADD1 mthly rpt'!AH12+'PADD2 mthly rpt'!AH12+'PADD3 mthly rpt'!AH12+'PADD4 mthly rpt'!AH12+'PADD5 mthly rpt'!AH12","v":385641.27133072098},{"$f":"'PADD1 mthly rpt'!AI12+'PADD2 mthly rpt'!AI12+'PADD3 mthly rpt'!AI12+'PADD4 mthly rpt'!AI12+'PADD5 mthly rpt'!AI12","v":408406.28851742425},{"$f":"'PADD1 mthly rpt'!AJ12+'PADD2 mthly rpt'!AJ12+'PADD3 mthly rpt'!AJ12+'PADD4 mthly rpt'!AJ12+'PADD5 mthly rpt'!AJ12","v":484879.81958946434},{"$f":"'PADD1 mthly rpt'!AK12+'PADD2 mthly rpt'!AK12+'PADD3 mthly rpt'!AK12+'PADD4 mthly rpt'!AK12+'PADD5 mthly rpt'!AK12","v":603749.8743879979},{"$f":"'PADD1 mthly rpt'!AL12+'PADD2 mthly rpt'!AL12+'PADD3 mthly rpt'!AL12+'PADD4 mthly rpt'!AL12+'PADD5 mthly rpt'!AL12","v":779578.71133248543},{"$f":"'PADD1 mthly rpt'!AM12+'PADD2 mthly rpt'!AM12+'PADD3 mthly rpt'!AM12+'PADD4 mthly rpt'!AM12+'PADD5 mthly rpt'!AM12","v":727022.17644574563},{"$f":"'PADD1 mthly rpt'!AN12+'PADD2 mthly rpt'!AN12+'PADD3 mthly rpt'!AN12+'PADD4 mthly rpt'!AN12+'PADD5 mthly rpt'!AN12","v":558333.41350061004},{"$f":"'PADD1 mthly rpt'!AO12+'PADD2 mthly rpt'!AO12+'PADD3 mthly rpt'!AO12+'PADD4 mthly rpt'!AO12+'PADD5 mthly rpt'!AO12","v":406387.47473681415},{"$f":"'PADD1 mthly rpt'!AP12+'PADD2 mthly rpt'!AP12+'PADD3 mthly rpt'!AP12+'PADD4 mthly rpt'!AP12+'PADD5 mthly rpt'!AP12","v":359188.79277377267},{"$f":"'PADD1 mthly rpt'!AQ12+'PADD2 mthly rpt'!AQ12+'PADD3 mthly rpt'!AQ12+'PADD4 mthly rpt'!AQ12+'PADD5 mthly rpt'!AQ12","v":333932.1231256756},{"$f":"'PADD1 mthly rpt'!AR12+'PADD2 mthly rpt'!AR12+'PADD3 mthly rpt'!AR12+'PADD4 mthly rpt'!AR12+'PADD5 mthly rpt'!AR12","v":352118.05057985982},{"$f":"'PADD1 mthly rpt'!AS12+'PADD2 mthly rpt'!AS12+'PADD3 mthly rpt'!AS12+'PADD4 mthly rpt'!AS12+'PADD5 mthly rpt'!AS12","v":337577.96650651249},{"$f":"'PADD1 mthly rpt'!AT12+'PADD2 mthly rpt'!AT12+'PADD3 mthly rpt'!AT12+'PADD4 mthly rpt'!AT12+'PADD5 mthly rpt'!AT12","v":325110.36302282964},{"$f":"'PADD1 mthly rpt'!AU12+'PADD2 mthly rpt'!AU12+'PADD3 mthly rpt'!AU12+'PADD4 mthly rpt'!AU12+'PADD5 mthly rpt'!AU12","v":449119.03646894789},{"$f":"'PADD1 mthly rpt'!AV12+'PADD2 mthly rpt'!AV12+'PADD3 mthly rpt'!AV12+'PADD4 mthly rpt'!AV12+'PADD5 mthly rpt'!AV12","v":494078.95684341673},{"$f":"'PADD1 mthly rpt'!AW12+'PADD2 mthly rpt'!AW12+'PADD3 mthly rpt'!AW12+'PADD4 mthly rpt'!AW12+'PADD5 mthly rpt'!AW12","v":597169.78829894064},{"$f":"'PADD1 mthly rpt'!AX12+'PADD2 mthly rpt'!AX12+'PADD3 mthly rpt'!AX12+'PADD4 mthly rpt'!AX12+'PADD5 mthly rpt'!AX12","v":726275.79256896721},{"$f":"'PADD1 mthly rpt'!AY12+'PADD2 mthly rpt'!AY12+'PADD3 mthly rpt'!AY12+'PADD4 mthly rpt'!AY12+'PADD5 mthly rpt'!AY12","v":557683.42683947238},{"$f":"'PADD1 mthly rpt'!AZ12+'PADD2 mthly rpt'!AZ12+'PADD3 mthly rpt'!AZ12+'PADD4 mthly rpt'!AZ12+'PADD5 mthly rpt'!AZ12","v":530538.8014740221},{"$f":"'PADD1 mthly rpt'!BA12+'PADD2 mthly rpt'!BA12+'PADD3 mthly rpt'!BA12+'PADD4 mthly rpt'!BA12+'PADD5 mthly rpt'!BA12","v":391564.99428182578},{"$f":"'PADD1 mthly rpt'!BB12+'PADD2 mthly rpt'!BB12+'PADD3 mthly rpt'!BB12+'PADD4 mthly rpt'!BB12+'PADD5 mthly rpt'!BB12","v":307219.18614775181},{"$f":"'PADD1 mthly rpt'!BC12+'PADD2 mthly rpt'!BC12+'PADD3 mthly rpt'!BC12+'PADD4 mthly rpt'!BC12+'PADD5 mthly rpt'!BC12","v":305943.89198050404},{"$f":"'PADD1 mthly rpt'!BD12+'PADD2 mthly rpt'!BD12+'PADD3 mthly rpt'!BD12+'PADD4 mthly rpt'!BD12+'PADD5 mthly rpt'!BD12","v":290242.2303281604},{"$f":"'PADD1 mthly rpt'!BE12+'PADD2 mthly rpt'!BE12+'PADD3 mthly rpt'!BE12+'PADD4 mthly rpt'!BE12+'PADD5 mthly rpt'!BE12","v":332171.80979618325},{"$f":"'PADD1 mthly rpt'!BF12+'PADD2 mthly rpt'!BF12+'PADD3 mthly rpt'!BF12+'PADD4 mthly rpt'!BF12+'PADD5 mthly rpt'!BF12","v":337462.75576923607},{"$f":"'PADD1 mthly rpt'!BG12+'PADD2 mthly rpt'!BG12+'PADD3 mthly rpt'!BG12+'PADD4 mthly rpt'!BG12+'PADD5 mthly rpt'!BG12","v":454088.67781299917},{"$f":"'PADD1 mthly rpt'!BH12+'PADD2 mthly rpt'!BH12+'PADD3 mthly rpt'!BH12+'PADD4 mthly rpt'!BH12+'PADD5 mthly rpt'!BH12","v":582315.59025996574},{"$f":"'PADD1 mthly rpt'!BI12+'PADD2 mthly rpt'!BI12+'PADD3 mthly rpt'!BI12+'PADD4 mthly rpt'!BI12+'PADD5 mthly rpt'!BI12","v":701156.2194152032},{"$f":"'PADD1 mthly rpt'!BJ12+'PADD2 mthly rpt'!BJ12+'PADD3 mthly rpt'!BJ12+'PADD4 mthly rpt'!BJ12+'PADD5 mthly rpt'!BJ12","v":740857.25279065629},{"$f":"'PADD1 mthly rpt'!BK12+'PADD2 mthly rpt'!BK12+'PADD3 mthly rpt'!BK12+'PADD4 mthly rpt'!BK12+'PADD5 mthly rpt'!BK12","v":697178.30505377566},{"$f":"'PADD1 mthly rpt'!BL12+'PADD2 mthly rpt'!BL12+'PADD3 mthly rpt'!BL12+'PADD4 mthly rpt'!BL12+'PADD5 mthly rpt'!BL12","v":509691.66370483005},{"$f":"'PADD1 mthly rpt'!BM12+'PADD2 mthly rpt'!BM12+'PADD3 mthly rpt'!BM12+'PADD4 mthly rpt'!BM12+'PADD5 mthly rpt'!BM12","v":330226.40230664401},{"$f":"'PADD1 mthly rpt'!BN12+'PADD2 mthly rpt'!BN12+'PADD3 mthly rpt'!BN12+'PADD4 mthly rpt'!BN12+'PADD5 mthly rpt'!BN12","v":304521.30251104874},{"$f":"'PADD1 mthly rpt'!BO12+'PADD2 mthly rpt'!BO12+'PADD3 mthly rpt'!BO12+'PADD4 mthly rpt'!BO12+'PADD5 mthly rpt'!BO12","v":322342.4311662523},{"$f":"'PADD1 mthly rpt'!BP12+'PADD2 mthly rpt'!BP12+'PADD3 mthly rpt'!BP12+'PADD4 mthly rpt'!BP12+'PADD5 mthly rpt'!BP12","v":326624.86287371331},{"$f":"'PADD1 mthly rpt'!BQ12+'PADD2 mthly rpt'!BQ12+'PADD3 mthly rpt'!BQ12+'PADD4 mthly rpt'!BQ12+'PADD5 mthly rpt'!BQ12","v":319487.12357991218},{"$f":"'PADD1 mthly rpt'!BR12+'PADD2 mthly rpt'!BR12+'PADD3 mthly rpt'!BR12+'PADD4 mthly rpt'!BR12+'PADD5 mthly rpt'!BR12","v":322055.34149960044},{"$f":"'PADD1 mthly rpt'!BS12+'PADD2 mthly rpt'!BS12+'PADD3 mthly rpt'!BS12+'PADD4 mthly rpt'!BS12+'PADD5 mthly rpt'!BS12","v":359127.51810789283},{"$f":"'PADD1 mthly rpt'!BT12+'PADD2 mthly rpt'!BT12+'PADD3 mthly rpt'!BT12+'PADD4 mthly rpt'!BT12+'PADD5 mthly rpt'!BT12","v":402931.90627068846},{"$f":"'PADD1 mthly rpt'!BU12+'PADD2 mthly rpt'!BU12+'PADD3 mthly rpt'!BU12+'PADD4 mthly rpt'!BU12+'PADD5 mthly rpt'!BU12","v":767917.88848733983},{"$f":"'PADD1 mthly rpt'!BV12+'PADD2 mthly rpt'!BV12+'PADD3 mthly rpt'!BV12+'PADD4 mthly rpt'!BV12+'PADD5 mthly rpt'!BV12","v":726025.3414557681},{"$f":"'PADD1 mthly rpt'!BW12+'PADD2 mthly rpt'!BW12+'PADD3 mthly rpt'!BW12+'PADD4 mthly rpt'!BW12+'PADD5 mthly rpt'!BW12","v":710264.32574478816},{"$f":"'PADD1 mthly rpt'!BX12+'PADD2 mthly rpt'!BX12+'PADD3 mthly rpt'!BX12+'PADD4 mthly rpt'!BX12+'PADD5 mthly rpt'!BX12","v":526303.76792565349},{"$f":"'PADD1 mthly rpt'!BY12+'PADD2 mthly rpt'!BY12+'PADD3 mthly rpt'!BY12+'PADD4 mthly rpt'!BY12+'PADD5 mthly rpt'!BY12","v":364309.48059347679},{"$f":"'PADD1 mthly rpt'!BZ12+'PADD2 mthly rpt'!BZ12+'PADD3 mthly rpt'!BZ12+'PADD4 mthly rpt'!BZ12+'PADD5 mthly rpt'!BZ12","v":305818.28765688988},{"$f":"'PADD1 mthly rpt'!CA12+'PADD2 mthly rpt'!CA12+'PADD3 mthly rpt'!CA12+'PADD4 mthly rpt'!CA12+'PADD5 mthly rpt'!CA12","v":280906.88278010406},{"$f":"'PADD1 mthly rpt'!CB12+'PADD2 mthly rpt'!CB12+'PADD3 mthly rpt'!CB12+'PADD4 mthly rpt'!CB12+'PADD5 mthly rpt'!CB12","v":272892.29197077471},{"$f":"'PADD1 mthly rpt'!CC12+'PADD2 mthly rpt'!CC12+'PADD3 mthly rpt'!CC12+'PADD4 mthly rpt'!CC12+'PADD5 mthly rpt'!CC12","v":299110.86491864186},{"$f":"'PADD1 mthly rpt'!CD12+'PADD2 mthly rpt'!CD12+'PADD3 mthly rpt'!CD12+'PADD4 mthly rpt'!CD12+'PADD5 mthly rpt'!CD12","v":328089.88895557635},{"$f":"'PADD1 mthly rpt'!CE12+'PADD2 mthly rpt'!CE12+'PADD3 mthly rpt'!CE12+'PADD4 mthly rpt'!CE12+'PADD5 mthly rpt'!CE12","v":321758.83171957405},{"$f":"'PADD1 mthly rpt'!CF12+'PADD2 mthly rpt'!CF12+'PADD3 mthly rpt'!CF12+'PADD4 mthly rpt'!CF12+'PADD5 mthly rpt'!CF12","v":436893.02645582356},{"$f":"'PADD1 mthly rpt'!CG12+'PADD2 mthly rpt'!CG12+'PADD3 mthly rpt'!CG12+'PADD4 mthly rpt'!CG12+'PADD5 mthly rpt'!CG12","v":551898.66638150171},{"$f":"'PADD1 mthly rpt'!CH12+'PADD2 mthly rpt'!CH12+'PADD3 mthly rpt'!CH12+'PADD4 mthly rpt'!CH12+'PADD5 mthly rpt'!CH12","v":539971.93929942953},{"$f":"'PADD1 mthly rpt'!CI12+'PADD2 mthly rpt'!CI12+'PADD3 mthly rpt'!CI12+'PADD4 mthly rpt'!CI12+'PADD5 mthly rpt'!CI12","v":547001.68598429335},{"$f":"'PADD1 mthly rpt'!CJ12+'PADD2 mthly rpt'!CJ12+'PADD3 mthly rpt'!CJ12+'PADD4 mthly rpt'!CJ12+'PADD5 mthly rpt'!CJ12","v":342891.25834024261},{"$f":"'PADD1 mthly rpt'!CK12+'PADD2 mthly rpt'!CK12+'PADD3 mthly rpt'!CK12+'PADD4 mthly rpt'!CK12+'PADD5 mthly rpt'!CK12","v":266414.18034686527},{"$f":"'PADD1 mthly rpt'!CL12+'PADD2 mthly rpt'!CL12+'PADD3 mthly rpt'!CL12+'PADD4 mthly rpt'!CL12+'PADD5 mthly rpt'!CL12","v":270303.30458626227},{"$f":"'PADD1 mthly rpt'!CM12+'PADD2 mthly rpt'!CM12+'PADD3 mthly rpt'!CM12+'PADD4 mthly rpt'!CM12+'PADD5 mthly rpt'!CM12","v":262929.80264973745},{"$f":"'PADD1 mthly rpt'!CN12+'PADD2 mthly rpt'!CN12+'PADD3 mthly rpt'!CN12+'PADD4 mthly rpt'!CN12+'PADD5 mthly rpt'!CN12","v":253223.62724757753},{"$f":"'PADD1 mthly rpt'!CO12+'PADD2 mthly rpt'!CO12+'PADD3 mthly rpt'!CO12+'PADD4 mthly rpt'!CO12+'PADD5 mthly rpt'!CO12","v":296809.08383635688},{"$f":"'PADD1 mthly rpt'!CP12+'PADD2 mthly rpt'!CP12+'PADD3 mthly rpt'!CP12+'PADD4 mthly rpt'!CP12+'PADD5 mthly rpt'!CP12","v":251767.60268494004},{"$f":"'PADD1 mthly rpt'!CQ12+'PADD2 mthly rpt'!CQ12+'PADD3 mthly rpt'!CQ12+'PADD4 mthly rpt'!CQ12+'PADD5 mthly rpt'!CQ12","v":288396.70967798016},{"$f":"'PADD1 mthly rpt'!CR12+'PADD2 mthly rpt'!CR12+'PADD3 mthly rpt'!CR12+'PADD4 mthly rpt'!CR12+'PADD5 mthly rpt'!CR12","v":398411.48406553158},{"$f":"'PADD1 mthly rpt'!CS12+'PADD2 mthly rpt'!CS12+'PADD3 mthly rpt'!CS12+'PADD4 mthly rpt'!CS12+'PADD5 mthly rpt'!CS12","v":515603.04654919589},{"$f":"'PADD1 mthly rpt'!CT12+'PADD2 mthly rpt'!CT12+'PADD3 mthly rpt'!CT12+'PADD4 mthly rpt'!CT12+'PADD5 mthly rpt'!CT12","v":724338.9204592763},{"$f":"'PADD1 mthly rpt'!CU12+'PADD2 mthly rpt'!CU12+'PADD3 mthly rpt'!CU12+'PADD4 mthly rpt'!CU12+'PADD5 mthly rpt'!CU12","v":624717.36773576448},{"$f":"'PADD1 mthly rpt'!CV12+'PADD2 mthly rpt'!CV12+'PADD3 mthly rpt'!CV12+'PADD4 mthly rpt'!CV12+'PADD5 mthly rpt'!CV12","v":496388.10969272454},{"$f":"'PADD1 mthly rpt'!CW12+'PADD2 mthly rpt'!CW12+'PADD3 mthly rpt'!CW12+'PADD4 mthly rpt'!CW12+'PADD5 mthly rpt'!CW12","v":321097.04962201294},{"$f":"'PADD1 mthly rpt'!CX12+'PADD2 mthly rpt'!CX12+'PADD3 mthly rpt'!CX12+'PADD4 mthly rpt'!CX12+'PADD5 mthly rpt'!CX12","v":263613.73361636099},{"$f":"'PADD1 mthly rpt'!CY12+'PADD2 mthly rpt'!CY12+'PADD3 mthly rpt'!CY12+'PADD4 mthly rpt'!CY12+'PADD5 mthly rpt'!CY12","v":287705.13206661789},{"$f":"'PADD1 mthly rpt'!CZ12+'PADD2 mthly rpt'!CZ12+'PADD3 mthly rpt'!CZ12+'PADD4 mthly rpt'!CZ12+'PADD5 mthly rpt'!CZ12","v":344841.09918760747},{"$f":"'PADD1 mthly rpt'!DA12+'PADD2 mthly rpt'!DA12+'PADD3 mthly rpt'!DA12+'PADD4 mthly rpt'!DA12+'PADD5 mthly rpt'!DA12","v":290859.94106443546},{"$f":"'PADD1 mthly rpt'!DB12+'PADD2 mthly rpt'!DB12+'PADD3 mthly rpt'!DB12+'PADD4 mthly rpt'!DB12+'PADD5 mthly rpt'!DB12","v":276213.39473600104},{"$f":"'PADD1 mthly rpt'!DC12+'PADD2 mthly rpt'!DC12+'PADD3 mthly rpt'!DC12+'PADD4 mthly rpt'!DC12+'PADD5 mthly rpt'!DC12","v":370274.79573647853},{"$f":"'PADD1 mthly rpt'!DD12+'PADD2 mthly rpt'!DD12+'PADD3 mthly rpt'!DD12+'PADD4 mthly rpt'!DD12+'PADD5 mthly rpt'!DD12","v":474099.84966023231},{"$f":"'PADD1 mthly rpt'!DE12+'PADD2 mthly rpt'!DE12+'PADD3 mthly rpt'!DE12+'PADD4 mthly rpt'!DE12+'PADD5 mthly rpt'!DE12","v":633700.55830291414},{"$f":"'PADD1 mthly rpt'!DF12+'PADD2 mthly rpt'!DF12+'PADD3 mthly rpt'!DF12+'PADD4 mthly rpt'!DF12+'PADD5 mthly rpt'!DF12","v":691712.52437562949},{"$f":"'PADD1 mthly rpt'!DG12+'PADD2 mthly rpt'!DG12+'PADD3 mthly rpt'!DG12+'PADD4 mthly rpt'!DG12+'PADD5 mthly rpt'!DG12","v":661378.77915082616},{"$f":"'PADD1 mthly rpt'!DH12+'PADD2 mthly rpt'!DH12+'PADD3 mthly rpt'!DH12+'PADD4 mthly rpt'!DH12+'PADD5 mthly rpt'!DH12","v":489959.21601827221},{"$f":"'PADD1 mthly rpt'!DI12+'PADD2 mthly rpt'!DI12+'PADD3 mthly rpt'!DI12+'PADD4 mthly rpt'!DI12+'PADD5 mthly rpt'!DI12","v":354676.87053963181},{"$f":"'PADD1 mthly rpt'!DJ12+'PADD2 mthly rpt'!DJ12+'PADD3 mthly rpt'!DJ12+'PADD4 mthly rpt'!DJ12+'PADD5 mthly rpt'!DJ12","v":310589.62072755251},{"$f":"'PADD1 mthly rpt'!DK12+'PADD2 mthly rpt'!DK12+'PADD3 mthly rpt'!DK12+'PADD4 mthly rpt'!DK12+'PADD5 mthly rpt'!DK12","v":305109.95489117387},{"$f":"'PADD1 mthly rpt'!DL12+'PADD2 mthly rpt'!DL12+'PADD3 mthly rpt'!DL12+'PADD4 mthly rpt'!DL12+'PADD5 mthly rpt'!DL12","v":315112.16418579262},{"$f":"'PADD1 mthly rpt'!DM12+'PADD2 mthly rpt'!DM12+'PADD3 mthly rpt'!DM12+'PADD4 mthly rpt'!DM12+'PADD5 mthly rpt'!DM12","v":323712.68814526807},{"$f":"'PADD1 mthly rpt'!DN12+'PADD2 mthly rpt'!DN12+'PADD3 mthly rpt'!DN12+'PADD4 mthly rpt'!DN12+'PADD5 mthly rpt'!DN12","v":319368.12202110194},{"$f":"'PADD1 mthly rpt'!DO12+'PADD2 mthly rpt'!DO12+'PADD3 mthly rpt'!DO12+'PADD4 mthly rpt'!DO12+'PADD5 mthly rpt'!DO12","v":391975.66243792285},{"$f":"'PADD1 mthly rpt'!DP12+'PADD2 mthly rpt'!DP12+'PADD3 mthly rpt'!DP12+'PADD4 mthly rpt'!DP12+'PADD5 mthly rpt'!DP12","v":457932.64854738291},{"$f":"'PADD1 mthly rpt'!DQ12+'PADD2 mthly rpt'!DQ12+'PADD3 mthly rpt'!DQ12+'PADD4 mthly rpt'!DQ12+'PADD5 mthly rpt'!DQ12","v":607596.23094102496},{"$f":"'PADD1 mthly rpt'!DR12+'PADD2 mthly rpt'!DR12+'PADD3 mthly rpt'!DR12+'PADD4 mthly rpt'!DR12+'PADD5 mthly rpt'!DR12","v":667531.49739810475},{"$f":"'PADD1 mthly rpt'!DS12+'PADD2 mthly rpt'!DS12+'PADD3 mthly rpt'!DS12+'PADD4 mthly rpt'!DS12+'PADD5 mthly rpt'!DS12","v":636512.92661380814},{"$f":"'PADD1 mthly rpt'!DT12+'PADD2 mthly rpt'!DT12+'PADD3 mthly rpt'!DT12+'PADD4 mthly rpt'!DT12+'PADD5 mthly rpt'!DT12","v":465697.88213782245},{"$f":"'PADD1 mthly rpt'!DU12+'PADD2 mthly rpt'!DU12+'PADD3 mthly rpt'!DU12+'PADD4 mthly rpt'!DU12+'PADD5 mthly rpt'!DU12","v":329833.60027885908},{"$f":"'PADD1 mthly rpt'!DV12+'PADD2 mthly rpt'!DV12+'PADD3 mthly rpt'!DV12+'PADD4 mthly rpt'!DV12+'PADD5 mthly rpt'!DV12","v":285660.8735605749},{"$f":"'PADD1 mthly rpt'!DW12+'PADD2 mthly rpt'!DW12+'PADD3 mthly rpt'!DW12+'PADD4 mthly rpt'!DW12+'PADD5 mthly rpt'!DW12","v":280402.50075867568},{"$f":"'PADD1 mthly rpt'!DX12+'PADD2 mthly rpt'!DX12+'PADD3 mthly rpt'!DX12+'PADD4 mthly rpt'!DX12+'PADD5 mthly rpt'!DX12","v":290492.56873975776},{"$f":"'PADD1 mthly rpt'!DY12+'PADD2 mthly rpt'!DY12+'PADD3 mthly rpt'!DY12+'PADD4 mthly rpt'!DY12+'PADD5 mthly rpt'!DY12","v":298967.70448753546},{"$f":"'PADD1 mthly rpt'!DZ12+'PADD2 mthly rpt'!DZ12+'PADD3 mthly rpt'!DZ12+'PADD4 mthly rpt'!DZ12+'PADD5 mthly rpt'!DZ12","v":294900.27406023123},{"$f":"'PADD1 mthly rpt'!EA12+'PADD2 mthly rpt'!EA12+'PADD3 mthly rpt'!EA12+'PADD4 mthly rpt'!EA12+'PADD5 mthly rpt'!EA12","v":349383.37459060858},{"$f":"'PADD1 mthly rpt'!EB12+'PADD2 mthly rpt'!EB12+'PADD3 mthly rpt'!EB12+'PADD4 mthly rpt'!EB12+'PADD5 mthly rpt'!EB12","v":434411.74098580796},{"$f":"'PADD1 mthly rpt'!EC12+'PADD2 mthly rpt'!EC12+'PADD3 mthly rpt'!EC12+'PADD4 mthly rpt'!EC12+'PADD5 mthly rpt'!EC12","v":583590.04823099717},{"$f":"'PADD1 mthly rpt'!ED12+'PADD2 mthly rpt'!ED12+'PADD3 mthly rpt'!ED12+'PADD4 mthly rpt'!ED12+'PADD5 mthly rpt'!ED12","v":662006.32658520434},{"$f":"'PADD1 mthly rpt'!EE12+'PADD2 mthly rpt'!EE12+'PADD3 mthly rpt'!EE12+'PADD4 mthly rpt'!EE12+'PADD5 mthly rpt'!EE12","v":630953.88490262022},{"$f":"'PADD1 mthly rpt'!EF12+'PADD2 mthly rpt'!EF12+'PADD3 mthly rpt'!EF12+'PADD4 mthly rpt'!EF12+'PADD5 mthly rpt'!EF12","v":461227.8873573392},{"$f":"'PADD1 mthly rpt'!EG12+'PADD2 mthly rpt'!EG12+'PADD3 mthly rpt'!EG12+'PADD4 mthly rpt'!EG12+'PADD5 mthly rpt'!EG12","v":325985.15201618295},{"$f":"'PADD1 mthly rpt'!EH12+'PADD2 mthly rpt'!EH12+'PADD3 mthly rpt'!EH12+'PADD4 mthly rpt'!EH12+'PADD5 mthly rpt'!EH12","v":282014.51341577235},{"$f":"'PADD1 mthly rpt'!EI12+'PADD2 mthly rpt'!EI12+'PADD3 mthly rpt'!EI12+'PADD4 mthly rpt'!EI12+'PADD5 mthly rpt'!EI12","v":276886.35912116541},{"$f":"'PADD1 mthly rpt'!EJ12+'PADD2 mthly rpt'!EJ12+'PADD3 mthly rpt'!EJ12+'PADD4 mthly rpt'!EJ12+'PADD5 mthly rpt'!EJ12","v":286997.13080881361},{"$f":"'PADD1 mthly rpt'!EK12+'PADD2 mthly rpt'!EK12+'PADD3 mthly rpt'!EK12+'PADD4 mthly rpt'!EK12+'PADD5 mthly rpt'!EK12","v":295743.10334986873},{"$f":"'PADD1 mthly rpt'!EL12+'PADD2 mthly rpt'!EL12+'PADD3 mthly rpt'!EL12+'PADD4 mthly rpt'!EL12+'PADD5 mthly rpt'!EL12","v":291828.09809951362},{"$f":"'PADD1 mthly rpt'!EM12+'PADD2 mthly rpt'!EM12+'PADD3 mthly rpt'!EM12+'PADD4 mthly rpt'!EM12+'PADD5 mthly rpt'!EM12","v":346372.77970250131},{"$f":"'PADD1 mthly rpt'!EN12+'PADD2 mthly rpt'!EN12+'PADD3 mthly rpt'!EN12+'PADD4 mthly rpt'!EN12+'PADD5 mthly rpt'!EN12","v":430722.63383595628},{"$f":"'PADD1 mthly rpt'!EO12+'PADD2 mthly rpt'!EO12+'PADD3 mthly rpt'!EO12+'PADD4 mthly rpt'!EO12+'PADD5 mthly rpt'!EO12","v":578823.61212399579},{"$f":"'PADD1 mthly rpt'!EP12+'PADD2 mthly rpt'!EP12+'PADD3 mthly rpt'!EP12+'PADD4 mthly rpt'!EP12+'PADD5 mthly rpt'!EP12","v":664000.29485604225},{"$f":"'PADD1 mthly rpt'!EQ12+'PADD2 mthly rpt'!EQ12+'PADD3 mthly rpt'!EQ12+'PADD4 mthly rpt'!EQ12+'PADD5 mthly rpt'!EQ12","v":625345.50912108726},{"$f":"'PADD1 mthly rpt'!ER12+'PADD2 mthly rpt'!ER12+'PADD3 mthly rpt'!ER12+'PADD4 mthly rpt'!ER12+'PADD5 mthly rpt'!ER12","v":464094.75143603137},{"$f":"'PADD1 mthly rpt'!ES12+'PADD2 mthly rpt'!ES12+'PADD3 mthly rpt'!ES12+'PADD4 mthly rpt'!ES12+'PADD5 mthly rpt'!ES12","v":340017.72142472689},{"$f":"'PADD1 mthly rpt'!ET12+'PADD2 mthly rpt'!ET12+'PADD3 mthly rpt'!ET12+'PADD4 mthly rpt'!ET12+'PADD5 mthly rpt'!ET12","v":282270.72002398793},{"$f":"'PADD1 mthly rpt'!EU12+'PADD2 mthly rpt'!EU12+'PADD3 mthly rpt'!EU12+'PADD4 mthly rpt'!EU12+'PADD5 mthly rpt'!EU12","v":273564.17923756223},{"$f":"'PADD1 mthly rpt'!EV12+'PADD2 mthly rpt'!EV12+'PADD3 mthly rpt'!EV12+'PADD4 mthly rpt'!EV12+'PADD5 mthly rpt'!EV12","v":272620.3521625151},{"$f":"'PADD1 mthly rpt'!EW12+'PADD2 mthly rpt'!EW12+'PADD3 mthly rpt'!EW12+'PADD4 mthly rpt'!EW12+'PADD5 mthly rpt'!EW12","v":275833.73933987692},{"$f":"'PADD1 mthly rpt'!EX12+'PADD2 mthly rpt'!EX12+'PADD3 mthly rpt'!EX12+'PADD4 mthly rpt'!EX12+'PADD5 mthly rpt'!EX12","v":272756.95037052105},{"$f":"'PADD1 mthly rpt'!EY12+'PADD2 mthly rpt'!EY12+'PADD3 mthly rpt'!EY12+'PADD4 mthly rpt'!EY12+'PADD5 mthly rpt'!EY12","v":350564.80914119713},{"$f":"'PADD1 mthly rpt'!EZ12+'PADD2 mthly rpt'!EZ12+'PADD3 mthly rpt'!EZ12+'PADD4 mthly rpt'!EZ12+'PADD5 mthly rpt'!EZ12","v":430045.78132735245},{"$f":"'PADD1 mthly rpt'!FA12+'PADD2 mthly rpt'!FA12+'PADD3 mthly rpt'!FA12+'PADD4 mthly rpt'!FA12+'PADD5 mthly rpt'!FA12","v":553552.61487051088},{"$f":"'PADD1 mthly rpt'!FB12+'PADD2 mthly rpt'!FB12+'PADD3 mthly rpt'!FB12+'PADD4 mthly rpt'!FB12+'PADD5 mthly rpt'!FB12","v":761822.70913529256},{"$f":"'PADD1 mthly rpt'!FC12+'PADD2 mthly rpt'!FC12+'PADD3 mthly rpt'!FC12+'PADD4 mthly rpt'!FC12+'PADD5 mthly rpt'!FC12","v":621569.51764654019},{"$f":"'PADD1 mthly rpt'!FD12+'PADD2 mthly rpt'!FD12+'PADD3 mthly rpt'!FD12+'PADD4 mthly rpt'!FD12+'PADD5 mthly rpt'!FD12","v":479544.53210397612},{"$f":"'PADD1 mthly rpt'!FE12+'PADD2 mthly rpt'!FE12+'PADD3 mthly rpt'!FE12+'PADD4 mthly rpt'!FE12+'PADD5 mthly rpt'!FE12","v":411449.93950115261},{"$f":"'PADD1 mthly rpt'!FF12+'PADD2 mthly rpt'!FF12+'PADD3 mthly rpt'!FF12+'PADD4 mthly rpt'!FF12+'PADD5 mthly rpt'!FF12","v":290179.28308218264},{"$f":"'PADD1 mthly rpt'!FG12+'PADD2 mthly rpt'!FG12+'PADD3 mthly rpt'!FG12+'PADD4 mthly rpt'!FG12+'PADD5 mthly rpt'!FG12","v":338383.09959635377},{"$f":"'PADD1 mthly rpt'!FH12+'PADD2 mthly rpt'!FH12+'PADD3 mthly rpt'!FH12+'PADD4 mthly rpt'!FH12+'PADD5 mthly rpt'!FH12","v":286842.46010438434},{"$f":"'PADD1 mthly rpt'!FI12+'PADD2 mthly rpt'!FI12+'PADD3 mthly rpt'!FI12+'PADD4 mthly rpt'!FI12+'PADD5 mthly rpt'!FI12","v":300265.2924553316},{"$f":"'PADD1 mthly rpt'!FJ12+'PADD2 mthly rpt'!FJ12+'PADD3 mthly rpt'!FJ12+'PADD4 mthly rpt'!FJ12+'PADD5 mthly rpt'!FJ12","v":301296.81657900312},{"$f":"'PADD1 mthly rpt'!FK12+'PADD2 mthly rpt'!FK12+'PADD3 mthly rpt'!FK12+'PADD4 mthly rpt'!FK12+'PADD5 mthly rpt'!FK12","v":378794.91639849031},{"$f":"'PADD1 mthly rpt'!FL12+'PADD2 mthly rpt'!FL12+'PADD3 mthly rpt'!FL12+'PADD4 mthly rpt'!FL12+'PADD5 mthly rpt'!FL12","v":480859.1352388279},{"$f":"'PADD1 mthly rpt'!FM12+'PADD2 mthly rpt'!FM12+'PADD3 mthly rpt'!FM12+'PADD4 mthly rpt'!FM12+'PADD5 mthly rpt'!FM12","v":579778.66406538349},{"$f":"'PADD1 mthly rpt'!FN12+'PADD2 mthly rpt'!FN12+'PADD3 mthly rpt'!FN12+'PADD4 mthly rpt'!FN12+'PADD5 mthly rpt'!FN12","v":768280.30653162336},{"$f":"'PADD1 mthly rpt'!FO12+'PADD2 mthly rpt'!FO12+'PADD3 mthly rpt'!FO12+'PADD4 mthly rpt'!FO12+'PADD5 mthly rpt'!FO12","v":752858.39560693933},{"$f":"'PADD1 mthly rpt'!FP12+'PADD2 mthly rpt'!FP12+'PADD3 mthly rpt'!FP12+'PADD4 mthly rpt'!FP12+'PADD5 mthly rpt'!FP12","v":540946.02628094016},{"$f":"'PADD1 mthly rpt'!FQ12+'PADD2 mthly rpt'!FQ12+'PADD3 mthly rpt'!FQ12+'PADD4 mthly rpt'!FQ12+'PADD5 mthly rpt'!FQ12","v":330058.77243080176},{"$f":"'PADD1 mthly rpt'!FR12+'PADD2 mthly rpt'!FR12+'PADD3 mthly rpt'!FR12+'PADD4 mthly rpt'!FR12+'PADD5 mthly rpt'!FR12","v":294932.73984192085},{"$f":"'PADD1 mthly rpt'!FS12+'PADD2 mthly rpt'!FS12+'PADD3 mthly rpt'!FS12+'PADD4 mthly rpt'!FS12+'PADD5 mthly rpt'!FS12","v":279765.02863364213},{"$f":"'PADD1 mthly rpt'!FT12+'PADD2 mthly rpt'!FT12+'PADD3 mthly rpt'!FT12+'PADD4 mthly rpt'!FT12+'PADD5 mthly rpt'!FT12","v":285415.8501022993},{"$f":"'PADD1 mthly rpt'!FU12+'PADD2 mthly rpt'!FU12+'PADD3 mthly rpt'!FU12+'PADD4 mthly rpt'!FU12+'PADD5 mthly rpt'!FU12","v":320683.49912954756},{"$f":"'PADD1 mthly rpt'!FV12+'PADD2 mthly rpt'!FV12+'PADD3 mthly rpt'!FV12+'PADD4 mthly rpt'!FV12+'PADD5 mthly rpt'!FV12","v":282776.65472258307},{"$f":"'PADD1 mthly rpt'!FW12+'PADD2 mthly rpt'!FW12+'PADD3 mthly rpt'!FW12+'PADD4 mthly rpt'!FW12+'PADD5 mthly rpt'!FW12","v":344733.37354650086},{"$f":"'PADD1 mthly rpt'!FX12+'PADD2 mthly rpt'!FX12+'PADD3 mthly rpt'!FX12+'PADD4 mthly rpt'!FX12+'PADD5 mthly rpt'!FX12","v":416777.46647009597},{"$f":"'PADD1 mthly rpt'!FY12+'PADD2 mthly rpt'!FY12+'PADD3 mthly rpt'!FY12+'PADD4 mthly rpt'!FY12+'PADD5 mthly rpt'!FY12","v":559224.85252531001},{"$f":"'PADD1 mthly rpt'!FZ12+'PADD2 mthly rpt'!FZ12+'PADD3 mthly rpt'!FZ12+'PADD4 mthly rpt'!FZ12+'PADD5 mthly rpt'!FZ12","v":618400.21140537143},{"$f":"'PADD1 mthly rpt'!GA12+'PADD2 mthly rpt'!GA12+'PADD3 mthly rpt'!GA12+'PADD4 mthly rpt'!GA12+'PADD5 mthly rpt'!GA12","v":591335.83312617382},{"$f":"'PADD1 mthly rpt'!GB12+'PADD2 mthly rpt'!GB12+'PADD3 mthly rpt'!GB12+'PADD4 mthly rpt'!GB12+'PADD5 mthly rpt'!GB12","v":440389.89921420114},{"$f":"'PADD1 mthly rpt'!GC12+'PADD2 mthly rpt'!GC12+'PADD3 mthly rpt'!GC12+'PADD4 mthly rpt'!GC12+'PADD5 mthly rpt'!GC12","v":314179.83613623929},{"$f":"'PADD1 mthly rpt'!GD12+'PADD2 mthly rpt'!GD12+'PADD3 mthly rpt'!GD12+'PADD4 mthly rpt'!GD12+'PADD5 mthly rpt'!GD12","v":268536.85054360959},{"$f":"'PADD1 mthly rpt'!GE12+'PADD2 mthly rpt'!GE12+'PADD3 mthly rpt'!GE12+'PADD4 mthly rpt'!GE12+'PADD5 mthly rpt'!GE12","v":256635.62308942314},{"$f":"'PADD1 mthly rpt'!GF12+'PADD2 mthly rpt'!GF12+'PADD3 mthly rpt'!GF12+'PADD4 mthly rpt'!GF12+'PADD5 mthly rpt'!GF12","v":277124.50721427222},{"$f":"'PADD1 mthly rpt'!GG12+'PADD2 mthly rpt'!GG12+'PADD3 mthly rpt'!GG12+'PADD4 mthly rpt'!GG12+'PADD5 mthly rpt'!GG12","v":289409.03200705879},{"$f":"'PADD1 mthly rpt'!GH12+'PADD2 mthly rpt'!GH12+'PADD3 mthly rpt'!GH12+'PADD4 mthly rpt'!GH12+'PADD5 mthly rpt'!GH12","v":273157.60013052},{"$f":"'PADD1 mthly rpt'!GI12+'PADD2 mthly rpt'!GI12+'PADD3 mthly rpt'!GI12+'PADD4 mthly rpt'!GI12+'PADD5 mthly rpt'!GI12","v":332017.75807641196},{"$f":"'PADD1 mthly rpt'!GJ12+'PADD2 mthly rpt'!GJ12+'PADD3 mthly rpt'!GJ12+'PADD4 mthly rpt'!GJ12+'PADD5 mthly rpt'!GJ12","v":518373.00000000006},{"$f":"'PADD1 mthly rpt'!GK12+'PADD2 mthly rpt'!GK12+'PADD3 mthly rpt'!GK12+'PADD4 mthly rpt'!GK12+'PADD5 mthly rpt'!GK12","v":762082},{"$f":"'PADD1 mthly rpt'!GL12+'PADD2 mthly rpt'!GL12+'PADD3 mthly rpt'!GL12+'PADD4 mthly rpt'!GL12+'PADD5 mthly rpt'!GL12","v":798967.23482717981},{"$f":"'PADD1 mthly rpt'!GM12+'PADD2 mthly rpt'!GM12+'PADD3 mthly rpt'!GM12+'PADD4 mthly rpt'!GM12+'PADD5 mthly rpt'!GM12","v":879494.6392038156},{"$f":"'PADD1 mthly rpt'!GN12+'PADD2 mthly rpt'!GN12+'PADD3 mthly rpt'!GN12+'PADD4 mthly rpt'!GN12+'PADD5 mthly rpt'!GN12","v":640890},{"$f":"'PADD1 mthly rpt'!GO12+'PADD2 mthly rpt'!GO12+'PADD3 mthly rpt'!GO12+'PADD4 mthly rpt'!GO12+'PADD5 mthly rpt'!GO12","v":507281.867399649},{"$f":"'PADD1 mthly rpt'!GP12+'PADD2 mthly rpt'!GP12+'PADD3 mthly rpt'!GP12+'PADD4 mthly rpt'!GP12+'PADD5 mthly rpt'!GP12","v":383429.96252709092},{"$f":"'PADD1 mthly rpt'!GQ12+'PADD2 mthly rpt'!GQ12+'PADD3 mthly rpt'!GQ12+'PADD4 mthly rpt'!GQ12+'PADD5 mthly rpt'!GQ12","v":318991.0139168867},{"$f":"'PADD1 mthly rpt'!GR12+'PADD2 mthly rpt'!GR12+'PADD3 mthly rpt'!GR12+'PADD4 mthly rpt'!GR12+'PADD5 mthly rpt'!GR12","v":270414.61707836622},{"$f":"'PADD1 mthly rpt'!GS12+'PADD2 mthly rpt'!GS12+'PADD3 mthly rpt'!GS12+'PADD4 mthly rpt'!GS12+'PADD5 mthly rpt'!GS12","v":275462.69081543054},{"$f":"'PADD1 mthly rpt'!GT12+'PADD2 mthly rpt'!GT12+'PADD3 mthly rpt'!GT12+'PADD4 mthly rpt'!GT12+'PADD5 mthly rpt'!GT12","v":307896.59601192921},{"$f":"'PADD1 mthly rpt'!GU12+'PADD2 mthly rpt'!GU12+'PADD3 mthly rpt'!GU12+'PADD4 mthly rpt'!GU12+'PADD5 mthly rpt'!GU12","v":459256.38054830447},{"$f":"'PADD1 mthly rpt'!GV12+'PADD2 mthly rpt'!GV12+'PADD3 mthly rpt'!GV12+'PADD4 mthly rpt'!GV12+'PADD5 mthly rpt'!GV12","v":662767.27339052001},{"$f":"'PADD1 mthly rpt'!GW12+'PADD2 mthly rpt'!GW12+'PADD3 mthly rpt'!GW12+'PADD4 mthly rpt'!GW12+'PADD5 mthly rpt'!GW12","v":876559.15629237692},{"$f":"'PADD1 mthly rpt'!GX12+'PADD2 mthly rpt'!GX12+'PADD3 mthly rpt'!GX12+'PADD4 mthly rpt'!GX12+'PADD5 mthly rpt'!GX12","v":942399.45390002977},{"$f":"'PADD1 mthly rpt'!GY12+'PADD2 mthly rpt'!GY12+'PADD3 mthly rpt'!GY12+'PADD4 mthly rpt'!GY12+'PADD5 mthly rpt'!GY12","v":865830.35571411543},{"$f":"'PADD1 mthly rpt'!GZ12+'PADD2 mthly rpt'!GZ12+'PADD3 mthly rpt'!GZ12+'PADD4 mthly rpt'!GZ12+'PADD5 mthly rpt'!GZ12","v":715031.9228754543},{"$f":"'PADD1 mthly rpt'!HA12+'PADD2 mthly rpt'!HA12+'PADD3 mthly rpt'!HA12+'PADD4 mthly rpt'!HA12+'PADD5 mthly rpt'!HA12","v":530439.77632447751},{"$f":"'PADD1 mthly rpt'!HB12+'PADD2 mthly rpt'!HB12+'PADD3 mthly rpt'!HB12+'PADD4 mthly rpt'!HB12+'PADD5 mthly rpt'!HB12","v":391032.32548596989},{"$f":"'PADD1 mthly rpt'!HC12+'PADD2 mthly rpt'!HC12+'PADD3 mthly rpt'!HC12+'PADD4 mthly rpt'!HC12+'PADD5 mthly rpt'!HC12","v":309040.52155855298}]
["  Chemical",{"$f":"'PADD1 mthly rpt'!B13+'PADD2 mthly rpt'!B13+'PADD3 mthly rpt'!B13+'PADD4 mthly rpt'!B13+'PADD5 mthly rpt'!B13","v":616502.37028042774},{"$f":"'PADD1 mthly rpt'!C13+'PADD2 mthly rpt'!C13+'PADD3 mthly rpt'!C13+'PADD4 mthly rpt'!C13+'PADD5 mthly rpt'!C13","v":605919.35938843142},{"$f":"'PADD1 mthly rpt'!D13+'PADD2 mthly rpt'!D13+'PADD3 mthly rpt'!D13+'PADD4 mthly rpt'!D13+'PADD5 mthly rpt'!D13","v":584753.33760443889},{"$f":"'PADD1 mthly rpt'!E13+'PADD2 mthly rpt'!E13+'PADD3 mthly rpt'!E13+'PADD4 mthly rpt'!E13+'PADD5 mthly rpt'!E13","v":562262.62964496086},{"$f":"'PADD1 mthly rpt'!F13+'PADD2 mthly rpt'!F13+'PADD3 mthly rpt'!F13+'PADD4 mthly rpt'!F13+'PADD5 mthly rpt'!F13","v":612917.66281052853},{"$f":"'PADD1 mthly rpt'!G13+'PADD2 mthly rpt'!G13+'PADD3 mthly rpt'!G13+'PADD4 mthly rpt'!G13+'PADD5 mthly rpt'!G13","v":532882.7104089316},{"$f":"'PADD1 mthly rpt'!H13+'PADD2 mthly rpt'!H13+'PADD3 mthly rpt'!H13+'PADD4 mthly rpt'!H13+'PADD5 mthly rpt'!H13","v":554215.43080792238},{"$f":"'PADD1 mthly rpt'!I13+'PADD2 mthly rpt'!I13+'PADD3 mthly rpt'!I13+'PADD4 mthly rpt'!I13+'PADD5 mthly rpt'!I13","v":573913.21444268746},{"$f":"'PADD1 mthly rpt'!J13+'PADD2 mthly rpt'!J13+'PADD3 mthly rpt'!J13+'PADD4 mthly rpt'!J13+'PADD5 mthly rpt'!J13","v":523105.50433960237},{"$f":"'PADD1 mthly rpt'!K13+'PADD2 mthly rpt'!K13+'PADD3 mthly rpt'!K13+'PADD4 mthly rpt'!K13+'PADD5 mthly rpt'!K13","v":517464.71150899323},{"$f":"'PADD1 mthly rpt'!L13+'PADD2 mthly rpt'!L13+'PADD3 mthly rpt'!L13+'PADD4 mthly rpt'!L13+'PADD5 mthly rpt'!L13","v":611767.24842421804},{"$f":"'PADD1 mthly rpt'!M13+'PADD2 mthly rpt'!M13+'PADD3 mthly rpt'!M13+'PADD4 mthly rpt'!M13+'PADD5 mthly rpt'!M13","v":623774.77754762501},{"$f":"'PADD1 mthly rpt'!N13+'PADD2 mthly rpt'!N13+'PADD3 mthly rpt'!N13+'PADD4 mthly rpt'!N13+'PADD5 mthly rpt'!N13","v":587708.68307099515},{"$f":"'PADD1 mthly rpt'!O13+'PADD2 mthly rpt'!O13+'PADD3 mthly rpt'!O13+'PADD4 mthly rpt'!O13+'PADD5 mthly rpt'!O13","v":627908.51014044171},{"$f":"'PADD1 mthly rpt'!P13+'PADD2 mthly rpt'!P13+'PADD3 mthly rpt'!P13+'PADD4 mthly rpt'!P13+'PADD5 mthly rpt'!P13","v":632601.10241894808},{"$f":"'PADD1 mthly rpt'!Q13+'PADD2 mthly rpt'!Q13+'PADD3 mthly rpt'!Q13+'PADD4 mthly rpt'!Q13+'PADD5 mthly rpt'!Q13","v":620255.8011006309},{"$f":"'PADD1 mthly rpt'!R13+'PADD2 mthly rpt'!R13+'PADD3 mthly rpt'!R13+'PADD4 mthly rpt'!R13+'PADD5 mthly rpt'!R13","v":683210.79041639192},{"$f":"'PADD1 mthly rpt'!S13+'PADD2 mthly rpt'!S13+'PADD3 mthly rpt'!S13+'PADD4 mthly rpt'!S13+'PADD5 mthly rpt'!S13","v":639869.86420147668},{"$f":"'PADD1 mthly rpt'!T13+'PADD2 mthly rpt'!T13+'PADD3 mthly rpt'!T13+'PADD4 mthly rpt'!T13+'PADD5 mthly rpt'!T13","v":598991.93670991214},{"$f":"'PADD1 mthly rpt'!U13+'PADD2 mthly rpt'!U13+'PADD3 mthly rpt'!U13+'PADD4 mthly rpt'!U13+'PADD5 mthly rpt'!U13","v":623210.40484865045},{"$f":"'PADD1 mthly rpt'!V13+'PADD2 mthly rpt'!V13+'PADD3 mthly rpt'!V13+'PADD4 mthly rpt'!V13+'PADD5 mthly rpt'!V13","v":575048.47432413523},{"$f":"'PADD1 mthly rpt'!W13+'PADD2 mthly rpt'!W13+'PADD3 mthly rpt'!W13+'PADD4 mthly rpt'!W13+'PADD5 mthly rpt'!W13","v":575697.55965353013},{"$f":"'PADD1 mthly rpt'!X13+'PADD2 mthly rpt'!X13+'PADD3 mthly rpt'!X13+'PADD4 mthly rpt'!X13+'PADD5 mthly rpt'!X13","v":594149.65250922274},{"$f":"'PADD1 mthly rpt'!Y13+'PADD2 mthly rpt'!Y13+'PADD3 mthly rpt'!Y13+'PADD4 mthly rpt'!Y13+'PADD5 mthly rpt'!Y13","v":615899.89416065416},{"$f":"'PADD1 mthly rpt'!Z13+'PADD2 mthly rpt'!Z13+'PADD3 mthly rpt'!Z13+'PADD4 mthly rpt'!Z13+'PADD5 mthly rpt'!Z13","v":667486.47352024016},{"$f":"'PADD1 mthly rpt'!AA13+'PADD2 mthly rpt'!AA13+'PADD3 mthly rpt'!AA13+'PADD4 mthly rpt'!AA13+'PADD5 mthly rpt'!AA13","v":578883.89567694243},{"$f":"'PADD1 mthly rpt'!AB13+'PADD2 mthly rpt'!AB13+'PADD3 mthly rpt'!AB13+'PADD4 mthly rpt'!AB13+'PADD5 mthly rpt'!AB13","v":584368.56897122611},{"$f":"'PADD1 mthly rpt'!AC13+'PADD2 mthly rpt'!AC13+'PADD3 mthly rpt'!AC13+'PADD4 mthly rpt'!AC13+'PADD5 mthly rpt'!AC13","v":607092.04791584064},{"$f":"'PADD1 mthly rpt'!AD13+'PADD2 mthly rpt'!AD13+'PADD3 mthly rpt'!AD13+'PADD4 mthly rpt'!AD13+'PADD5 mthly rpt'!AD13","v":634184.14332537283},{"$f":"'PADD1 mthly rpt'!AE13+'PADD2 mthly rpt'!AE13+'PADD3 mthly rpt'!AE13+'PADD4 mthly rpt'!AE13+'PADD5 mthly rpt'!AE13","v":645344.00081609283},{"$f":"'PADD1 mthly rpt'!AF13+'PADD2 mthly rpt'!AF13+'PADD3 mthly rpt'!AF13+'PADD4 mthly rpt'!AF13+'PADD5 mthly rpt'!AF13","v":672227.63362061849},{"$f":"'PADD1 mthly rpt'!AG13+'PADD2 mthly rpt'!AG13+'PADD3 mthly rpt'!AG13+'PADD4 mthly rpt'!AG13+'PADD5 mthly rpt'!AG13","v":679366.1623130152},{"$f":"'PADD1 mthly rpt'!AH13+'PADD2 mthly rpt'!AH13+'PADD3 mthly rpt'!AH13+'PADD4 mthly rpt'!AH13+'PADD5 mthly rpt'!AH13","v":689457.49674493773},{"$f":"'PADD1 mthly rpt'!AI13+'PADD2 mthly rpt'!AI13+'PADD3 mthly rpt'!AI13+'PADD4 mthly rpt'!AI13+'PADD5 mthly rpt'!AI13","v":627006.01853036368},{"$f":"'PADD1 mthly rpt'!AJ13+'PADD2 mthly rpt'!AJ13+'PADD3 mthly rpt'!AJ13+'PADD4 mthly rpt'!AJ13+'PADD5 mthly rpt'!AJ13","v":666919.04482960631},{"$f":"'PADD1 mthly rpt'!AK13+'PADD2 mthly rpt'!AK13+'PADD3 mthly rpt'!AK13+'PADD4 mthly rpt'!AK13+'PADD5 mthly rpt'!AK13","v":666639.04373004008},{"$f":"'PADD1 mthly rpt'!AL13+'PADD2 mthly rpt'!AL13+'PADD3 mthly rpt'!AL13+'PADD4 mthly rpt'!AL13+'PADD5 mthly rpt'!AL13","v":535113.28504143341},{"$f":"'PADD1 mthly rpt'!AM13+'PADD2 mthly rpt'!AM13+'PADD3 mthly rpt'!AM13+'PADD4 mthly rpt'!AM13+'PADD5 mthly rpt'!AM13","v":532753.6258971988},{"$f":"'PADD1 mthly rpt'!AN13+'PADD2 mthly rpt'!AN13+'PADD3 mthly rpt'!AN13+'PADD4 mthly rpt'!AN13+'PADD5 mthly rpt'!AN13","v":559296.7002482682},{"$f":"'PADD1 mthly rpt'!AO13+'PADD2 mthly rpt'!AO13+'PADD3 mthly rpt'!AO13+'PADD4 mthly rpt'!AO13+'PADD5 mthly rpt'!AO13","v":607012.92484588583},{"$f":"'PADD1 mthly rpt'!AP13+'PADD2 mthly rpt'!AP13+'PADD3 mthly rpt'!AP13+'PADD4 mthly rpt'!AP13+'PADD5 mthly rpt'!AP13","v":546303.09116926452},{"$f":"'PADD1 mthly rpt'!AQ13+'PADD2 mthly rpt'!AQ13+'PADD3 mthly rpt'!AQ13+'PADD4 mthly rpt'!AQ13+'PADD5 mthly rpt'!AQ13","v":645963.3022883829},{"$f":"'PADD1 mthly rpt'!AR13+'PADD2 mthly rpt'!AR13+'PADD3 mthly rpt'!AR13+'PADD4 mthly rpt'!AR13+'PADD5 mthly rpt'!AR13","v":617973.85801366356},{"$f":"'PADD1 mthly rpt'!AS13+'PADD2 mthly rpt'!AS13+'PADD3 mthly rpt'!AS13+'PADD4 mthly rpt'!AS13+'PADD5 mthly rpt'!AS13","v":587015.34515266086},{"$f":"'PADD1 mthly rpt'!AT13+'PADD2 mthly rpt'!AT13+'PADD3 mthly rpt'!AT13+'PADD4 mthly rpt'!AT13+'PADD5 mthly rpt'!AT13","v":378336.69001511665},{"$f":"'PADD1 mthly rpt'!AU13+'PADD2 mthly rpt'!AU13+'PADD3 mthly rpt'!AU13+'PADD4 mthly rpt'!AU13+'PADD5 mthly rpt'!AU13","v":427771.88901174418},{"$f":"'PADD1 mthly rpt'!AV13+'PADD2 mthly rpt'!AV13+'PADD3 mthly rpt'!AV13+'PADD4 mthly rpt'!AV13+'PADD5 mthly rpt'!AV13","v":395554.5294791729},{"$f":"'PADD1 mthly rpt'!AW13+'PADD2 mthly rpt'!AW13+'PADD3 mthly rpt'!AW13+'PADD4 mthly rpt'!AW13+'PADD5 mthly rpt'!AW13","v":336968.92270471505},{"$f":"'PADD1 mthly rpt'!AX13+'PADD2 mthly rpt'!AX13+'PADD3 mthly rpt'!AX13+'PADD4 mthly rpt'!AX13+'PADD5 mthly rpt'!AX13","v":411815.9212871865},{"$f":"'PADD1 mthly rpt'!AY13+'PADD2 mthly rpt'!AY13+'PADD3 mthly rpt'!AY13+'PADD4 mthly rpt'!AY13+'PADD5 mthly rpt'!AY13","v":468105.53072803788},{"$f":"'PADD1 mthly rpt'!AZ13+'PADD2 mthly rpt'!AZ13+'PADD3 mthly rpt'!AZ13+'PADD4 mthly rpt'!AZ13+'PADD5 mthly rpt'!AZ13","v":493022.353734662},{"$f":"'PADD1 mthly rpt'!BA13+'PADD2 mthly rpt'!BA13+'PADD3 mthly rpt'!BA13+'PADD4 mthly rpt'!BA13+'PADD5 mthly rpt'!BA13","v":500859.06029926747},{"$f":"'PADD1 mthly rpt'!BB13+'PADD2 mthly rpt'!BB13+'PADD3 mthly rpt'!BB13+'PADD4 mthly rpt'!BB13+'PADD5 mthly rpt'!BB13","v":528146.18140926468},{"$f":"'PADD1 mthly rpt'!BC13+'PADD2 mthly rpt'!BC13+'PADD3 mthly rpt'!BC13+'PADD4 mthly rpt'!BC13+'PADD5 mthly rpt'!BC13","v":594346.75260856794},{"$f":"'PADD1 mthly rpt'!BD13+'PADD2 mthly rpt'!BD13+'PADD3 mthly rpt'!BD13+'PADD4 mthly rpt'!BD13+'PADD5 mthly rpt'!BD13","v":618083.04431871674},{"$f":"'PADD1 mthly rpt'!BE13+'PADD2 mthly rpt'!BE13+'PADD3 mthly rpt'!BE13+'PADD4 mthly rpt'!BE13+'PADD5 mthly rpt'!BE13","v":638238.91866856685},{"$f":"'PADD1 mthly rpt'!BF13+'PADD2 mthly rpt'!BF13+'PADD3 mthly rpt'!BF13+'PADD4 mthly rpt'!BF13+'PADD5 mthly rpt'!BF13","v":578012.38835602859},{"$f":"'PADD1 mthly rpt'!BG13+'PADD2 mthly rpt'!BG13+'PADD3 mthly rpt'!BG13+'PADD4 mthly rpt'!BG13+'PADD5 mthly rpt'!BG13","v":537312.78418427962},{"$f":"'PADD1 mthly rpt'!BH13+'PADD2 mthly rpt'!BH13+'PADD3 mthly rpt'!BH13+'PADD4 mthly rpt'!BH13+'PADD5 mthly rpt'!BH13","v":537312.7841842795},{"$f":"'PADD1 mthly rpt'!BI13+'PADD2 mthly rpt'!BI13+'PADD3 mthly rpt'!BI13+'PADD4 mthly rpt'!BI13+'PADD5 mthly rpt'!BI13","v":541665.35691898665},{"$f":"'PADD1 mthly rpt'!BJ13+'PADD2 mthly rpt'!BJ13+'PADD3 mthly rpt'!BJ13+'PADD4 mthly rpt'!BJ13+'PADD5 mthly rpt'!BJ13","v":575191.92944237671},{"$f":"'PADD1 mthly rpt'!BK13+'PADD2 mthly rpt'!BK13+'PADD3 mthly rpt'!BK13+'PADD4 mthly rpt'!BK13+'PADD5 mthly rpt'!BK13","v":589600.88805235282},{"$f":"'PADD1 mthly rpt'!BL13+'PADD2 mthly rpt'!BL13+'PADD3 mthly rpt'!BL13+'PADD4 mthly rpt'!BL13+'PADD5 mthly rpt'!BL13","v":544073.60261154955},{"$f":"'PADD1 mthly rpt'!BM13+'PADD2 mthly rpt'!BM13+'PADD3 mthly rpt'!BM13+'PADD4 mthly rpt'!BM13+'PADD5 mthly rpt'!BM13","v":572642.86246420827},{"$f":"'PADD1 mthly rpt'!BN13+'PADD2 mthly rpt'!BN13+'PADD3 mthly rpt'!BN13+'PADD4 mthly rpt'!BN13+'PADD5 mthly rpt'!BN13","v":572167.72707931336},{"$f":"'PADD1 mthly rpt'!BO13+'PADD2 mthly rpt'!BO13+'PADD3 mthly rpt'!BO13+'PADD4 mthly rpt'!BO13+'PADD5 mthly rpt'!BO13","v":605813.41311968269},{"$f":"'PADD1 mthly rpt'!BP13+'PADD2 mthly rpt'!BP13+'PADD3 mthly rpt'!BP13+'PADD4 mthly rpt'!BP13+'PADD5 mthly rpt'!BP13","v":610570.47498078283},{"$f":"'PADD1 mthly rpt'!BQ13+'PADD2 mthly rpt'!BQ13+'PADD3 mthly rpt'!BQ13+'PADD4 mthly rpt'!BQ13+'PADD5 mthly rpt'!BQ13","v":618509.78436014208},{"$f":"'PADD1 mthly rpt'!BR13+'PADD2 mthly rpt'!BR13+'PADD3 mthly rpt'!BR13+'PADD4 mthly rpt'!BR13+'PADD5 mthly rpt'!BR13","v":631126.84664254088},{"$f":"'PADD1 mthly rpt'!BS13+'PADD2 mthly rpt'!BS13+'PADD3 mthly rpt'!BS13+'PADD4 mthly rpt'!BS13+'PADD5 mthly rpt'!BS13","v":584173.65142732824},{"$f":"'PADD1 mthly rpt'!BT13+'PADD2 mthly rpt'!BT13+'PADD3 mthly rpt'!BT13+'PADD4 mthly rpt'!BT13+'PADD5 mthly rpt'!BT13","v":581234.03094856208},{"$f":"'PADD1 mthly rpt'!BU13+'PADD2 mthly rpt'!BU13+'PADD3 mthly rpt'!BU13+'PADD4 mthly rpt'!BU13+'PADD5 mthly rpt'!BU13","v":602791.29589993658},{"$f":"'PADD1 mthly rpt'!BV13+'PADD2 mthly rpt'!BV13+'PADD3 mthly rpt'!BV13+'PADD4 mthly rpt'!BV13+'PADD5 mthly rpt'!BV13","v":646284.00175631139},{"$f":"'PADD1 mthly rpt'!BW13+'PADD2 mthly rpt'!BW13+'PADD3 mthly rpt'!BW13+'PADD4 mthly rpt'!BW13+'PADD5 mthly rpt'!BW13","v":627707.90805559419},{"$f":"'PADD1 mthly rpt'!BX13+'PADD2 mthly rpt'!BX13+'PADD3 mthly rpt'!BX13+'PADD4 mthly rpt'!BX13+'PADD5 mthly rpt'!BX13","v":646602.57463826984},{"$f":"'PADD1 mthly rpt'!BY13+'PADD2 mthly rpt'!BY13+'PADD3 mthly rpt'!BY13+'PADD4 mthly rpt'!BY13+'PADD5 mthly rpt'!BY13","v":614264.37469635846},{"$f":"'PADD1 mthly rpt'!BZ13+'PADD2 mthly rpt'!BZ13+'PADD3 mthly rpt'!BZ13+'PADD4 mthly rpt'!BZ13+'PADD5 mthly rpt'!BZ13","v":636845.79058226943},{"$f":"'PADD1 mthly rpt'!CA13+'PADD2 mthly rpt'!CA13+'PADD3 mthly rpt'!CA13+'PADD4 mthly rpt'!CA13+'PADD5 mthly rpt'!CA13","v":668602.5739640703},{"$f":"'PADD1 mthly rpt'!CB13+'PADD2 mthly rpt'!CB13+'PADD3 mthly rpt'!CB13+'PADD4 mthly rpt'!CB13+'PADD5 mthly rpt'!CB13","v":609257.08055722166},{"$f":"'PADD1 mthly rpt'!CC13+'PADD2 mthly rpt'!CC13+'PADD3 mthly rpt'!CC13+'PADD4 mthly rpt'!CC13+'PADD5 mthly rpt'!CC13","v":597526.10767890036},{"$f":"'PADD1 mthly rpt'!CD13+'PADD2 mthly rpt'!CD13+'PADD3 mthly rpt'!CD13+'PADD4 mthly rpt'!CD13+'PADD5 mthly rpt'!CD13","v":608910.50898749509},{"$f":"'PADD1 mthly rpt'!CE13+'PADD2 mthly rpt'!CE13+'PADD3 mthly rpt'!CE13+'PADD4 mthly rpt'!CE13+'PADD5 mthly rpt'!CE13","v":604945.52556672215},{"$f":"'PADD1 mthly rpt'!CF13+'PADD2 mthly rpt'!CF13+'PADD3 mthly rpt'!CF13+'PADD4 mthly rpt'!CF13+'PADD5 mthly rpt'!CF13","v":614345.06890098832},{"$f":"'PADD1 mthly rpt'!CG13+'PADD2 mthly rpt'!CG13+'PADD3 mthly rpt'!CG13+'PADD4 mthly rpt'!CG13+'PADD5 mthly rpt'!CG13","v":609109.21557600319},{"$f":"'PADD1 mthly rpt'!CH13+'PADD2 mthly rpt'!CH13+'PADD3 mthly rpt'!CH13+'PADD4 mthly rpt'!CH13+'PADD5 mthly rpt'!CH13","v":629024.19494487264},{"$f":"'PADD1 mthly rpt'!CI13+'PADD2 mthly rpt'!CI13+'PADD3 mthly rpt'!CI13+'PADD4 mthly rpt'!CI13+'PADD5 mthly rpt'!CI13","v":645911.2764747059},{"$f":"'PADD1 mthly rpt'!CJ13+'PADD2 mthly rpt'!CJ13+'PADD3 mthly rpt'!CJ13+'PADD4 mthly rpt'!CJ13+'PADD5 mthly rpt'!CJ13","v":649641.89071240509},{"$f":"'PADD1 mthly rpt'!CK13+'PADD2 mthly rpt'!CK13+'PADD3 mthly rpt'!CK13+'PADD4 mthly rpt'!CK13+'PADD5 mthly rpt'!CK13","v":633776.67449545721},{"$f":"'PADD1 mthly rpt'!CL13+'PADD2 mthly rpt'!CL13+'PADD3 mthly rpt'!CL13+'PADD4 mthly rpt'!CL13+'PADD5 mthly rpt'!CL13","v":629709.79562470049},{"$f":"'PADD1 mthly rpt'!CM13+'PADD2 mthly rpt'!CM13+'PADD3 mthly rpt'!CM13+'PADD4 mthly rpt'!CM13+'PADD5 mthly rpt'!CM13","v":670356.84630365204},{"$f":"'PADD1 mthly rpt'!CN13+'PADD2 mthly rpt'!CN13+'PADD3 mthly rpt'!CN13+'PADD4 mthly rpt'!CN13+'PADD5 mthly rpt'!CN13","v":697510.78499671305},{"$f":"'PADD1 mthly rpt'!CO13+'PADD2 mthly rpt'!CO13+'PADD3 mthly rpt'!CO13+'PADD4 mthly rpt'!CO13+'PADD5 mthly rpt'!CO13","v":660840.14465325791},{"$f":"'PADD1 mthly rpt'!CP13+'PADD2 mthly rpt'!CP13+'PADD3 mthly rpt'!CP13+'PADD4 mthly rpt'!CP13+'PADD5 mthly rpt'!CP13","v":675362.09199442505},{"$f":"'PADD1 mthly rpt'!CQ13+'PADD2 mthly rpt'!CQ13+'PADD3 mthly rpt'!CQ13+'PADD4 mthly rpt'!CQ13+'PADD5 mthly rpt'!CQ13","v":644711.86881260865},{"$f":"'PADD1 mthly rpt'!CR13+'PADD2 mthly rpt'!CR13+'PADD3 mthly rpt'!CR13+'PADD4 mthly rpt'!CR13+'PADD5 mthly rpt'!CR13","v":639048.60177480872},{"$f":"'PADD1 mthly rpt'!CS13+'PADD2 mthly rpt'!CS13+'PADD3 mthly rpt'!CS13+'PADD4 mthly rpt'!CS13+'PADD5 mthly rpt'!CS13","v":717168.35709137702},{"$f":"'PADD1 mthly rpt'!CT13+'PADD2 mthly rpt'!CT13+'PADD3 mthly rpt'!CT13+'PADD4 mthly rpt'!CT13+'PADD5 mthly rpt'!CT13","v":690529.22832873312},{"$f":"'PADD1 mthly rpt'!CU13+'PADD2 mthly rpt'!CU13+'PADD3 mthly rpt'!CU13+'PADD4 mthly rpt'!CU13+'PADD5 mthly rpt'!CU13","v":680953.41392154631},{"$f":"'PADD1 mthly rpt'!CV13+'PADD2 mthly rpt'!CV13+'PADD3 mthly rpt'!CV13+'PADD4 mthly rpt'!CV13+'PADD5 mthly rpt'!CV13","v":671120.1585190664},{"$f":"'PADD1 mthly rpt'!CW13+'PADD2 mthly rpt'!CW13+'PADD3 mthly rpt'!CW13+'PADD4 mthly rpt'!CW13+'PADD5 mthly rpt'!CW13","v":651112.39352341206},{"$f":"'PADD1 mthly rpt'!CX13+'PADD2 mthly rpt'!CX13+'PADD3 mthly rpt'!CX13+'PADD4 mthly rpt'!CX13+'PADD5 mthly rpt'!CX13","v":647718.46320413926},{"$f":"'PADD1 mthly rpt'!CY13+'PADD2 mthly rpt'!CY13+'PADD3 mthly rpt'!CY13+'PADD4 mthly rpt'!CY13+'PADD5 mthly rpt'!CY13","v":656187.91651506408},{"$f":"'PADD1 mthly rpt'!CZ13+'PADD2 mthly rpt'!CZ13+'PADD3 mthly rpt'!CZ13+'PADD4 mthly rpt'!CZ13+'PADD5 mthly rpt'!CZ13","v":674904.22085706901},{"$f":"'PADD1 mthly rpt'!DA13+'PADD2 mthly rpt'!DA13+'PADD3 mthly rpt'!DA13+'PADD4 mthly rpt'!DA13+'PADD5 mthly rpt'!DA13","v":664257.30531417334},{"$f":"'PADD1 mthly rpt'!DB13+'PADD2 mthly rpt'!DB13+'PADD3 mthly rpt'!DB13+'PADD4 mthly rpt'!DB13+'PADD5 mthly rpt'!DB13","v":682590.31570335524},{"$f":"'PADD1 mthly rpt'!DC13+'PADD2 mthly rpt'!DC13+'PADD3 mthly rpt'!DC13+'PADD4 mthly rpt'!DC13+'PADD5 mthly rpt'!DC13","v":692922.51406875986},{"$f":"'PADD1 mthly rpt'!DD13+'PADD2 mthly rpt'!DD13+'PADD3 mthly rpt'!DD13+'PADD4 mthly rpt'!DD13+'PADD5 mthly rpt'!DD13","v":657212.73554908077},{"$f":"'PADD1 mthly rpt'!DE13+'PADD2 mthly rpt'!DE13+'PADD3 mthly rpt'!DE13+'PADD4 mthly rpt'!DE13+'PADD5 mthly rpt'!DE13","v":622954.40232948971},{"$f":"'PADD1 mthly rpt'!DF13+'PADD2 mthly rpt'!DF13+'PADD3 mthly rpt'!DF13+'PADD4 mthly rpt'!DF13+'PADD5 mthly rpt'!DF13","v":627501.33610893728},{"$f":"'PADD1 mthly rpt'!DG13+'PADD2 mthly rpt'!DG13+'PADD3 mthly rpt'!DG13+'PADD4 mthly rpt'!DG13+'PADD5 mthly rpt'!DG13","v":598926.84909073624},{"$f":"'PADD1 mthly rpt'!DH13+'PADD2 mthly rpt'!DH13+'PADD3 mthly rpt'!DH13+'PADD4 mthly rpt'!DH13+'PADD5 mthly rpt'!DH13","v":573940.87118605571},{"$f":"'PADD1 mthly rpt'!DI13+'PADD2 mthly rpt'!DI13+'PADD3 mthly rpt'!DI13+'PADD4 mthly rpt'!DI13+'PADD5 mthly rpt'!DI13","v":555991.64801145834},{"$f":"'PADD1 mthly rpt'!DJ13+'PADD2 mthly rpt'!DJ13+'PADD3 mthly rpt'!DJ13+'PADD4 mthly rpt'!DJ13+'PADD5 mthly rpt'!DJ13","v":556850.77776088542},{"$f":"'PADD1 mthly rpt'!DK13+'PADD2 mthly rpt'!DK13+'PADD3 mthly rpt'!DK13+'PADD4 mthly rpt'!DK13+'PADD5 mthly rpt'!DK13","v":590631.67592735135},{"$f":"'PADD1 mthly rpt'!DL13+'PADD2 mthly rpt'!DL13+'PADD3 mthly rpt'!DL13+'PADD4 mthly rpt'!DL13+'PADD5 mthly rpt'!DL13","v":573489.15549151122},{"$f":"'PADD1 mthly rpt'!DM13+'PADD2 mthly rpt'!DM13+'PADD3 mthly rpt'!DM13+'PADD4 mthly rpt'!DM13+'PADD5 mthly rpt'!DM13","v":572447.73477369198},{"$f":"'PADD1 mthly rpt'!DN13+'PADD2 mthly rpt'!DN13+'PADD3 mthly rpt'!DN13+'PADD4 mthly rpt'!DN13+'PADD5 mthly rpt'!DN13","v":570407.70463635819},{"$f":"'PADD1 mthly rpt'!DO13+'PADD2 mthly rpt'!DO13+'PADD3 mthly rpt'!DO13+'PADD4 mthly rpt'!DO13+'PADD5 mthly rpt'!DO13","v":556826.59988842509},{"$f":"'PADD1 mthly rpt'!DP13+'PADD2 mthly rpt'!DP13+'PADD3 mthly rpt'!DP13+'PADD4 mthly rpt'!DP13+'PADD5 mthly rpt'!DP13","v":588690.10104321793},{"$f":"'PADD1 mthly rpt'!DQ13+'PADD2 mthly rpt'!DQ13+'PADD3 mthly rpt'!DQ13+'PADD4 mthly rpt'!DQ13+'PADD5 mthly rpt'!DQ13","v":647889.94582981046},{"$f":"'PADD1 mthly rpt'!DR13+'PADD2 mthly rpt'!DR13+'PADD3 mthly rpt'!DR13+'PADD4 mthly rpt'!DR13+'PADD5 mthly rpt'!DR13","v":647749.33705982205},{"$f":"'PADD1 mthly rpt'!DS13+'PADD2 mthly rpt'!DS13+'PADD3 mthly rpt'!DS13+'PADD4 mthly rpt'!DS13+'PADD5 mthly rpt'!DS13","v":633070.34106694604},{"$f":"'PADD1 mthly rpt'!DT13+'PADD2 mthly rpt'!DT13+'PADD3 mthly rpt'!DT13+'PADD4 mthly rpt'!DT13+'PADD5 mthly rpt'!DT13","v":647619.12005958671},{"$f":"'PADD1 mthly rpt'!DU13+'PADD2 mthly rpt'!DU13+'PADD3 mthly rpt'!DU13+'PADD4 mthly rpt'!DU13+'PADD5 mthly rpt'!DU13","v":659802.10335064959},{"$f":"'PADD1 mthly rpt'!DV13+'PADD2 mthly rpt'!DV13+'PADD3 mthly rpt'!DV13+'PADD4 mthly rpt'!DV13+'PADD5 mthly rpt'!DV13","v":676910.2576412264},{"$f":"'PADD1 mthly rpt'!DW13+'PADD2 mthly rpt'!DW13+'PADD3 mthly rpt'!DW13+'PADD4 mthly rpt'!DW13+'PADD5 mthly rpt'!DW13","v":706747.78422285372},{"$f":"'PADD1 mthly rpt'!DX13+'PADD2 mthly rpt'!DX13+'PADD3 mthly rpt'!DX13+'PADD4 mthly rpt'!DX13+'PADD5 mthly rpt'!DX13","v":586764.54609022324},{"$f":"'PADD1 mthly rpt'!DY13+'PADD2 mthly rpt'!DY13+'PADD3 mthly rpt'!DY13+'PADD4 mthly rpt'!DY13+'PADD5 mthly rpt'!DY13","v":593100.86366763688},{"$f":"'PADD1 mthly rpt'!DZ13+'PADD2 mthly rpt'!DZ13+'PADD3 mthly rpt'!DZ13+'PADD4 mthly rpt'!DZ13+'PADD5 mthly rpt'!DZ13","v":582480.601775783},{"$f":"'PADD1 mthly rpt'!EA13+'PADD2 mthly rpt'!EA13+'PADD3 mthly rpt'!EA13+'PADD4 mthly rpt'!EA13+'PADD5 mthly rpt'!EA13","v":542854.33967033948},{"$f":"'PADD1 mthly rpt'!EB13+'PADD2 mthly rpt'!EB13+'PADD3 mthly rpt'!EB13+'PADD4 mthly rpt'!EB13+'PADD5 mthly rpt'!EB13","v":554293.12759163708},{"$f":"'PADD1 mthly rpt'!EC13+'PADD2 mthly rpt'!EC13+'PADD3 mthly rpt'!EC13+'PADD4 mthly rpt'!EC13+'PADD5 mthly rpt'!EC13","v":590694.89543519355},{"$f":"'PADD1 mthly rpt'!ED13+'PADD2 mthly rpt'!ED13+'PADD3 mthly rpt'!ED13+'PADD4 mthly rpt'!ED13+'PADD5 mthly rpt'!ED13","v":593248.0120996678},{"$f":"'PADD1 mthly rpt'!EE13+'PADD2 mthly rpt'!EE13+'PADD3 mthly rpt'!EE13+'PADD4 mthly rpt'!EE13+'PADD5 mthly rpt'!EE13","v":595327.0320652487},{"$f":"'PADD1 mthly rpt'!EF13+'PADD2 mthly rpt'!EF13+'PADD3 mthly rpt'!EF13+'PADD4 mthly rpt'!EF13+'PADD5 mthly rpt'!EF13","v":546921.98069609806},{"$f":"'PADD1 mthly rpt'!EG13+'PADD2 mthly rpt'!EG13+'PADD3 mthly rpt'!EG13+'PADD4 mthly rpt'!EG13+'PADD5 mthly rpt'!EG13","v":531839.78115723969},{"$f":"'PADD1 mthly rpt'!EH13+'PADD2 mthly rpt'!EH13+'PADD3 mthly rpt'!EH13+'PADD4 mthly rpt'!EH13+'PADD5 mthly rpt'!EH13","v":503550.79335453041},{"$f":"'PADD1 mthly rpt'!EI13+'PADD2 mthly rpt'!EI13+'PADD3 mthly rpt'!EI13+'PADD4 mthly rpt'!EI13+'PADD5 mthly rpt'!EI13","v":518011.67752896209},{"$f":"'PADD1 mthly rpt'!EJ13+'PADD2 mthly rpt'!EJ13+'PADD3 mthly rpt'!EJ13+'PADD4 mthly rpt'!EJ13+'PADD5 mthly rpt'!EJ13","v":584690.00972411805},{"$f":"'PADD1 mthly rpt'!EK13+'PADD2 mthly rpt'!EK13+'PADD3 mthly rpt'!EK13+'PADD4 mthly rpt'!EK13+'PADD5 mthly rpt'!EK13","v":684196.96823871415},{"$f":"'PADD1 mthly rpt'!EL13+'PADD2 mthly rpt'!EL13+'PADD3 mthly rpt'!EL13+'PADD4 mthly rpt'!EL13+'PADD5 mthly rpt'!EL13","v":647858.52425272367},{"$f":"'PADD1 mthly rpt'!EM13+'PADD2 mthly rpt'!EM13+'PADD3 mthly rpt'!EM13+'PADD4 mthly rpt'!EM13+'PADD5 mthly rpt'!EM13","v":615698.99829736631},{"$f":"'PADD1 mthly rpt'!EN13+'PADD2 mthly rpt'!EN13+'PADD3 mthly rpt'!EN13+'PADD4 mthly rpt'!EN13+'PADD5 mthly rpt'!EN13","v":605893.24140405876},{"$f":"'PADD1 mthly rpt'!EO13+'PADD2 mthly rpt'!EO13+'PADD3 mthly rpt'!EO13+'PADD4 mthly rpt'!EO13+'PADD5 mthly rpt'!EO13","v":641664.77030853007},{"$f":"'PADD1 mthly rpt'!EP13+'PADD2 mthly rpt'!EP13+'PADD3 mthly rpt'!EP13+'PADD4 mthly rpt'!EP13+'PADD5 mthly rpt'!EP13","v":641299.52508171415},{"$f":"'PADD1 mthly rpt'!EQ13+'PADD2 mthly rpt'!EQ13+'PADD3 mthly rpt'!EQ13+'PADD4 mthly rpt'!EQ13+'PADD5 mthly rpt'!EQ13","v":607066.58908056212},{"$f":"'PADD1 mthly rpt'!ER13+'PADD2 mthly rpt'!ER13+'PADD3 mthly rpt'!ER13+'PADD4 mthly rpt'!ER13+'PADD5 mthly rpt'!ER13","v":681368.29627576668},{"$f":"'PADD1 mthly rpt'!ES13+'PADD2 mthly rpt'!ES13+'PADD3 mthly rpt'!ES13+'PADD4 mthly rpt'!ES13+'PADD5 mthly rpt'!ES13","v":657295.17071897839},{"$f":"'PADD1 mthly rpt'!ET13+'PADD2 mthly rpt'!ET13+'PADD3 mthly rpt'!ET13+'PADD4 mthly rpt'!ET13+'PADD5 mthly rpt'!ET13","v":632360.70311535208},{"$f":"'PADD1 mthly rpt'!EU13+'PADD2 mthly rpt'!EU13+'PADD3 mthly rpt'!EU13+'PADD4 mthly rpt'!EU13+'PADD5 mthly rpt'!EU13","v":626145.90697309596},{"$f":"'PADD1 mthly rpt'!EV13+'PADD2 mthly rpt'!EV13+'PADD3 mthly rpt'!EV13+'PADD4 mthly rpt'!EV13+'PADD5 mthly rpt'!EV13","v":630059.65035528911},{"$f":"'PADD1 mthly rpt'!EW13+'PADD2 mthly rpt'!EW13+'PADD3 mthly rpt'!EW13+'PADD4 mthly rpt'!EW13+'PADD5 mthly rpt'!EW13","v":611308.90274153394},{"$f":"'PADD1 mthly rpt'!EX13+'PADD2 mthly rpt'!EX13+'PADD3 mthly rpt'!EX13+'PADD4 mthly rpt'!EX13+'PADD5 mthly rpt'!EX13","v":552265.06073677656},{"$f":"'PADD1 mthly rpt'!EY13+'PADD2 mthly rpt'!EY13+'PADD3 mthly rpt'!EY13+'PADD4 mthly rpt'!EY13+'PADD5 mthly rpt'!EY13","v":563854.66774531745},{"$f":"'PADD1 mthly rpt'!EZ13+'PADD2 mthly rpt'!EZ13+'PADD3 mthly rpt'!EZ13+'PADD4 mthly rpt'!EZ13+'PADD5 mthly rpt'!EZ13","v":588015.86879056087},{"$f":"'PADD1 mthly rpt'!FA13+'PADD2 mthly rpt'!FA13+'PADD3 mthly rpt'!FA13+'PADD4 mthly rpt'!FA13+'PADD5 mthly rpt'!FA13","v":593434.72588750289},{"$f":"'PADD1 mthly rpt'!FB13+'PADD2 mthly rpt'!FB13+'PADD3 mthly rpt'!FB13+'PADD4 mthly rpt'!FB13+'PADD5 mthly rpt'!FB13","v":594558.21769592573},{"$f":"'PADD1 mthly rpt'!FC13+'PADD2 mthly rpt'!FC13+'PADD3 mthly rpt'!FC13+'PADD4 mthly rpt'!FC13+'PADD5 mthly rpt'!FC13","v":602362.63938350836},{"$f":"'PADD1 mthly rpt'!FD13+'PADD2 mthly rpt'!FD13+'PADD3 mthly rpt'!FD13+'PADD4 mthly rpt'!FD13+'PADD5 mthly rpt'!FD13","v":612822.44137608795},{"$f":"'PADD1 mthly rpt'!FE13+'PADD2 mthly rpt'!FE13+'PADD3 mthly rpt'!FE13+'PADD4 mthly rpt'!FE13+'PADD5 mthly rpt'!FE13","v":598722.85184950358},{"$f":"'PADD1 mthly rpt'!FF13+'PADD2 mthly rpt'!FF13+'PADD3 mthly rpt'!FF13+'PADD4 mthly rpt'!FF13+'PADD5 mthly rpt'!FF13","v":554684.85052244726},{"$f":"'PADD1 mthly rpt'!FG13+'PADD2 mthly rpt'!FG13+'PADD3 mthly rpt'!FG13+'PADD4 mthly rpt'!FG13+'PADD5 mthly rpt'!FG13","v":581658.67491680814},{"$f":"'PADD1 mthly rpt'!FH13+'PADD2 mthly rpt'!FH13+'PADD3 mthly rpt'!FH13+'PADD4 mthly rpt'!FH13+'PADD5 mthly rpt'!FH13","v":594500.96251579945},{"$f":"'PADD1 mthly rpt'!FI13+'PADD2 mthly rpt'!FI13+'PADD3 mthly rpt'!FI13+'PADD4 mthly rpt'!FI13+'PADD5 mthly rpt'!FI13","v":592677.09071842709},{"$f":"'PADD1 mthly rpt'!FJ13+'PADD2 mthly rpt'!FJ13+'PADD3 mthly rpt'!FJ13+'PADD4 mthly rpt'!FJ13+'PADD5 mthly rpt'!FJ13","v":585749.04543166177},{"$f":"'PADD1 mthly rpt'!FK13+'PADD2 mthly rpt'!FK13+'PADD3 mthly rpt'!FK13+'PADD4 mthly rpt'!FK13+'PADD5 mthly rpt'!FK13","v":579760.22558304749},{"$f":"'PADD1 mthly rpt'!FL13+'PADD2 mthly rpt'!FL13+'PADD3 mthly rpt'!FL13+'PADD4 mthly rpt'!FL13+'PADD5 mthly rpt'!FL13","v":579760.22558304749},{"$f":"'PADD1 mthly rpt'!FM13+'PADD2 mthly rpt'!FM13+'PADD3 mthly rpt'!FM13+'PADD4 mthly rpt'!FM13+'PADD5 mthly rpt'!FM13","v":579760.22558304749},{"$f":"'PADD1 mthly rpt'!FN13+'PADD2 mthly rpt'!FN13+'PADD3 mthly rpt'!FN13+'PADD4 mthly rpt'!FN13+'PADD5 mthly rpt'!FN13","v":569573.46108559519},{"$f":"'PADD1 mthly rpt'!FO13+'PADD2 mthly rpt'!FO13+'PADD3 mthly rpt'!FO13+'PADD4 mthly rpt'!FO13+'PADD5 mthly rpt'!FO13","v":569573.46108559519},{"$f":"'PADD1 mthly rpt'!FP13+'PADD2 mthly rpt'!FP13+'PADD3 mthly rpt'!FP13+'PADD4 mthly rpt'!FP13+'PADD5 mthly rpt'!FP13","v":569573.46108559519},{"$f":"'PADD1 mthly rpt'!FQ13+'PADD2 mthly rpt'!FQ13+'PADD3 mthly rpt'!FQ13+'PADD4 mthly rpt'!FQ13+'PADD5 mthly rpt'!FQ13","v":569573.46108559519},{"$f":"'PADD1 mthly rpt'!FR13+'PADD2 mthly rpt'!FR13+'PADD3 mthly rpt'!FR13+'PADD4 mthly rpt'!FR13+'PADD5 mthly rpt'!FR13","v":569573.46108559519},{"$f":"'PADD1 mthly rpt'!FS13+'PADD2 mthly rpt'!FS13+'PADD3 mthly rpt'!FS13+'PADD4 mthly rpt'!FS13+'PADD5 mthly rpt'!FS13","v":569573.46108559519},{"$f":"'PADD1 mthly rpt'!FT13+'PADD2 mthly rpt'!FT13+'PADD3 mthly rpt'!FT13+'PADD4 mthly rpt'!FT13+'PADD5 mthly rpt'!FT13","v":569573.46108559519},{"$f":"'PADD1 mthly rpt'!FU13+'PADD2 mthly rpt'!FU13+'PADD3 mthly rpt'!FU13+'PADD4 mthly rpt'!FU13+'PADD5 mthly rpt'!FU13","v":569573.46108559519},{"$f":"'PADD1 mthly rpt'!FV13+'PADD2 mthly rpt'!FV13+'PADD3 mthly rpt'!FV13+'PADD4 mthly rpt'!FV13+'PADD5 mthly rpt'!FV13","v":569573.46108559519},{"$f":"'PADD1 mthly rpt'!FW13+'PADD2 mthly rpt'!FW13+'PADD3 mthly rpt'!FW13+'PADD4 mthly rpt'!FW13+'PADD5 mthly rpt'!FW13","v":569573.46108559519},{"$f":"'PADD1 mthly rpt'!FX13+'PADD2 mthly rpt'!FX13+'PADD3 mthly rpt'!FX13+'PADD4 mthly rpt'!FX13+'PADD5 mthly rpt'!FX13","v":569573.46108559519},{"$f":"'PADD1 mthly rpt'!FY13+'PADD2 mthly rpt'!FY13+'PADD3 mthly rpt'!FY13+'PADD4 mthly rpt'!FY13+'PADD5 mthly rpt'!FY13","v":569573.46108559519},{"$f":"'PADD1 mthly rpt'!FZ13+'PADD2 mthly rpt'!FZ13+'PADD3 mthly rpt'!FZ13+'PADD4 mthly rpt'!FZ13+'PADD5 mthly rpt'!FZ13","v":568150.38755832554},{"$f":"'PADD1 mthly rpt'!GA13+'PADD2 mthly rpt'!GA13+'PADD3 mthly rpt'!GA13+'PADD4 mthly rpt'!GA13+'PADD5 mthly rpt'!GA13","v":568150.38755832554},{"$f":"'PADD1 mthly rpt'!GB13+'PADD2 mthly rpt'!GB13+'PADD3 mthly rpt'!GB13+'PADD4 mthly rpt'!GB13+'PADD5 mthly rpt'!GB13","v":568150.38755832554},{"$f":"'PADD1 mthly rpt'!GC13+'PADD2 mthly rpt'!GC13+'PADD3 mthly rpt'!GC13+'PADD4 mthly rpt'!GC13+'PADD5 mthly rpt'!GC13","v":568150.38755832554},{"$f":"'PADD1 mthly rpt'!GD13+'PADD2 mthly rpt'!GD13+'PADD3 mthly rpt'!GD13+'PADD4 mthly rpt'!GD13+'PADD5 mthly rpt'!GD13","v":568150.38755832554},{"$f":"'PADD1 mthly rpt'!GE13+'PADD2 mthly rpt'!GE13+'PADD3 mthly rpt'!GE13+'PADD4 mthly rpt'!GE13+'PADD5 mthly rpt'!GE13","v":568150.38755832554},{"$f":"'PADD1 mthly rpt'!GF13+'PADD2 mthly rpt'!GF13+'PADD3 mthly rpt'!GF13+'PADD4 mthly rpt'!GF13+'PADD5 mthly rpt'!GF13","v":568150.38755832554},{"$f":"'PADD1 mthly rpt'!GG13+'PADD2 mthly rpt'!GG13+'PADD3 mthly rpt'!GG13+'PADD4 mthly rpt'!GG13+'PADD5 mthly rpt'!GG13","v":568150.38755832554},{"$f":"'PADD1 mthly rpt'!GH13+'PADD2 mthly rpt'!GH13+'PADD3 mthly rpt'!GH13+'PADD4 mthly rpt'!GH13+'PADD5 mthly rpt'!GH13","v":568150.38755832554},{"$f":"'PADD1 mthly rpt'!GI13+'PADD2 mthly rpt'!GI13+'PADD3 mthly rpt'!GI13+'PADD4 mthly rpt'!GI13+'PADD5 mthly rpt'!GI13","v":568150.38755832554},{"$f":"'PADD1 mthly rpt'!GJ13+'PADD2 mthly rpt'!GJ13+'PADD3 mthly rpt'!GJ13+'PADD4 mthly rpt'!GJ13+'PADD5 mthly rpt'!GJ13","v":632137.82319376699},{"$f":"'PADD1 mthly rpt'!GK13+'PADD2 mthly rpt'!GK13+'PADD3 mthly rpt'!GK13+'PADD4 mthly rpt'!GK13+'PADD5 mthly rpt'!GK13","v":646268.75701188075},{"$f":"'PADD1 mthly rpt'!GL13+'PADD2 mthly rpt'!GL13+'PADD3 mthly rpt'!GL13+'PADD4 mthly rpt'!GL13+'PADD5 mthly rpt'!GL13","v":656227.73210829264},{"$f":"'PADD1 mthly rpt'!GM13+'PADD2 mthly rpt'!GM13+'PADD3 mthly rpt'!GM13+'PADD4 mthly rpt'!GM13+'PADD5 mthly rpt'!GM13","v":469511.29185840511},{"$f":"'PADD1 mthly rpt'!GN13+'PADD2 mthly rpt'!GN13+'PADD3 mthly rpt'!GN13+'PADD4 mthly rpt'!GN13+'PADD5 mthly rpt'!GN13","v":503561.76769631723},{"$f":"'PADD1 mthly rpt'!GO13+'PADD2 mthly rpt'!GO13+'PADD3 mthly rpt'!GO13+'PADD4 mthly rpt'!GO13+'PADD5 mthly rpt'!GO13","v":608111.38855642104},{"$f":"'PADD1 mthly rpt'!GP13+'PADD2 mthly rpt'!GP13+'PADD3 mthly rpt'!GP13+'PADD4 mthly rpt'!GP13+'PADD5 mthly rpt'!GP13","v":606489.89233071951},{"$f":"'PADD1 mthly rpt'!GQ13+'PADD2 mthly rpt'!GQ13+'PADD3 mthly rpt'!GQ13+'PADD4 mthly rpt'!GQ13+'PADD5 mthly rpt'!GQ13","v":607007.63334451057},{"$f":"'PADD1 mthly rpt'!GR13+'PADD2 mthly rpt'!GR13+'PADD3 mthly rpt'!GR13+'PADD4 mthly rpt'!GR13+'PADD5 mthly rpt'!GR13","v":618114.70052799163},{"$f":"'PADD1 mthly rpt'!GS13+'PADD2 mthly rpt'!GS13+'PADD3 mthly rpt'!GS13+'PADD4 mthly rpt'!GS13+'PADD5 mthly rpt'!GS13","v":631199.02000504173},{"$f":"'PADD1 mthly rpt'!GT13+'PADD2 mthly rpt'!GT13+'PADD3 mthly rpt'!GT13+'PADD4 mthly rpt'!GT13+'PADD5 mthly rpt'!GT13","v":623526.1928301201},{"$f":"'PADD1 mthly rpt'!GU13+'PADD2 mthly rpt'!GU13+'PADD3 mthly rpt'!GU13+'PADD4 mthly rpt'!GU13+'PADD5 mthly rpt'!GU13","v":633918.28838400659},{"$f":"'PADD1 mthly rpt'!GV13+'PADD2 mthly rpt'!GV13+'PADD3 mthly rpt'!GV13+'PADD4 mthly rpt'!GV13+'PADD5 mthly rpt'!GV13","v":632707.19315344875},{"$f":"'PADD1 mthly rpt'!GW13+'PADD2 mthly rpt'!GW13+'PADD3 mthly rpt'!GW13+'PADD4 mthly rpt'!GW13+'PADD5 mthly rpt'!GW13","v":634534.62437039893},{"$f":"'PADD1 mthly rpt'!GX13+'PADD2 mthly rpt'!GX13+'PADD3 mthly rpt'!GX13+'PADD4 mthly rpt'!GX13+'PADD5 mthly rpt'!GX13","v":633648.68165849091},{"$f":"'PADD1 mthly rpt'!GY13+'PADD2 mthly rpt'!GY13+'PADD3 mthly rpt'!GY13+'PADD4 mthly rpt'!GY13+'PADD5 mthly rpt'!GY13","v":620172.94012386119},{"$f":"'PADD1 mthly rpt'!GZ13+'PADD2 mthly rpt'!GZ13+'PADD3 mthly rpt'!GZ13+'PADD4 mthly rpt'!GZ13+'PADD5 mthly rpt'!GZ13","v":585887.65223269979},{"$f":"'PADD1 mthly rpt'!HA13+'PADD2 mthly rpt'!HA13+'PADD3 mthly rpt'!HA13+'PADD4 mthly rpt'!HA13+'PADD5 mthly rpt'!HA13","v":594830.22390339244},{"$f":"'PADD1 mthly rpt'!HB13+'PADD2 mthly rpt'!HB13+'PADD3 mthly rpt'!HB13+'PADD4 mthly rpt'!HB13+'PADD5 mthly rpt'!HB13","v":603720.76768887707},{"$f":"'PADD1 mthly rpt'!HC13+'PADD2 mthly rpt'!HC13+'PADD3 mthly rpt'!HC13+'PADD4 mthly rpt'!HC13+'PADD5 mthly rpt'!HC13","v":643826.21158144658}]
["  Farm",{"$f":"'PADD1 mthly rpt'!B14+'PADD2 mthly rpt'!B14+'PADD3 mthly rpt'!B14+'PADD4 mthly rpt'!B14+'PADD5 mthly rpt'!B14","v":57265.943171720544},{"$f":"'PADD1 mthly rpt'!C14+'PADD2 mthly rpt'!C14+'PADD3 mthly rpt'!C14+'PADD4 mthly rpt'!C14+'PADD5 mthly rpt'!C14","v":43889.823651914368},{"$f":"'PADD1 mthly rpt'!D14+'PADD2 mthly rpt'!D14+'PADD3 mthly rpt'!D14+'PADD4 mthly rpt'!D14+'PADD5 mthly rpt'!D14","v":29992.556618349503},{"$f":"'PADD1 mthly rpt'!E14+'PADD2 mthly rpt'!E14+'PADD3 mthly rpt'!E14+'PADD4 mthly rpt'!E14+'PADD5 mthly rpt'!E14","v":30803.23052864079},{"$f":"'PADD1 mthly rpt'!F14+'PADD2 mthly rpt'!F14+'PADD3 mthly rpt'!F14+'PADD4 mthly rpt'!F14+'PADD5 mthly rpt'!F14","v":29992.556618349503},{"$f":"'PADD1 mthly rpt'!G14+'PADD2 mthly rpt'!G14+'PADD3 mthly rpt'!G14+'PADD4 mthly rpt'!G14+'PADD5 mthly rpt'!G14","v":30803.23052864079},{"$f":"'PADD1 mthly rpt'!H14+'PADD2 mthly rpt'!H14+'PADD3 mthly rpt'!H14+'PADD4 mthly rpt'!H14+'PADD5 mthly rpt'!H14","v":29992.556618349503},{"$f":"'PADD1 mthly rpt'!I14+'PADD2 mthly rpt'!I14+'PADD3 mthly rpt'!I14+'PADD4 mthly rpt'!I14+'PADD5 mthly rpt'!I14","v":57265.943171720544},{"$f":"'PADD1 mthly rpt'!J14+'PADD2 mthly rpt'!J14+'PADD3 mthly rpt'!J14+'PADD4 mthly rpt'!J14+'PADD5 mthly rpt'!J14","v":94209.511369280459},{"$f":"'PADD1 mthly rpt'!K14+'PADD2 mthly rpt'!K14+'PADD3 mthly rpt'!K14+'PADD4 mthly rpt'!K14+'PADD5 mthly rpt'!K14","v":145918.92579000306},{"$f":"'PADD1 mthly rpt'!L14+'PADD2 mthly rpt'!L14+'PADD3 mthly rpt'!L14+'PADD4 mthly rpt'!L14+'PADD5 mthly rpt'!L14","v":129415.92118764477},{"$f":"'PADD1 mthly rpt'!M14+'PADD2 mthly rpt'!M14+'PADD3 mthly rpt'!M14+'PADD4 mthly rpt'!M14+'PADD5 mthly rpt'!M14","v":87955.741204176273},{"$f":"'PADD1 mthly rpt'!N14+'PADD2 mthly rpt'!N14+'PADD3 mthly rpt'!N14+'PADD4 mthly rpt'!N14+'PADD5 mthly rpt'!N14","v":55399.007744954491},{"$f":"'PADD1 mthly rpt'!O14+'PADD2 mthly rpt'!O14+'PADD3 mthly rpt'!O14+'PADD4 mthly rpt'!O14+'PADD5 mthly rpt'!O14","v":42812.315030180907},{"$f":"'PADD1 mthly rpt'!P14+'PADD2 mthly rpt'!P14+'PADD3 mthly rpt'!P14+'PADD4 mthly rpt'!P14+'PADD5 mthly rpt'!P14","v":29735.231690156379},{"$f":"'PADD1 mthly rpt'!Q14+'PADD2 mthly rpt'!Q14+'PADD3 mthly rpt'!Q14+'PADD4 mthly rpt'!Q14+'PADD5 mthly rpt'!Q14","v":30498.061551657811},{"$f":"'PADD1 mthly rpt'!R14+'PADD2 mthly rpt'!R14+'PADD3 mthly rpt'!R14+'PADD4 mthly rpt'!R14+'PADD5 mthly rpt'!R14","v":29735.231690156379},{"$f":"'PADD1 mthly rpt'!S14+'PADD2 mthly rpt'!S14+'PADD3 mthly rpt'!S14+'PADD4 mthly rpt'!S14+'PADD5 mthly rpt'!S14","v":30498.061551657811},{"$f":"'PADD1 mthly rpt'!T14+'PADD2 mthly rpt'!T14+'PADD3 mthly rpt'!T14+'PADD4 mthly rpt'!T14+'PADD5 mthly rpt'!T14","v":29735.231690156379},{"$f":"'PADD1 mthly rpt'!U14+'PADD2 mthly rpt'!U14+'PADD3 mthly rpt'!U14+'PADD4 mthly rpt'!U14+'PADD5 mthly rpt'!U14","v":55399.007744954491},{"$f":"'PADD1 mthly rpt'!V14+'PADD2 mthly rpt'!V14+'PADD3 mthly rpt'!V14+'PADD4 mthly rpt'!V14+'PADD5 mthly rpt'!V14","v":90162.254290519661},{"$f":"'PADD1 mthly rpt'!W14+'PADD2 mthly rpt'!W14+'PADD3 mthly rpt'!W14+'PADD4 mthly rpt'!W14+'PADD5 mthly rpt'!W14","v":138819.90188486091},{"$f":"'PADD1 mthly rpt'!X14+'PADD2 mthly rpt'!X14+'PADD3 mthly rpt'!X14+'PADD4 mthly rpt'!X14+'PADD5 mthly rpt'!X14","v":123290.86541858179},{"$f":"'PADD1 mthly rpt'!Y14+'PADD2 mthly rpt'!Y14+'PADD3 mthly rpt'!Y14+'PADD4 mthly rpt'!Y14+'PADD5 mthly rpt'!Y14","v":84277.566787508636},{"$f":"'PADD1 mthly rpt'!Z14+'PADD2 mthly rpt'!Z14+'PADD3 mthly rpt'!Z14+'PADD4 mthly rpt'!Z14+'PADD5 mthly rpt'!Z14","v":58892.588834432572},{"$f":"'PADD1 mthly rpt'!AA14+'PADD2 mthly rpt'!AA14+'PADD3 mthly rpt'!AA14+'PADD4 mthly rpt'!AA14+'PADD5 mthly rpt'!AA14","v":45522.606382864142},{"$f":"'PADD1 mthly rpt'!AB14+'PADD2 mthly rpt'!AB14+'PADD3 mthly rpt'!AB14+'PADD4 mthly rpt'!AB14+'PADD5 mthly rpt'!AB14","v":31631.715524091727},{"$f":"'PADD1 mthly rpt'!AC14+'PADD2 mthly rpt'!AC14+'PADD3 mthly rpt'!AC14+'PADD4 mthly rpt'!AC14+'PADD5 mthly rpt'!AC14","v":32442.017490853454},{"$f":"'PADD1 mthly rpt'!AD14+'PADD2 mthly rpt'!AD14+'PADD3 mthly rpt'!AD14+'PADD4 mthly rpt'!AD14+'PADD5 mthly rpt'!AD14","v":31631.715524091727},{"$f":"'PADD1 mthly rpt'!AE14+'PADD2 mthly rpt'!AE14+'PADD3 mthly rpt'!AE14+'PADD4 mthly rpt'!AE14+'PADD5 mthly rpt'!AE14","v":32442.017490853454},{"$f":"'PADD1 mthly rpt'!AF14+'PADD2 mthly rpt'!AF14+'PADD3 mthly rpt'!AF14+'PADD4 mthly rpt'!AF14+'PADD5 mthly rpt'!AF14","v":31631.715524091727},{"$f":"'PADD1 mthly rpt'!AG14+'PADD2 mthly rpt'!AG14+'PADD3 mthly rpt'!AG14+'PADD4 mthly rpt'!AG14+'PADD5 mthly rpt'!AG14","v":58892.588834432572},{"$f":"'PADD1 mthly rpt'!AH14+'PADD2 mthly rpt'!AH14+'PADD3 mthly rpt'!AH14+'PADD4 mthly rpt'!AH14+'PADD5 mthly rpt'!AH14","v":95819.207034002553},{"$f":"'PADD1 mthly rpt'!AI14+'PADD2 mthly rpt'!AI14+'PADD3 mthly rpt'!AI14+'PADD4 mthly rpt'!AI14+'PADD5 mthly rpt'!AI14","v":147504.89677101822},{"$f":"'PADD1 mthly rpt'!AJ14+'PADD2 mthly rpt'!AJ14+'PADD3 mthly rpt'!AJ14+'PADD4 mthly rpt'!AJ14+'PADD5 mthly rpt'!AJ14","v":131009.463876226},{"$f":"'PADD1 mthly rpt'!AK14+'PADD2 mthly rpt'!AK14+'PADD3 mthly rpt'!AK14+'PADD4 mthly rpt'!AK14+'PADD5 mthly rpt'!AK14","v":89568.306147554977},{"$f":"'PADD1 mthly rpt'!AL14+'PADD2 mthly rpt'!AL14+'PADD3 mthly rpt'!AL14+'PADD4 mthly rpt'!AL14+'PADD5 mthly rpt'!AL14","v":62403.517609457362},{"$f":"'PADD1 mthly rpt'!AM14+'PADD2 mthly rpt'!AM14+'PADD3 mthly rpt'!AM14+'PADD4 mthly rpt'!AM14+'PADD5 mthly rpt'!AM14","v":46579.436767323721},{"$f":"'PADD1 mthly rpt'!AN14+'PADD2 mthly rpt'!AN14+'PADD3 mthly rpt'!AN14+'PADD4 mthly rpt'!AN14+'PADD5 mthly rpt'!AN14","v":32998.139036673587},{"$f":"'PADD1 mthly rpt'!AO14+'PADD2 mthly rpt'!AO14+'PADD3 mthly rpt'!AO14+'PADD4 mthly rpt'!AO14+'PADD5 mthly rpt'!AO14","v":33870.332468917171},{"$f":"'PADD1 mthly rpt'!AP14+'PADD2 mthly rpt'!AP14+'PADD3 mthly rpt'!AP14+'PADD4 mthly rpt'!AP14+'PADD5 mthly rpt'!AP14","v":32998.139036673587},{"$f":"'PADD1 mthly rpt'!AQ14+'PADD2 mthly rpt'!AQ14+'PADD3 mthly rpt'!AQ14+'PADD4 mthly rpt'!AQ14+'PADD5 mthly rpt'!AQ14","v":33870.332468917171},{"$f":"'PADD1 mthly rpt'!AR14+'PADD2 mthly rpt'!AR14+'PADD3 mthly rpt'!AR14+'PADD4 mthly rpt'!AR14+'PADD5 mthly rpt'!AR14","v":32998.139036673587},{"$f":"'PADD1 mthly rpt'!AS14+'PADD2 mthly rpt'!AS14+'PADD3 mthly rpt'!AS14+'PADD4 mthly rpt'!AS14+'PADD5 mthly rpt'!AS14","v":62403.517609457362},{"$f":"'PADD1 mthly rpt'!AT14+'PADD2 mthly rpt'!AT14+'PADD3 mthly rpt'!AT14+'PADD4 mthly rpt'!AT14+'PADD5 mthly rpt'!AT14","v":102275.21736916417},{"$f":"'PADD1 mthly rpt'!AU14+'PADD2 mthly rpt'!AU14+'PADD3 mthly rpt'!AU14+'PADD4 mthly rpt'!AU14+'PADD5 mthly rpt'!AU14","v":158033.29750187916},{"$f":"'PADD1 mthly rpt'!AV14+'PADD2 mthly rpt'!AV14+'PADD3 mthly rpt'!AV14+'PADD4 mthly rpt'!AV14+'PADD5 mthly rpt'!AV14","v":140277.93120263473},{"$f":"'PADD1 mthly rpt'!AW14+'PADD2 mthly rpt'!AW14+'PADD3 mthly rpt'!AW14+'PADD4 mthly rpt'!AW14+'PADD5 mthly rpt'!AW14","v":95546.868034713654},{"$f":"'PADD1 mthly rpt'!AX14+'PADD2 mthly rpt'!AX14+'PADD3 mthly rpt'!AX14+'PADD4 mthly rpt'!AX14+'PADD5 mthly rpt'!AX14","v":67714.862322460467},{"$f":"'PADD1 mthly rpt'!AY14+'PADD2 mthly rpt'!AY14+'PADD3 mthly rpt'!AY14+'PADD4 mthly rpt'!AY14+'PADD5 mthly rpt'!AY14","v":51393.720286815129},{"$f":"'PADD1 mthly rpt'!AZ14+'PADD2 mthly rpt'!AZ14+'PADD3 mthly rpt'!AZ14+'PADD4 mthly rpt'!AZ14+'PADD5 mthly rpt'!AZ14","v":34489.68032132533},{"$f":"'PADD1 mthly rpt'!BA14+'PADD2 mthly rpt'!BA14+'PADD3 mthly rpt'!BA14+'PADD4 mthly rpt'!BA14+'PADD5 mthly rpt'!BA14","v":35436.889457322599},{"$f":"'PADD1 mthly rpt'!BB14+'PADD2 mthly rpt'!BB14+'PADD3 mthly rpt'!BB14+'PADD4 mthly rpt'!BB14+'PADD5 mthly rpt'!BB14","v":34489.68032132533},{"$f":"'PADD1 mthly rpt'!BC14+'PADD2 mthly rpt'!BC14+'PADD3 mthly rpt'!BC14+'PADD4 mthly rpt'!BC14+'PADD5 mthly rpt'!BC14","v":35436.889457322599},{"$f":"'PADD1 mthly rpt'!BD14+'PADD2 mthly rpt'!BD14+'PADD3 mthly rpt'!BD14+'PADD4 mthly rpt'!BD14+'PADD5 mthly rpt'!BD14","v":34489.68032132533},{"$f":"'PADD1 mthly rpt'!BE14+'PADD2 mthly rpt'!BE14+'PADD3 mthly rpt'!BE14+'PADD4 mthly rpt'!BE14+'PADD5 mthly rpt'!BE14","v":71795.147831371796},{"$f":"'PADD1 mthly rpt'!BF14+'PADD2 mthly rpt'!BF14+'PADD3 mthly rpt'!BF14+'PADD4 mthly rpt'!BF14+'PADD5 mthly rpt'!BF14","v":112670.86516171566},{"$f":"'PADD1 mthly rpt'!BG14+'PADD2 mthly rpt'!BG14+'PADD3 mthly rpt'!BG14+'PADD4 mthly rpt'!BG14+'PADD5 mthly rpt'!BG14","v":167536.13280832698},{"$f":"'PADD1 mthly rpt'!BH14+'PADD2 mthly rpt'!BH14+'PADD3 mthly rpt'!BH14+'PADD4 mthly rpt'!BH14+'PADD5 mthly rpt'!BH14","v":188156.14707657532},{"$f":"'PADD1 mthly rpt'!BI14+'PADD2 mthly rpt'!BI14+'PADD3 mthly rpt'!BI14+'PADD4 mthly rpt'!BI14+'PADD5 mthly rpt'!BI14","v":105093.19207373749},{"$f":"'PADD1 mthly rpt'!BJ14+'PADD2 mthly rpt'!BJ14+'PADD3 mthly rpt'!BJ14+'PADD4 mthly rpt'!BJ14+'PADD5 mthly rpt'!BJ14","v":56693.585156192195},{"$f":"'PADD1 mthly rpt'!BK14+'PADD2 mthly rpt'!BK14+'PADD3 mthly rpt'!BK14+'PADD4 mthly rpt'!BK14+'PADD5 mthly rpt'!BK14","v":38378.640647487577},{"$f":"'PADD1 mthly rpt'!BL14+'PADD2 mthly rpt'!BL14+'PADD3 mthly rpt'!BL14+'PADD4 mthly rpt'!BL14+'PADD5 mthly rpt'!BL14","v":26289.739597832689},{"$f":"'PADD1 mthly rpt'!BM14+'PADD2 mthly rpt'!BM14+'PADD3 mthly rpt'!BM14+'PADD4 mthly rpt'!BM14+'PADD5 mthly rpt'!BM14","v":27016.111334721823},{"$f":"'PADD1 mthly rpt'!BN14+'PADD2 mthly rpt'!BN14+'PADD3 mthly rpt'!BN14+'PADD4 mthly rpt'!BN14+'PADD5 mthly rpt'!BN14","v":26289.739597832689},{"$f":"'PADD1 mthly rpt'!BO14+'PADD2 mthly rpt'!BO14+'PADD3 mthly rpt'!BO14+'PADD4 mthly rpt'!BO14+'PADD5 mthly rpt'!BO14","v":27016.111334721823},{"$f":"'PADD1 mthly rpt'!BP14+'PADD2 mthly rpt'!BP14+'PADD3 mthly rpt'!BP14+'PADD4 mthly rpt'!BP14+'PADD5 mthly rpt'!BP14","v":26289.739597832689},{"$f":"'PADD1 mthly rpt'!BQ14+'PADD2 mthly rpt'!BQ14+'PADD3 mthly rpt'!BQ14+'PADD4 mthly rpt'!BQ14+'PADD5 mthly rpt'!BQ14","v":50000.588437713741},{"$f":"'PADD1 mthly rpt'!BR14+'PADD2 mthly rpt'!BR14+'PADD3 mthly rpt'!BR14+'PADD4 mthly rpt'!BR14+'PADD5 mthly rpt'!BR14","v":108473.5132572891},{"$f":"'PADD1 mthly rpt'!BS14+'PADD2 mthly rpt'!BS14+'PADD3 mthly rpt'!BS14+'PADD4 mthly rpt'!BS14+'PADD5 mthly rpt'!BS14","v":105619.91000522462},{"$f":"'PADD1 mthly rpt'!BT14+'PADD2 mthly rpt'!BT14+'PADD3 mthly rpt'!BT14+'PADD4 mthly rpt'!BT14+'PADD5 mthly rpt'!BT14","v":120821.83278440438},{"$f":"'PADD1 mthly rpt'!BU14+'PADD2 mthly rpt'!BU14+'PADD3 mthly rpt'!BU14+'PADD4 mthly rpt'!BU14+'PADD5 mthly rpt'!BU14","v":76616.924225151321},{"$f":"'PADD1 mthly rpt'!BV14+'PADD2 mthly rpt'!BV14+'PADD3 mthly rpt'!BV14+'PADD4 mthly rpt'!BV14+'PADD5 mthly rpt'!BV14","v":46960.654468362685},{"$f":"'PADD1 mthly rpt'!BW14+'PADD2 mthly rpt'!BW14+'PADD3 mthly rpt'!BW14+'PADD4 mthly rpt'!BW14+'PADD5 mthly rpt'!BW14","v":36267.283235485971},{"$f":"'PADD1 mthly rpt'!BX14+'PADD2 mthly rpt'!BX14+'PADD3 mthly rpt'!BX14+'PADD4 mthly rpt'!BX14+'PADD5 mthly rpt'!BX14","v":25157.287149380296},{"$f":"'PADD1 mthly rpt'!BY14+'PADD2 mthly rpt'!BY14+'PADD3 mthly rpt'!BY14+'PADD4 mthly rpt'!BY14+'PADD5 mthly rpt'!BY14","v":25805.370254403129},{"$f":"'PADD1 mthly rpt'!BZ14+'PADD2 mthly rpt'!BZ14+'PADD3 mthly rpt'!BZ14+'PADD4 mthly rpt'!BZ14+'PADD5 mthly rpt'!BZ14","v":25157.287149380296},{"$f":"'PADD1 mthly rpt'!CA14+'PADD2 mthly rpt'!CA14+'PADD3 mthly rpt'!CA14+'PADD4 mthly rpt'!CA14+'PADD5 mthly rpt'!CA14","v":25805.370254403129},{"$f":"'PADD1 mthly rpt'!CB14+'PADD2 mthly rpt'!CB14+'PADD3 mthly rpt'!CB14+'PADD4 mthly rpt'!CB14+'PADD5 mthly rpt'!CB14","v":25157.287149380296},{"$f":"'PADD1 mthly rpt'!CC14+'PADD2 mthly rpt'!CC14+'PADD3 mthly rpt'!CC14+'PADD4 mthly rpt'!CC14+'PADD5 mthly rpt'!CC14","v":46960.654468362685},{"$f":"'PADD1 mthly rpt'!CD14+'PADD2 mthly rpt'!CD14+'PADD3 mthly rpt'!CD14+'PADD4 mthly rpt'!CD14+'PADD5 mthly rpt'!CD14","v":76494.727397260256},{"$f":"'PADD1 mthly rpt'!CE14+'PADD2 mthly rpt'!CE14+'PADD3 mthly rpt'!CE14+'PADD4 mthly rpt'!CE14+'PADD5 mthly rpt'!CE14","v":117833.17116764514},{"$f":"'PADD1 mthly rpt'!CF14+'PADD2 mthly rpt'!CF14+'PADD3 mthly rpt'!CF14+'PADD4 mthly rpt'!CF14+'PADD5 mthly rpt'!CF14","v":104640.05081539466},{"$f":"'PADD1 mthly rpt'!CG14+'PADD2 mthly rpt'!CG14+'PADD3 mthly rpt'!CG14+'PADD4 mthly rpt'!CG14+'PADD5 mthly rpt'!CG14","v":71495.229158512724},{"$f":"'PADD1 mthly rpt'!CH14+'PADD2 mthly rpt'!CH14+'PADD3 mthly rpt'!CH14+'PADD4 mthly rpt'!CH14+'PADD5 mthly rpt'!CH14","v":48158.51720556074},{"$f":"'PADD1 mthly rpt'!CI14+'PADD2 mthly rpt'!CI14+'PADD3 mthly rpt'!CI14+'PADD4 mthly rpt'!CI14+'PADD5 mthly rpt'!CI14","v":36019.768290700362},{"$f":"'PADD1 mthly rpt'!CJ14+'PADD2 mthly rpt'!CJ14+'PADD3 mthly rpt'!CJ14+'PADD4 mthly rpt'!CJ14+'PADD5 mthly rpt'!CJ14","v":25601.47197794617},{"$f":"'PADD1 mthly rpt'!CK14+'PADD2 mthly rpt'!CK14+'PADD3 mthly rpt'!CK14+'PADD4 mthly rpt'!CK14+'PADD5 mthly rpt'!CK14","v":26270.536878765248},{"$f":"'PADD1 mthly rpt'!CL14+'PADD2 mthly rpt'!CL14+'PADD3 mthly rpt'!CL14+'PADD4 mthly rpt'!CL14+'PADD5 mthly rpt'!CL14","v":25601.47197794617},{"$f":"'PADD1 mthly rpt'!CM14+'PADD2 mthly rpt'!CM14+'PADD3 mthly rpt'!CM14+'PADD4 mthly rpt'!CM14+'PADD5 mthly rpt'!CM14","v":26270.536878765248},{"$f":"'PADD1 mthly rpt'!CN14+'PADD2 mthly rpt'!CN14+'PADD3 mthly rpt'!CN14+'PADD4 mthly rpt'!CN14+'PADD5 mthly rpt'!CN14","v":25601.47197794617},{"$f":"'PADD1 mthly rpt'!CO14+'PADD2 mthly rpt'!CO14+'PADD3 mthly rpt'!CO14+'PADD4 mthly rpt'!CO14+'PADD5 mthly rpt'!CO14","v":48158.51720556074},{"$f":"'PADD1 mthly rpt'!CP14+'PADD2 mthly rpt'!CP14+'PADD3 mthly rpt'!CP14+'PADD4 mthly rpt'!CP14+'PADD5 mthly rpt'!CP14","v":78744.341243004223},{"$f":"'PADD1 mthly rpt'!CQ14+'PADD2 mthly rpt'!CQ14+'PADD3 mthly rpt'!CQ14+'PADD4 mthly rpt'!CQ14+'PADD5 mthly rpt'!CQ14","v":121516.70454536658},{"$f":"'PADD1 mthly rpt'!CR14+'PADD2 mthly rpt'!CR14+'PADD3 mthly rpt'!CR14+'PADD4 mthly rpt'!CR14+'PADD5 mthly rpt'!CR14","v":107896.45477869251},{"$f":"'PADD1 mthly rpt'!CS14+'PADD2 mthly rpt'!CS14+'PADD3 mthly rpt'!CS14+'PADD4 mthly rpt'!CS14+'PADD5 mthly rpt'!CS14","v":73582.983436685638},{"$f":"'PADD1 mthly rpt'!CT14+'PADD2 mthly rpt'!CT14+'PADD3 mthly rpt'!CT14+'PADD4 mthly rpt'!CT14+'PADD5 mthly rpt'!CT14","v":59966.076190476197},{"$f":"'PADD1 mthly rpt'!CU14+'PADD2 mthly rpt'!CU14+'PADD3 mthly rpt'!CU14+'PADD4 mthly rpt'!CU14+'PADD5 mthly rpt'!CU14","v":46162.783496412274},{"$f":"'PADD1 mthly rpt'!CV14+'PADD2 mthly rpt'!CV14+'PADD3 mthly rpt'!CV14+'PADD4 mthly rpt'!CV14+'PADD5 mthly rpt'!CV14","v":31802.407240704502},{"$f":"'PADD1 mthly rpt'!CW14+'PADD2 mthly rpt'!CW14+'PADD3 mthly rpt'!CW14+'PADD4 mthly rpt'!CW14+'PADD5 mthly rpt'!CW14","v":32668.981669928246},{"$f":"'PADD1 mthly rpt'!CX14+'PADD2 mthly rpt'!CX14+'PADD3 mthly rpt'!CX14+'PADD4 mthly rpt'!CX14+'PADD5 mthly rpt'!CX14","v":31802.407240704502},{"$f":"'PADD1 mthly rpt'!CY14+'PADD2 mthly rpt'!CY14+'PADD3 mthly rpt'!CY14+'PADD4 mthly rpt'!CY14+'PADD5 mthly rpt'!CY14","v":32668.981669928246},{"$f":"'PADD1 mthly rpt'!CZ14+'PADD2 mthly rpt'!CZ14+'PADD3 mthly rpt'!CZ14+'PADD4 mthly rpt'!CZ14+'PADD5 mthly rpt'!CZ14","v":31802.407240704502},{"$f":"'PADD1 mthly rpt'!DA14+'PADD2 mthly rpt'!DA14+'PADD3 mthly rpt'!DA14+'PADD4 mthly rpt'!DA14+'PADD5 mthly rpt'!DA14","v":59966.076190476197},{"$f":"'PADD1 mthly rpt'!DB14+'PADD2 mthly rpt'!DB14+'PADD3 mthly rpt'!DB14+'PADD4 mthly rpt'!DB14+'PADD5 mthly rpt'!DB14","v":98033.452902804958},{"$f":"'PADD1 mthly rpt'!DC14+'PADD2 mthly rpt'!DC14+'PADD3 mthly rpt'!DC14+'PADD4 mthly rpt'!DC14+'PADD5 mthly rpt'!DC14","v":151327.78030006521},{"$f":"'PADD1 mthly rpt'!DD14+'PADD2 mthly rpt'!DD14+'PADD3 mthly rpt'!DD14+'PADD4 mthly rpt'!DD14+'PADD5 mthly rpt'!DD14","v":161045.79354207433},{"$f":"'PADD1 mthly rpt'!DE14+'PADD2 mthly rpt'!DE14+'PADD3 mthly rpt'!DE14+'PADD4 mthly rpt'!DE14+'PADD5 mthly rpt'!DE14","v":91596.042857142864},{"$f":"'PADD1 mthly rpt'!DF14+'PADD2 mthly rpt'!DF14+'PADD3 mthly rpt'!DF14+'PADD4 mthly rpt'!DF14+'PADD5 mthly rpt'!DF14","v":63845.553194335807},{"$f":"'PADD1 mthly rpt'!DG14+'PADD2 mthly rpt'!DG14+'PADD3 mthly rpt'!DG14+'PADD4 mthly rpt'!DG14+'PADD5 mthly rpt'!DG14","v":49053.092276732779},{"$f":"'PADD1 mthly rpt'!DH14+'PADD2 mthly rpt'!DH14+'PADD3 mthly rpt'!DH14+'PADD4 mthly rpt'!DH14+'PADD5 mthly rpt'!DH14","v":33746.110979387027},{"$f":"'PADD1 mthly rpt'!DI14+'PADD2 mthly rpt'!DI14+'PADD3 mthly rpt'!DI14+'PADD4 mthly rpt'!DI14+'PADD5 mthly rpt'!DI14","v":34646.52164393678},{"$f":"'PADD1 mthly rpt'!DJ14+'PADD2 mthly rpt'!DJ14+'PADD3 mthly rpt'!DJ14+'PADD4 mthly rpt'!DJ14+'PADD5 mthly rpt'!DJ14","v":33746.110979387027},{"$f":"'PADD1 mthly rpt'!DK14+'PADD2 mthly rpt'!DK14+'PADD3 mthly rpt'!DK14+'PADD4 mthly rpt'!DK14+'PADD5 mthly rpt'!DK14","v":34646.52164393678},{"$f":"'PADD1 mthly rpt'!DL14+'PADD2 mthly rpt'!DL14+'PADD3 mthly rpt'!DL14+'PADD4 mthly rpt'!DL14+'PADD5 mthly rpt'!DL14","v":33746.110979387027},{"$f":"'PADD1 mthly rpt'!DM14+'PADD2 mthly rpt'!DM14+'PADD3 mthly rpt'!DM14+'PADD4 mthly rpt'!DM14+'PADD5 mthly rpt'!DM14","v":63845.553194335807},{"$f":"'PADD1 mthly rpt'!DN14+'PADD2 mthly rpt'!DN14+'PADD3 mthly rpt'!DN14+'PADD4 mthly rpt'!DN14+'PADD5 mthly rpt'!DN14","v":110088.07232371223},{"$f":"'PADD1 mthly rpt'!DO14+'PADD2 mthly rpt'!DO14+'PADD3 mthly rpt'!DO14+'PADD4 mthly rpt'!DO14+'PADD5 mthly rpt'!DO14","v":153243.46917463237},{"$f":"'PADD1 mthly rpt'!DP14+'PADD2 mthly rpt'!DP14+'PADD3 mthly rpt'!DP14+'PADD4 mthly rpt'!DP14+'PADD5 mthly rpt'!DP14","v":151185.38765566153},{"$f":"'PADD1 mthly rpt'!DQ14+'PADD2 mthly rpt'!DQ14+'PADD3 mthly rpt'!DQ14+'PADD4 mthly rpt'!DQ14+'PADD5 mthly rpt'!DQ14","v":97739.583209887103},{"$f":"'PADD1 mthly rpt'!DR14+'PADD2 mthly rpt'!DR14+'PADD3 mthly rpt'!DR14+'PADD4 mthly rpt'!DR14+'PADD5 mthly rpt'!DR14","v":48877.471578677396},{"$f":"'PADD1 mthly rpt'!DS14+'PADD2 mthly rpt'!DS14+'PADD3 mthly rpt'!DS14+'PADD4 mthly rpt'!DS14+'PADD5 mthly rpt'!DS14","v":37908.93222653235},{"$f":"'PADD1 mthly rpt'!DT14+'PADD2 mthly rpt'!DT14+'PADD3 mthly rpt'!DT14+'PADD4 mthly rpt'!DT14+'PADD5 mthly rpt'!DT14","v":26513.047185342704},{"$f":"'PADD1 mthly rpt'!DU14+'PADD2 mthly rpt'!DU14+'PADD3 mthly rpt'!DU14+'PADD4 mthly rpt'!DU14+'PADD5 mthly rpt'!DU14","v":27177.807146078769},{"$f":"'PADD1 mthly rpt'!DV14+'PADD2 mthly rpt'!DV14+'PADD3 mthly rpt'!DV14+'PADD4 mthly rpt'!DV14+'PADD5 mthly rpt'!DV14","v":26513.047185342704},{"$f":"'PADD1 mthly rpt'!DW14+'PADD2 mthly rpt'!DW14+'PADD3 mthly rpt'!DW14+'PADD4 mthly rpt'!DW14+'PADD5 mthly rpt'!DW14","v":27177.807146078769},{"$f":"'PADD1 mthly rpt'!DX14+'PADD2 mthly rpt'!DX14+'PADD3 mthly rpt'!DX14+'PADD4 mthly rpt'!DX14+'PADD5 mthly rpt'!DX14","v":26513.047185342704},{"$f":"'PADD1 mthly rpt'!DY14+'PADD2 mthly rpt'!DY14+'PADD3 mthly rpt'!DY14+'PADD4 mthly rpt'!DY14+'PADD5 mthly rpt'!DY14","v":48877.471578677396},{"$f":"'PADD1 mthly rpt'!DZ14+'PADD2 mthly rpt'!DZ14+'PADD3 mthly rpt'!DZ14+'PADD4 mthly rpt'!DZ14+'PADD5 mthly rpt'!DZ14","v":79171.53264650653},{"$f":"'PADD1 mthly rpt'!EA14+'PADD2 mthly rpt'!EA14+'PADD3 mthly rpt'!EA14+'PADD4 mthly rpt'!EA14+'PADD5 mthly rpt'!EA14","v":120573.72157059969},{"$f":"'PADD1 mthly rpt'!EB14+'PADD2 mthly rpt'!EB14+'PADD3 mthly rpt'!EB14+'PADD4 mthly rpt'!EB14+'PADD5 mthly rpt'!EB14","v":107541.10808418697},{"$f":"'PADD1 mthly rpt'!EC14+'PADD2 mthly rpt'!EC14+'PADD3 mthly rpt'!EC14+'PADD4 mthly rpt'!EC14+'PADD5 mthly rpt'!EC14","v":74043.38437797119},{"$f":"'PADD1 mthly rpt'!ED14+'PADD2 mthly rpt'!ED14+'PADD3 mthly rpt'!ED14+'PADD4 mthly rpt'!ED14+'PADD5 mthly rpt'!ED14","v":62966.874455520505},{"$f":"'PADD1 mthly rpt'!EE14+'PADD2 mthly rpt'!EE14+'PADD3 mthly rpt'!EE14+'PADD4 mthly rpt'!EE14+'PADD5 mthly rpt'!EE14","v":48312.432425515042},{"$f":"'PADD1 mthly rpt'!EF14+'PADD2 mthly rpt'!EF14+'PADD3 mthly rpt'!EF14+'PADD4 mthly rpt'!EF14+'PADD5 mthly rpt'!EF14","v":33778.107612291016},{"$f":"'PADD1 mthly rpt'!EG14+'PADD2 mthly rpt'!EG14+'PADD3 mthly rpt'!EG14+'PADD4 mthly rpt'!EG14+'PADD5 mthly rpt'!EG14","v":33975.186110444753},{"$f":"'PADD1 mthly rpt'!EH14+'PADD2 mthly rpt'!EH14+'PADD3 mthly rpt'!EH14+'PADD4 mthly rpt'!EH14+'PADD5 mthly rpt'!EH14","v":33778.107612291016},{"$f":"'PADD1 mthly rpt'!EI14+'PADD2 mthly rpt'!EI14+'PADD3 mthly rpt'!EI14+'PADD4 mthly rpt'!EI14+'PADD5 mthly rpt'!EI14","v":34689.738558408819},{"$f":"'PADD1 mthly rpt'!EJ14+'PADD2 mthly rpt'!EJ14+'PADD3 mthly rpt'!EJ14+'PADD4 mthly rpt'!EJ14+'PADD5 mthly rpt'!EJ14","v":33680.642262546768},{"$f":"'PADD1 mthly rpt'!EK14+'PADD2 mthly rpt'!EK14+'PADD3 mthly rpt'!EK14+'PADD4 mthly rpt'!EK14+'PADD5 mthly rpt'!EK14","v":64903.866258580667},{"$f":"'PADD1 mthly rpt'!EL14+'PADD2 mthly rpt'!EL14+'PADD3 mthly rpt'!EL14+'PADD4 mthly rpt'!EL14+'PADD5 mthly rpt'!EL14","v":107197.74504726352},{"$f":"'PADD1 mthly rpt'!EM14+'PADD2 mthly rpt'!EM14+'PADD3 mthly rpt'!EM14+'PADD4 mthly rpt'!EM14+'PADD5 mthly rpt'!EM14","v":166395.91708220681},{"$f":"'PADD1 mthly rpt'!EN14+'PADD2 mthly rpt'!EN14+'PADD3 mthly rpt'!EN14+'PADD4 mthly rpt'!EN14+'PADD5 mthly rpt'!EN14","v":144502.88345403341},{"$f":"'PADD1 mthly rpt'!EO14+'PADD2 mthly rpt'!EO14+'PADD3 mthly rpt'!EO14+'PADD4 mthly rpt'!EO14+'PADD5 mthly rpt'!EO14","v":100038.27967237678},{"$f":"'PADD1 mthly rpt'!EP14+'PADD2 mthly rpt'!EP14+'PADD3 mthly rpt'!EP14+'PADD4 mthly rpt'!EP14+'PADD5 mthly rpt'!EP14","v":61903.866258580667},{"$f":"'PADD1 mthly rpt'!EQ14+'PADD2 mthly rpt'!EQ14+'PADD3 mthly rpt'!EQ14+'PADD4 mthly rpt'!EQ14+'PADD5 mthly rpt'!EQ14","v":49790.132207408431},{"$f":"'PADD1 mthly rpt'!ER14+'PADD2 mthly rpt'!ER14+'PADD3 mthly rpt'!ER14+'PADD4 mthly rpt'!ER14+'PADD5 mthly rpt'!ER14","v":33819.700123487135},{"$f":"'PADD1 mthly rpt'!ES14+'PADD2 mthly rpt'!ES14+'PADD3 mthly rpt'!ES14+'PADD4 mthly rpt'!ES14+'PADD5 mthly rpt'!ES14","v":34752.504235499197},{"$f":"'PADD1 mthly rpt'!ET14+'PADD2 mthly rpt'!ET14+'PADD3 mthly rpt'!ET14+'PADD4 mthly rpt'!ET14+'PADD5 mthly rpt'!ET14","v":33819.700123487135},{"$f":"'PADD1 mthly rpt'!EU14+'PADD2 mthly rpt'!EU14+'PADD3 mthly rpt'!EU14+'PADD4 mthly rpt'!EU14+'PADD5 mthly rpt'!EU14","v":31866.181696458785},{"$f":"'PADD1 mthly rpt'!EV14+'PADD2 mthly rpt'!EV14+'PADD3 mthly rpt'!EV14+'PADD4 mthly rpt'!EV14+'PADD5 mthly rpt'!EV14","v":30818.936288593944},{"$f":"'PADD1 mthly rpt'!EW14+'PADD2 mthly rpt'!EW14+'PADD3 mthly rpt'!EW14+'PADD4 mthly rpt'!EW14+'PADD5 mthly rpt'!EW14","v":66051.263938904027},{"$f":"'PADD1 mthly rpt'!EX14+'PADD2 mthly rpt'!EX14+'PADD3 mthly rpt'!EX14+'PADD4 mthly rpt'!EX14+'PADD5 mthly rpt'!EX14","v":113775.73324017327},{"$f":"'PADD1 mthly rpt'!EY14+'PADD2 mthly rpt'!EY14+'PADD3 mthly rpt'!EY14+'PADD4 mthly rpt'!EY14+'PADD5 mthly rpt'!EY14","v":180575.02961326644},{"$f":"'PADD1 mthly rpt'!EZ14+'PADD2 mthly rpt'!EZ14+'PADD3 mthly rpt'!EZ14+'PADD4 mthly rpt'!EZ14+'PADD5 mthly rpt'!EZ14","v":159256.10523887502},{"$f":"'PADD1 mthly rpt'!FA14+'PADD2 mthly rpt'!FA14+'PADD3 mthly rpt'!FA14+'PADD4 mthly rpt'!FA14+'PADD5 mthly rpt'!FA14","v":105696.98295093022},{"$f":"'PADD1 mthly rpt'!FB14+'PADD2 mthly rpt'!FB14+'PADD3 mthly rpt'!FB14+'PADD4 mthly rpt'!FB14+'PADD5 mthly rpt'!FB14","v":66687.362390605471},{"$f":"'PADD1 mthly rpt'!FC14+'PADD2 mthly rpt'!FC14+'PADD3 mthly rpt'!FC14+'PADD4 mthly rpt'!FC14+'PADD5 mthly rpt'!FC14","v":49241.404619110726},{"$f":"'PADD1 mthly rpt'!FD14+'PADD2 mthly rpt'!FD14+'PADD3 mthly rpt'!FD14+'PADD4 mthly rpt'!FD14+'PADD5 mthly rpt'!FD14","v":31115.73420716812},{"$f":"'PADD1 mthly rpt'!FE14+'PADD2 mthly rpt'!FE14+'PADD3 mthly rpt'!FE14+'PADD4 mthly rpt'!FE14+'PADD5 mthly rpt'!FE14","v":32173.064981198106},{"$f":"'PADD1 mthly rpt'!FF14+'PADD2 mthly rpt'!FF14+'PADD3 mthly rpt'!FF14+'PADD4 mthly rpt'!FF14+'PADD5 mthly rpt'!FF14","v":31115.73420716812},{"$f":"'PADD1 mthly rpt'!FG14+'PADD2 mthly rpt'!FG14+'PADD3 mthly rpt'!FG14+'PADD4 mthly rpt'!FG14+'PADD5 mthly rpt'!FG14","v":32173.064981198106},{"$f":"'PADD1 mthly rpt'!FH14+'PADD2 mthly rpt'!FH14+'PADD3 mthly rpt'!FH14+'PADD4 mthly rpt'!FH14+'PADD5 mthly rpt'!FH14","v":31115.73420716812},{"$f":"'PADD1 mthly rpt'!FI14+'PADD2 mthly rpt'!FI14+'PADD3 mthly rpt'!FI14+'PADD4 mthly rpt'!FI14+'PADD5 mthly rpt'!FI14","v":66687.362390605471},{"$f":"'PADD1 mthly rpt'!FJ14+'PADD2 mthly rpt'!FJ14+'PADD3 mthly rpt'!FJ14+'PADD4 mthly rpt'!FJ14+'PADD5 mthly rpt'!FJ14","v":104871.4362356862},{"$f":"'PADD1 mthly rpt'!FK14+'PADD2 mthly rpt'!FK14+'PADD3 mthly rpt'!FK14+'PADD4 mthly rpt'!FK14+'PADD5 mthly rpt'!FK14","v":182314.03489345597},{"$f":"'PADD1 mthly rpt'!FL14+'PADD2 mthly rpt'!FL14+'PADD3 mthly rpt'!FL14+'PADD4 mthly rpt'!FL14+'PADD5 mthly rpt'!FL14","v":140789.80127927411},{"$f":"'PADD1 mthly rpt'!FM14+'PADD2 mthly rpt'!FM14+'PADD3 mthly rpt'!FM14+'PADD4 mthly rpt'!FM14+'PADD5 mthly rpt'!FM14","v":106714.88455031204},{"$f":"'PADD1 mthly rpt'!FN14+'PADD2 mthly rpt'!FN14+'PADD3 mthly rpt'!FN14+'PADD4 mthly rpt'!FN14+'PADD5 mthly rpt'!FN14","v":48830.931917496142},{"$f":"'PADD1 mthly rpt'!FO14+'PADD2 mthly rpt'!FO14+'PADD3 mthly rpt'!FO14+'PADD4 mthly rpt'!FO14+'PADD5 mthly rpt'!FO14","v":43440.28041926102},{"$f":"'PADD1 mthly rpt'!FP14+'PADD2 mthly rpt'!FP14+'PADD3 mthly rpt'!FP14+'PADD4 mthly rpt'!FP14+'PADD5 mthly rpt'!FP14","v":27449.99314836739},{"$f":"'PADD1 mthly rpt'!FQ14+'PADD2 mthly rpt'!FQ14+'PADD3 mthly rpt'!FQ14+'PADD4 mthly rpt'!FQ14+'PADD5 mthly rpt'!FQ14","v":28382.759905836188},{"$f":"'PADD1 mthly rpt'!FR14+'PADD2 mthly rpt'!FR14+'PADD3 mthly rpt'!FR14+'PADD4 mthly rpt'!FR14+'PADD5 mthly rpt'!FR14","v":27449.99314836739},{"$f":"'PADD1 mthly rpt'!FS14+'PADD2 mthly rpt'!FS14+'PADD3 mthly rpt'!FS14+'PADD4 mthly rpt'!FS14+'PADD5 mthly rpt'!FS14","v":28382.759905836188},{"$f":"'PADD1 mthly rpt'!FT14+'PADD2 mthly rpt'!FT14+'PADD3 mthly rpt'!FT14+'PADD4 mthly rpt'!FT14+'PADD5 mthly rpt'!FT14","v":27449.99314836739},{"$f":"'PADD1 mthly rpt'!FU14+'PADD2 mthly rpt'!FU14+'PADD3 mthly rpt'!FU14+'PADD4 mthly rpt'!FU14+'PADD5 mthly rpt'!FU14","v":58830.931917496142},{"$f":"'PADD1 mthly rpt'!FV14+'PADD2 mthly rpt'!FV14+'PADD3 mthly rpt'!FV14+'PADD4 mthly rpt'!FV14+'PADD5 mthly rpt'!FV14","v":101338.44557928835},{"$f":"'PADD1 mthly rpt'!FW14+'PADD2 mthly rpt'!FW14+'PADD3 mthly rpt'!FW14+'PADD4 mthly rpt'!FW14+'PADD5 mthly rpt'!FW14","v":160835.63946640509},{"$f":"'PADD1 mthly rpt'!FX14+'PADD2 mthly rpt'!FX14+'PADD3 mthly rpt'!FX14+'PADD4 mthly rpt'!FX14+'PADD5 mthly rpt'!FX14","v":141847.1733322189},{"$f":"'PADD1 mthly rpt'!FY14+'PADD2 mthly rpt'!FY14+'PADD3 mthly rpt'!FY14+'PADD4 mthly rpt'!FY14+'PADD5 mthly rpt'!FY14","v":94142.816307386238},{"$f":"'PADD1 mthly rpt'!FZ14+'PADD2 mthly rpt'!FZ14+'PADD3 mthly rpt'!FZ14+'PADD4 mthly rpt'!FZ14+'PADD5 mthly rpt'!FZ14","v":57654.313279146219},{"$f":"'PADD1 mthly rpt'!GA14+'PADD2 mthly rpt'!GA14+'PADD3 mthly rpt'!GA14+'PADD4 mthly rpt'!GA14+'PADD5 mthly rpt'!GA14","v":42571.474810875799},{"$f":"'PADD1 mthly rpt'!GB14+'PADD2 mthly rpt'!GB14+'PADD3 mthly rpt'!GB14+'PADD4 mthly rpt'!GB14+'PADD5 mthly rpt'!GB14","v":26900.993285400047},{"$f":"'PADD1 mthly rpt'!GC14+'PADD2 mthly rpt'!GC14+'PADD3 mthly rpt'!GC14+'PADD4 mthly rpt'!GC14+'PADD5 mthly rpt'!GC14","v":27815.104707719467},{"$f":"'PADD1 mthly rpt'!GD14+'PADD2 mthly rpt'!GD14+'PADD3 mthly rpt'!GD14+'PADD4 mthly rpt'!GD14+'PADD5 mthly rpt'!GD14","v":26900.993285400047},{"$f":"'PADD1 mthly rpt'!GE14+'PADD2 mthly rpt'!GE14+'PADD3 mthly rpt'!GE14+'PADD4 mthly rpt'!GE14+'PADD5 mthly rpt'!GE14","v":27815.104707719467},{"$f":"'PADD1 mthly rpt'!GF14+'PADD2 mthly rpt'!GF14+'PADD3 mthly rpt'!GF14+'PADD4 mthly rpt'!GF14+'PADD5 mthly rpt'!GF14","v":26900.993285400047},{"$f":"'PADD1 mthly rpt'!GG14+'PADD2 mthly rpt'!GG14+'PADD3 mthly rpt'!GG14+'PADD4 mthly rpt'!GG14+'PADD5 mthly rpt'!GG14","v":57654.313279146219},{"$f":"'PADD1 mthly rpt'!GH14+'PADD2 mthly rpt'!GH14+'PADD3 mthly rpt'!GH14+'PADD4 mthly rpt'!GH14+'PADD5 mthly rpt'!GH14","v":99311.676667702603},{"$f":"'PADD1 mthly rpt'!GI14+'PADD2 mthly rpt'!GI14+'PADD3 mthly rpt'!GI14+'PADD4 mthly rpt'!GI14+'PADD5 mthly rpt'!GI14","v":157618.92667707696},{"$f":"'PADD1 mthly rpt'!GJ14+'PADD2 mthly rpt'!GJ14+'PADD3 mthly rpt'!GJ14+'PADD4 mthly rpt'!GJ14+'PADD5 mthly rpt'!GJ14","v":50014.5516829958},{"$f":"'PADD1 mthly rpt'!GK14+'PADD2 mthly rpt'!GK14+'PADD3 mthly rpt'!GK14+'PADD4 mthly rpt'!GK14+'PADD5 mthly rpt'!GK14","v":83714.925524104241},{"$f":"'PADD1 mthly rpt'!GL14+'PADD2 mthly rpt'!GL14+'PADD3 mthly rpt'!GL14+'PADD4 mthly rpt'!GL14+'PADD5 mthly rpt'!GL14","v":85897.901240580351},{"$f":"'PADD1 mthly rpt'!GM14+'PADD2 mthly rpt'!GM14+'PADD3 mthly rpt'!GM14+'PADD4 mthly rpt'!GM14+'PADD5 mthly rpt'!GM14","v":92755.319308326696},{"$f":"'PADD1 mthly rpt'!GN14+'PADD2 mthly rpt'!GN14+'PADD3 mthly rpt'!GN14+'PADD4 mthly rpt'!GN14+'PADD5 mthly rpt'!GN14","v":52291.985396160904},{"$f":"'PADD1 mthly rpt'!GO14+'PADD2 mthly rpt'!GO14+'PADD3 mthly rpt'!GO14+'PADD4 mthly rpt'!GO14+'PADD5 mthly rpt'!GO14","v":37253.760362393718},{"$f":"'PADD1 mthly rpt'!GP14+'PADD2 mthly rpt'!GP14+'PADD3 mthly rpt'!GP14+'PADD4 mthly rpt'!GP14+'PADD5 mthly rpt'!GP14","v":30290.054703029677},{"$f":"'PADD1 mthly rpt'!GQ14+'PADD2 mthly rpt'!GQ14+'PADD3 mthly rpt'!GQ14+'PADD4 mthly rpt'!GQ14+'PADD5 mthly rpt'!GQ14","v":4675.035281000115},{"$f":"'PADD1 mthly rpt'!GR14+'PADD2 mthly rpt'!GR14+'PADD3 mthly rpt'!GR14+'PADD4 mthly rpt'!GR14+'PADD5 mthly rpt'!GR14","v":1286.2179403866364},{"$f":"'PADD1 mthly rpt'!GS14+'PADD2 mthly rpt'!GS14+'PADD3 mthly rpt'!GS14+'PADD4 mthly rpt'!GS14+'PADD5 mthly rpt'!GS14","v":96510.598651003223},{"$f":"'PADD1 mthly rpt'!GT14+'PADD2 mthly rpt'!GT14+'PADD3 mthly rpt'!GT14+'PADD4 mthly rpt'!GT14+'PADD5 mthly rpt'!GT14","v":109740.50685712106},{"$f":"'PADD1 mthly rpt'!GU14+'PADD2 mthly rpt'!GU14+'PADD3 mthly rpt'!GU14+'PADD4 mthly rpt'!GU14+'PADD5 mthly rpt'!GU14","v":129427.82298808814},{"$f":"'PADD1 mthly rpt'!GV14+'PADD2 mthly rpt'!GV14+'PADD3 mthly rpt'!GV14+'PADD4 mthly rpt'!GV14+'PADD5 mthly rpt'!GV14","v":59562.948760451203},{"$f":"'PADD1 mthly rpt'!GW14+'PADD2 mthly rpt'!GW14+'PADD3 mthly rpt'!GW14+'PADD4 mthly rpt'!GW14+'PADD5 mthly rpt'!GW14","v":81623.567396384911},{"$f":"'PADD1 mthly rpt'!GX14+'PADD2 mthly rpt'!GX14+'PADD3 mthly rpt'!GX14+'PADD4 mthly rpt'!GX14+'PADD5 mthly rpt'!GX14","v":108477.84809986081},{"$f":"'PADD1 mthly rpt'!GY14+'PADD2 mthly rpt'!GY14+'PADD3 mthly rpt'!GY14+'PADD4 mthly rpt'!GY14+'PADD5 mthly rpt'!GY14","v":90865.153290794857},{"$f":"'PADD1 mthly rpt'!GZ14+'PADD2 mthly rpt'!GZ14+'PADD3 mthly rpt'!GZ14+'PADD4 mthly rpt'!GZ14+'PADD5 mthly rpt'!GZ14","v":72788.375849912802},{"$f":"'PADD1 mthly rpt'!HA14+'PADD2 mthly rpt'!HA14+'PADD3 mthly rpt'!HA14+'PADD4 mthly rpt'!HA14+'PADD5 mthly rpt'!HA14","v":41408.912035511559},{"$f":"'PADD1 mthly rpt'!HB14+'PADD2 mthly rpt'!HB14+'PADD3 mthly rpt'!HB14+'PADD4 mthly rpt'!HB14+'PADD5 mthly rpt'!HB14","v":19398.349034900424},{"$f":"'PADD1 mthly rpt'!HC14+'PADD2 mthly rpt'!HC14+'PADD3 mthly rpt'!HC14+'PADD4 mthly rpt'!HC14+'PADD5 mthly rpt'!HC14","v":5257.4451790214825}]
["  Other",{"$f":"'PADD1 mthly rpt'!B15+'PADD2 mthly rpt'!B15+'PADD3 mthly rpt'!B15+'PADD4 mthly rpt'!B15+'PADD5 mthly rpt'!B15","v":108845.22075437961},{"$f":"'PADD1 mthly rpt'!C15+'PADD2 mthly rpt'!C15+'PADD3 mthly rpt'!C15+'PADD4 mthly rpt'!C15+'PADD5 mthly rpt'!C15","v":104525.67303133977},{"$f":"'PADD1 mthly rpt'!D15+'PADD2 mthly rpt'!D15+'PADD3 mthly rpt'!D15+'PADD4 mthly rpt'!D15+'PADD5 mthly rpt'!D15","v":100255.21107787997},{"$f":"'PADD1 mthly rpt'!E15+'PADD2 mthly rpt'!E15+'PADD3 mthly rpt'!E15+'PADD4 mthly rpt'!E15+'PADD5 mthly rpt'!E15","v":96230.177972320147},{"$f":"'PADD1 mthly rpt'!F15+'PADD2 mthly rpt'!F15+'PADD3 mthly rpt'!F15+'PADD4 mthly rpt'!F15+'PADD5 mthly rpt'!F15","v":92548.745253820322},{"$f":"'PADD1 mthly rpt'!G15+'PADD2 mthly rpt'!G15+'PADD3 mthly rpt'!G15+'PADD4 mthly rpt'!G15+'PADD5 mthly rpt'!G15","v":91714.287170960335},{"$f":"'PADD1 mthly rpt'!H15+'PADD2 mthly rpt'!H15+'PADD3 mthly rpt'!H15+'PADD4 mthly rpt'!H15+'PADD5 mthly rpt'!H15","v":91616.115631800349},{"$f":"'PADD1 mthly rpt'!I15+'PADD2 mthly rpt'!I15+'PADD3 mthly rpt'!I15+'PADD4 mthly rpt'!I15+'PADD5 mthly rpt'!I15","v":93972.232571640227},{"$f":"'PADD1 mthly rpt'!J15+'PADD2 mthly rpt'!J15+'PADD3 mthly rpt'!J15+'PADD4 mthly rpt'!J15+'PADD5 mthly rpt'!J15","v":96181.092202740139},{"$f":"'PADD1 mthly rpt'!K15+'PADD2 mthly rpt'!K15+'PADD3 mthly rpt'!K15+'PADD4 mthly rpt'!K15+'PADD5 mthly rpt'!K15","v":97113.721824760083},{"$f":"'PADD1 mthly rpt'!L15+'PADD2 mthly rpt'!L15+'PADD3 mthly rpt'!L15+'PADD4 mthly rpt'!L15+'PADD5 mthly rpt'!L15","v":100206.12530829996},{"$f":"'PADD1 mthly rpt'!M15+'PADD2 mthly rpt'!M15+'PADD3 mthly rpt'!M15+'PADD4 mthly rpt'!M15+'PADD5 mthly rpt'!M15","v":106636.3611232797},{"$f":"'PADD1 mthly rpt'!N15+'PADD2 mthly rpt'!N15+'PADD3 mthly rpt'!N15+'PADD4 mthly rpt'!N15+'PADD5 mthly rpt'!N15","v":111266.84119883952},{"$f":"'PADD1 mthly rpt'!O15+'PADD2 mthly rpt'!O15+'PADD3 mthly rpt'!O15+'PADD4 mthly rpt'!O15+'PADD5 mthly rpt'!O15","v":103739.27536366486},{"$f":"'PADD1 mthly rpt'!P15+'PADD2 mthly rpt'!P15+'PADD3 mthly rpt'!P15+'PADD4 mthly rpt'!P15+'PADD5 mthly rpt'!P15","v":96297.250049344453},{"$f":"'PADD1 mthly rpt'!Q15+'PADD2 mthly rpt'!Q15+'PADD3 mthly rpt'!Q15+'PADD4 mthly rpt'!Q15+'PADD5 mthly rpt'!Q15","v":89282.927339295318},{"$f":"'PADD1 mthly rpt'!R15+'PADD2 mthly rpt'!R15+'PADD3 mthly rpt'!R15+'PADD4 mthly rpt'!R15+'PADD5 mthly rpt'!R15","v":82824.618014798878},{"$f":"'PADD1 mthly rpt'!S15+'PADD2 mthly rpt'!S15+'PADD3 mthly rpt'!S15+'PADD4 mthly rpt'!S15+'PADD5 mthly rpt'!S15","v":81455.969681130751},{"$f":"'PADD1 mthly rpt'!T15+'PADD2 mthly rpt'!T15+'PADD3 mthly rpt'!T15+'PADD4 mthly rpt'!T15+'PADD5 mthly rpt'!T15","v":81242.118378995117},{"$f":"'PADD1 mthly rpt'!U15+'PADD2 mthly rpt'!U15+'PADD3 mthly rpt'!U15+'PADD4 mthly rpt'!U15+'PADD5 mthly rpt'!U15","v":85390.833640426601},{"$f":"'PADD1 mthly rpt'!V15+'PADD2 mthly rpt'!V15+'PADD3 mthly rpt'!V15+'PADD4 mthly rpt'!V15+'PADD5 mthly rpt'!V15","v":89197.386818441068},{"$f":"'PADD1 mthly rpt'!W15+'PADD2 mthly rpt'!W15+'PADD3 mthly rpt'!W15+'PADD4 mthly rpt'!W15+'PADD5 mthly rpt'!W15","v":90779.886454244828},{"$f":"'PADD1 mthly rpt'!X15+'PADD2 mthly rpt'!X15+'PADD3 mthly rpt'!X15+'PADD4 mthly rpt'!X15+'PADD5 mthly rpt'!X15","v":96254.479788917306},{"$f":"'PADD1 mthly rpt'!Y15+'PADD2 mthly rpt'!Y15+'PADD3 mthly rpt'!Y15+'PADD4 mthly rpt'!Y15+'PADD5 mthly rpt'!Y15","v":107417.51776039794},{"$f":"'PADD1 mthly rpt'!Z15+'PADD2 mthly rpt'!Z15+'PADD3 mthly rpt'!Z15+'PADD4 mthly rpt'!Z15+'PADD5 mthly rpt'!Z15","v":116766.31338366159},{"$f":"'PADD1 mthly rpt'!AA15+'PADD2 mthly rpt'!AA15+'PADD3 mthly rpt'!AA15+'PADD4 mthly rpt'!AA15+'PADD5 mthly rpt'!AA15","v":108768.4493177119},{"$f":"'PADD1 mthly rpt'!AB15+'PADD2 mthly rpt'!AB15+'PADD3 mthly rpt'!AB15+'PADD4 mthly rpt'!AB15+'PADD5 mthly rpt'!AB15","v":100861.47007069345},{"$f":"'PADD1 mthly rpt'!AC15+'PADD2 mthly rpt'!AC15+'PADD3 mthly rpt'!AC15+'PADD4 mthly rpt'!AC15+'PADD5 mthly rpt'!AC15","v":93408.914918331255},{"$f":"'PADD1 mthly rpt'!AD15+'PADD2 mthly rpt'!AD15+'PADD3 mthly rpt'!AD15+'PADD4 mthly rpt'!AD15+'PADD5 mthly rpt'!AD15","v":86547.111089022161},{"$f":"'PADD1 mthly rpt'!AE15+'PADD2 mthly rpt'!AE15+'PADD3 mthly rpt'!AE15+'PADD4 mthly rpt'!AE15+'PADD5 mthly rpt'!AE15","v":85092.953986122215},{"$f":"'PADD1 mthly rpt'!AF15+'PADD2 mthly rpt'!AF15+'PADD3 mthly rpt'!AF15+'PADD4 mthly rpt'!AF15+'PADD5 mthly rpt'!AF15","v":84865.74193879409},{"$f":"'PADD1 mthly rpt'!AG15+'PADD2 mthly rpt'!AG15+'PADD3 mthly rpt'!AG15+'PADD4 mthly rpt'!AG15+'PADD5 mthly rpt'!AG15","v":89273.655656959541},{"$f":"'PADD1 mthly rpt'!AH15+'PADD2 mthly rpt'!AH15+'PADD3 mthly rpt'!AH15+'PADD4 mthly rpt'!AH15+'PADD5 mthly rpt'!AH15","v":93318.030099399999},{"$f":"'PADD1 mthly rpt'!AI15+'PADD2 mthly rpt'!AI15+'PADD3 mthly rpt'!AI15+'PADD4 mthly rpt'!AI15+'PADD5 mthly rpt'!AI15","v":94999.39924962807},{"$f":"'PADD1 mthly rpt'!AJ15+'PADD2 mthly rpt'!AJ15+'PADD3 mthly rpt'!AJ15+'PADD4 mthly rpt'!AJ15+'PADD5 mthly rpt'!AJ15","v":100816.02766122784},{"$f":"'PADD1 mthly rpt'!AK15+'PADD2 mthly rpt'!AK15+'PADD3 mthly rpt'!AK15+'PADD4 mthly rpt'!AK15+'PADD5 mthly rpt'!AK15","v":112676.49653175549},{"$f":"'PADD1 mthly rpt'!AL15+'PADD2 mthly rpt'!AL15+'PADD3 mthly rpt'!AL15+'PADD4 mthly rpt'!AL15+'PADD5 mthly rpt'!AL15","v":109230.60867135304},{"$f":"'PADD1 mthly rpt'!AM15+'PADD2 mthly rpt'!AM15+'PADD3 mthly rpt'!AM15+'PADD4 mthly rpt'!AM15+'PADD5 mthly rpt'!AM15","v":99360.412281541619},{"$f":"'PADD1 mthly rpt'!AN15+'PADD2 mthly rpt'!AN15+'PADD3 mthly rpt'!AN15+'PADD4 mthly rpt'!AN15+'PADD5 mthly rpt'!AN15","v":93438.294447654771},{"$f":"'PADD1 mthly rpt'!AO15+'PADD2 mthly rpt'!AO15+'PADD3 mthly rpt'!AO15+'PADD4 mthly rpt'!AO15+'PADD5 mthly rpt'!AO15","v":86080.511684340803},{"$f":"'PADD1 mthly rpt'!AP15+'PADD2 mthly rpt'!AP15+'PADD3 mthly rpt'!AP15+'PADD4 mthly rpt'!AP15+'PADD5 mthly rpt'!AP15","v":79305.967798606594},{"$f":"'PADD1 mthly rpt'!AQ15+'PADD2 mthly rpt'!AQ15+'PADD3 mthly rpt'!AQ15+'PADD4 mthly rpt'!AQ15+'PADD5 mthly rpt'!AQ15","v":77870.302869179475},{"$f":"'PADD1 mthly rpt'!AR15+'PADD2 mthly rpt'!AR15+'PADD3 mthly rpt'!AR15+'PADD4 mthly rpt'!AR15+'PADD5 mthly rpt'!AR15","v":77645.980223956474},{"$f":"'PADD1 mthly rpt'!AS15+'PADD2 mthly rpt'!AS15+'PADD3 mthly rpt'!AS15+'PADD4 mthly rpt'!AS15+'PADD5 mthly rpt'!AS15","v":81997.839541282432},{"$f":"'PADD1 mthly rpt'!AT15+'PADD2 mthly rpt'!AT15+'PADD3 mthly rpt'!AT15+'PADD4 mthly rpt'!AT15+'PADD5 mthly rpt'!AT15","v":85990.782626251603},{"$f":"'PADD1 mthly rpt'!AU15+'PADD2 mthly rpt'!AU15+'PADD3 mthly rpt'!AU15+'PADD4 mthly rpt'!AU15+'PADD5 mthly rpt'!AU15","v":87695.634729946294},{"$f":"'PADD1 mthly rpt'!AV15+'PADD2 mthly rpt'!AV15+'PADD3 mthly rpt'!AV15+'PADD4 mthly rpt'!AV15+'PADD5 mthly rpt'!AV15","v":93438.294447654771},{"$f":"'PADD1 mthly rpt'!AW15+'PADD2 mthly rpt'!AW15+'PADD3 mthly rpt'!AW15+'PADD4 mthly rpt'!AW15+'PADD5 mthly rpt'!AW15","v":105147.93652829468},{"$f":"'PADD1 mthly rpt'!AX15+'PADD2 mthly rpt'!AX15+'PADD3 mthly rpt'!AX15+'PADD4 mthly rpt'!AX15+'PADD5 mthly rpt'!AX15","v":94228.834051627156},{"$f":"'PADD1 mthly rpt'!AY15+'PADD2 mthly rpt'!AY15+'PADD3 mthly rpt'!AY15+'PADD4 mthly rpt'!AY15+'PADD5 mthly rpt'!AY15","v":87256.189198497799},{"$f":"'PADD1 mthly rpt'!AZ15+'PADD2 mthly rpt'!AZ15+'PADD3 mthly rpt'!AZ15+'PADD4 mthly rpt'!AZ15+'PADD5 mthly rpt'!AZ15","v":80362.778945972183},{"$f":"'PADD1 mthly rpt'!BA15+'PADD2 mthly rpt'!BA15+'PADD3 mthly rpt'!BA15+'PADD4 mthly rpt'!BA15+'PADD5 mthly rpt'!BA15","v":73865.541696465283},{"$f":"'PADD1 mthly rpt'!BB15+'PADD2 mthly rpt'!BB15+'PADD3 mthly rpt'!BB15+'PADD4 mthly rpt'!BB15+'PADD5 mthly rpt'!BB15","v":67883.329350882705},{"$f":"'PADD1 mthly rpt'!BC15+'PADD2 mthly rpt'!BC15+'PADD3 mthly rpt'!BC15+'PADD4 mthly rpt'!BC15+'PADD5 mthly rpt'!BC15","v":66615.575741222827},{"$f":"'PADD1 mthly rpt'!BD15+'PADD2 mthly rpt'!BD15+'PADD3 mthly rpt'!BD15+'PADD4 mthly rpt'!BD15+'PADD5 mthly rpt'!BD15","v":66417.489239713454},{"$f":"'PADD1 mthly rpt'!BE15+'PADD2 mthly rpt'!BE15+'PADD3 mthly rpt'!BE15+'PADD4 mthly rpt'!BE15+'PADD5 mthly rpt'!BE15","v":70260.367368994979},{"$f":"'PADD1 mthly rpt'!BF15+'PADD2 mthly rpt'!BF15+'PADD3 mthly rpt'!BF15+'PADD4 mthly rpt'!BF15+'PADD5 mthly rpt'!BF15","v":73786.307095861528},{"$f":"'PADD1 mthly rpt'!BG15+'PADD2 mthly rpt'!BG15+'PADD3 mthly rpt'!BG15+'PADD4 mthly rpt'!BG15+'PADD5 mthly rpt'!BG15","v":75252.147207030779},{"$f":"'PADD1 mthly rpt'!BH15+'PADD2 mthly rpt'!BH15+'PADD3 mthly rpt'!BH15+'PADD4 mthly rpt'!BH15+'PADD5 mthly rpt'!BH15","v":80323.161645670305},{"$f":"'PADD1 mthly rpt'!BI15+'PADD2 mthly rpt'!BI15+'PADD3 mthly rpt'!BI15+'PADD4 mthly rpt'!BI15+'PADD5 mthly rpt'!BI15","v":90663.277024458745},{"$f":"'PADD1 mthly rpt'!BJ15+'PADD2 mthly rpt'!BJ15+'PADD3 mthly rpt'!BJ15+'PADD4 mthly rpt'!BJ15+'PADD5 mthly rpt'!BJ15","v":96900.866254750785},{"$f":"'PADD1 mthly rpt'!BK15+'PADD2 mthly rpt'!BK15+'PADD3 mthly rpt'!BK15+'PADD4 mthly rpt'!BK15+'PADD5 mthly rpt'!BK15","v":89682.293283760519},{"$f":"'PADD1 mthly rpt'!BL15+'PADD2 mthly rpt'!BL15+'PADD3 mthly rpt'!BL15+'PADD4 mthly rpt'!BL15+'PADD5 mthly rpt'!BL15","v":82545.749551076966},{"$f":"'PADD1 mthly rpt'!BM15+'PADD2 mthly rpt'!BM15+'PADD3 mthly rpt'!BM15+'PADD4 mthly rpt'!BM15+'PADD5 mthly rpt'!BM15","v":75819.352009926952},{"$f":"'PADD1 mthly rpt'!BN15+'PADD2 mthly rpt'!BN15+'PADD3 mthly rpt'!BN15+'PADD4 mthly rpt'!BN15+'PADD5 mthly rpt'!BN15","v":69626.144517770532},{"$f":"'PADD1 mthly rpt'!BO15+'PADD2 mthly rpt'!BO15+'PADD3 mthly rpt'!BO15+'PADD4 mthly rpt'!BO15+'PADD5 mthly rpt'!BO15","v":68313.676704863203},{"$f":"'PADD1 mthly rpt'!BP15+'PADD2 mthly rpt'!BP15+'PADD3 mthly rpt'!BP15+'PADD4 mthly rpt'!BP15+'PADD5 mthly rpt'!BP15","v":68108.603609096434},{"$f":"'PADD1 mthly rpt'!BQ15+'PADD2 mthly rpt'!BQ15+'PADD3 mthly rpt'!BQ15+'PADD4 mthly rpt'!BQ15+'PADD5 mthly rpt'!BQ15","v":72087.021666971763},{"$f":"'PADD1 mthly rpt'!BR15+'PADD2 mthly rpt'!BR15+'PADD3 mthly rpt'!BR15+'PADD4 mthly rpt'!BR15+'PADD5 mthly rpt'!BR15","v":75737.322771620238},{"$f":"'PADD1 mthly rpt'!BS15+'PADD2 mthly rpt'!BS15+'PADD3 mthly rpt'!BS15+'PADD4 mthly rpt'!BS15+'PADD5 mthly rpt'!BS15","v":77254.863680294322},{"$f":"'PADD1 mthly rpt'!BT15+'PADD2 mthly rpt'!BT15+'PADD3 mthly rpt'!BT15+'PADD4 mthly rpt'!BT15+'PADD5 mthly rpt'!BT15","v":82504.734931923609},{"$f":"'PADD1 mthly rpt'!BU15+'PADD2 mthly rpt'!BU15+'PADD3 mthly rpt'!BU15+'PADD4 mthly rpt'!BU15+'PADD5 mthly rpt'!BU15","v":93209.550530948938},{"$f":"'PADD1 mthly rpt'!BV15+'PADD2 mthly rpt'!BV15+'PADD3 mthly rpt'!BV15+'PADD4 mthly rpt'!BV15+'PADD5 mthly rpt'!BV15","v":109892.11467710372},{"$f":"'PADD1 mthly rpt'!BW15+'PADD2 mthly rpt'!BW15+'PADD3 mthly rpt'!BW15+'PADD4 mthly rpt'!BW15+'PADD5 mthly rpt'!BW15","v":101401.50958904109},{"$f":"'PADD1 mthly rpt'!BX15+'PADD2 mthly rpt'!BX15+'PADD3 mthly rpt'!BX15+'PADD4 mthly rpt'!BX15+'PADD5 mthly rpt'!BX15","v":93007.388649706467},{"$f":"'PADD1 mthly rpt'!BY15+'PADD2 mthly rpt'!BY15+'PADD3 mthly rpt'!BY15+'PADD4 mthly rpt'!BY15+'PADD5 mthly rpt'!BY15","v":85095.688454011746},{"$f":"'PADD1 mthly rpt'!BZ15+'PADD2 mthly rpt'!BZ15+'PADD3 mthly rpt'!BZ15+'PADD4 mthly rpt'!BZ15+'PADD5 mthly rpt'!BZ15","v":77811.135225048914},{"$f":"'PADD1 mthly rpt'!CA15+'PADD2 mthly rpt'!CA15+'PADD3 mthly rpt'!CA15+'PADD4 mthly rpt'!CA15+'PADD5 mthly rpt'!CA15","v":76267.388845401176},{"$f":"'PADD1 mthly rpt'!CB15+'PADD2 mthly rpt'!CB15+'PADD3 mthly rpt'!CB15+'PADD4 mthly rpt'!CB15+'PADD5 mthly rpt'!CB15","v":76026.178473581211},{"$f":"'PADD1 mthly rpt'!CC15+'PADD2 mthly rpt'!CC15+'PADD3 mthly rpt'!CC15+'PADD4 mthly rpt'!CC15+'PADD5 mthly rpt'!CC15","v":80705.659686888452},{"$f":"'PADD1 mthly rpt'!CD15+'PADD2 mthly rpt'!CD15+'PADD3 mthly rpt'!CD15+'PADD4 mthly rpt'!CD15+'PADD5 mthly rpt'!CD15","v":84999.204305283754},{"$f":"'PADD1 mthly rpt'!CE15+'PADD2 mthly rpt'!CE15+'PADD3 mthly rpt'!CE15+'PADD4 mthly rpt'!CE15+'PADD5 mthly rpt'!CE15","v":86784.161056751473},{"$f":"'PADD1 mthly rpt'!CF15+'PADD2 mthly rpt'!CF15+'PADD3 mthly rpt'!CF15+'PADD4 mthly rpt'!CF15+'PADD5 mthly rpt'!CF15","v":92959.146575342456},{"$f":"'PADD1 mthly rpt'!CG15+'PADD2 mthly rpt'!CG15+'PADD3 mthly rpt'!CG15+'PADD4 mthly rpt'!CG15+'PADD5 mthly rpt'!CG15","v":105550.32798434443},{"$f":"'PADD1 mthly rpt'!CH15+'PADD2 mthly rpt'!CH15+'PADD3 mthly rpt'!CH15+'PADD4 mthly rpt'!CH15+'PADD5 mthly rpt'!CH15","v":99105.461839530326},{"$f":"'PADD1 mthly rpt'!CI15+'PADD2 mthly rpt'!CI15+'PADD3 mthly rpt'!CI15+'PADD4 mthly rpt'!CI15+'PADD5 mthly rpt'!CI15","v":91081.704500978463},{"$f":"'PADD1 mthly rpt'!CJ15+'PADD2 mthly rpt'!CJ15+'PADD3 mthly rpt'!CJ15+'PADD4 mthly rpt'!CJ15+'PADD5 mthly rpt'!CJ15","v":86267.450097847352},{"$f":"'PADD1 mthly rpt'!CK15+'PADD2 mthly rpt'!CK15+'PADD3 mthly rpt'!CK15+'PADD4 mthly rpt'!CK15+'PADD5 mthly rpt'!CK15","v":80286.103718199593},{"$f":"'PADD1 mthly rpt'!CL15+'PADD2 mthly rpt'!CL15+'PADD3 mthly rpt'!CL15+'PADD4 mthly rpt'!CL15+'PADD5 mthly rpt'!CL15","v":74778.888454011729},{"$f":"'PADD1 mthly rpt'!CM15+'PADD2 mthly rpt'!CM15+'PADD3 mthly rpt'!CM15+'PADD4 mthly rpt'!CM15+'PADD5 mthly rpt'!CM15","v":73611.796477495111},{"$f":"'PADD1 mthly rpt'!CN15+'PADD2 mthly rpt'!CN15+'PADD3 mthly rpt'!CN15+'PADD4 mthly rpt'!CN15+'PADD5 mthly rpt'!CN15","v":73429.438356164377},{"$f":"'PADD1 mthly rpt'!CO15+'PADD2 mthly rpt'!CO15+'PADD3 mthly rpt'!CO15+'PADD4 mthly rpt'!CO15+'PADD5 mthly rpt'!CO15","v":76967.185909980442},{"$f":"'PADD1 mthly rpt'!CP15+'PADD2 mthly rpt'!CP15+'PADD3 mthly rpt'!CP15+'PADD4 mthly rpt'!CP15+'PADD5 mthly rpt'!CP15","v":80213.160469667317},{"$f":"'PADD1 mthly rpt'!CQ15+'PADD2 mthly rpt'!CQ15+'PADD3 mthly rpt'!CQ15+'PADD4 mthly rpt'!CQ15+'PADD5 mthly rpt'!CQ15","v":81599.082191780821},{"$f":"'PADD1 mthly rpt'!CR15+'PADD2 mthly rpt'!CR15+'PADD3 mthly rpt'!CR15+'PADD4 mthly rpt'!CR15+'PADD5 mthly rpt'!CR15","v":86267.450097847352},{"$f":"'PADD1 mthly rpt'!CS15+'PADD2 mthly rpt'!CS15+'PADD3 mthly rpt'!CS15+'PADD4 mthly rpt'!CS15+'PADD5 mthly rpt'!CS15","v":95786.544031311147},{"$f":"'PADD1 mthly rpt'!CT15+'PADD2 mthly rpt'!CT15+'PADD3 mthly rpt'!CT15+'PADD4 mthly rpt'!CT15+'PADD5 mthly rpt'!CT15","v":93449.674457341549},{"$f":"'PADD1 mthly rpt'!CU15+'PADD2 mthly rpt'!CU15+'PADD3 mthly rpt'!CU15+'PADD4 mthly rpt'!CU15+'PADD5 mthly rpt'!CU15","v":87307.837563598616},{"$f":"'PADD1 mthly rpt'!CV15+'PADD2 mthly rpt'!CV15+'PADD3 mthly rpt'!CV15+'PADD4 mthly rpt'!CV15+'PADD5 mthly rpt'!CV15","v":81235.794270920931},{"$f":"'PADD1 mthly rpt'!CW15+'PADD2 mthly rpt'!CW15+'PADD3 mthly rpt'!CW15+'PADD4 mthly rpt'!CW15+'PADD5 mthly rpt'!CW15","v":75512.718983569561},{"$f":"'PADD1 mthly rpt'!CX15+'PADD2 mthly rpt'!CX15+'PADD3 mthly rpt'!CX15+'PADD4 mthly rpt'!CX15+'PADD5 mthly rpt'!CX15","v":70243.30210314237},{"$f":"'PADD1 mthly rpt'!CY15+'PADD2 mthly rpt'!CY15+'PADD3 mthly rpt'!CY15+'PADD4 mthly rpt'!CY15+'PADD5 mthly rpt'!CY15","v":69126.604486098193},{"$f":"'PADD1 mthly rpt'!CZ15+'PADD2 mthly rpt'!CZ15+'PADD3 mthly rpt'!CZ15+'PADD4 mthly rpt'!CZ15+'PADD5 mthly rpt'!CZ15","v":68952.12048343505},{"$f":"'PADD1 mthly rpt'!DA15+'PADD2 mthly rpt'!DA15+'PADD3 mthly rpt'!DA15+'PADD4 mthly rpt'!DA15+'PADD5 mthly rpt'!DA15","v":72337.1101351002},{"$f":"'PADD1 mthly rpt'!DB15+'PADD2 mthly rpt'!DB15+'PADD3 mthly rpt'!DB15+'PADD4 mthly rpt'!DB15+'PADD5 mthly rpt'!DB15","v":75442.925382504298},{"$f":"'PADD1 mthly rpt'!DC15+'PADD2 mthly rpt'!DC15+'PADD3 mthly rpt'!DC15+'PADD4 mthly rpt'!DC15+'PADD5 mthly rpt'!DC15","v":76734.107002211618},{"$f":"'PADD1 mthly rpt'!DD15+'PADD2 mthly rpt'!DD15+'PADD3 mthly rpt'!DD15+'PADD4 mthly rpt'!DD15+'PADD5 mthly rpt'!DD15","v":81200.8974703883},{"$f":"'PADD1 mthly rpt'!DE15+'PADD2 mthly rpt'!DE15+'PADD3 mthly rpt'!DE15+'PADD4 mthly rpt'!DE15+'PADD5 mthly rpt'!DE15","v":90308.962409404819},{"$f":"'PADD1 mthly rpt'!DF15+'PADD2 mthly rpt'!DF15+'PADD3 mthly rpt'!DF15+'PADD4 mthly rpt'!DF15+'PADD5 mthly rpt'!DF15","v":102494.52576274493},{"$f":"'PADD1 mthly rpt'!DG15+'PADD2 mthly rpt'!DG15+'PADD3 mthly rpt'!DG15+'PADD4 mthly rpt'!DG15+'PADD5 mthly rpt'!DG15","v":95297.917252314626},{"$f":"'PADD1 mthly rpt'!DH15+'PADD2 mthly rpt'!DH15+'PADD3 mthly rpt'!DH15+'PADD4 mthly rpt'!DH15+'PADD5 mthly rpt'!DH15","v":88183.088384048315},{"$f":"'PADD1 mthly rpt'!DI15+'PADD2 mthly rpt'!DI15+'PADD3 mthly rpt'!DI15+'PADD4 mthly rpt'!DI15+'PADD5 mthly rpt'!DI15","v":81477.157726601901},{"$f":"'PADD1 mthly rpt'!DJ15+'PADD2 mthly rpt'!DJ15+'PADD3 mthly rpt'!DJ15+'PADD4 mthly rpt'!DJ15+'PADD5 mthly rpt'!DJ15","v":75302.794743221355},{"$f":"'PADD1 mthly rpt'!DK15+'PADD2 mthly rpt'!DK15+'PADD3 mthly rpt'!DK15+'PADD4 mthly rpt'!DK15+'PADD5 mthly rpt'!DK15","v":73994.320468597667},{"$f":"'PADD1 mthly rpt'!DL15+'PADD2 mthly rpt'!DL15+'PADD3 mthly rpt'!DL15+'PADD4 mthly rpt'!DL15+'PADD5 mthly rpt'!DL15","v":73789.871363187718},{"$f":"'PADD1 mthly rpt'!DM15+'PADD2 mthly rpt'!DM15+'PADD3 mthly rpt'!DM15+'PADD4 mthly rpt'!DM15+'PADD5 mthly rpt'!DM15","v":77756.184008140772},{"$f":"'PADD1 mthly rpt'!DN15+'PADD2 mthly rpt'!DN15+'PADD3 mthly rpt'!DN15+'PADD4 mthly rpt'!DN15+'PADD5 mthly rpt'!DN15","v":81395.378084437922},{"$f":"'PADD1 mthly rpt'!DO15+'PADD2 mthly rpt'!DO15+'PADD3 mthly rpt'!DO15+'PADD4 mthly rpt'!DO15+'PADD5 mthly rpt'!DO15","v":82908.301464471559},{"$f":"'PADD1 mthly rpt'!DP15+'PADD2 mthly rpt'!DP15+'PADD3 mthly rpt'!DP15+'PADD4 mthly rpt'!DP15+'PADD5 mthly rpt'!DP15","v":88142.198562966325},{"$f":"'PADD1 mthly rpt'!DQ15+'PADD2 mthly rpt'!DQ15+'PADD3 mthly rpt'!DQ15+'PADD4 mthly rpt'!DQ15+'PADD5 mthly rpt'!DQ15","v":98814.441865365821},{"$f":"'PADD1 mthly rpt'!DR15+'PADD2 mthly rpt'!DR15+'PADD3 mthly rpt'!DR15+'PADD4 mthly rpt'!DR15+'PADD5 mthly rpt'!DR15","v":109793.38900301424},{"$f":"'PADD1 mthly rpt'!DS15+'PADD2 mthly rpt'!DS15+'PADD3 mthly rpt'!DS15+'PADD4 mthly rpt'!DS15+'PADD5 mthly rpt'!DS15","v":101281.11510614483},{"$f":"'PADD1 mthly rpt'!DT15+'PADD2 mthly rpt'!DT15+'PADD3 mthly rpt'!DT15+'PADD4 mthly rpt'!DT15+'PADD5 mthly rpt'!DT15","v":92865.571594467154},{"$f":"'PADD1 mthly rpt'!DU15+'PADD2 mthly rpt'!DU15+'PADD3 mthly rpt'!DU15+'PADD4 mthly rpt'!DU15+'PADD5 mthly rpt'!DU15","v":84933.680008747935},{"$f":"'PADD1 mthly rpt'!DV15+'PADD2 mthly rpt'!DV15+'PADD3 mthly rpt'!DV15+'PADD4 mthly rpt'!DV15+'PADD5 mthly rpt'!DV15","v":77630.53592677477},{"$f":"'PADD1 mthly rpt'!DW15+'PADD2 mthly rpt'!DW15+'PADD3 mthly rpt'!DW15+'PADD4 mthly rpt'!DW15+'PADD5 mthly rpt'!DW15","v":76082.849763707593},{"$f":"'PADD1 mthly rpt'!DX15+'PADD2 mthly rpt'!DX15+'PADD3 mthly rpt'!DX15+'PADD4 mthly rpt'!DX15+'PADD5 mthly rpt'!DX15","v":75841.023800728362},{"$f":"'PADD1 mthly rpt'!DY15+'PADD2 mthly rpt'!DY15+'PADD3 mthly rpt'!DY15+'PADD4 mthly rpt'!DY15+'PADD5 mthly rpt'!DY15","v":80532.447482525691},{"$f":"'PADD1 mthly rpt'!DZ15+'PADD2 mthly rpt'!DZ15+'PADD3 mthly rpt'!DZ15+'PADD4 mthly rpt'!DZ15+'PADD5 mthly rpt'!DZ15","v":84836.94962355624},{"$f":"'PADD1 mthly rpt'!EA15+'PADD2 mthly rpt'!EA15+'PADD3 mthly rpt'!EA15+'PADD4 mthly rpt'!EA15+'PADD5 mthly rpt'!EA15","v":86626.461749602648},{"$f":"'PADD1 mthly rpt'!EB15+'PADD2 mthly rpt'!EB15+'PADD3 mthly rpt'!EB15+'PADD4 mthly rpt'!EB15+'PADD5 mthly rpt'!EB15","v":92817.206401871299},{"$f":"'PADD1 mthly rpt'!EC15+'PADD2 mthly rpt'!EC15+'PADD3 mthly rpt'!EC15+'PADD4 mthly rpt'!EC15+'PADD5 mthly rpt'!EC15","v":105440.52166938786},{"$f":"'PADD1 mthly rpt'!ED15+'PADD2 mthly rpt'!ED15+'PADD3 mthly rpt'!ED15+'PADD4 mthly rpt'!ED15+'PADD5 mthly rpt'!ED15","v":103972.99954404986},{"$f":"'PADD1 mthly rpt'!EE15+'PADD2 mthly rpt'!EE15+'PADD3 mthly rpt'!EE15+'PADD4 mthly rpt'!EE15+'PADD5 mthly rpt'!EE15","v":96568.217300218064},{"$f":"'PADD1 mthly rpt'!EF15+'PADD2 mthly rpt'!EF15+'PADD3 mthly rpt'!EF15+'PADD4 mthly rpt'!EF15+'PADD5 mthly rpt'!EF15","v":89247.580309157085},{"$f":"'PADD1 mthly rpt'!EG15+'PADD2 mthly rpt'!EG15+'PADD3 mthly rpt'!EG15+'PADD4 mthly rpt'!EG15+'PADD5 mthly rpt'!EG15","v":82347.669581950162},{"$f":"'PADD1 mthly rpt'!EH15+'PADD2 mthly rpt'!EH15+'PADD3 mthly rpt'!EH15+'PADD4 mthly rpt'!EH15+'PADD5 mthly rpt'!EH15","v":75994.702997753571},{"$f":"'PADD1 mthly rpt'!EI15+'PADD2 mthly rpt'!EI15+'PADD3 mthly rpt'!EI15+'PADD4 mthly rpt'!EI15+'PADD5 mthly rpt'!EI15","v":74648.378953420513},{"$f":"'PADD1 mthly rpt'!EJ15+'PADD2 mthly rpt'!EJ15+'PADD3 mthly rpt'!EJ15+'PADD4 mthly rpt'!EJ15+'PADD5 mthly rpt'!EJ15","v":74438.015821493478},{"$f":"'PADD1 mthly rpt'!EK15+'PADD2 mthly rpt'!EK15+'PADD3 mthly rpt'!EK15+'PADD4 mthly rpt'!EK15+'PADD5 mthly rpt'!EK15","v":78519.060580878038},{"$f":"'PADD1 mthly rpt'!EL15+'PADD2 mthly rpt'!EL15+'PADD3 mthly rpt'!EL15+'PADD4 mthly rpt'!EL15+'PADD5 mthly rpt'!EL15","v":82263.524329179359},{"$f":"'PADD1 mthly rpt'!EM15+'PADD2 mthly rpt'!EM15+'PADD3 mthly rpt'!EM15+'PADD4 mthly rpt'!EM15+'PADD5 mthly rpt'!EM15","v":83820.211505439453},{"$f":"'PADD1 mthly rpt'!EN15+'PADD2 mthly rpt'!EN15+'PADD3 mthly rpt'!EN15+'PADD4 mthly rpt'!EN15+'PADD5 mthly rpt'!EN15","v":89205.507682771669},{"$f":"'PADD1 mthly rpt'!EO15+'PADD2 mthly rpt'!EO15+'PADD3 mthly rpt'!EO15+'PADD4 mthly rpt'!EO15+'PADD5 mthly rpt'!EO15","v":100186.46316936317},{"$f":"'PADD1 mthly rpt'!EP15+'PADD2 mthly rpt'!EP15+'PADD3 mthly rpt'!EP15+'PADD4 mthly rpt'!EP15+'PADD5 mthly rpt'!EP15","v":103972.99954404986},{"$f":"'PADD1 mthly rpt'!EQ15+'PADD2 mthly rpt'!EQ15+'PADD3 mthly rpt'!EQ15+'PADD4 mthly rpt'!EQ15+'PADD5 mthly rpt'!EQ15","v":97536.189067628569},{"$f":"'PADD1 mthly rpt'!ER15+'PADD2 mthly rpt'!ER15+'PADD3 mthly rpt'!ER15+'PADD4 mthly rpt'!ER15+'PADD5 mthly rpt'!ER15","v":91154.803030238851},{"$f":"'PADD1 mthly rpt'!ES15+'PADD2 mthly rpt'!ES15+'PADD3 mthly rpt'!ES15+'PADD4 mthly rpt'!ES15+'PADD5 mthly rpt'!ES15","v":84627.299163425589},{"$f":"'PADD1 mthly rpt'!ET15+'PADD2 mthly rpt'!ET15+'PADD3 mthly rpt'!ET15+'PADD4 mthly rpt'!ET15+'PADD5 mthly rpt'!ET15","v":78617.219383615826},{"$f":"'PADD1 mthly rpt'!EU15+'PADD2 mthly rpt'!EU15+'PADD3 mthly rpt'!EU15+'PADD4 mthly rpt'!EU15+'PADD5 mthly rpt'!EU15","v":77193.890069246918},{"$f":"'PADD1 mthly rpt'!EV15+'PADD2 mthly rpt'!EV15+'PADD3 mthly rpt'!EV15+'PADD4 mthly rpt'!EV15+'PADD5 mthly rpt'!EV15","v":76967.622635143896},{"$f":"'PADD1 mthly rpt'!EW15+'PADD2 mthly rpt'!EW15+'PADD3 mthly rpt'!EW15+'PADD4 mthly rpt'!EW15+'PADD5 mthly rpt'!EW15","v":81357.210856742167},{"$f":"'PADD1 mthly rpt'!EX15+'PADD2 mthly rpt'!EX15+'PADD3 mthly rpt'!EX15+'PADD4 mthly rpt'!EX15+'PADD5 mthly rpt'!EX15","v":85384.771183775607},{"$f":"'PADD1 mthly rpt'!EY15+'PADD2 mthly rpt'!EY15+'PADD3 mthly rpt'!EY15+'PADD4 mthly rpt'!EY15+'PADD5 mthly rpt'!EY15","v":87059.150196137824},{"$f":"'PADD1 mthly rpt'!EZ15+'PADD2 mthly rpt'!EZ15+'PADD3 mthly rpt'!EZ15+'PADD4 mthly rpt'!EZ15+'PADD5 mthly rpt'!EZ15","v":92851.596509174677},{"$f":"'PADD1 mthly rpt'!FA15+'PADD2 mthly rpt'!FA15+'PADD3 mthly rpt'!FA15+'PADD4 mthly rpt'!FA15+'PADD5 mthly rpt'!FA15","v":104662.75656935139},{"$f":"'PADD1 mthly rpt'!FB15+'PADD2 mthly rpt'!FB15+'PADD3 mthly rpt'!FB15+'PADD4 mthly rpt'!FB15+'PADD5 mthly rpt'!FB15","v":109676.78243470725},{"$f":"'PADD1 mthly rpt'!FC15+'PADD2 mthly rpt'!FC15+'PADD3 mthly rpt'!FC15+'PADD4 mthly rpt'!FC15+'PADD5 mthly rpt'!FC15","v":101608.61967374288},{"$f":"'PADD1 mthly rpt'!FD15+'PADD2 mthly rpt'!FD15+'PADD3 mthly rpt'!FD15+'PADD4 mthly rpt'!FD15+'PADD5 mthly rpt'!FD15","v":93632.140580516745},{"$f":"'PADD1 mthly rpt'!FE15+'PADD2 mthly rpt'!FE15+'PADD3 mthly rpt'!FE15+'PADD4 mthly rpt'!FE15+'PADD5 mthly rpt'!FE15","v":86680.517761510564},{"$f":"'PADD1 mthly rpt'!FF15+'PADD2 mthly rpt'!FF15+'PADD3 mthly rpt'!FF15+'PADD4 mthly rpt'!FF15+'PADD5 mthly rpt'!FF15","v":79758.400847274082},{"$f":"'PADD1 mthly rpt'!FG15+'PADD2 mthly rpt'!FG15+'PADD3 mthly rpt'!FG15+'PADD4 mthly rpt'!FG15+'PADD5 mthly rpt'!FG15","v":78291.462163462391},{"$f":"'PADD1 mthly rpt'!FH15+'PADD2 mthly rpt'!FH15+'PADD3 mthly rpt'!FH15+'PADD4 mthly rpt'!FH15+'PADD5 mthly rpt'!FH15","v":78062.252994116803},{"$f":"'PADD1 mthly rpt'!FI15+'PADD2 mthly rpt'!FI15+'PADD3 mthly rpt'!FI15+'PADD4 mthly rpt'!FI15+'PADD5 mthly rpt'!FI15","v":82508.910879421033},{"$f":"'PADD1 mthly rpt'!FJ15+'PADD2 mthly rpt'!FJ15+'PADD3 mthly rpt'!FJ15+'PADD4 mthly rpt'!FJ15+'PADD5 mthly rpt'!FJ15","v":86588.834093772341},{"$f":"'PADD1 mthly rpt'!FK15+'PADD2 mthly rpt'!FK15+'PADD3 mthly rpt'!FK15+'PADD4 mthly rpt'!FK15+'PADD5 mthly rpt'!FK15","v":87197.595393822994},{"$f":"'PADD1 mthly rpt'!FL15+'PADD2 mthly rpt'!FL15+'PADD3 mthly rpt'!FL15+'PADD4 mthly rpt'!FL15+'PADD5 mthly rpt'!FL15","v":93563.821248290726},{"$f":"'PADD1 mthly rpt'!FM15+'PADD2 mthly rpt'!FM15+'PADD3 mthly rpt'!FM15+'PADD4 mthly rpt'!FM15+'PADD5 mthly rpt'!FM15","v":106544.95365466645},{"$f":"'PADD1 mthly rpt'!FN15+'PADD2 mthly rpt'!FN15+'PADD3 mthly rpt'!FN15+'PADD4 mthly rpt'!FN15+'PADD5 mthly rpt'!FN15","v":65932.836427840928},{"$f":"'PADD1 mthly rpt'!FO15+'PADD2 mthly rpt'!FO15+'PADD3 mthly rpt'!FO15+'PADD4 mthly rpt'!FO15+'PADD5 mthly rpt'!FO15","v":61375.267383536644},{"$f":"'PADD1 mthly rpt'!FP15+'PADD2 mthly rpt'!FP15+'PADD3 mthly rpt'!FP15+'PADD4 mthly rpt'!FP15+'PADD5 mthly rpt'!FP15","v":57778.171005562137},{"$f":"'PADD1 mthly rpt'!FQ15+'PADD2 mthly rpt'!FQ15+'PADD3 mthly rpt'!FQ15+'PADD4 mthly rpt'!FQ15+'PADD5 mthly rpt'!FQ15","v":54582.743594672735},{"$f":"'PADD1 mthly rpt'!FR15+'PADD2 mthly rpt'!FR15+'PADD3 mthly rpt'!FR15+'PADD4 mthly rpt'!FR15+'PADD5 mthly rpt'!FR15","v":52427.807061045612},{"$f":"'PADD1 mthly rpt'!FS15+'PADD2 mthly rpt'!FS15+'PADD3 mthly rpt'!FS15+'PADD4 mthly rpt'!FS15+'PADD5 mthly rpt'!FS15","v":52501.413182472737},{"$f":"'PADD1 mthly rpt'!FT15+'PADD2 mthly rpt'!FT15+'PADD3 mthly rpt'!FT15+'PADD4 mthly rpt'!FT15+'PADD5 mthly rpt'!FT15","v":52691.837616906378},{"$f":"'PADD1 mthly rpt'!FU15+'PADD2 mthly rpt'!FU15+'PADD3 mthly rpt'!FU15+'PADD4 mthly rpt'!FU15+'PADD5 mthly rpt'!FU15","v":55550.609387394114},{"$f":"'PADD1 mthly rpt'!FV15+'PADD2 mthly rpt'!FV15+'PADD3 mthly rpt'!FV15+'PADD4 mthly rpt'!FV15+'PADD5 mthly rpt'!FV15","v":59285.840612315122},{"$f":"'PADD1 mthly rpt'!FW15+'PADD2 mthly rpt'!FW15+'PADD3 mthly rpt'!FW15+'PADD4 mthly rpt'!FW15+'PADD5 mthly rpt'!FW15","v":60695.313547204016},{"$f":"'PADD1 mthly rpt'!FX15+'PADD2 mthly rpt'!FX15+'PADD3 mthly rpt'!FX15+'PADD4 mthly rpt'!FX15+'PADD5 mthly rpt'!FX15","v":61795.475303786909},{"$f":"'PADD1 mthly rpt'!FY15+'PADD2 mthly rpt'!FY15+'PADD3 mthly rpt'!FY15+'PADD4 mthly rpt'!FY15+'PADD5 mthly rpt'!FY15","v":65471.130171922647},{"$f":"'PADD1 mthly rpt'!FZ15+'PADD2 mthly rpt'!FZ15+'PADD3 mthly rpt'!FZ15+'PADD4 mthly rpt'!FZ15+'PADD5 mthly rpt'!FZ15","v":69572.846162431524},{"$f":"'PADD1 mthly rpt'!GA15+'PADD2 mthly rpt'!GA15+'PADD3 mthly rpt'!GA15+'PADD4 mthly rpt'!GA15+'PADD5 mthly rpt'!GA15","v":64869.097200255193},{"$f":"'PADD1 mthly rpt'!GB15+'PADD2 mthly rpt'!GB15+'PADD3 mthly rpt'!GB15+'PADD4 mthly rpt'!GB15+'PADD5 mthly rpt'!GB15","v":60218.799930830879},{"$f":"'PADD1 mthly rpt'!GC15+'PADD2 mthly rpt'!GC15+'PADD3 mthly rpt'!GC15+'PADD4 mthly rpt'!GC15+'PADD5 mthly rpt'!GC15","v":55835.761125166566},{"$f":"'PADD1 mthly rpt'!GD15+'PADD2 mthly rpt'!GD15+'PADD3 mthly rpt'!GD15+'PADD4 mthly rpt'!GD15+'PADD5 mthly rpt'!GD15","v":51800.158322390293},{"$f":"'PADD1 mthly rpt'!GE15+'PADD2 mthly rpt'!GE15+'PADD3 mthly rpt'!GE15+'PADD4 mthly rpt'!GE15+'PADD5 mthly rpt'!GE15","v":50944.931238358229},{"$f":"'PADD1 mthly rpt'!GF15+'PADD2 mthly rpt'!GF15+'PADD3 mthly rpt'!GF15+'PADD4 mthly rpt'!GF15+'PADD5 mthly rpt'!GF15","v":50811.302006478218},{"$f":"'PADD1 mthly rpt'!GG15+'PADD2 mthly rpt'!GG15+'PADD3 mthly rpt'!GG15+'PADD4 mthly rpt'!GG15+'PADD5 mthly rpt'!GG15","v":53403.709104950402},{"$f":"'PADD1 mthly rpt'!GH15+'PADD2 mthly rpt'!GH15+'PADD3 mthly rpt'!GH15+'PADD4 mthly rpt'!GH15+'PADD5 mthly rpt'!GH15","v":55782.309432414564},{"$f":"'PADD1 mthly rpt'!GI15+'PADD2 mthly rpt'!GI15+'PADD3 mthly rpt'!GI15+'PADD4 mthly rpt'!GI15+'PADD5 mthly rpt'!GI15","v":56771.165748326632},{"$f":"'PADD1 mthly rpt'!GJ15+'PADD2 mthly rpt'!GJ15+'PADD3 mthly rpt'!GJ15+'PADD4 mthly rpt'!GJ15+'PADD5 mthly rpt'!GJ15","v":58080.732220750724},{"$f":"'PADD1 mthly rpt'!GK15+'PADD2 mthly rpt'!GK15+'PADD3 mthly rpt'!GK15+'PADD4 mthly rpt'!GK15+'PADD5 mthly rpt'!GK15","v":52823.1718602443},{"$f":"'PADD1 mthly rpt'!GL15+'PADD2 mthly rpt'!GL15+'PADD3 mthly rpt'!GL15+'PADD4 mthly rpt'!GL15+'PADD5 mthly rpt'!GL15","v":52533.597124656691},{"$f":"'PADD1 mthly rpt'!GM15+'PADD2 mthly rpt'!GM15+'PADD3 mthly rpt'!GM15+'PADD4 mthly rpt'!GM15+'PADD5 mthly rpt'!GM15","v":50055.158634441432},{"$f":"'PADD1 mthly rpt'!GN15+'PADD2 mthly rpt'!GN15+'PADD3 mthly rpt'!GN15+'PADD4 mthly rpt'!GN15+'PADD5 mthly rpt'!GN15","v":52533.597124656691},{"$f":"'PADD1 mthly rpt'!GO15+'PADD2 mthly rpt'!GO15+'PADD3 mthly rpt'!GO15+'PADD4 mthly rpt'!GO15+'PADD5 mthly rpt'!GO15","v":52533.597124656691},{"$f":"'PADD1 mthly rpt'!GP15+'PADD2 mthly rpt'!GP15+'PADD3 mthly rpt'!GP15+'PADD4 mthly rpt'!GP15+'PADD5 mthly rpt'!GP15","v":52533.597124656691},{"$f":"'PADD1 mthly rpt'!GQ15+'PADD2 mthly rpt'!GQ15+'PADD3 mthly rpt'!GQ15+'PADD4 mthly rpt'!GQ15+'PADD5 mthly rpt'!GQ15","v":52533.597124656691},{"$f":"'PADD1 mthly rpt'!GR15+'PADD2 mthly rpt'!GR15+'PADD3 mthly rpt'!GR15+'PADD4 mthly rpt'!GR15+'PADD5 mthly rpt'!GR15","v":52533.597124656691},{"$f":"'PADD1 mthly rpt'!GS15+'PADD2 mthly rpt'!GS15+'PADD3 mthly rpt'!GS15+'PADD4 mthly rpt'!GS15+'PADD5 mthly rpt'!GS15","v":52533.597124656691},{"$f":"'PADD1 mthly rpt'!GT15+'PADD2 mthly rpt'!GT15+'PADD3 mthly rpt'!GT15+'PADD4 mthly rpt'!GT15+'PADD5 mthly rpt'!GT15","v":52533.597124656691},{"$f":"'PADD1 mthly rpt'!GU15+'PADD2 mthly rpt'!GU15+'PADD3 mthly rpt'!GU15+'PADD4 mthly rpt'!GU15+'PADD5 mthly rpt'!GU15","v":52533.597124656691},{"$f":"'PADD1 mthly rpt'!GV15+'PADD2 mthly rpt'!GV15+'PADD3 mthly rpt'!GV15+'PADD4 mthly rpt'!GV15+'PADD5 mthly rpt'!GV15","v":52533.597124656691},{"$f":"'PADD1 mthly rpt'!GW15+'PADD2 mthly rpt'!GW15+'PADD3 mthly rpt'!GW15+'PADD4 mthly rpt'!GW15+'PADD5 mthly rpt'!GW15","v":52533.597124656691},{"$f":"'PADD1 mthly rpt'!GX15+'PADD2 mthly rpt'!GX15+'PADD3 mthly rpt'!GX15+'PADD4 mthly rpt'!GX15+'PADD5 mthly rpt'!GX15","v":52278.805494815344},{"$f":"'PADD1 mthly rpt'!GY15+'PADD2 mthly rpt'!GY15+'PADD3 mthly rpt'!GY15+'PADD4 mthly rpt'!GY15+'PADD5 mthly rpt'!GY15","v":52278.805494815344},{"$f":"'PADD1 mthly rpt'!GZ15+'PADD2 mthly rpt'!GZ15+'PADD3 mthly rpt'!GZ15+'PADD4 mthly rpt'!GZ15+'PADD5 mthly rpt'!GZ15","v":52278.805494815344},{"$f":"'PADD1 mthly rpt'!HA15+'PADD2 mthly rpt'!HA15+'PADD3 mthly rpt'!HA15+'PADD4 mthly rpt'!HA15+'PADD5 mthly rpt'!HA15","v":52278.805494815344},{"$f":"'PADD1 mthly rpt'!HB15+'PADD2 mthly rpt'!HB15+'PADD3 mthly rpt'!HB15+'PADD4 mthly rpt'!HB15+'PADD5 mthly rpt'!HB15","v":52278.805494815344},{"$f":"'PADD1 mthly rpt'!HC15+'PADD2 mthly rpt'!HC15+'PADD3 mthly rpt'!HC15+'PADD4 mthly rpt'!HC15+'PADD5 mthly rpt'!HC15","v":52278.805494815344}]
["     US DOMESTIC CONSUMPTION",{"$f":"'PADD1 mthly rpt'!B16+'PADD2 mthly rpt'!B16+'PADD3 mthly rpt'!B16+'PADD4 mthly rpt'!B16+'PADD5 mthly rpt'!B16","v":1598241.7846044169},{"$f":"'PADD1 mthly rpt'!C16+'PADD2 mthly rpt'!C16+'PADD3 mthly rpt'!C16+'PADD4 mthly rpt'!C16+'PADD5 mthly rpt'!C16","v":1489219.1290018039},{"$f":"'PADD1 mthly rpt'!D16+'PADD2 mthly rpt'!D16+'PADD3 mthly rpt'!D16+'PADD4 mthly rpt'!D16+'PADD5 mthly rpt'!D16","v":1335201.7570214712},{"$f":"'PADD1 mthly rpt'!E16+'PADD2 mthly rpt'!E16+'PADD3 mthly rpt'!E16+'PADD4 mthly rpt'!E16+'PADD5 mthly rpt'!E16","v":1051722.5243058691},{"$f":"'PADD1 mthly rpt'!F16+'PADD2 mthly rpt'!F16+'PADD3 mthly rpt'!F16+'PADD4 mthly rpt'!F16+'PADD5 mthly rpt'!F16","v":1098824.7200226483},{"$f":"'PADD1 mthly rpt'!G16+'PADD2 mthly rpt'!G16+'PADD3 mthly rpt'!G16+'PADD4 mthly rpt'!G16+'PADD5 mthly rpt'!G16","v":981337.4937378359},{"$f":"'PADD1 mthly rpt'!H16+'PADD2 mthly rpt'!H16+'PADD3 mthly rpt'!H16+'PADD4 mthly rpt'!H16+'PADD5 mthly rpt'!H16","v":987438.99599045306},{"$f":"'PADD1 mthly rpt'!I16+'PADD2 mthly rpt'!I16+'PADD3 mthly rpt'!I16+'PADD4 mthly rpt'!I16+'PADD5 mthly rpt'!I16","v":1090555.8992885104},{"$f":"'PADD1 mthly rpt'!J16+'PADD2 mthly rpt'!J16+'PADD3 mthly rpt'!J16+'PADD4 mthly rpt'!J16+'PADD5 mthly rpt'!J16","v":1132530.3730097329},{"$f":"'PADD1 mthly rpt'!K16+'PADD2 mthly rpt'!K16+'PADD3 mthly rpt'!K16+'PADD4 mthly rpt'!K16+'PADD5 mthly rpt'!K16","v":1097292.0914913954},{"$f":"'PADD1 mthly rpt'!L16+'PADD2 mthly rpt'!L16+'PADD3 mthly rpt'!L16+'PADD4 mthly rpt'!L16+'PADD5 mthly rpt'!L16","v":1265138.7573211773},{"$f":"'PADD1 mthly rpt'!M16+'PADD2 mthly rpt'!M16+'PADD3 mthly rpt'!M16+'PADD4 mthly rpt'!M16+'PADD5 mthly rpt'!M16","v":1584010.7245265595},{"$f":"'PADD1 mthly rpt'!N16+'PADD2 mthly rpt'!N16+'PADD3 mthly rpt'!N16+'PADD4 mthly rpt'!N16+'PADD5 mthly rpt'!N16","v":1332772.9521345855},{"$f":"'PADD1 mthly rpt'!O16+'PADD2 mthly rpt'!O16+'PADD3 mthly rpt'!O16+'PADD4 mthly rpt'!O16+'PADD5 mthly rpt'!O16","v":1434218.5831373397},{"$f":"'PADD1 mthly rpt'!P16+'PADD2 mthly rpt'!P16+'PADD3 mthly rpt'!P16+'PADD4 mthly rpt'!P16+'PADD5 mthly rpt'!P16","v":1315796.4459479314},{"$f":"'PADD1 mthly rpt'!Q16+'PADD2 mthly rpt'!Q16+'PADD3 mthly rpt'!Q16+'PADD4 mthly rpt'!Q16+'PADD5 mthly rpt'!Q16","v":1096325.6200716437},{"$f":"'PADD1 mthly rpt'!R16+'PADD2 mthly rpt'!R16+'PADD3 mthly rpt'!R16+'PADD4 mthly rpt'!R16+'PADD5 mthly rpt'!R16","v":1133473.1781102661},{"$f":"'PADD1 mthly rpt'!S16+'PADD2 mthly rpt'!S16+'PADD3 mthly rpt'!S16+'PADD4 mthly rpt'!S16+'PADD5 mthly rpt'!S16","v":1084097.9825369706},{"$f":"'PADD1 mthly rpt'!T16+'PADD2 mthly rpt'!T16+'PADD3 mthly rpt'!T16+'PADD4 mthly rpt'!T16+'PADD5 mthly rpt'!T16","v":1047680.791736073},{"$f":"'PADD1 mthly rpt'!U16+'PADD2 mthly rpt'!U16+'PADD3 mthly rpt'!U16+'PADD4 mthly rpt'!U16+'PADD5 mthly rpt'!U16","v":1092483.2482216589},{"$f":"'PADD1 mthly rpt'!V16+'PADD2 mthly rpt'!V16+'PADD3 mthly rpt'!V16+'PADD4 mthly rpt'!V16+'PADD5 mthly rpt'!V16","v":1151842.3880466048},{"$f":"'PADD1 mthly rpt'!W16+'PADD2 mthly rpt'!W16+'PADD3 mthly rpt'!W16+'PADD4 mthly rpt'!W16+'PADD5 mthly rpt'!W16","v":1242395.6443592529},{"$f":"'PADD1 mthly rpt'!X16+'PADD2 mthly rpt'!X16+'PADD3 mthly rpt'!X16+'PADD4 mthly rpt'!X16+'PADD5 mthly rpt'!X16","v":1287880.490360925},{"$f":"'PADD1 mthly rpt'!Y16+'PADD2 mthly rpt'!Y16+'PADD3 mthly rpt'!Y16+'PADD4 mthly rpt'!Y16+'PADD5 mthly rpt'!Y16","v":1398547.4021452246},{"$f":"'PADD1 mthly rpt'!Z16+'PADD2 mthly rpt'!Z16+'PADD3 mthly rpt'!Z16+'PADD4 mthly rpt'!Z16+'PADD5 mthly rpt'!Z16","v":1631030.4598764991},{"$f":"'PADD1 mthly rpt'!AA16+'PADD2 mthly rpt'!AA16+'PADD3 mthly rpt'!AA16+'PADD4 mthly rpt'!AA16+'PADD5 mthly rpt'!AA16","v":1665559.5458791435},{"$f":"'PADD1 mthly rpt'!AB16+'PADD2 mthly rpt'!AB16+'PADD3 mthly rpt'!AB16+'PADD4 mthly rpt'!AB16+'PADD5 mthly rpt'!AB16","v":1281637.1007922713},{"$f":"'PADD1 mthly rpt'!AC16+'PADD2 mthly rpt'!AC16+'PADD3 mthly rpt'!AC16+'PADD4 mthly rpt'!AC16+'PADD5 mthly rpt'!AC16","v":1153156.8224321418},{"$f":"'PADD1 mthly rpt'!AD16+'PADD2 mthly rpt'!AD16+'PADD3 mthly rpt'!AD16+'PADD4 mthly rpt'!AD16+'PADD5 mthly rpt'!AD16","v":1092194.281163469},{"$f":"'PADD1 mthly rpt'!AE16+'PADD2 mthly rpt'!AE16+'PADD3 mthly rpt'!AE16+'PADD4 mthly rpt'!AE16+'PADD5 mthly rpt'!AE16","v":1082964.565951112},{"$f":"'PADD1 mthly rpt'!AF16+'PADD2 mthly rpt'!AF16+'PADD3 mthly rpt'!AF16+'PADD4 mthly rpt'!AF16+'PADD5 mthly rpt'!AF16","v":1139336.6689517861},{"$f":"'PADD1 mthly rpt'!AG16+'PADD2 mthly rpt'!AG16+'PADD3 mthly rpt'!AG16+'PADD4 mthly rpt'!AG16+'PADD5 mthly rpt'!AG16","v":1201003.7333833501},{"$f":"'PADD1 mthly rpt'!AH16+'PADD2 mthly rpt'!AH16+'PADD3 mthly rpt'!AH16+'PADD4 mthly rpt'!AH16+'PADD5 mthly rpt'!AH16","v":1264236.0052090613},{"$f":"'PADD1 mthly rpt'!AI16+'PADD2 mthly rpt'!AI16+'PADD3 mthly rpt'!AI16+'PADD4 mthly rpt'!AI16+'PADD5 mthly rpt'!AI16","v":1277916.6030684342},{"$f":"'PADD1 mthly rpt'!AJ16+'PADD2 mthly rpt'!AJ16+'PADD3 mthly rpt'!AJ16+'PADD4 mthly rpt'!AJ16+'PADD5 mthly rpt'!AJ16","v":1383624.3559565244},{"$f":"'PADD1 mthly rpt'!AK16+'PADD2 mthly rpt'!AK16+'PADD3 mthly rpt'!AK16+'PADD4 mthly rpt'!AK16+'PADD5 mthly rpt'!AK16","v":1472633.7207973485},{"$f":"'PADD1 mthly rpt'!AL16+'PADD2 mthly rpt'!AL16+'PADD3 mthly rpt'!AL16+'PADD4 mthly rpt'!AL16+'PADD5 mthly rpt'!AL16","v":1486326.1226547295},{"$f":"'PADD1 mthly rpt'!AM16+'PADD2 mthly rpt'!AM16+'PADD3 mthly rpt'!AM16+'PADD4 mthly rpt'!AM16+'PADD5 mthly rpt'!AM16","v":1405715.6513918098},{"$f":"'PADD1 mthly rpt'!AN16+'PADD2 mthly rpt'!AN16+'PADD3 mthly rpt'!AN16+'PADD4 mthly rpt'!AN16+'PADD5 mthly rpt'!AN16","v":1244066.5472332067},{"$f":"'PADD1 mthly rpt'!AO16+'PADD2 mthly rpt'!AO16+'PADD3 mthly rpt'!AO16+'PADD4 mthly rpt'!AO16+'PADD5 mthly rpt'!AO16","v":1133351.2437359581},{"$f":"'PADD1 mthly rpt'!AP16+'PADD2 mthly rpt'!AP16+'PADD3 mthly rpt'!AP16+'PADD4 mthly rpt'!AP16+'PADD5 mthly rpt'!AP16","v":1017795.9907783176},{"$f":"'PADD1 mthly rpt'!AQ16+'PADD2 mthly rpt'!AQ16+'PADD3 mthly rpt'!AQ16+'PADD4 mthly rpt'!AQ16+'PADD5 mthly rpt'!AQ16","v":1091636.0607521553},{"$f":"'PADD1 mthly rpt'!AR16+'PADD2 mthly rpt'!AR16+'PADD3 mthly rpt'!AR16+'PADD4 mthly rpt'!AR16+'PADD5 mthly rpt'!AR16","v":1080736.0278541534},{"$f":"'PADD1 mthly rpt'!AS16+'PADD2 mthly rpt'!AS16+'PADD3 mthly rpt'!AS16+'PADD4 mthly rpt'!AS16+'PADD5 mthly rpt'!AS16","v":1068994.6688099133},{"$f":"'PADD1 mthly rpt'!AT16+'PADD2 mthly rpt'!AT16+'PADD3 mthly rpt'!AT16+'PADD4 mthly rpt'!AT16+'PADD5 mthly rpt'!AT16","v":891713.05303336214},{"$f":"'PADD1 mthly rpt'!AU16+'PADD2 mthly rpt'!AU16+'PADD3 mthly rpt'!AU16+'PADD4 mthly rpt'!AU16+'PADD5 mthly rpt'!AU16","v":1122619.8577125175},{"$f":"'PADD1 mthly rpt'!AV16+'PADD2 mthly rpt'!AV16+'PADD3 mthly rpt'!AV16+'PADD4 mthly rpt'!AV16+'PADD5 mthly rpt'!AV16","v":1123349.711972879},{"$f":"'PADD1 mthly rpt'!AW16+'PADD2 mthly rpt'!AW16+'PADD3 mthly rpt'!AW16+'PADD4 mthly rpt'!AW16+'PADD5 mthly rpt'!AW16","v":1134833.515566664},{"$f":"'PADD1 mthly rpt'!AX16+'PADD2 mthly rpt'!AX16+'PADD3 mthly rpt'!AX16+'PADD4 mthly rpt'!AX16+'PADD5 mthly rpt'!AX16","v":1300035.4102302415},{"$f":"'PADD1 mthly rpt'!AY16+'PADD2 mthly rpt'!AY16+'PADD3 mthly rpt'!AY16+'PADD4 mthly rpt'!AY16+'PADD5 mthly rpt'!AY16","v":1164438.8670528231},{"$f":"'PADD1 mthly rpt'!AZ16+'PADD2 mthly rpt'!AZ16+'PADD3 mthly rpt'!AZ16+'PADD4 mthly rpt'!AZ16+'PADD5 mthly rpt'!AZ16","v":1138413.6144759813},{"$f":"'PADD1 mthly rpt'!BA16+'PADD2 mthly rpt'!BA16+'PADD3 mthly rpt'!BA16+'PADD4 mthly rpt'!BA16+'PADD5 mthly rpt'!BA16","v":1001726.4857348811},{"$f":"'PADD1 mthly rpt'!BB16+'PADD2 mthly rpt'!BB16+'PADD3 mthly rpt'!BB16+'PADD4 mthly rpt'!BB16+'PADD5 mthly rpt'!BB16","v":937738.37722922466},{"$f":"'PADD1 mthly rpt'!BC16+'PADD2 mthly rpt'!BC16+'PADD3 mthly rpt'!BC16+'PADD4 mthly rpt'!BC16+'PADD5 mthly rpt'!BC16","v":1002343.1097876173},{"$f":"'PADD1 mthly rpt'!BD16+'PADD2 mthly rpt'!BD16+'PADD3 mthly rpt'!BD16+'PADD4 mthly rpt'!BD16+'PADD5 mthly rpt'!BD16","v":1009232.4442079162},{"$f":"'PADD1 mthly rpt'!BE16+'PADD2 mthly rpt'!BE16+'PADD3 mthly rpt'!BE16+'PADD4 mthly rpt'!BE16+'PADD5 mthly rpt'!BE16","v":1112466.2436651168},{"$f":"'PADD1 mthly rpt'!BF16+'PADD2 mthly rpt'!BF16+'PADD3 mthly rpt'!BF16+'PADD4 mthly rpt'!BF16+'PADD5 mthly rpt'!BF16","v":1101932.3163828419},{"$f":"'PADD1 mthly rpt'!BG16+'PADD2 mthly rpt'!BG16+'PADD3 mthly rpt'!BG16+'PADD4 mthly rpt'!BG16+'PADD5 mthly rpt'!BG16","v":1234189.7420126365},{"$f":"'PADD1 mthly rpt'!BH16+'PADD2 mthly rpt'!BH16+'PADD3 mthly rpt'!BH16+'PADD4 mthly rpt'!BH16+'PADD5 mthly rpt'!BH16","v":1388107.6831664911},{"$f":"'PADD1 mthly rpt'!BI16+'PADD2 mthly rpt'!BI16+'PADD3 mthly rpt'!BI16+'PADD4 mthly rpt'!BI16+'PADD5 mthly rpt'!BI16","v":1438578.045432386},{"$f":"'PADD1 mthly rpt'!BJ16+'PADD2 mthly rpt'!BJ16+'PADD3 mthly rpt'!BJ16+'PADD4 mthly rpt'!BJ16+'PADD5 mthly rpt'!BJ16","v":1469643.6336439759},{"$f":"'PADD1 mthly rpt'!BK16+'PADD2 mthly rpt'!BK16+'PADD3 mthly rpt'!BK16+'PADD4 mthly rpt'!BK16+'PADD5 mthly rpt'!BK16","v":1414840.1270373764},{"$f":"'PADD1 mthly rpt'!BL16+'PADD2 mthly rpt'!BL16+'PADD3 mthly rpt'!BL16+'PADD4 mthly rpt'!BL16+'PADD5 mthly rpt'!BL16","v":1162600.7554652896},{"$f":"'PADD1 mthly rpt'!BM16+'PADD2 mthly rpt'!BM16+'PADD3 mthly rpt'!BM16+'PADD4 mthly rpt'!BM16+'PADD5 mthly rpt'!BM16","v":1005704.7281155012},{"$f":"'PADD1 mthly rpt'!BN16+'PADD2 mthly rpt'!BN16+'PADD3 mthly rpt'!BN16+'PADD4 mthly rpt'!BN16+'PADD5 mthly rpt'!BN16","v":972604.91370596539},{"$f":"'PADD1 mthly rpt'!BO16+'PADD2 mthly rpt'!BO16+'PADD3 mthly rpt'!BO16+'PADD4 mthly rpt'!BO16+'PADD5 mthly rpt'!BO16","v":1023485.63232552},{"$f":"'PADD1 mthly rpt'!BP16+'PADD2 mthly rpt'!BP16+'PADD3 mthly rpt'!BP16+'PADD4 mthly rpt'!BP16+'PADD5 mthly rpt'!BP16","v":1031593.6810614252},{"$f":"'PADD1 mthly rpt'!BQ16+'PADD2 mthly rpt'!BQ16+'PADD3 mthly rpt'!BQ16+'PADD4 mthly rpt'!BQ16+'PADD5 mthly rpt'!BQ16","v":1060084.5180447397},{"$f":"'PADD1 mthly rpt'!BR16+'PADD2 mthly rpt'!BR16+'PADD3 mthly rpt'!BR16+'PADD4 mthly rpt'!BR16+'PADD5 mthly rpt'!BR16","v":1137393.0241710506},{"$f":"'PADD1 mthly rpt'!BS16+'PADD2 mthly rpt'!BS16+'PADD3 mthly rpt'!BS16+'PADD4 mthly rpt'!BS16+'PADD5 mthly rpt'!BS16","v":1126175.9432207402},{"$f":"'PADD1 mthly rpt'!BT16+'PADD2 mthly rpt'!BT16+'PADD3 mthly rpt'!BT16+'PADD4 mthly rpt'!BT16+'PADD5 mthly rpt'!BT16","v":1187492.5049355784},{"$f":"'PADD1 mthly rpt'!BU16+'PADD2 mthly rpt'!BU16+'PADD3 mthly rpt'!BU16+'PADD4 mthly rpt'!BU16+'PADD5 mthly rpt'!BU16","v":1540535.6591433766},{"$f":"'PADD1 mthly rpt'!BV16+'PADD2 mthly rpt'!BV16+'PADD3 mthly rpt'!BV16+'PADD4 mthly rpt'!BV16+'PADD5 mthly rpt'!BV16","v":1529162.1123575459},{"$f":"'PADD1 mthly rpt'!BW16+'PADD2 mthly rpt'!BW16+'PADD3 mthly rpt'!BW16+'PADD4 mthly rpt'!BW16+'PADD5 mthly rpt'!BW16","v":1475641.0266249094},{"$f":"'PADD1 mthly rpt'!BX16+'PADD2 mthly rpt'!BX16+'PADD3 mthly rpt'!BX16+'PADD4 mthly rpt'!BX16+'PADD5 mthly rpt'!BX16","v":1291071.0183630101},{"$f":"'PADD1 mthly rpt'!BY16+'PADD2 mthly rpt'!BY16+'PADD3 mthly rpt'!BY16+'PADD4 mthly rpt'!BY16+'PADD5 mthly rpt'!BY16","v":1089474.9139982502},{"$f":"'PADD1 mthly rpt'!BZ16+'PADD2 mthly rpt'!BZ16+'PADD3 mthly rpt'!BZ16+'PADD4 mthly rpt'!BZ16+'PADD5 mthly rpt'!BZ16","v":1045632.5006135886},{"$f":"'PADD1 mthly rpt'!CA16+'PADD2 mthly rpt'!CA16+'PADD3 mthly rpt'!CA16+'PADD4 mthly rpt'!CA16+'PADD5 mthly rpt'!CA16","v":1051582.2158439788},{"$f":"'PADD1 mthly rpt'!CB16+'PADD2 mthly rpt'!CB16+'PADD3 mthly rpt'!CB16+'PADD4 mthly rpt'!CB16+'PADD5 mthly rpt'!CB16","v":983332.83815095783},{"$f":"'PADD1 mthly rpt'!CC16+'PADD2 mthly rpt'!CC16+'PADD3 mthly rpt'!CC16+'PADD4 mthly rpt'!CC16+'PADD5 mthly rpt'!CC16","v":1024303.2867527934},{"$f":"'PADD1 mthly rpt'!CD16+'PADD2 mthly rpt'!CD16+'PADD3 mthly rpt'!CD16+'PADD4 mthly rpt'!CD16+'PADD5 mthly rpt'!CD16","v":1098494.3296456155},{"$f":"'PADD1 mthly rpt'!CE16+'PADD2 mthly rpt'!CE16+'PADD3 mthly rpt'!CE16+'PADD4 mthly rpt'!CE16+'PADD5 mthly rpt'!CE16","v":1131321.6895106928},{"$f":"'PADD1 mthly rpt'!CF16+'PADD2 mthly rpt'!CF16+'PADD3 mthly rpt'!CF16+'PADD4 mthly rpt'!CF16+'PADD5 mthly rpt'!CF16","v":1248837.292747549},{"$f":"'PADD1 mthly rpt'!CG16+'PADD2 mthly rpt'!CG16+'PADD3 mthly rpt'!CG16+'PADD4 mthly rpt'!CG16+'PADD5 mthly rpt'!CG16","v":1338053.4391003619},{"$f":"'PADD1 mthly rpt'!CH16+'PADD2 mthly rpt'!CH16+'PADD3 mthly rpt'!CH16+'PADD4 mthly rpt'!CH16+'PADD5 mthly rpt'!CH16","v":1316260.1132893933},{"$f":"'PADD1 mthly rpt'!CI16+'PADD2 mthly rpt'!CI16+'PADD3 mthly rpt'!CI16+'PADD4 mthly rpt'!CI16+'PADD5 mthly rpt'!CI16","v":1320014.4352506779},{"$f":"'PADD1 mthly rpt'!CJ16+'PADD2 mthly rpt'!CJ16+'PADD3 mthly rpt'!CJ16+'PADD4 mthly rpt'!CJ16+'PADD5 mthly rpt'!CJ16","v":1104402.0711284413},{"$f":"'PADD1 mthly rpt'!CK16+'PADD2 mthly rpt'!CK16+'PADD3 mthly rpt'!CK16+'PADD4 mthly rpt'!CK16+'PADD5 mthly rpt'!CK16","v":1006747.4954392874},{"$f":"'PADD1 mthly rpt'!CL16+'PADD2 mthly rpt'!CL16+'PADD3 mthly rpt'!CL16+'PADD4 mthly rpt'!CL16+'PADD5 mthly rpt'!CL16","v":1000393.4606429205},{"$f":"'PADD1 mthly rpt'!CM16+'PADD2 mthly rpt'!CM16+'PADD3 mthly rpt'!CM16+'PADD4 mthly rpt'!CM16+'PADD5 mthly rpt'!CM16","v":1033168.9823096498},{"$f":"'PADD1 mthly rpt'!CN16+'PADD2 mthly rpt'!CN16+'PADD3 mthly rpt'!CN16+'PADD4 mthly rpt'!CN16+'PADD5 mthly rpt'!CN16","v":1049765.3225784011},{"$f":"'PADD1 mthly rpt'!CO16+'PADD2 mthly rpt'!CO16+'PADD3 mthly rpt'!CO16+'PADD4 mthly rpt'!CO16+'PADD5 mthly rpt'!CO16","v":1082774.931605156},{"$f":"'PADD1 mthly rpt'!CP16+'PADD2 mthly rpt'!CP16+'PADD3 mthly rpt'!CP16+'PADD4 mthly rpt'!CP16+'PADD5 mthly rpt'!CP16","v":1086087.1963920365},{"$f":"'PADD1 mthly rpt'!CQ16+'PADD2 mthly rpt'!CQ16+'PADD3 mthly rpt'!CQ16+'PADD4 mthly rpt'!CQ16+'PADD5 mthly rpt'!CQ16","v":1136224.3652277361},{"$f":"'PADD1 mthly rpt'!CR16+'PADD2 mthly rpt'!CR16+'PADD3 mthly rpt'!CR16+'PADD4 mthly rpt'!CR16+'PADD5 mthly rpt'!CR16","v":1231623.9907168802},{"$f":"'PADD1 mthly rpt'!CS16+'PADD2 mthly rpt'!CS16+'PADD3 mthly rpt'!CS16+'PADD4 mthly rpt'!CS16+'PADD5 mthly rpt'!CS16","v":1402140.9311085695},{"$f":"'PADD1 mthly rpt'!CT16+'PADD2 mthly rpt'!CT16+'PADD3 mthly rpt'!CT16+'PADD4 mthly rpt'!CT16+'PADD5 mthly rpt'!CT16","v":1568283.8994358273},{"$f":"'PADD1 mthly rpt'!CU16+'PADD2 mthly rpt'!CU16+'PADD3 mthly rpt'!CU16+'PADD4 mthly rpt'!CU16+'PADD5 mthly rpt'!CU16","v":1439141.4027173219},{"$f":"'PADD1 mthly rpt'!CV16+'PADD2 mthly rpt'!CV16+'PADD3 mthly rpt'!CV16+'PADD4 mthly rpt'!CV16+'PADD5 mthly rpt'!CV16","v":1280546.4697234165},{"$f":"'PADD1 mthly rpt'!CW16+'PADD2 mthly rpt'!CW16+'PADD3 mthly rpt'!CW16+'PADD4 mthly rpt'!CW16+'PADD5 mthly rpt'!CW16","v":1080391.1437989229},{"$f":"'PADD1 mthly rpt'!CX16+'PADD2 mthly rpt'!CX16+'PADD3 mthly rpt'!CX16+'PADD4 mthly rpt'!CX16+'PADD5 mthly rpt'!CX16","v":1013377.9061643473},{"$f":"'PADD1 mthly rpt'!CY16+'PADD2 mthly rpt'!CY16+'PADD3 mthly rpt'!CY16+'PADD4 mthly rpt'!CY16+'PADD5 mthly rpt'!CY16","v":1045688.6347377086},{"$f":"'PADD1 mthly rpt'!CZ16+'PADD2 mthly rpt'!CZ16+'PADD3 mthly rpt'!CZ16+'PADD4 mthly rpt'!CZ16+'PADD5 mthly rpt'!CZ16","v":1120499.8477688162},{"$f":"'PADD1 mthly rpt'!DA16+'PADD2 mthly rpt'!DA16+'PADD3 mthly rpt'!DA16+'PADD4 mthly rpt'!DA16+'PADD5 mthly rpt'!DA16","v":1087420.4327041851},{"$f":"'PADD1 mthly rpt'!DB16+'PADD2 mthly rpt'!DB16+'PADD3 mthly rpt'!DB16+'PADD4 mthly rpt'!DB16+'PADD5 mthly rpt'!DB16","v":1132280.0887246656},{"$f":"'PADD1 mthly rpt'!DC16+'PADD2 mthly rpt'!DC16+'PADD3 mthly rpt'!DC16+'PADD4 mthly rpt'!DC16+'PADD5 mthly rpt'!DC16","v":1291259.1971075153},{"$f":"'PADD1 mthly rpt'!DD16+'PADD2 mthly rpt'!DD16+'PADD3 mthly rpt'!DD16+'PADD4 mthly rpt'!DD16+'PADD5 mthly rpt'!DD16","v":1373559.2762217757},{"$f":"'PADD1 mthly rpt'!DE16+'PADD2 mthly rpt'!DE16+'PADD3 mthly rpt'!DE16+'PADD4 mthly rpt'!DE16+'PADD5 mthly rpt'!DE16","v":1438559.9658989513},{"$f":"'PADD1 mthly rpt'!DF16+'PADD2 mthly rpt'!DF16+'PADD3 mthly rpt'!DF16+'PADD4 mthly rpt'!DF16+'PADD5 mthly rpt'!DF16","v":1485553.9394416476},{"$f":"'PADD1 mthly rpt'!DG16+'PADD2 mthly rpt'!DG16+'PADD3 mthly rpt'!DG16+'PADD4 mthly rpt'!DG16+'PADD5 mthly rpt'!DG16","v":1404656.6377706099},{"$f":"'PADD1 mthly rpt'!DH16+'PADD2 mthly rpt'!DH16+'PADD3 mthly rpt'!DH16+'PADD4 mthly rpt'!DH16+'PADD5 mthly rpt'!DH16","v":1185829.2865677634},{"$f":"'PADD1 mthly rpt'!DI16+'PADD2 mthly rpt'!DI16+'PADD3 mthly rpt'!DI16+'PADD4 mthly rpt'!DI16+'PADD5 mthly rpt'!DI16","v":1026792.1979216289},{"$f":"'PADD1 mthly rpt'!DJ16+'PADD2 mthly rpt'!DJ16+'PADD3 mthly rpt'!DJ16+'PADD4 mthly rpt'!DJ16+'PADD5 mthly rpt'!DJ16","v":976489.30421104631},{"$f":"'PADD1 mthly rpt'!DK16+'PADD2 mthly rpt'!DK16+'PADD3 mthly rpt'!DK16+'PADD4 mthly rpt'!DK16+'PADD5 mthly rpt'!DK16","v":1004382.4729310598},{"$f":"'PADD1 mthly rpt'!DL16+'PADD2 mthly rpt'!DL16+'PADD3 mthly rpt'!DL16+'PADD4 mthly rpt'!DL16+'PADD5 mthly rpt'!DL16","v":996137.30201987864},{"$f":"'PADD1 mthly rpt'!DM16+'PADD2 mthly rpt'!DM16+'PADD3 mthly rpt'!DM16+'PADD4 mthly rpt'!DM16+'PADD5 mthly rpt'!DM16","v":1037762.1601214367},{"$f":"'PADD1 mthly rpt'!DN16+'PADD2 mthly rpt'!DN16+'PADD3 mthly rpt'!DN16+'PADD4 mthly rpt'!DN16+'PADD5 mthly rpt'!DN16","v":1081259.2770656103},{"$f":"'PADD1 mthly rpt'!DO16+'PADD2 mthly rpt'!DO16+'PADD3 mthly rpt'!DO16+'PADD4 mthly rpt'!DO16+'PADD5 mthly rpt'!DO16","v":1184954.0329654519},{"$f":"'PADD1 mthly rpt'!DP16+'PADD2 mthly rpt'!DP16+'PADD3 mthly rpt'!DP16+'PADD4 mthly rpt'!DP16+'PADD5 mthly rpt'!DP16","v":1285950.3358092287},{"$f":"'PADD1 mthly rpt'!DQ16+'PADD2 mthly rpt'!DQ16+'PADD3 mthly rpt'!DQ16+'PADD4 mthly rpt'!DQ16+'PADD5 mthly rpt'!DQ16","v":1452040.2018460883},{"$f":"'PADD1 mthly rpt'!DR16+'PADD2 mthly rpt'!DR16+'PADD3 mthly rpt'!DR16+'PADD4 mthly rpt'!DR16+'PADD5 mthly rpt'!DR16","v":1473951.6950396183},{"$f":"'PADD1 mthly rpt'!DS16+'PADD2 mthly rpt'!DS16+'PADD3 mthly rpt'!DS16+'PADD4 mthly rpt'!DS16+'PADD5 mthly rpt'!DS16","v":1408773.3150134312},{"$f":"'PADD1 mthly rpt'!DT16+'PADD2 mthly rpt'!DT16+'PADD3 mthly rpt'!DT16+'PADD4 mthly rpt'!DT16+'PADD5 mthly rpt'!DT16","v":1232695.620977219},{"$f":"'PADD1 mthly rpt'!DU16+'PADD2 mthly rpt'!DU16+'PADD3 mthly rpt'!DU16+'PADD4 mthly rpt'!DU16+'PADD5 mthly rpt'!DU16","v":1101747.1907843354},{"$f":"'PADD1 mthly rpt'!DV16+'PADD2 mthly rpt'!DV16+'PADD3 mthly rpt'!DV16+'PADD4 mthly rpt'!DV16+'PADD5 mthly rpt'!DV16","v":1066714.7143139187},{"$f":"'PADD1 mthly rpt'!DW16+'PADD2 mthly rpt'!DW16+'PADD3 mthly rpt'!DW16+'PADD4 mthly rpt'!DW16+'PADD5 mthly rpt'!DW16","v":1090410.9418913159},{"$f":"'PADD1 mthly rpt'!DX16+'PADD2 mthly rpt'!DX16+'PADD3 mthly rpt'!DX16+'PADD4 mthly rpt'!DX16+'PADD5 mthly rpt'!DX16","v":979611.18581605202},{"$f":"'PADD1 mthly rpt'!DY16+'PADD2 mthly rpt'!DY16+'PADD3 mthly rpt'!DY16+'PADD4 mthly rpt'!DY16+'PADD5 mthly rpt'!DY16","v":1021478.4872163753},{"$f":"'PADD1 mthly rpt'!DZ16+'PADD2 mthly rpt'!DZ16+'PADD3 mthly rpt'!DZ16+'PADD4 mthly rpt'!DZ16+'PADD5 mthly rpt'!DZ16","v":1041389.358106077},{"$f":"'PADD1 mthly rpt'!EA16+'PADD2 mthly rpt'!EA16+'PADD3 mthly rpt'!EA16+'PADD4 mthly rpt'!EA16+'PADD5 mthly rpt'!EA16","v":1099437.8975811503},{"$f":"'PADD1 mthly rpt'!EB16+'PADD2 mthly rpt'!EB16+'PADD3 mthly rpt'!EB16+'PADD4 mthly rpt'!EB16+'PADD5 mthly rpt'!EB16","v":1189063.1830635031},{"$f":"'PADD1 mthly rpt'!EC16+'PADD2 mthly rpt'!EC16+'PADD3 mthly rpt'!EC16+'PADD4 mthly rpt'!EC16+'PADD5 mthly rpt'!EC16","v":1353768.8497135497},{"$f":"'PADD1 mthly rpt'!ED16+'PADD2 mthly rpt'!ED16+'PADD3 mthly rpt'!ED16+'PADD4 mthly rpt'!ED16+'PADD5 mthly rpt'!ED16","v":1422194.2126844423},{"$f":"'PADD1 mthly rpt'!EE16+'PADD2 mthly rpt'!EE16+'PADD3 mthly rpt'!EE16+'PADD4 mthly rpt'!EE16+'PADD5 mthly rpt'!EE16","v":1371161.5666936019},{"$f":"'PADD1 mthly rpt'!EF16+'PADD2 mthly rpt'!EF16+'PADD3 mthly rpt'!EF16+'PADD4 mthly rpt'!EF16+'PADD5 mthly rpt'!EF16","v":1131175.5559748854},{"$f":"'PADD1 mthly rpt'!EG16+'PADD2 mthly rpt'!EG16+'PADD3 mthly rpt'!EG16+'PADD4 mthly rpt'!EG16+'PADD5 mthly rpt'!EG16","v":974147.78886581748},{"$f":"'PADD1 mthly rpt'!EH16+'PADD2 mthly rpt'!EH16+'PADD3 mthly rpt'!EH16+'PADD4 mthly rpt'!EH16+'PADD5 mthly rpt'!EH16","v":895338.11738034734},{"$f":"'PADD1 mthly rpt'!EI16+'PADD2 mthly rpt'!EI16+'PADD3 mthly rpt'!EI16+'PADD4 mthly rpt'!EI16+'PADD5 mthly rpt'!EI16","v":904236.15416195686},{"$f":"'PADD1 mthly rpt'!EJ16+'PADD2 mthly rpt'!EJ16+'PADD3 mthly rpt'!EJ16+'PADD4 mthly rpt'!EJ16+'PADD5 mthly rpt'!EJ16","v":979805.79861697205},{"$f":"'PADD1 mthly rpt'!EK16+'PADD2 mthly rpt'!EK16+'PADD3 mthly rpt'!EK16+'PADD4 mthly rpt'!EK16+'PADD5 mthly rpt'!EK16","v":1123362.9984280416},{"$f":"'PADD1 mthly rpt'!EL16+'PADD2 mthly rpt'!EL16+'PADD3 mthly rpt'!EL16+'PADD4 mthly rpt'!EL16+'PADD5 mthly rpt'!EL16","v":1129147.8917286801},{"$f":"'PADD1 mthly rpt'!EM16+'PADD2 mthly rpt'!EM16+'PADD3 mthly rpt'!EM16+'PADD4 mthly rpt'!EM16+'PADD5 mthly rpt'!EM16","v":1212287.9065875139},{"$f":"'PADD1 mthly rpt'!EN16+'PADD2 mthly rpt'!EN16+'PADD3 mthly rpt'!EN16+'PADD4 mthly rpt'!EN16+'PADD5 mthly rpt'!EN16","v":1270324.2663768199},{"$f":"'PADD1 mthly rpt'!EO16+'PADD2 mthly rpt'!EO16+'PADD3 mthly rpt'!EO16+'PADD4 mthly rpt'!EO16+'PADD5 mthly rpt'!EO16","v":1420713.1252742654},{"$f":"'PADD1 mthly rpt'!EP16+'PADD2 mthly rpt'!EP16+'PADD3 mthly rpt'!EP16+'PADD4 mthly rpt'!EP16+'PADD5 mthly rpt'!EP16","v":1471176.6857403868},{"$f":"'PADD1 mthly rpt'!EQ16+'PADD2 mthly rpt'!EQ16+'PADD3 mthly rpt'!EQ16+'PADD4 mthly rpt'!EQ16+'PADD5 mthly rpt'!EQ16","v":1379738.4194766863},{"$f":"'PADD1 mthly rpt'!ER16+'PADD2 mthly rpt'!ER16+'PADD3 mthly rpt'!ER16+'PADD4 mthly rpt'!ER16+'PADD5 mthly rpt'!ER16","v":1270437.550865524},{"$f":"'PADD1 mthly rpt'!ES16+'PADD2 mthly rpt'!ES16+'PADD3 mthly rpt'!ES16+'PADD4 mthly rpt'!ES16+'PADD5 mthly rpt'!ES16","v":1116692.69554263},{"$f":"'PADD1 mthly rpt'!ET16+'PADD2 mthly rpt'!ET16+'PADD3 mthly rpt'!ET16+'PADD4 mthly rpt'!ET16+'PADD5 mthly rpt'!ET16","v":1027068.3426464431},{"$f":"'PADD1 mthly rpt'!EU16+'PADD2 mthly rpt'!EU16+'PADD3 mthly rpt'!EU16+'PADD4 mthly rpt'!EU16+'PADD5 mthly rpt'!EU16","v":1008770.1579763638},{"$f":"'PADD1 mthly rpt'!EV16+'PADD2 mthly rpt'!EV16+'PADD3 mthly rpt'!EV16+'PADD4 mthly rpt'!EV16+'PADD5 mthly rpt'!EV16","v":1010466.5614415419},{"$f":"'PADD1 mthly rpt'!EW16+'PADD2 mthly rpt'!EW16+'PADD3 mthly rpt'!EW16+'PADD4 mthly rpt'!EW16+'PADD5 mthly rpt'!EW16","v":1034551.1168770569},{"$f":"'PADD1 mthly rpt'!EX16+'PADD2 mthly rpt'!EX16+'PADD3 mthly rpt'!EX16+'PADD4 mthly rpt'!EX16+'PADD5 mthly rpt'!EX16","v":1024182.5155312464},{"$f":"'PADD1 mthly rpt'!EY16+'PADD2 mthly rpt'!EY16+'PADD3 mthly rpt'!EY16+'PADD4 mthly rpt'!EY16+'PADD5 mthly rpt'!EY16","v":1182053.6566959189},{"$f":"'PADD1 mthly rpt'!EZ16+'PADD2 mthly rpt'!EZ16+'PADD3 mthly rpt'!EZ16+'PADD4 mthly rpt'!EZ16+'PADD5 mthly rpt'!EZ16","v":1270169.3518659628},{"$f":"'PADD1 mthly rpt'!FA16+'PADD2 mthly rpt'!FA16+'PADD3 mthly rpt'!FA16+'PADD4 mthly rpt'!FA16+'PADD5 mthly rpt'!FA16","v":1357347.0802782951},{"$f":"'PADD1 mthly rpt'!FB16+'PADD2 mthly rpt'!FB16+'PADD3 mthly rpt'!FB16+'PADD4 mthly rpt'!FB16+'PADD5 mthly rpt'!FB16","v":1532745.0716565314},{"$f":"'PADD1 mthly rpt'!FC16+'PADD2 mthly rpt'!FC16+'PADD3 mthly rpt'!FC16+'PADD4 mthly rpt'!FC16+'PADD5 mthly rpt'!FC16","v":1374782.181322902},{"$f":"'PADD1 mthly rpt'!FD16+'PADD2 mthly rpt'!FD16+'PADD3 mthly rpt'!FD16+'PADD4 mthly rpt'!FD16+'PADD5 mthly rpt'!FD16","v":1217114.848267749},{"$f":"'PADD1 mthly rpt'!FE16+'PADD2 mthly rpt'!FE16+'PADD3 mthly rpt'!FE16+'PADD4 mthly rpt'!FE16+'PADD5 mthly rpt'!FE16","v":1129026.3740933647},{"$f":"'PADD1 mthly rpt'!FF16+'PADD2 mthly rpt'!FF16+'PADD3 mthly rpt'!FF16+'PADD4 mthly rpt'!FF16+'PADD5 mthly rpt'!FF16","v":955738.26865907223},{"$f":"'PADD1 mthly rpt'!FG16+'PADD2 mthly rpt'!FG16+'PADD3 mthly rpt'!FG16+'PADD4 mthly rpt'!FG16+'PADD5 mthly rpt'!FG16","v":1030506.3016578223},{"$f":"'PADD1 mthly rpt'!FH16+'PADD2 mthly rpt'!FH16+'PADD3 mthly rpt'!FH16+'PADD4 mthly rpt'!FH16+'PADD5 mthly rpt'!FH16","v":990521.40982146852},{"$f":"'PADD1 mthly rpt'!FI16+'PADD2 mthly rpt'!FI16+'PADD3 mthly rpt'!FI16+'PADD4 mthly rpt'!FI16+'PADD5 mthly rpt'!FI16","v":1042138.6564437851},{"$f":"'PADD1 mthly rpt'!FJ16+'PADD2 mthly rpt'!FJ16+'PADD3 mthly rpt'!FJ16+'PADD4 mthly rpt'!FJ16+'PADD5 mthly rpt'!FJ16","v":1078506.1323401232},{"$f":"'PADD1 mthly rpt'!FK16+'PADD2 mthly rpt'!FK16+'PADD3 mthly rpt'!FK16+'PADD4 mthly rpt'!FK16+'PADD5 mthly rpt'!FK16","v":1228066.7722688168},{"$f":"'PADD1 mthly rpt'!FL16+'PADD2 mthly rpt'!FL16+'PADD3 mthly rpt'!FL16+'PADD4 mthly rpt'!FL16+'PADD5 mthly rpt'!FL16","v":1294972.9833494402},{"$f":"'PADD1 mthly rpt'!FM16+'PADD2 mthly rpt'!FM16+'PADD3 mthly rpt'!FM16+'PADD4 mthly rpt'!FM16+'PADD5 mthly rpt'!FM16","v":1372798.7278534092},{"$f":"'PADD1 mthly rpt'!FN16+'PADD2 mthly rpt'!FN16+'PADD3 mthly rpt'!FN16+'PADD4 mthly rpt'!FN16+'PADD5 mthly rpt'!FN16","v":1452617.5359625556},{"$f":"'PADD1 mthly rpt'!FO16+'PADD2 mthly rpt'!FO16+'PADD3 mthly rpt'!FO16+'PADD4 mthly rpt'!FO16+'PADD5 mthly rpt'!FO16","v":1427247.4044953322},{"$f":"'PADD1 mthly rpt'!FP16+'PADD2 mthly rpt'!FP16+'PADD3 mthly rpt'!FP16+'PADD4 mthly rpt'!FP16+'PADD5 mthly rpt'!FP16","v":1195747.6515204648},{"$f":"'PADD1 mthly rpt'!FQ16+'PADD2 mthly rpt'!FQ16+'PADD3 mthly rpt'!FQ16+'PADD4 mthly rpt'!FQ16+'PADD5 mthly rpt'!FQ16","v":982597.73701690591},{"$f":"'PADD1 mthly rpt'!FR16+'PADD2 mthly rpt'!FR16+'PADD3 mthly rpt'!FR16+'PADD4 mthly rpt'!FR16+'PADD5 mthly rpt'!FR16","v":944384.00113692915},{"$f":"'PADD1 mthly rpt'!FS16+'PADD2 mthly rpt'!FS16+'PADD3 mthly rpt'!FS16+'PADD4 mthly rpt'!FS16+'PADD5 mthly rpt'!FS16","v":930222.66280754621},{"$f":"'PADD1 mthly rpt'!FT16+'PADD2 mthly rpt'!FT16+'PADD3 mthly rpt'!FT16+'PADD4 mthly rpt'!FT16+'PADD5 mthly rpt'!FT16","v":935131.14195316832},{"$f":"'PADD1 mthly rpt'!FU16+'PADD2 mthly rpt'!FU16+'PADD3 mthly rpt'!FU16+'PADD4 mthly rpt'!FU16+'PADD5 mthly rpt'!FU16","v":1004638.5015200329},{"$f":"'PADD1 mthly rpt'!FV16+'PADD2 mthly rpt'!FV16+'PADD3 mthly rpt'!FV16+'PADD4 mthly rpt'!FV16+'PADD5 mthly rpt'!FV16","v":1012974.4019997816},{"$f":"'PADD1 mthly rpt'!FW16+'PADD2 mthly rpt'!FW16+'PADD3 mthly rpt'!FW16+'PADD4 mthly rpt'!FW16+'PADD5 mthly rpt'!FW16","v":1135837.787645705},{"$f":"'PADD1 mthly rpt'!FX16+'PADD2 mthly rpt'!FX16+'PADD3 mthly rpt'!FX16+'PADD4 mthly rpt'!FX16+'PADD5 mthly rpt'!FX16","v":1189993.576191697},{"$f":"'PADD1 mthly rpt'!FY16+'PADD2 mthly rpt'!FY16+'PADD3 mthly rpt'!FY16+'PADD4 mthly rpt'!FY16+'PADD5 mthly rpt'!FY16","v":1288412.2600902142},{"$f":"'PADD1 mthly rpt'!FZ16+'PADD2 mthly rpt'!FZ16+'PADD3 mthly rpt'!FZ16+'PADD4 mthly rpt'!FZ16+'PADD5 mthly rpt'!FZ16","v":1313777.7584052747},{"$f":"'PADD1 mthly rpt'!GA16+'PADD2 mthly rpt'!GA16+'PADD3 mthly rpt'!GA16+'PADD4 mthly rpt'!GA16+'PADD5 mthly rpt'!GA16","v":1266926.7926956303},{"$f":"'PADD1 mthly rpt'!GB16+'PADD2 mthly rpt'!GB16+'PADD3 mthly rpt'!GB16+'PADD4 mthly rpt'!GB16+'PADD5 mthly rpt'!GB16","v":1095660.0799887576},{"$f":"'PADD1 mthly rpt'!GC16+'PADD2 mthly rpt'!GC16+'PADD3 mthly rpt'!GC16+'PADD4 mthly rpt'!GC16+'PADD5 mthly rpt'!GC16","v":965981.08952745073},{"$f":"'PADD1 mthly rpt'!GD16+'PADD2 mthly rpt'!GD16+'PADD3 mthly rpt'!GD16+'PADD4 mthly rpt'!GD16+'PADD5 mthly rpt'!GD16","v":915388.38970972551},{"$f":"'PADD1 mthly rpt'!GE16+'PADD2 mthly rpt'!GE16+'PADD3 mthly rpt'!GE16+'PADD4 mthly rpt'!GE16+'PADD5 mthly rpt'!GE16","v":903546.04659382626},{"$f":"'PADD1 mthly rpt'!GF16+'PADD2 mthly rpt'!GF16+'PADD3 mthly rpt'!GF16+'PADD4 mthly rpt'!GF16+'PADD5 mthly rpt'!GF16","v":922987.1900644761},{"$f":"'PADD1 mthly rpt'!GG16+'PADD2 mthly rpt'!GG16+'PADD3 mthly rpt'!GG16+'PADD4 mthly rpt'!GG16+'PADD5 mthly rpt'!GG16","v":968617.44194948091},{"$f":"'PADD1 mthly rpt'!GH16+'PADD2 mthly rpt'!GH16+'PADD3 mthly rpt'!GH16+'PADD4 mthly rpt'!GH16+'PADD5 mthly rpt'!GH16","v":996401.97378896282},{"$f":"'PADD1 mthly rpt'!GI16+'PADD2 mthly rpt'!GI16+'PADD3 mthly rpt'!GI16+'PADD4 mthly rpt'!GI16+'PADD5 mthly rpt'!GI16","v":1114558.238060141},{"$f":"'PADD1 mthly rpt'!GJ16+'PADD2 mthly rpt'!GJ16+'PADD3 mthly rpt'!GJ16+'PADD4 mthly rpt'!GJ16+'PADD5 mthly rpt'!GJ16","v":1258606.1070975137},{"$f":"'PADD1 mthly rpt'!GK16+'PADD2 mthly rpt'!GK16+'PADD3 mthly rpt'!GK16+'PADD4 mthly rpt'!GK16+'PADD5 mthly rpt'!GK16","v":1544888.8543962294},{"$f":"'PADD1 mthly rpt'!GL16+'PADD2 mthly rpt'!GL16+'PADD3 mthly rpt'!GL16+'PADD4 mthly rpt'!GL16+'PADD5 mthly rpt'!GL16","v":1593626.4653007097},{"$f":"'PADD1 mthly rpt'!GM16+'PADD2 mthly rpt'!GM16+'PADD3 mthly rpt'!GM16+'PADD4 mthly rpt'!GM16+'PADD5 mthly rpt'!GM16","v":1491816.4090049888},{"$f":"'PADD1 mthly rpt'!GN16+'PADD2 mthly rpt'!GN16+'PADD3 mthly rpt'!GN16+'PADD4 mthly rpt'!GN16+'PADD5 mthly rpt'!GN16","v":1249277.3502171349},{"$f":"'PADD1 mthly rpt'!GO16+'PADD2 mthly rpt'!GO16+'PADD3 mthly rpt'!GO16+'PADD4 mthly rpt'!GO16+'PADD5 mthly rpt'!GO16","v":1205180.6134431208},{"$f":"'PADD1 mthly rpt'!GP16+'PADD2 mthly rpt'!GP16+'PADD3 mthly rpt'!GP16+'PADD4 mthly rpt'!GP16+'PADD5 mthly rpt'!GP16","v":1072743.5066854968},{"$f":"'PADD1 mthly rpt'!GQ16+'PADD2 mthly rpt'!GQ16+'PADD3 mthly rpt'!GQ16+'PADD4 mthly rpt'!GQ16+'PADD5 mthly rpt'!GQ16","v":983207.27966705407},{"$f":"'PADD1 mthly rpt'!GR16+'PADD2 mthly rpt'!GR16+'PADD3 mthly rpt'!GR16+'PADD4 mthly rpt'!GR16+'PADD5 mthly rpt'!GR16","v":942349.13267140114},{"$f":"'PADD1 mthly rpt'!GS16+'PADD2 mthly rpt'!GS16+'PADD3 mthly rpt'!GS16+'PADD4 mthly rpt'!GS16+'PADD5 mthly rpt'!GS16","v":1055705.9065961321},{"$f":"'PADD1 mthly rpt'!GT16+'PADD2 mthly rpt'!GT16+'PADD3 mthly rpt'!GT16+'PADD4 mthly rpt'!GT16+'PADD5 mthly rpt'!GT16","v":1093696.8928238272},{"$f":"'PADD1 mthly rpt'!GU16+'PADD2 mthly rpt'!GU16+'PADD3 mthly rpt'!GU16+'PADD4 mthly rpt'!GU16+'PADD5 mthly rpt'!GU16","v":1275136.0890450557},{"$f":"'PADD1 mthly rpt'!GV16+'PADD2 mthly rpt'!GV16+'PADD3 mthly rpt'!GV16+'PADD4 mthly rpt'!GV16+'PADD5 mthly rpt'!GV16","v":1407571.0124290767},{"$f":"'PADD1 mthly rpt'!GW16+'PADD2 mthly rpt'!GW16+'PADD3 mthly rpt'!GW16+'PADD4 mthly rpt'!GW16+'PADD5 mthly rpt'!GW16","v":1645250.9451838175},{"$f":"'PADD1 mthly rpt'!GX16+'PADD2 mthly rpt'!GX16+'PADD3 mthly rpt'!GX16+'PADD4 mthly rpt'!GX16+'PADD5 mthly rpt'!GX16","v":1736804.7891531971},{"$f":"'PADD1 mthly rpt'!GY16+'PADD2 mthly rpt'!GY16+'PADD3 mthly rpt'!GY16+'PADD4 mthly rpt'!GY16+'PADD5 mthly rpt'!GY16","v":1629147.2546235868},{"$f":"'PADD1 mthly rpt'!GZ16+'PADD2 mthly rpt'!GZ16+'PADD3 mthly rpt'!GZ16+'PADD4 mthly rpt'!GZ16+'PADD5 mthly rpt'!GZ16","v":1425986.7564528824},{"$f":"'PADD1 mthly rpt'!HA16+'PADD2 mthly rpt'!HA16+'PADD3 mthly rpt'!HA16+'PADD4 mthly rpt'!HA16+'PADD5 mthly rpt'!HA16","v":1218957.7177581969},{"$f":"'PADD1 mthly rpt'!HB16+'PADD2 mthly rpt'!HB16+'PADD3 mthly rpt'!HB16+'PADD4 mthly rpt'!HB16+'PADD5 mthly rpt'!HB16","v":1066430.2477045627},{"$f":"'PADD1 mthly rpt'!HC16+'PADD2 mthly rpt'!HC16+'PADD3 mthly rpt'!HC16+'PADD4 mthly rpt'!HC16+'PADD5 mthly rpt'!HC16","v":1010402.9838138365}]
["EXPORTS",{"$f":"'PADD1 mthly rpt'!B17+'PADD2 mthly rpt'!B17+'PADD3 mthly rpt'!B17+'PADD4 mthly rpt'!B17+'PADD5 mthly rpt'!B17","v":28451.612903225803},{"$f":"'PADD1 mthly rpt'!C17+'PADD2 mthly rpt'!C17+'PADD3 mthly rpt'!C17+'PADD4 mthly rpt'!C17+'PADD5 mthly rpt'!C17","v":34964.285714285717},{"$f":"'PADD1 mthly rpt'!D17+'PADD2 mthly rpt'!D17+'PADD3 mthly rpt'!D17+'PADD4 mthly rpt'!D17+'PADD5 mthly rpt'!D17","v":33838.709677419356},{"$f":"'PADD1 mthly rpt'!E17+'PADD2 mthly rpt'!E17+'PADD3 mthly rpt'!E17+'PADD4 mthly rpt'!E17+'PADD5 mthly rpt'!E17","v":37600},{"$f":"'PADD1 mthly rpt'!F17+'PADD2 mthly rpt'!F17+'PADD3 mthly rpt'!F17+'PADD4 mthly rpt'!F17+'PADD5 mthly rpt'!F17","v":39419.354838709674},{"$f":"'PADD1 mthly rpt'!G17+'PADD2 mthly rpt'!G17+'PADD3 mthly rpt'!G17+'PADD4 mthly rpt'!G17+'PADD5 mthly rpt'!G17","v":41766.666666666664},{"$f":"'PADD1 mthly rpt'!H17+'PADD2 mthly rpt'!H17+'PADD3 mthly rpt'!H17+'PADD4 mthly rpt'!H17+'PADD5 mthly rpt'!H17","v":39322.580645161288},{"$f":"'PADD1 mthly rpt'!I17+'PADD2 mthly rpt'!I17+'PADD3 mthly rpt'!I17+'PADD4 mthly rpt'!I17+'PADD5 mthly rpt'!I17","v":40451.61290322581},{"$f":"'PADD1 mthly rpt'!J17+'PADD2 mthly rpt'!J17+'PADD3 mthly rpt'!J17+'PADD4 mthly rpt'!J17+'PADD5 mthly rpt'!J17","v":32200},{"$f":"'PADD1 mthly rpt'!K17+'PADD2 mthly rpt'!K17+'PADD3 mthly rpt'!K17+'PADD4 mthly rpt'!K17+'PADD5 mthly rpt'!K17","v":43677.419354838712},{"$f":"'PADD1 mthly rpt'!L17+'PADD2 mthly rpt'!L17+'PADD3 mthly rpt'!L17+'PADD4 mthly rpt'!L17+'PADD5 mthly rpt'!L17","v":33566.666666666672},{"$f":"'PADD1 mthly rpt'!M17+'PADD2 mthly rpt'!M17+'PADD3 mthly rpt'!M17+'PADD4 mthly rpt'!M17+'PADD5 mthly rpt'!M17","v":44225.806451612902},{"$f":"'PADD1 mthly rpt'!N17+'PADD2 mthly rpt'!N17+'PADD3 mthly rpt'!N17+'PADD4 mthly rpt'!N17+'PADD5 mthly rpt'!N17","v":49580.645161290318},{"$f":"'PADD1 mthly rpt'!O17+'PADD2 mthly rpt'!O17+'PADD3 mthly rpt'!O17+'PADD4 mthly rpt'!O17+'PADD5 mthly rpt'!O17","v":102892.85714285713},{"$f":"'PADD1 mthly rpt'!P17+'PADD2 mthly rpt'!P17+'PADD3 mthly rpt'!P17+'PADD4 mthly rpt'!P17+'PADD5 mthly rpt'!P17","v":65548.387096774197},{"$f":"'PADD1 mthly rpt'!Q17+'PADD2 mthly rpt'!Q17+'PADD3 mthly rpt'!Q17+'PADD4 mthly rpt'!Q17+'PADD5 mthly rpt'!Q17","v":57800},{"$f":"'PADD1 mthly rpt'!R17+'PADD2 mthly rpt'!R17+'PADD3 mthly rpt'!R17+'PADD4 mthly rpt'!R17+'PADD5 mthly rpt'!R17","v":33322.580645161288},{"$f":"'PADD1 mthly rpt'!S17+'PADD2 mthly rpt'!S17+'PADD3 mthly rpt'!S17+'PADD4 mthly rpt'!S17+'PADD5 mthly rpt'!S17","v":26266.666666666664},{"$f":"'PADD1 mthly rpt'!T17+'PADD2 mthly rpt'!T17+'PADD3 mthly rpt'!T17+'PADD4 mthly rpt'!T17+'PADD5 mthly rpt'!T17","v":25774.193548387098},{"$f":"'PADD1 mthly rpt'!U17+'PADD2 mthly rpt'!U17+'PADD3 mthly rpt'!U17+'PADD4 mthly rpt'!U17+'PADD5 mthly rpt'!U17","v":29548.387096774193},{"$f":"'PADD1 mthly rpt'!V17+'PADD2 mthly rpt'!V17+'PADD3 mthly rpt'!V17+'PADD4 mthly rpt'!V17+'PADD5 mthly rpt'!V17","v":24466.666666666668},{"$f":"'PADD1 mthly rpt'!W17+'PADD2 mthly rpt'!W17+'PADD3 mthly rpt'!W17+'PADD4 mthly rpt'!W17+'PADD5 mthly rpt'!W17","v":42548.38709677419},{"$f":"'PADD1 mthly rpt'!X17+'PADD2 mthly rpt'!X17+'PADD3 mthly rpt'!X17+'PADD4 mthly rpt'!X17+'PADD5 mthly rpt'!X17","v":43399.999999999993},{"$f":"'PADD1 mthly rpt'!Y17+'PADD2 mthly rpt'!Y17+'PADD3 mthly rpt'!Y17+'PADD4 mthly rpt'!Y17+'PADD5 mthly rpt'!Y17","v":46064.51612903225},{"$f":"'PADD1 mthly rpt'!Z17+'PADD2 mthly rpt'!Z17+'PADD3 mthly rpt'!Z17+'PADD4 mthly rpt'!Z17+'PADD5 mthly rpt'!Z17","v":77677.419354838712},{"$f":"'PADD1 mthly rpt'!AA17+'PADD2 mthly rpt'!AA17+'PADD3 mthly rpt'!AA17+'PADD4 mthly rpt'!AA17+'PADD5 mthly rpt'!AA17","v":54178.571428571435},{"$f":"'PADD1 mthly rpt'!AB17+'PADD2 mthly rpt'!AB17+'PADD3 mthly rpt'!AB17+'PADD4 mthly rpt'!AB17+'PADD5 mthly rpt'!AB17","v":51258.06451612903},{"$f":"'PADD1 mthly rpt'!AC17+'PADD2 mthly rpt'!AC17+'PADD3 mthly rpt'!AC17+'PADD4 mthly rpt'!AC17+'PADD5 mthly rpt'!AC17","v":26066.666666666672},{"$f":"'PADD1 mthly rpt'!AD17+'PADD2 mthly rpt'!AD17+'PADD3 mthly rpt'!AD17+'PADD4 mthly rpt'!AD17+'PADD5 mthly rpt'!AD17","v":29838.709677419352},{"$f":"'PADD1 mthly rpt'!AE17+'PADD2 mthly rpt'!AE17+'PADD3 mthly rpt'!AE17+'PADD4 mthly rpt'!AE17+'PADD5 mthly rpt'!AE17","v":25466.666666666664},{"$f":"'PADD1 mthly rpt'!AF17+'PADD2 mthly rpt'!AF17+'PADD3 mthly rpt'!AF17+'PADD4 mthly rpt'!AF17+'PADD5 mthly rpt'!AF17","v":37677.419354838705},{"$f":"'PADD1 mthly rpt'!AG17+'PADD2 mthly rpt'!AG17+'PADD3 mthly rpt'!AG17+'PADD4 mthly rpt'!AG17+'PADD5 mthly rpt'!AG17","v":24741.93548387097},{"$f":"'PADD1 mthly rpt'!AH17+'PADD2 mthly rpt'!AH17+'PADD3 mthly rpt'!AH17+'PADD4 mthly rpt'!AH17+'PADD5 mthly rpt'!AH17","v":21066.666666666664},{"$f":"'PADD1 mthly rpt'!AI17+'PADD2 mthly rpt'!AI17+'PADD3 mthly rpt'!AI17+'PADD4 mthly rpt'!AI17+'PADD5 mthly rpt'!AI17","v":20354.83870967742},{"$f":"'PADD1 mthly rpt'!AJ17+'PADD2 mthly rpt'!AJ17+'PADD3 mthly rpt'!AJ17+'PADD4 mthly rpt'!AJ17+'PADD5 mthly rpt'!AJ17","v":97333.333333333328},{"$f":"'PADD1 mthly rpt'!AK17+'PADD2 mthly rpt'!AK17+'PADD3 mthly rpt'!AK17+'PADD4 mthly rpt'!AK17+'PADD5 mthly rpt'!AK17","v":45096.774193548386},{"$f":"'PADD1 mthly rpt'!AL17+'PADD2 mthly rpt'!AL17+'PADD3 mthly rpt'!AL17+'PADD4 mthly rpt'!AL17+'PADD5 mthly rpt'!AL17","v":119709.67741935485},{"$f":"'PADD1 mthly rpt'!AM17+'PADD2 mthly rpt'!AM17+'PADD3 mthly rpt'!AM17+'PADD4 mthly rpt'!AM17+'PADD5 mthly rpt'!AM17","v":117034.4827586207},{"$f":"'PADD1 mthly rpt'!AN17+'PADD2 mthly rpt'!AN17+'PADD3 mthly rpt'!AN17+'PADD4 mthly rpt'!AN17+'PADD5 mthly rpt'!AN17","v":87451.612903225818},{"$f":"'PADD1 mthly rpt'!AO17+'PADD2 mthly rpt'!AO17+'PADD3 mthly rpt'!AO17+'PADD4 mthly rpt'!AO17+'PADD5 mthly rpt'!AO17","v":50500},{"$f":"'PADD1 mthly rpt'!AP17+'PADD2 mthly rpt'!AP17+'PADD3 mthly rpt'!AP17+'PADD4 mthly rpt'!AP17+'PADD5 mthly rpt'!AP17","v":71935.483870967742},{"$f":"'PADD1 mthly rpt'!AQ17+'PADD2 mthly rpt'!AQ17+'PADD3 mthly rpt'!AQ17+'PADD4 mthly rpt'!AQ17+'PADD5 mthly rpt'!AQ17","v":21533.333333333336},{"$f":"'PADD1 mthly rpt'!AR17+'PADD2 mthly rpt'!AR17+'PADD3 mthly rpt'!AR17+'PADD4 mthly rpt'!AR17+'PADD5 mthly rpt'!AR17","v":17838.709677419356},{"$f":"'PADD1 mthly rpt'!AS17+'PADD2 mthly rpt'!AS17+'PADD3 mthly rpt'!AS17+'PADD4 mthly rpt'!AS17+'PADD5 mthly rpt'!AS17","v":19129.032258064515},{"$f":"'PADD1 mthly rpt'!AT17+'PADD2 mthly rpt'!AT17+'PADD3 mthly rpt'!AT17+'PADD4 mthly rpt'!AT17+'PADD5 mthly rpt'!AT17","v":20366.666666666668},{"$f":"'PADD1 mthly rpt'!AU17+'PADD2 mthly rpt'!AU17+'PADD3 mthly rpt'!AU17+'PADD4 mthly rpt'!AU17+'PADD5 mthly rpt'!AU17","v":56354.838709677417},{"$f":"'PADD1 mthly rpt'!AV17+'PADD2 mthly rpt'!AV17+'PADD3 mthly rpt'!AV17+'PADD4 mthly rpt'!AV17+'PADD5 mthly rpt'!AV17","v":20066.666666666664},{"$f":"'PADD1 mthly rpt'!AW17+'PADD2 mthly rpt'!AW17+'PADD3 mthly rpt'!AW17+'PADD4 mthly rpt'!AW17+'PADD5 mthly rpt'!AW17","v":30612.903225806451},{"$f":"'PADD1 mthly rpt'!AX17+'PADD2 mthly rpt'!AX17+'PADD3 mthly rpt'!AX17+'PADD4 mthly rpt'!AX17+'PADD5 mthly rpt'!AX17","v":76290.322580645166},{"$f":"'PADD1 mthly rpt'!AY17+'PADD2 mthly rpt'!AY17+'PADD3 mthly rpt'!AY17+'PADD4 mthly rpt'!AY17+'PADD5 mthly rpt'!AY17","v":120178.57142857143},{"$f":"'PADD1 mthly rpt'!AZ17+'PADD2 mthly rpt'!AZ17+'PADD3 mthly rpt'!AZ17+'PADD4 mthly rpt'!AZ17+'PADD5 mthly rpt'!AZ17","v":85322.580645161288},{"$f":"'PADD1 mthly rpt'!BA17+'PADD2 mthly rpt'!BA17+'PADD3 mthly rpt'!BA17+'PADD4 mthly rpt'!BA17+'PADD5 mthly rpt'!BA17","v":73433.333333333328},{"$f":"'PADD1 mthly rpt'!BB17+'PADD2 mthly rpt'!BB17+'PADD3 mthly rpt'!BB17+'PADD4 mthly rpt'!BB17+'PADD5 mthly rpt'!BB17","v":41806.45161290322},{"$f":"'PADD1 mthly rpt'!BC17+'PADD2 mthly rpt'!BC17+'PADD3 mthly rpt'!BC17+'PADD4 mthly rpt'!BC17+'PADD5 mthly rpt'!BC17","v":45900},{"$f":"'PADD1 mthly rpt'!BD17+'PADD2 mthly rpt'!BD17+'PADD3 mthly rpt'!BD17+'PADD4 mthly rpt'!BD17+'PADD5 mthly rpt'!BD17","v":54580.645161290326},{"$f":"'PADD1 mthly rpt'!BE17+'PADD2 mthly rpt'!BE17+'PADD3 mthly rpt'!BE17+'PADD4 mthly rpt'!BE17+'PADD5 mthly rpt'!BE17","v":107225.80645161291},{"$f":"'PADD1 mthly rpt'!BF17+'PADD2 mthly rpt'!BF17+'PADD3 mthly rpt'!BF17+'PADD4 mthly rpt'!BF17+'PADD5 mthly rpt'!BF17","v":76900},{"$f":"'PADD1 mthly rpt'!BG17+'PADD2 mthly rpt'!BG17+'PADD3 mthly rpt'!BG17+'PADD4 mthly rpt'!BG17+'PADD5 mthly rpt'!BG17","v":116451.61290322579},{"$f":"'PADD1 mthly rpt'!BH17+'PADD2 mthly rpt'!BH17+'PADD3 mthly rpt'!BH17+'PADD4 mthly rpt'!BH17+'PADD5 mthly rpt'!BH17","v":99899.999999999985},{"$f":"'PADD1 mthly rpt'!BI17+'PADD2 mthly rpt'!BI17+'PADD3 mthly rpt'!BI17+'PADD4 mthly rpt'!BI17+'PADD5 mthly rpt'!BI17","v":120709.67741935483},{"$f":"'PADD1 mthly rpt'!BJ17+'PADD2 mthly rpt'!BJ17+'PADD3 mthly rpt'!BJ17+'PADD4 mthly rpt'!BJ17+'PADD5 mthly rpt'!BJ17","v":131161.29032258067},{"$f":"'PADD1 mthly rpt'!BK17+'PADD2 mthly rpt'!BK17+'PADD3 mthly rpt'!BK17+'PADD4 mthly rpt'!BK17+'PADD5 mthly rpt'!BK17","v":94785.714285714275},{"$f":"'PADD1 mthly rpt'!BL17+'PADD2 mthly rpt'!BL17+'PADD3 mthly rpt'!BL17+'PADD4 mthly rpt'!BL17+'PADD5 mthly rpt'!BL17","v":94193.548387096758},{"$f":"'PADD1 mthly rpt'!BM17+'PADD2 mthly rpt'!BM17+'PADD3 mthly rpt'!BM17+'PADD4 mthly rpt'!BM17+'PADD5 mthly rpt'!BM17","v":93166.666666666672},{"$f":"'PADD1 mthly rpt'!BN17+'PADD2 mthly rpt'!BN17+'PADD3 mthly rpt'!BN17+'PADD4 mthly rpt'!BN17+'PADD5 mthly rpt'!BN17","v":121225.80645161291},{"$f":"'PADD1 mthly rpt'!BO17+'PADD2 mthly rpt'!BO17+'PADD3 mthly rpt'!BO17+'PADD4 mthly rpt'!BO17+'PADD5 mthly rpt'!BO17","v":90866.666666666672},{"$f":"'PADD1 mthly rpt'!BP17+'PADD2 mthly rpt'!BP17+'PADD3 mthly rpt'!BP17+'PADD4 mthly rpt'!BP17+'PADD5 mthly rpt'!BP17","v":105322.5806451613},{"$f":"'PADD1 mthly rpt'!BQ17+'PADD2 mthly rpt'!BQ17+'PADD3 mthly rpt'!BQ17+'PADD4 mthly rpt'!BQ17+'PADD5 mthly rpt'!BQ17","v":94935.483870967728},{"$f":"'PADD1 mthly rpt'!BR17+'PADD2 mthly rpt'!BR17+'PADD3 mthly rpt'!BR17+'PADD4 mthly rpt'!BR17+'PADD5 mthly rpt'!BR17","v":104366.66666666667},{"$f":"'PADD1 mthly rpt'!BS17+'PADD2 mthly rpt'!BS17+'PADD3 mthly rpt'!BS17+'PADD4 mthly rpt'!BS17+'PADD5 mthly rpt'!BS17","v":120354.83870967742},{"$f":"'PADD1 mthly rpt'!BT17+'PADD2 mthly rpt'!BT17+'PADD3 mthly rpt'!BT17+'PADD4 mthly rpt'!BT17+'PADD5 mthly rpt'!BT17","v":119533.33333333334},{"$f":"'PADD1 mthly rpt'!BU17+'PADD2 mthly rpt'!BU17+'PADD3 mthly rpt'!BU17+'PADD4 mthly rpt'!BU17+'PADD5 mthly rpt'!BU17","v":138290.32258064515},{"$f":"'PADD1 mthly rpt'!BV17+'PADD2 mthly rpt'!BV17+'PADD3 mthly rpt'!BV17+'PADD4 mthly rpt'!BV17+'PADD5 mthly rpt'!BV17","v":127290.32258064515},{"$f":"'PADD1 mthly rpt'!BW17+'PADD2 mthly rpt'!BW17+'PADD3 mthly rpt'!BW17+'PADD4 mthly rpt'!BW17+'PADD5 mthly rpt'!BW17","v":105392.85714285714},{"$f":"'PADD1 mthly rpt'!BX17+'PADD2 mthly rpt'!BX17+'PADD3 mthly rpt'!BX17+'PADD4 mthly rpt'!BX17+'PADD5 mthly rpt'!BX17","v":155129.03225806452},{"$f":"'PADD1 mthly rpt'!BY17+'PADD2 mthly rpt'!BY17+'PADD3 mthly rpt'!BY17+'PADD4 mthly rpt'!BY17+'PADD5 mthly rpt'!BY17","v":174666.66666666669},{"$f":"'PADD1 mthly rpt'!BZ17+'PADD2 mthly rpt'!BZ17+'PADD3 mthly rpt'!BZ17+'PADD4 mthly rpt'!BZ17+'PADD5 mthly rpt'!BZ17","v":148258.06451612903},{"$f":"'PADD1 mthly rpt'!CA17+'PADD2 mthly rpt'!CA17+'PADD3 mthly rpt'!CA17+'PADD4 mthly rpt'!CA17+'PADD5 mthly rpt'!CA17","v":123766.66666666667},{"$f":"'PADD1 mthly rpt'!CB17+'PADD2 mthly rpt'!CB17+'PADD3 mthly rpt'!CB17+'PADD4 mthly rpt'!CB17+'PADD5 mthly rpt'!CB17","v":101741.93548387096},{"$f":"'PADD1 mthly rpt'!CC17+'PADD2 mthly rpt'!CC17+'PADD3 mthly rpt'!CC17+'PADD4 mthly rpt'!CC17+'PADD5 mthly rpt'!CC17","v":114064.51612903227},{"$f":"'PADD1 mthly rpt'!CD17+'PADD2 mthly rpt'!CD17+'PADD3 mthly rpt'!CD17+'PADD4 mthly rpt'!CD17+'PADD5 mthly rpt'!CD17","v":133533.33333333331},{"$f":"'PADD1 mthly rpt'!CE17+'PADD2 mthly rpt'!CE17+'PADD3 mthly rpt'!CE17+'PADD4 mthly rpt'!CE17+'PADD5 mthly rpt'!CE17","v":58774.193548387091},{"$f":"'PADD1 mthly rpt'!CF17+'PADD2 mthly rpt'!CF17+'PADD3 mthly rpt'!CF17+'PADD4 mthly rpt'!CF17+'PADD5 mthly rpt'!CF17","v":121900},{"$f":"'PADD1 mthly rpt'!CG17+'PADD2 mthly rpt'!CG17+'PADD3 mthly rpt'!CG17+'PADD4 mthly rpt'!CG17+'PADD5 mthly rpt'!CG17","v":123064.51612903227},{"$f":"'PADD1 mthly rpt'!CH17+'PADD2 mthly rpt'!CH17+'PADD3 mthly rpt'!CH17+'PADD4 mthly rpt'!CH17+'PADD5 mthly rpt'!CH17","v":164129.03225806452},{"$f":"'PADD1 mthly rpt'!CI17+'PADD2 mthly rpt'!CI17+'PADD3 mthly rpt'!CI17+'PADD4 mthly rpt'!CI17+'PADD5 mthly rpt'!CI17","v":149524.63054187191},{"$f":"'PADD1 mthly rpt'!CJ17+'PADD2 mthly rpt'!CJ17+'PADD3 mthly rpt'!CJ17+'PADD4 mthly rpt'!CJ17+'PADD5 mthly rpt'!CJ17","v":151516.12903225809},{"$f":"'PADD1 mthly rpt'!CK17+'PADD2 mthly rpt'!CK17+'PADD3 mthly rpt'!CK17+'PADD4 mthly rpt'!CK17+'PADD5 mthly rpt'!CK17","v":186999.99999999997},{"$f":"'PADD1 mthly rpt'!CL17+'PADD2 mthly rpt'!CL17+'PADD3 mthly rpt'!CL17+'PADD4 mthly rpt'!CL17+'PADD5 mthly rpt'!CL17","v":145225.80645161291},{"$f":"'PADD1 mthly rpt'!CM17+'PADD2 mthly rpt'!CM17+'PADD3 mthly rpt'!CM17+'PADD4 mthly rpt'!CM17+'PADD5 mthly rpt'!CM17","v":159633.33333333334},{"$f":"'PADD1 mthly rpt'!CN17+'PADD2 mthly rpt'!CN17+'PADD3 mthly rpt'!CN17+'PADD4 mthly rpt'!CN17+'PADD5 mthly rpt'!CN17","v":167322.5806451613},{"$f":"'PADD1 mthly rpt'!CO17+'PADD2 mthly rpt'!CO17+'PADD3 mthly rpt'!CO17+'PADD4 mthly rpt'!CO17+'PADD5 mthly rpt'!CO17","v":155387.09677419355},{"$f":"'PADD1 mthly rpt'!CP17+'PADD2 mthly rpt'!CP17+'PADD3 mthly rpt'!CP17+'PADD4 mthly rpt'!CP17+'PADD5 mthly rpt'!CP17","v":148400},{"$f":"'PADD1 mthly rpt'!CQ17+'PADD2 mthly rpt'!CQ17+'PADD3 mthly rpt'!CQ17+'PADD4 mthly rpt'!CQ17+'PADD5 mthly rpt'!CQ17","v":188838.70967741933},{"$f":"'PADD1 mthly rpt'!CR17+'PADD2 mthly rpt'!CR17+'PADD3 mthly rpt'!CR17+'PADD4 mthly rpt'!CR17+'PADD5 mthly rpt'!CR17","v":232933.33333333334},{"$f":"'PADD1 mthly rpt'!CS17+'PADD2 mthly rpt'!CS17+'PADD3 mthly rpt'!CS17+'PADD4 mthly rpt'!CS17+'PADD5 mthly rpt'!CS17","v":203870.96774193546},{"$f":"'PADD1 mthly rpt'!CT17+'PADD2 mthly rpt'!CT17+'PADD3 mthly rpt'!CT17+'PADD4 mthly rpt'!CT17+'PADD5 mthly rpt'!CT17","v":162580.6451612903},{"$f":"'PADD1 mthly rpt'!CU17+'PADD2 mthly rpt'!CU17+'PADD3 mthly rpt'!CU17+'PADD4 mthly rpt'!CU17+'PADD5 mthly rpt'!CU17","v":188678.57142857145},{"$f":"'PADD1 mthly rpt'!CV17+'PADD2 mthly rpt'!CV17+'PADD3 mthly rpt'!CV17+'PADD4 mthly rpt'!CV17+'PADD5 mthly rpt'!CV17","v":284548.38709677418},{"$f":"'PADD1 mthly rpt'!CW17+'PADD2 mthly rpt'!CW17+'PADD3 mthly rpt'!CW17+'PADD4 mthly rpt'!CW17+'PADD5 mthly rpt'!CW17","v":282800.00000000006},{"$f":"'PADD1 mthly rpt'!CX17+'PADD2 mthly rpt'!CX17+'PADD3 mthly rpt'!CX17+'PADD4 mthly rpt'!CX17+'PADD5 mthly rpt'!CX17","v":308129.03225806454},{"$f":"'PADD1 mthly rpt'!CY17+'PADD2 mthly rpt'!CY17+'PADD3 mthly rpt'!CY17+'PADD4 mthly rpt'!CY17+'PADD5 mthly rpt'!CY17","v":267433.33333333337},{"$f":"'PADD1 mthly rpt'!CZ17+'PADD2 mthly rpt'!CZ17+'PADD3 mthly rpt'!CZ17+'PADD4 mthly rpt'!CZ17+'PADD5 mthly rpt'!CZ17","v":274709.67741935485},{"$f":"'PADD1 mthly rpt'!DA17+'PADD2 mthly rpt'!DA17+'PADD3 mthly rpt'!DA17+'PADD4 mthly rpt'!DA17+'PADD5 mthly rpt'!DA17","v":294258.06451612903},{"$f":"'PADD1 mthly rpt'!DB17+'PADD2 mthly rpt'!DB17+'PADD3 mthly rpt'!DB17+'PADD4 mthly rpt'!DB17+'PADD5 mthly rpt'!DB17","v":333266.66666666663},{"$f":"'PADD1 mthly rpt'!DC17+'PADD2 mthly rpt'!DC17+'PADD3 mthly rpt'!DC17+'PADD4 mthly rpt'!DC17+'PADD5 mthly rpt'!DC17","v":407451.61290322582},{"$f":"'PADD1 mthly rpt'!DD17+'PADD2 mthly rpt'!DD17+'PADD3 mthly rpt'!DD17+'PADD4 mthly rpt'!DD17+'PADD5 mthly rpt'!DD17","v":409833.33333333337},{"$f":"'PADD1 mthly rpt'!DE17+'PADD2 mthly rpt'!DE17+'PADD3 mthly rpt'!DE17+'PADD4 mthly rpt'!DE17+'PADD5 mthly rpt'!DE17","v":399967.74193548388},{"$f":"'PADD1 mthly rpt'!DF17+'PADD2 mthly rpt'!DF17+'PADD3 mthly rpt'!DF17+'PADD4 mthly rpt'!DF17+'PADD5 mthly rpt'!DF17","v":355354.83870967739},{"$f":"'PADD1 mthly rpt'!DG17+'PADD2 mthly rpt'!DG17+'PADD3 mthly rpt'!DG17+'PADD4 mthly rpt'!DG17+'PADD5 mthly rpt'!DG17","v":341678.57142857148},{"$f":"'PADD1 mthly rpt'!DH17+'PADD2 mthly rpt'!DH17+'PADD3 mthly rpt'!DH17+'PADD4 mthly rpt'!DH17+'PADD5 mthly rpt'!DH17","v":330838.70967741933},{"$f":"'PADD1 mthly rpt'!DI17+'PADD2 mthly rpt'!DI17+'PADD3 mthly rpt'!DI17+'PADD4 mthly rpt'!DI17+'PADD5 mthly rpt'!DI17","v":406666.66666666663},{"$f":"'PADD1 mthly rpt'!DJ17+'PADD2 mthly rpt'!DJ17+'PADD3 mthly rpt'!DJ17+'PADD4 mthly rpt'!DJ17+'PADD5 mthly rpt'!DJ17","v":450516.12903225812},{"$f":"'PADD1 mthly rpt'!DK17+'PADD2 mthly rpt'!DK17+'PADD3 mthly rpt'!DK17+'PADD4 mthly rpt'!DK17+'PADD5 mthly rpt'!DK17","v":383666.66666666669},{"$f":"'PADD1 mthly rpt'!DL17+'PADD2 mthly rpt'!DL17+'PADD3 mthly rpt'!DL17+'PADD4 mthly rpt'!DL17+'PADD5 mthly rpt'!DL17","v":435741.93548387097},{"$f":"'PADD1 mthly rpt'!DM17+'PADD2 mthly rpt'!DM17+'PADD3 mthly rpt'!DM17+'PADD4 mthly rpt'!DM17+'PADD5 mthly rpt'!DM17","v":403838.70967741933},{"$f":"'PADD1 mthly rpt'!DN17+'PADD2 mthly rpt'!DN17+'PADD3 mthly rpt'!DN17+'PADD4 mthly rpt'!DN17+'PADD5 mthly rpt'!DN17","v":462133.33333333331},{"$f":"'PADD1 mthly rpt'!DO17+'PADD2 mthly rpt'!DO17+'PADD3 mthly rpt'!DO17+'PADD4 mthly rpt'!DO17+'PADD5 mthly rpt'!DO17","v":548548.38709677418},{"$f":"'PADD1 mthly rpt'!DP17+'PADD2 mthly rpt'!DP17+'PADD3 mthly rpt'!DP17+'PADD4 mthly rpt'!DP17+'PADD5 mthly rpt'!DP17","v":424166.66666666669},{"$f":"'PADD1 mthly rpt'!DQ17+'PADD2 mthly rpt'!DQ17+'PADD3 mthly rpt'!DQ17+'PADD4 mthly rpt'!DQ17+'PADD5 mthly rpt'!DQ17","v":522419.3548387097},{"$f":"'PADD1 mthly rpt'!DR17+'PADD2 mthly rpt'!DR17+'PADD3 mthly rpt'!DR17+'PADD4 mthly rpt'!DR17+'PADD5 mthly rpt'!DR17","v":510838.70967741933},{"$f":"'PADD1 mthly rpt'!DS17+'PADD2 mthly rpt'!DS17+'PADD3 mthly rpt'!DS17+'PADD4 mthly rpt'!DS17+'PADD5 mthly rpt'!DS17","v":661928.57142857148},{"$f":"'PADD1 mthly rpt'!DT17+'PADD2 mthly rpt'!DT17+'PADD3 mthly rpt'!DT17+'PADD4 mthly rpt'!DT17+'PADD5 mthly rpt'!DT17","v":470129.03225806449},{"$f":"'PADD1 mthly rpt'!DU17+'PADD2 mthly rpt'!DU17+'PADD3 mthly rpt'!DU17+'PADD4 mthly rpt'!DU17+'PADD5 mthly rpt'!DU17","v":628500},{"$f":"'PADD1 mthly rpt'!DV17+'PADD2 mthly rpt'!DV17+'PADD3 mthly rpt'!DV17+'PADD4 mthly rpt'!DV17+'PADD5 mthly rpt'!DV17","v":582870.9677419354},{"$f":"'PADD1 mthly rpt'!DW17+'PADD2 mthly rpt'!DW17+'PADD3 mthly rpt'!DW17+'PADD4 mthly rpt'!DW17+'PADD5 mthly rpt'!DW17","v":538233.33333333337},{"$f":"'PADD1 mthly rpt'!DX17+'PADD2 mthly rpt'!DX17+'PADD3 mthly rpt'!DX17+'PADD4 mthly rpt'!DX17+'PADD5 mthly rpt'!DX17","v":606741.93548387091},{"$f":"'PADD1 mthly rpt'!DY17+'PADD2 mthly rpt'!DY17+'PADD3 mthly rpt'!DY17+'PADD4 mthly rpt'!DY17+'PADD5 mthly rpt'!DY17","v":596580.6451612903},{"$f":"'PADD1 mthly rpt'!DZ17+'PADD2 mthly rpt'!DZ17+'PADD3 mthly rpt'!DZ17+'PADD4 mthly rpt'!DZ17+'PADD5 mthly rpt'!DZ17","v":739033.33333333337},{"$f":"'PADD1 mthly rpt'!EA17+'PADD2 mthly rpt'!EA17+'PADD3 mthly rpt'!EA17+'PADD4 mthly rpt'!EA17+'PADD5 mthly rpt'!EA17","v":604774.19354838703},{"$f":"'PADD1 mthly rpt'!EB17+'PADD2 mthly rpt'!EB17+'PADD3 mthly rpt'!EB17+'PADD4 mthly rpt'!EB17+'PADD5 mthly rpt'!EB17","v":697399.99999999988},{"$f":"'PADD1 mthly rpt'!EC17+'PADD2 mthly rpt'!EC17+'PADD3 mthly rpt'!EC17+'PADD4 mthly rpt'!EC17+'PADD5 mthly rpt'!EC17","v":750580.6451612903},{"$f":"'PADD1 mthly rpt'!ED17+'PADD2 mthly rpt'!ED17+'PADD3 mthly rpt'!ED17+'PADD4 mthly rpt'!ED17+'PADD5 mthly rpt'!ED17","v":865838.70967741939},{"$f":"'PADD1 mthly rpt'!EE17+'PADD2 mthly rpt'!EE17+'PADD3 mthly rpt'!EE17+'PADD4 mthly rpt'!EE17+'PADD5 mthly rpt'!EE17","v":884275.86206896557},{"$f":"'PADD1 mthly rpt'!EF17+'PADD2 mthly rpt'!EF17+'PADD3 mthly rpt'!EF17+'PADD4 mthly rpt'!EF17+'PADD5 mthly rpt'!EF17","v":672999.99999999988},{"$f":"'PADD1 mthly rpt'!EG17+'PADD2 mthly rpt'!EG17+'PADD3 mthly rpt'!EG17+'PADD4 mthly rpt'!EG17+'PADD5 mthly rpt'!EG17","v":700500},{"$f":"'PADD1 mthly rpt'!EH17+'PADD2 mthly rpt'!EH17+'PADD3 mthly rpt'!EH17+'PADD4 mthly rpt'!EH17+'PADD5 mthly rpt'!EH17","v":893774.19354838715},{"$f":"'PADD1 mthly rpt'!EI17+'PADD2 mthly rpt'!EI17+'PADD3 mthly rpt'!EI17+'PADD4 mthly rpt'!EI17+'PADD5 mthly rpt'!EI17","v":742266.66666666674},{"$f":"'PADD1 mthly rpt'!EJ17+'PADD2 mthly rpt'!EJ17+'PADD3 mthly rpt'!EJ17+'PADD4 mthly rpt'!EJ17+'PADD5 mthly rpt'!EJ17","v":755096.77419354848},{"$f":"'PADD1 mthly rpt'!EK17+'PADD2 mthly rpt'!EK17+'PADD3 mthly rpt'!EK17+'PADD4 mthly rpt'!EK17+'PADD5 mthly rpt'!EK17","v":675677.41935483878},{"$f":"'PADD1 mthly rpt'!EL17+'PADD2 mthly rpt'!EL17+'PADD3 mthly rpt'!EL17+'PADD4 mthly rpt'!EL17+'PADD5 mthly rpt'!EL17","v":595333.33333333337},{"$f":"'PADD1 mthly rpt'!EM17+'PADD2 mthly rpt'!EM17+'PADD3 mthly rpt'!EM17+'PADD4 mthly rpt'!EM17+'PADD5 mthly rpt'!EM17","v":861580.64516129042},{"$f":"'PADD1 mthly rpt'!EN17+'PADD2 mthly rpt'!EN17+'PADD3 mthly rpt'!EN17+'PADD4 mthly rpt'!EN17+'PADD5 mthly rpt'!EN17","v":849100},{"$f":"'PADD1 mthly rpt'!EO17+'PADD2 mthly rpt'!EO17+'PADD3 mthly rpt'!EO17+'PADD4 mthly rpt'!EO17+'PADD5 mthly rpt'!EO17","v":1053612.9032258063},{"$f":"'PADD1 mthly rpt'!EP17+'PADD2 mthly rpt'!EP17+'PADD3 mthly rpt'!EP17+'PADD4 mthly rpt'!EP17+'PADD5 mthly rpt'!EP17","v":1042677.4193548387},{"$f":"'PADD1 mthly rpt'!EQ17+'PADD2 mthly rpt'!EQ17+'PADD3 mthly rpt'!EQ17+'PADD4 mthly rpt'!EQ17+'PADD5 mthly rpt'!EQ17","v":897295.56650246296},{"$f":"'PADD1 mthly rpt'!ER17+'PADD2 mthly rpt'!ER17+'PADD3 mthly rpt'!ER17+'PADD4 mthly rpt'!ER17+'PADD5 mthly rpt'!ER17","v":1009806.4516129032},{"$f":"'PADD1 mthly rpt'!ES17+'PADD2 mthly rpt'!ES17+'PADD3 mthly rpt'!ES17+'PADD4 mthly rpt'!ES17+'PADD5 mthly rpt'!ES17","v":892999.99999999988},{"$f":"'PADD1 mthly rpt'!ET17+'PADD2 mthly rpt'!ET17+'PADD3 mthly rpt'!ET17+'PADD4 mthly rpt'!ET17+'PADD5 mthly rpt'!ET17","v":855032.25806451612},{"$f":"'PADD1 mthly rpt'!EU17+'PADD2 mthly rpt'!EU17+'PADD3 mthly rpt'!EU17+'PADD4 mthly rpt'!EU17+'PADD5 mthly rpt'!EU17","v":755866.66666666663},{"$f":"'PADD1 mthly rpt'!EV17+'PADD2 mthly rpt'!EV17+'PADD3 mthly rpt'!EV17+'PADD4 mthly rpt'!EV17+'PADD5 mthly rpt'!EV17","v":794806.45161290315},{"$f":"'PADD1 mthly rpt'!EW17+'PADD2 mthly rpt'!EW17+'PADD3 mthly rpt'!EW17+'PADD4 mthly rpt'!EW17+'PADD5 mthly rpt'!EW17","v":715645.16129032255},{"$f":"'PADD1 mthly rpt'!EX17+'PADD2 mthly rpt'!EX17+'PADD3 mthly rpt'!EX17+'PADD4 mthly rpt'!EX17+'PADD5 mthly rpt'!EX17","v":923576.83233532938},{"$f":"'PADD1 mthly rpt'!EY17+'PADD2 mthly rpt'!EY17+'PADD3 mthly rpt'!EY17+'PADD4 mthly rpt'!EY17+'PADD5 mthly rpt'!EY17","v":1043754.2516901681},{"$f":"'PADD1 mthly rpt'!EZ17+'PADD2 mthly rpt'!EZ17+'PADD3 mthly rpt'!EZ17+'PADD4 mthly rpt'!EZ17+'PADD5 mthly rpt'!EZ17","v":936543.49900199613},{"$f":"'PADD1 mthly rpt'!FA17+'PADD2 mthly rpt'!FA17+'PADD3 mthly rpt'!FA17+'PADD4 mthly rpt'!FA17+'PADD5 mthly rpt'!FA17","v":1001657.4774966197},{"$f":"'PADD1 mthly rpt'!FB17+'PADD2 mthly rpt'!FB17+'PADD3 mthly rpt'!FB17+'PADD4 mthly rpt'!FB17+'PADD5 mthly rpt'!FB17","v":849463.92910952284},{"$f":"'PADD1 mthly rpt'!FC17+'PADD2 mthly rpt'!FC17+'PADD3 mthly rpt'!FC17+'PADD4 mthly rpt'!FC17+'PADD5 mthly rpt'!FC17","v":818505.40376390074},{"$f":"'PADD1 mthly rpt'!FD17+'PADD2 mthly rpt'!FD17+'PADD3 mthly rpt'!FD17+'PADD4 mthly rpt'!FD17+'PADD5 mthly rpt'!FD17","v":889302.63878694235},{"$f":"'PADD1 mthly rpt'!FE17+'PADD2 mthly rpt'!FE17+'PADD3 mthly rpt'!FE17+'PADD4 mthly rpt'!FE17+'PADD5 mthly rpt'!FE17","v":876076.83233532938},{"$f":"'PADD1 mthly rpt'!FF17+'PADD2 mthly rpt'!FF17+'PADD3 mthly rpt'!FF17+'PADD4 mthly rpt'!FF17+'PADD5 mthly rpt'!FF17","v":1002851.0258837165},{"$f":"'PADD1 mthly rpt'!FG17+'PADD2 mthly rpt'!FG17+'PADD3 mthly rpt'!FG17+'PADD4 mthly rpt'!FG17+'PADD5 mthly rpt'!FG17","v":876810.16566866275},{"$f":"'PADD1 mthly rpt'!FH17+'PADD2 mthly rpt'!FH17+'PADD3 mthly rpt'!FH17+'PADD4 mthly rpt'!FH17+'PADD5 mthly rpt'!FH17","v":1074915.5420127488},{"$f":"'PADD1 mthly rpt'!FI17+'PADD2 mthly rpt'!FI17+'PADD3 mthly rpt'!FI17+'PADD4 mthly rpt'!FI17+'PADD5 mthly rpt'!FI17","v":1032851.0258837163},{"$f":"'PADD1 mthly rpt'!FJ17+'PADD2 mthly rpt'!FJ17+'PADD3 mthly rpt'!FJ17+'PADD4 mthly rpt'!FJ17+'PADD5 mthly rpt'!FJ17","v":823343.49900199613},{"$f":"'PADD1 mthly rpt'!FK17+'PADD2 mthly rpt'!FK17+'PADD3 mthly rpt'!FK17+'PADD4 mthly rpt'!FK17+'PADD5 mthly rpt'!FK17","v":927883.28394823254},{"$f":"'PADD1 mthly rpt'!FL17+'PADD2 mthly rpt'!FL17+'PADD3 mthly rpt'!FL17+'PADD4 mthly rpt'!FL17+'PADD5 mthly rpt'!FL17","v":1038443.4990019959},{"$f":"'PADD1 mthly rpt'!FM17+'PADD2 mthly rpt'!FM17+'PADD3 mthly rpt'!FM17+'PADD4 mthly rpt'!FM17+'PADD5 mthly rpt'!FM17","v":1163334.8968514586},{"$f":"'PADD1 mthly rpt'!FN17+'PADD2 mthly rpt'!FN17+'PADD3 mthly rpt'!FN17+'PADD4 mthly rpt'!FN17+'PADD5 mthly rpt'!FN17","v":1029978.7008395933},{"$f":"'PADD1 mthly rpt'!FO17+'PADD2 mthly rpt'!FO17+'PADD3 mthly rpt'!FO17+'PADD4 mthly rpt'!FO17+'PADD5 mthly rpt'!FO17","v":891832.38747553818},{"$f":"'PADD1 mthly rpt'!FP17+'PADD2 mthly rpt'!FP17+'PADD3 mthly rpt'!FP17+'PADD4 mthly rpt'!FP17+'PADD5 mthly rpt'!FP17","v":918333.53954927076},{"$f":"'PADD1 mthly rpt'!FQ17+'PADD2 mthly rpt'!FQ17+'PADD3 mthly rpt'!FQ17+'PADD4 mthly rpt'!FQ17+'PADD5 mthly rpt'!FQ17","v":1166444.2922374429},{"$f":"'PADD1 mthly rpt'!FR17+'PADD2 mthly rpt'!FR17+'PADD3 mthly rpt'!FR17+'PADD4 mthly rpt'!FR17+'PADD5 mthly rpt'!FR17","v":1085333.5395492711},{"$f":"'PADD1 mthly rpt'!FS17+'PADD2 mthly rpt'!FS17+'PADD3 mthly rpt'!FS17+'PADD4 mthly rpt'!FS17+'PADD5 mthly rpt'!FS17","v":1157910.9589041097},{"$f":"'PADD1 mthly rpt'!FT17+'PADD2 mthly rpt'!FT17+'PADD3 mthly rpt'!FT17+'PADD4 mthly rpt'!FT17+'PADD5 mthly rpt'!FT17","v":1188204.5072912064},{"$f":"'PADD1 mthly rpt'!FU17+'PADD2 mthly rpt'!FU17+'PADD3 mthly rpt'!FU17+'PADD4 mthly rpt'!FU17+'PADD5 mthly rpt'!FU17","v":1035398.055678303},{"$f":"'PADD1 mthly rpt'!FV17+'PADD2 mthly rpt'!FV17+'PADD3 mthly rpt'!FV17+'PADD4 mthly rpt'!FV17+'PADD5 mthly rpt'!FV17","v":1123910.9589041094},{"$f":"'PADD1 mthly rpt'!FW17+'PADD2 mthly rpt'!FW17+'PADD3 mthly rpt'!FW17+'PADD4 mthly rpt'!FW17+'PADD5 mthly rpt'!FW17","v":1168494.8298718515},{"$f":"'PADD1 mthly rpt'!FX17+'PADD2 mthly rpt'!FX17+'PADD3 mthly rpt'!FX17+'PADD4 mthly rpt'!FX17+'PADD5 mthly rpt'!FX17","v":1158910.9589041097},{"$f":"'PADD1 mthly rpt'!FY17+'PADD2 mthly rpt'!FY17+'PADD3 mthly rpt'!FY17+'PADD4 mthly rpt'!FY17+'PADD5 mthly rpt'!FY17","v":1235107.733097658},{"$f":"'PADD1 mthly rpt'!FZ17+'PADD2 mthly rpt'!FZ17+'PADD3 mthly rpt'!FZ17+'PADD4 mthly rpt'!FZ17+'PADD5 mthly rpt'!FZ17","v":1263204.5072912066},{"$f":"'PADD1 mthly rpt'!GA17+'PADD2 mthly rpt'!GA17+'PADD3 mthly rpt'!GA17+'PADD4 mthly rpt'!GA17+'PADD5 mthly rpt'!GA17","v":1190941.9933868684},{"$f":"'PADD1 mthly rpt'!GB17+'PADD2 mthly rpt'!GB17+'PADD3 mthly rpt'!GB17+'PADD4 mthly rpt'!GB17+'PADD5 mthly rpt'!GB17","v":1337139.9911621741},{"$f":"'PADD1 mthly rpt'!GC17+'PADD2 mthly rpt'!GC17+'PADD3 mthly rpt'!GC17+'PADD4 mthly rpt'!GC17+'PADD5 mthly rpt'!GC17","v":1213510.9589041097},{"$f":"'PADD1 mthly rpt'!GD17+'PADD2 mthly rpt'!GD17+'PADD3 mthly rpt'!GD17+'PADD4 mthly rpt'!GD17+'PADD5 mthly rpt'!GD17","v":1053107.7330976578},{"$f":"'PADD1 mthly rpt'!GE17+'PADD2 mthly rpt'!GE17+'PADD3 mthly rpt'!GE17+'PADD4 mthly rpt'!GE17+'PADD5 mthly rpt'!GE17","v":1250210.9589041099},{"$f":"'PADD1 mthly rpt'!GF17+'PADD2 mthly rpt'!GF17+'PADD3 mthly rpt'!GF17+'PADD4 mthly rpt'!GF17+'PADD5 mthly rpt'!GF17","v":1218172.2492266905},{"$f":"'PADD1 mthly rpt'!GG17+'PADD2 mthly rpt'!GG17+'PADD3 mthly rpt'!GG17+'PADD4 mthly rpt'!GG17+'PADD5 mthly rpt'!GG17","v":1138946.4427750774},{"$f":"'PADD1 mthly rpt'!GH17+'PADD2 mthly rpt'!GH17+'PADD3 mthly rpt'!GH17+'PADD4 mthly rpt'!GH17+'PADD5 mthly rpt'!GH17","v":1209610.9589041097},{"$f":"'PADD1 mthly rpt'!GI17+'PADD2 mthly rpt'!GI17+'PADD3 mthly rpt'!GI17+'PADD4 mthly rpt'!GI17+'PADD5 mthly rpt'!GI17","v":1375301.2814847548},{"$f":"'PADD1 mthly rpt'!GJ17+'PADD2 mthly rpt'!GJ17+'PADD3 mthly rpt'!GJ17+'PADD4 mthly rpt'!GJ17+'PADD5 mthly rpt'!GJ17","v":1330533.3333333335},{"$f":"'PADD1 mthly rpt'!GK17+'PADD2 mthly rpt'!GK17+'PADD3 mthly rpt'!GK17+'PADD4 mthly rpt'!GK17+'PADD5 mthly rpt'!GK17","v":1591258.064516129},{"$f":"'PADD1 mthly rpt'!GL17+'PADD2 mthly rpt'!GL17+'PADD3 mthly rpt'!GL17+'PADD4 mthly rpt'!GL17+'PADD5 mthly rpt'!GL17","v":1468741.935483871},{"$f":"'PADD1 mthly rpt'!GM17+'PADD2 mthly rpt'!GM17+'PADD3 mthly rpt'!GM17+'PADD4 mthly rpt'!GM17+'PADD5 mthly rpt'!GM17","v":1206214.2857142857},{"$f":"'PADD1 mthly rpt'!GN17+'PADD2 mthly rpt'!GN17+'PADD3 mthly rpt'!GN17+'PADD4 mthly rpt'!GN17+'PADD5 mthly rpt'!GN17","v":1180193.5483870967},{"$f":"'PADD1 mthly rpt'!GO17+'PADD2 mthly rpt'!GO17+'PADD3 mthly rpt'!GO17+'PADD4 mthly rpt'!GO17+'PADD5 mthly rpt'!GO17","v":1402433.333333333},{"$f":"'PADD1 mthly rpt'!GP17+'PADD2 mthly rpt'!GP17+'PADD3 mthly rpt'!GP17+'PADD4 mthly rpt'!GP17+'PADD5 mthly rpt'!GP17","v":1261096.7741935484},{"$f":"'PADD1 mthly rpt'!GQ17+'PADD2 mthly rpt'!GQ17+'PADD3 mthly rpt'!GQ17+'PADD4 mthly rpt'!GQ17+'PADD5 mthly rpt'!GQ17","v":1310494.4000000001},{"$f":"'PADD1 mthly rpt'!GR17+'PADD2 mthly rpt'!GR17+'PADD3 mthly rpt'!GR17+'PADD4 mthly rpt'!GR17+'PADD5 mthly rpt'!GR17","v":1248766.6264181973},{"$f":"'PADD1 mthly rpt'!GS17+'PADD2 mthly rpt'!GS17+'PADD3 mthly rpt'!GS17+'PADD4 mthly rpt'!GS17+'PADD5 mthly rpt'!GS17","v":1315718.9006445091},{"$f":"'PADD1 mthly rpt'!GT17+'PADD2 mthly rpt'!GT17+'PADD3 mthly rpt'!GT17+'PADD4 mthly rpt'!GT17+'PADD5 mthly rpt'!GT17","v":1308878.6755885698},{"$f":"'PADD1 mthly rpt'!GU17+'PADD2 mthly rpt'!GU17+'PADD3 mthly rpt'!GU17+'PADD4 mthly rpt'!GU17+'PADD5 mthly rpt'!GU17","v":1288998.9271445964},{"$f":"'PADD1 mthly rpt'!GV17+'PADD2 mthly rpt'!GV17+'PADD3 mthly rpt'!GV17+'PADD4 mthly rpt'!GV17+'PADD5 mthly rpt'!GV17","v":1261091.747534595},{"$f":"'PADD1 mthly rpt'!GW17+'PADD2 mthly rpt'!GW17+'PADD3 mthly rpt'!GW17+'PADD4 mthly rpt'!GW17+'PADD5 mthly rpt'!GW17","v":1300861.6294835866},{"$f":"'PADD1 mthly rpt'!GX17+'PADD2 mthly rpt'!GX17+'PADD3 mthly rpt'!GX17+'PADD4 mthly rpt'!GX17+'PADD5 mthly rpt'!GX17","v":1270352.9864163268},{"$f":"'PADD1 mthly rpt'!GY17+'PADD2 mthly rpt'!GY17+'PADD3 mthly rpt'!GY17+'PADD4 mthly rpt'!GY17+'PADD5 mthly rpt'!GY17","v":1305486.4028880759},{"$f":"'PADD1 mthly rpt'!GZ17+'PADD2 mthly rpt'!GZ17+'PADD3 mthly rpt'!GZ17+'PADD4 mthly rpt'!GZ17+'PADD5 mthly rpt'!GZ17","v":1288302.0839740161},{"$f":"'PADD1 mthly rpt'!HA17+'PADD2 mthly rpt'!HA17+'PADD3 mthly rpt'!HA17+'PADD4 mthly rpt'!HA17+'PADD5 mthly rpt'!HA17","v":1323475.3067154828},{"$f":"'PADD1 mthly rpt'!HB17+'PADD2 mthly rpt'!HB17+'PADD3 mthly rpt'!HB17+'PADD4 mthly rpt'!HB17+'PADD5 mthly rpt'!HB17","v":1506602.0725488598},{"$f":"'PADD1 mthly rpt'!HC17+'PADD2 mthly rpt'!HC17+'PADD3 mthly rpt'!HC17+'PADD4 mthly rpt'!HC17+'PADD5 mthly rpt'!HC17","v":1518764.906477351}]
["     TOTAL DEMAND",{"$f":"B16+B17","v":1626693.3975076426},{"$f":"C16+C17","v":1524183.4147160896},1369040.4666988906,1089322.5243058691,1138244.0748613579,1023104.1604045025,1026761.5766356144,1131007.5121917361,1164730.3730097329,1140969.5108462342,1298705.423987844,1628236.5309781723,1382353.5972958759,1537111.4402801967,1381344.8330447057,1154125.6200716437,1166795.7587554273,1110364.6492036374,1073454.98528446,1122031.6353184332,1176309.0547132716,1284944.0314560272,1331280.490360925,1444611.9182742569,1708707.8792313379,1719738.1173077149,1332895.1653084003,1179223.4890988085,1122032.9908408883,1108431.2326177787,1177014.0883066249,1225745.6688672211,1285302.6718757281,1298271.4417781115,1480957.6892898576,1517730.4949908969,1606035.8000740844,1522750.1341504306,1331518.1601364324,1183851.2437359581,1089731.4746492852,1113169.3940854885,1098574.7375315728,1088123.7010679778,912079.71970002877,1178974.6964221948,1143416.3786395458,1165446.4187924706,1376325.7328108866,1284617.4384813944,1223736.1951211425,1075159.8190682144,979544.82884212793,1048243.1097876173,1063813.0893692065,1219692.0501167297,1178832.3163828419,1350641.3549158622,1488007.6831664911,1559287.7228517409,1600804.9239665566,1509625.8413230907,1256794.3038523863,1098871.3947821679,1093830.7201575784,{"$f":"BO16+BO17","v":1114352.2989921868},1136916.2617065865,1155020.0019157075,1241759.6908377174,1246530.7819304175,1307025.8382689117,1678825.9817240217,1656452.434938191,1581033.8837677664,1446200.0506210746,1264141.5806649169,1193890.5651297176,1175348.8825106455,1085074.7736348289,1138367.8028818257,1232027.6629789488,1190095.88305908,1370737.292747549,1461117.9552293941,1480389.1455474577,1469539.0657925499,1255918.2001606994,1193747.4954392873,1145619.2670945334,1192802.3156429832,1217087.9032235623,1238162.0283793495,1234487.1963920365,1325063.0749051555,1464557.3240502134,1606011.898850505,1730864.5445971177,1627819.9741458932,1565094.8568201908,1363191.1437989229,1321506.9384224119,1313121.9680710421,1395209.5251881711,1381678.4972203141,1465546.7553913323,1698710.810010741,1783392.6095551089,1838527.7078344352,1840908.778151325,1746335.2091991813,1516667.9962451828,1433458.8645882956,1427005.4332433045,1388049.1395977265,1431879.2375037496,1441600.8697988561,1543392.6103989435,1733502.4200622262,1710117.0024758955,1974459.5566847981,1984790.4047170377,2070701.8864420028,1702824.6532352834,1730247.1907843354,1649585.6820558542,1628644.2752246493,1586353.1212999229,1618059.1323776655,1780422.6914394102,{"$f":"EA16+EA17","v":1704212.0911295372},1886463.1830635029,2104349.4948748401,2288032.9223618619,2255437.4287625672,1804175.5559748854,1674647.7888658175,1789112.3109287345,1646502.8208286236,1734902.5728105204,1799040.4177828804,1724481.2250620136,2073868.5517488043,2119424.2663768199,2474326.0285000717,2513854.1050952254,2277033.9859791491,2280244.0024784273,2009692.6955426298,1882100.6007109592,1764636.8246430303,1805273.0130544449,1750196.2781673796,1947759.3478665757,2225807.908386087,2206712.8508679587,2359004.5577749149,2382209.0007660543,2193287.585086803,2106417.4870546912,2005103.2064286941,1958589.2945427888,{"$f":"FG16+FG17","v":1907316.4673264851},2065436.9518342172,{"$f":"FI16+FI17","v":2074989.6823275015},1901849.6313421193,{"$f":"FK16+FK17","v":2155950.0562170492},{"$f":"FL16+FL17","v":2333416.4823514363},2536133.6247048676,{"$f":"FN16+FN17","v":2482596.2368021486},2319079.7919708705,2114081.1910697357,{"$f":"FQ16+FQ17","v":2149042.0292543489},2029717.5406862004,{"$f":"FS16+FS17","v":2088133.621711656},{"$f":"FT16+FT17","v":2123335.6492443746},2040036.5571983359,{"$f":"FV16+FV17","v":2136885.3609038908},{"$f":"FW16+FW17","v":2304332.6175175565},2348904.5350958067,{"$f":"FY16+FY17","v":2523519.9931878722},2576982.2656964813,{"$f":"GA16+GA17","v":2457868.7860824987},2432800.0711509315,{"$f":"GC16+GC17","v":2179492.0484315604},1968496.1228073833,{"$f":"GE16+GE17","v":2153757.0054979362},2141159.4392911666,{"$f":"GG16+GG17","v":2107563.8847245583},2206012.9326930726,{"$f":"GI16+GI17","v":2489859.5195448957},2589139.440430847,{"$f":"GK16+GK17","v":3136146.9189123586},3062368.400784581,{"$f":"GM16+GM17","v":2698030.6947192745},2429470.8986042319,{"$f":"GO16+GO17","v":2607613.9467764539},2333840.2808790449,{"$f":"GQ16+GQ17","v":2293701.6796670542},2191115.7590895984,{"$f":"GS16+GS17","v":2371424.8072406412},2402575.5684123971,{"$f":"GU16+GU17","v":2564135.016189652},2668662.7599636717,{"$f":"GW16+GW17","v":2946112.5746674044},3007157.7755695237,{"$f":"GY16+GY17","v":2934633.6575116627},2714288.8404268986,{"$f":"HA16+HA17","v":2542433.0244736797},2573032.3202534225,{"$f":"HC16+HC17","v":2529167.8902911874}]
[]
["INVENTORIES (End of Month, Thousand Barrels)",{"$f":"'PADD1 mthly rpt'!B20+'PADD2 mthly rpt'!B20+'PADD3 mthly rpt'!B20+'PADD4 mthly rpt'!B20+'PADD5 mthly rpt'!B20","v":41716},{"$f":"'PADD1 mthly rpt'!C20+'PADD2 mthly rpt'!C20+'PADD3 mthly rpt'!C20+'PADD4 mthly rpt'!C20+'PADD5 mthly rpt'!C20","v":32297},{"$f":"'PADD1 mthly rpt'!D20+'PADD2 mthly rpt'!D20+'PADD3 mthly rpt'!D20+'PADD4 mthly rpt'!D20+'PADD5 mthly rpt'!D20","v":27158},{"$f":"'PADD1 mthly rpt'!E20+'PADD2 mthly rpt'!E20+'PADD3 mthly rpt'!E20+'PADD4 mthly rpt'!E20+'PADD5 mthly rpt'!E20","v":35460},{"$f":"'PADD1 mthly rpt'!F20+'PADD2 mthly rpt'!F20+'PADD3 mthly rpt'!F20+'PADD4 mthly rpt'!F20+'PADD5 mthly rpt'!F20","v":43537},{"$f":"'PADD1 mthly rpt'!G20+'PADD2 mthly rpt'!G20+'PADD3 mthly rpt'!G20+'PADD4 mthly rpt'!G20+'PADD5 mthly rpt'!G20","v":52869},{"$f":"'PADD1 mthly rpt'!H20+'PADD2 mthly rpt'!H20+'PADD3 mthly rpt'!H20+'PADD4 mthly rpt'!H20+'PADD5 mthly rpt'!H20","v":61699},{"$f":"'PADD1 mthly rpt'!I20+'PADD2 mthly rpt'!I20+'PADD3 mthly rpt'!I20+'PADD4 mthly rpt'!I20+'PADD5 mthly rpt'!I20","v":65156},{"$f":"'PADD1 mthly rpt'!J20+'PADD2 mthly rpt'!J20+'PADD3 mthly rpt'!J20+'PADD4 mthly rpt'!J20+'PADD5 mthly rpt'!J20","v":68866},{"$f":"'PADD1 mthly rpt'!K20+'PADD2 mthly rpt'!K20+'PADD3 mthly rpt'!K20+'PADD4 mthly rpt'!K20+'PADD5 mthly rpt'!K20","v":71442},{"$f":"'PADD1 mthly rpt'!L20+'PADD2 mthly rpt'!L20+'PADD3 mthly rpt'!L20+'PADD4 mthly rpt'!L20+'PADD5 mthly rpt'!L20","v":72363},{"$f":"'PADD1 mthly rpt'!M20+'PADD2 mthly rpt'!M20+'PADD3 mthly rpt'!M20+'PADD4 mthly rpt'!M20+'PADD5 mthly rpt'!M20","v":57231},{"$f":"'PADD1 mthly rpt'!N20+'PADD2 mthly rpt'!N20+'PADD3 mthly rpt'!N20+'PADD4 mthly rpt'!N20+'PADD5 mthly rpt'!N20","v":48238},{"$f":"'PADD1 mthly rpt'!O20+'PADD2 mthly rpt'!O20+'PADD3 mthly rpt'!O20+'PADD4 mthly rpt'!O20+'PADD5 mthly rpt'!O20","v":36228},{"$f":"'PADD1 mthly rpt'!P20+'PADD2 mthly rpt'!P20+'PADD3 mthly rpt'!P20+'PADD4 mthly rpt'!P20+'PADD5 mthly rpt'!P20","v":30047},{"$f":"'PADD1 mthly rpt'!Q20+'PADD2 mthly rpt'!Q20+'PADD3 mthly rpt'!Q20+'PADD4 mthly rpt'!Q20+'PADD5 mthly rpt'!Q20","v":35266},{"$f":"'PADD1 mthly rpt'!R20+'PADD2 mthly rpt'!R20+'PADD3 mthly rpt'!R20+'PADD4 mthly rpt'!R20+'PADD5 mthly rpt'!R20","v":42042},{"$f":"'PADD1 mthly rpt'!S20+'PADD2 mthly rpt'!S20+'PADD3 mthly rpt'!S20+'PADD4 mthly rpt'!S20+'PADD5 mthly rpt'!S20","v":49595},{"$f":"'PADD1 mthly rpt'!T20+'PADD2 mthly rpt'!T20+'PADD3 mthly rpt'!T20+'PADD4 mthly rpt'!T20+'PADD5 mthly rpt'!T20","v":58401},{"$f":"'PADD1 mthly rpt'!U20+'PADD2 mthly rpt'!U20+'PADD3 mthly rpt'!U20+'PADD4 mthly rpt'!U20+'PADD5 mthly rpt'!U20","v":64259},{"$f":"'PADD1 mthly rpt'!V20+'PADD2 mthly rpt'!V20+'PADD3 mthly rpt'!V20+'PADD4 mthly rpt'!V20+'PADD5 mthly rpt'!V20","v":71071},{"$f":"'PADD1 mthly rpt'!W20+'PADD2 mthly rpt'!W20+'PADD3 mthly rpt'!W20+'PADD4 mthly rpt'!W20+'PADD5 mthly rpt'!W20","v":72365},{"$f":"'PADD1 mthly rpt'!X20+'PADD2 mthly rpt'!X20+'PADD3 mthly rpt'!X20+'PADD4 mthly rpt'!X20+'PADD5 mthly rpt'!X20","v":68543},{"$f":"'PADD1 mthly rpt'!Y20+'PADD2 mthly rpt'!Y20+'PADD3 mthly rpt'!Y20+'PADD4 mthly rpt'!Y20+'PADD5 mthly rpt'!Y20","v":61599},{"$f":"'PADD1 mthly rpt'!Z20+'PADD2 mthly rpt'!Z20+'PADD3 mthly rpt'!Z20+'PADD4 mthly rpt'!Z20+'PADD5 mthly rpt'!Z20","v":46974},{"$f":"'PADD1 mthly rpt'!AA20+'PADD2 mthly rpt'!AA20+'PADD3 mthly rpt'!AA20+'PADD4 mthly rpt'!AA20+'PADD5 mthly rpt'!AA20","v":29955},{"$f":"'PADD1 mthly rpt'!AB20+'PADD2 mthly rpt'!AB20+'PADD3 mthly rpt'!AB20+'PADD4 mthly rpt'!AB20+'PADD5 mthly rpt'!AB20","v":26867},{"$f":"'PADD1 mthly rpt'!AC20+'PADD2 mthly rpt'!AC20+'PADD3 mthly rpt'!AC20+'PADD4 mthly rpt'!AC20+'PADD5 mthly rpt'!AC20","v":29533},{"$f":"'PADD1 mthly rpt'!AD20+'PADD2 mthly rpt'!AD20+'PADD3 mthly rpt'!AD20+'PADD4 mthly rpt'!AD20+'PADD5 mthly rpt'!AD20","v":36516},{"$f":"'PADD1 mthly rpt'!AE20+'PADD2 mthly rpt'!AE20+'PADD3 mthly rpt'!AE20+'PADD4 mthly rpt'!AE20+'PADD5 mthly rpt'!AE20","v":43658},{"$f":"'PADD1 mthly rpt'!AF20+'PADD2 mthly rpt'!AF20+'PADD3 mthly rpt'!AF20+'PADD4 mthly rpt'!AF20+'PADD5 mthly rpt'!AF20","v":49714},{"$f":"'PADD1 mthly rpt'!AG20+'PADD2 mthly rpt'!AG20+'PADD3 mthly rpt'!AG20+'PADD4 mthly rpt'!AG20+'PADD5 mthly rpt'!AG20","v":54782},{"$f":"'PADD1 mthly rpt'!AH20+'PADD2 mthly rpt'!AH20+'PADD3 mthly rpt'!AH20+'PADD4 mthly rpt'!AH20+'PADD5 mthly rpt'!AH20","v":58299},{"$f":"'PADD1 mthly rpt'!AI20+'PADD2 mthly rpt'!AI20+'PADD3 mthly rpt'!AI20+'PADD4 mthly rpt'!AI20+'PADD5 mthly rpt'!AI20","v":60970},{"$f":"'PADD1 mthly rpt'!AJ20+'PADD2 mthly rpt'!AJ20+'PADD3 mthly rpt'!AJ20+'PADD4 mthly rpt'!AJ20+'PADD5 mthly rpt'!AJ20","v":59696},{"$f":"'PADD1 mthly rpt'!AK20+'PADD2 mthly rpt'!AK20+'PADD3 mthly rpt'!AK20+'PADD4 mthly rpt'!AK20+'PADD5 mthly rpt'!AK20","v":52007},{"$f":"'PADD1 mthly rpt'!AL20+'PADD2 mthly rpt'!AL20+'PADD3 mthly rpt'!AL20+'PADD4 mthly rpt'!AL20+'PADD5 mthly rpt'!AL20","v":39367},{"$f":"'PADD1 mthly rpt'!AM20+'PADD2 mthly rpt'!AM20+'PADD3 mthly rpt'!AM20+'PADD4 mthly rpt'!AM20+'PADD5 mthly rpt'!AM20","v":29003},{"$f":"'PADD1 mthly rpt'!AN20+'PADD2 mthly rpt'!AN20+'PADD3 mthly rpt'!AN20+'PADD4 mthly rpt'!AN20+'PADD5 mthly rpt'!AN20","v":25570},{"$f":"'PADD1 mthly rpt'!AO20+'PADD2 mthly rpt'!AO20+'PADD3 mthly rpt'!AO20+'PADD4 mthly rpt'!AO20+'PADD5 mthly rpt'!AO20","v":30285},{"$f":"'PADD1 mthly rpt'!AP20+'PADD2 mthly rpt'!AP20+'PADD3 mthly rpt'!AP20+'PADD4 mthly rpt'!AP20+'PADD5 mthly rpt'!AP20","v":38135},{"$f":"'PADD1 mthly rpt'!AQ20+'PADD2 mthly rpt'!AQ20+'PADD3 mthly rpt'!AQ20+'PADD4 mthly rpt'!AQ20+'PADD5 mthly rpt'!AQ20","v":42506},{"$f":"'PADD1 mthly rpt'!AR20+'PADD2 mthly rpt'!AR20+'PADD3 mthly rpt'!AR20+'PADD4 mthly rpt'!AR20+'PADD5 mthly rpt'!AR20","v":47514},{"$f":"'PADD1 mthly rpt'!AS20+'PADD2 mthly rpt'!AS20+'PADD3 mthly rpt'!AS20+'PADD4 mthly rpt'!AS20+'PADD5 mthly rpt'!AS20","v":54090},{"$f":"'PADD1 mthly rpt'!AT20+'PADD2 mthly rpt'!AT20+'PADD3 mthly rpt'!AT20+'PADD4 mthly rpt'!AT20+'PADD5 mthly rpt'!AT20","v":58981},{"$f":"'PADD1 mthly rpt'!AU20+'PADD2 mthly rpt'!AU20+'PADD3 mthly rpt'!AU20+'PADD4 mthly rpt'!AU20+'PADD5 mthly rpt'!AU20","v":59569},{"$f":"'PADD1 mthly rpt'!AV20+'PADD2 mthly rpt'!AV20+'PADD3 mthly rpt'!AV20+'PADD4 mthly rpt'!AV20+'PADD5 mthly rpt'!AV20","v":60640},{"$f":"'PADD1 mthly rpt'!AW20+'PADD2 mthly rpt'!AW20+'PADD3 mthly rpt'!AW20+'PADD4 mthly rpt'!AW20+'PADD5 mthly rpt'!AW20","v":55408},{"$f":"'PADD1 mthly rpt'!AX20+'PADD2 mthly rpt'!AX20+'PADD3 mthly rpt'!AX20+'PADD4 mthly rpt'!AX20+'PADD5 mthly rpt'!AX20","v":46160},{"$f":"'PADD1 mthly rpt'!AY20+'PADD2 mthly rpt'!AY20+'PADD3 mthly rpt'!AY20+'PADD4 mthly rpt'!AY20+'PADD5 mthly rpt'!AY20","v":39628},{"$f":"'PADD1 mthly rpt'!AZ20+'PADD2 mthly rpt'!AZ20+'PADD3 mthly rpt'!AZ20+'PADD4 mthly rpt'!AZ20+'PADD5 mthly rpt'!AZ20","v":40047},{"$f":"'PADD1 mthly rpt'!BA20+'PADD2 mthly rpt'!BA20+'PADD3 mthly rpt'!BA20+'PADD4 mthly rpt'!BA20+'PADD5 mthly rpt'!BA20","v":44762},{"$f":"'PADD1 mthly rpt'!BB20+'PADD2 mthly rpt'!BB20+'PADD3 mthly rpt'!BB20+'PADD4 mthly rpt'!BB20+'PADD5 mthly rpt'!BB20","v":55558},{"$f":"'PADD1 mthly rpt'!BC20+'PADD2 mthly rpt'!BC20+'PADD3 mthly rpt'!BC20+'PADD4 mthly rpt'!BC20+'PADD5 mthly rpt'!BC20","v":64160},{"$f":"'PADD1 mthly rpt'!BD20+'PADD2 mthly rpt'!BD20+'PADD3 mthly rpt'!BD20+'PADD4 mthly rpt'!BD20+'PADD5 mthly rpt'!BD20","v":69855},{"$f":"'PADD1 mthly rpt'!BE20+'PADD2 mthly rpt'!BE20+'PADD3 mthly rpt'!BE20+'PADD4 mthly rpt'!BE20+'PADD5 mthly rpt'!BE20","v":71310},{"$f":"'PADD1 mthly rpt'!BF20+'PADD2 mthly rpt'!BF20+'PADD3 mthly rpt'!BF20+'PADD4 mthly rpt'!BF20+'PADD5 mthly rpt'!BF20","v":75053},{"$f":"'PADD1 mthly rpt'!BG20+'PADD2 mthly rpt'!BG20+'PADD3 mthly rpt'!BG20+'PADD4 mthly rpt'!BG20+'PADD5 mthly rpt'!BG20","v":71835},{"$f":"'PADD1 mthly rpt'!BH20+'PADD2 mthly rpt'!BH20+'PADD3 mthly rpt'!BH20+'PADD4 mthly rpt'!BH20+'PADD5 mthly rpt'!BH20","v":62575},{"$f":"'PADD1 mthly rpt'!BI20+'PADD2 mthly rpt'!BI20+'PADD3 mthly rpt'!BI20+'PADD4 mthly rpt'!BI20+'PADD5 mthly rpt'!BI20","v":50140},{"$f":"'PADD1 mthly rpt'!BJ20+'PADD2 mthly rpt'!BJ20+'PADD3 mthly rpt'!BJ20+'PADD4 mthly rpt'!BJ20+'PADD5 mthly rpt'!BJ20","v":35203},{"$f":"'PADD1 mthly rpt'!BK20+'PADD2 mthly rpt'!BK20+'PADD3 mthly rpt'!BK20+'PADD4 mthly rpt'!BK20+'PADD5 mthly rpt'!BK20","v":27653},{"$f":"'PADD1 mthly rpt'!BL20+'PADD2 mthly rpt'!BL20+'PADD3 mthly rpt'!BL20+'PADD4 mthly rpt'!BL20+'PADD5 mthly rpt'!BL20","v":27845},{"$f":"'PADD1 mthly rpt'!BM20+'PADD2 mthly rpt'!BM20+'PADD3 mthly rpt'!BM20+'PADD4 mthly rpt'!BM20+'PADD5 mthly rpt'!BM20","v":34975},{"$f":"'PADD1 mthly rpt'!BN20+'PADD2 mthly rpt'!BN20+'PADD3 mthly rpt'!BN20+'PADD4 mthly rpt'!BN20+'PADD5 mthly rpt'!BN20","v":42122},{"$f":"'PADD1 mthly rpt'!BO20+'PADD2 mthly rpt'!BO20+'PADD3 mthly rpt'!BO20+'PADD4 mthly rpt'!BO20+'PADD5 mthly rpt'!BO20","v":49028},{"$f":"'PADD1 mthly rpt'!BP20+'PADD2 mthly rpt'!BP20+'PADD3 mthly rpt'!BP20+'PADD4 mthly rpt'!BP20+'PADD5 mthly rpt'!BP20","v":54549},{"$f":"'PADD1 mthly rpt'!BQ20+'PADD2 mthly rpt'!BQ20+'PADD3 mthly rpt'!BQ20+'PADD4 mthly rpt'!BQ20+'PADD5 mthly rpt'!BQ20","v":58801},{"$f":"'PADD1 mthly rpt'!BR20+'PADD2 mthly rpt'!BR20+'PADD3 mthly rpt'!BR20+'PADD4 mthly rpt'!BR20+'PADD5 mthly rpt'!BR20","v":61368},{"$f":"'PADD1 mthly rpt'!BS20+'PADD2 mthly rpt'!BS20+'PADD3 mthly rpt'!BS20+'PADD4 mthly rpt'!BS20+'PADD5 mthly rpt'!BS20","v":61412},{"$f":"'PADD1 mthly rpt'!BT20+'PADD2 mthly rpt'!BT20+'PADD3 mthly rpt'!BT20+'PADD4 mthly rpt'!BT20+'PADD5 mthly rpt'!BT20","v":61201},{"$f":"'PADD1 mthly rpt'!BU20+'PADD2 mthly rpt'!BU20+'PADD3 mthly rpt'!BU20+'PADD4 mthly rpt'!BU20+'PADD5 mthly rpt'!BU20","v":49241},{"$f":"'PADD1 mthly rpt'!BV20+'PADD2 mthly rpt'!BV20+'PADD3 mthly rpt'!BV20+'PADD4 mthly rpt'!BV20+'PADD5 mthly rpt'!BV20","v":34646},{"$f":"'PADD1 mthly rpt'!BW20+'PADD2 mthly rpt'!BW20+'PADD3 mthly rpt'!BW20+'PADD4 mthly rpt'!BW20+'PADD5 mthly rpt'!BW20","v":26631},{"$f":"'PADD1 mthly rpt'!BX20+'PADD2 mthly rpt'!BX20+'PADD3 mthly rpt'!BX20+'PADD4 mthly rpt'!BX20+'PADD5 mthly rpt'!BX20","v":24258},{"$f":"'PADD1 mthly rpt'!BY20+'PADD2 mthly rpt'!BY20+'PADD3 mthly rpt'!BY20+'PADD4 mthly rpt'!BY20+'PADD5 mthly rpt'!BY20","v":28117},{"$f":"'PADD1 mthly rpt'!BZ20+'PADD2 mthly rpt'!BZ20+'PADD3 mthly rpt'!BZ20+'PADD4 mthly rpt'!BZ20+'PADD5 mthly rpt'!BZ20","v":33515},{"$f":"'PADD1 mthly rpt'!CA20+'PADD2 mthly rpt'!CA20+'PADD3 mthly rpt'!CA20+'PADD4 mthly rpt'!CA20+'PADD5 mthly rpt'!CA20","v":40130},{"$f":"'PADD1 mthly rpt'!CB20+'PADD2 mthly rpt'!CB20+'PADD3 mthly rpt'!CB20+'PADD4 mthly rpt'!CB20+'PADD5 mthly rpt'!CB20","v":47085},{"$f":"'PADD1 mthly rpt'!CC20+'PADD2 mthly rpt'!CC20+'PADD3 mthly rpt'!CC20+'PADD4 mthly rpt'!CC20+'PADD5 mthly rpt'!CC20","v":52026},{"$f":"'PADD1 mthly rpt'!CD20+'PADD2 mthly rpt'!CD20+'PADD3 mthly rpt'!CD20+'PADD4 mthly rpt'!CD20+'PADD5 mthly rpt'!CD20","v":57400},{"$f":"'PADD1 mthly rpt'!CE20+'PADD2 mthly rpt'!CE20+'PADD3 mthly rpt'!CE20+'PADD4 mthly rpt'!CE20+'PADD5 mthly rpt'!CE20","v":59720},{"$f":"'PADD1 mthly rpt'!CF20+'PADD2 mthly rpt'!CF20+'PADD3 mthly rpt'!CF20+'PADD4 mthly rpt'!CF20+'PADD5 mthly rpt'!CF20","v":59023},{"$f":"'PADD1 mthly rpt'!CG20+'PADD2 mthly rpt'!CG20+'PADD3 mthly rpt'!CG20+'PADD4 mthly rpt'!CG20+'PADD5 mthly rpt'!CG20","v":54978},{"$f":"'PADD1 mthly rpt'!CH20+'PADD2 mthly rpt'!CH20+'PADD3 mthly rpt'!CH20+'PADD4 mthly rpt'!CH20+'PADD5 mthly rpt'!CH20","v":47515},{"$f":"'PADD1 mthly rpt'!CI20+'PADD2 mthly rpt'!CI20+'PADD3 mthly rpt'!CI20+'PADD4 mthly rpt'!CI20+'PADD5 mthly rpt'!CI20","v":44351.53571428571},{"$f":"'PADD1 mthly rpt'!CJ20+'PADD2 mthly rpt'!CJ20+'PADD3 mthly rpt'!CJ20+'PADD4 mthly rpt'!CJ20+'PADD5 mthly rpt'!CJ20","v":45074},{"$f":"'PADD1 mthly rpt'!CK20+'PADD2 mthly rpt'!CK20+'PADD3 mthly rpt'!CK20+'PADD4 mthly rpt'!CK20+'PADD5 mthly rpt'!CK20","v":50136},{"$f":"'PADD1 mthly rpt'!CL20+'PADD2 mthly rpt'!CL20+'PADD3 mthly rpt'!CL20+'PADD4 mthly rpt'!CL20+'PADD5 mthly rpt'!CL20","v":56169},{"$f":"'PADD1 mthly rpt'!CM20+'PADD2 mthly rpt'!CM20+'PADD3 mthly rpt'!CM20+'PADD4 mthly rpt'!CM20+'PADD5 mthly rpt'!CM20","v":61790},{"$f":"'PADD1 mthly rpt'!CN20+'PADD2 mthly rpt'!CN20+'PADD3 mthly rpt'!CN20+'PADD4 mthly rpt'!CN20+'PADD5 mthly rpt'!CN20","v":68736},{"$f":"'PADD1 mthly rpt'!CO20+'PADD2 mthly rpt'!CO20+'PADD3 mthly rpt'!CO20+'PADD4 mthly rpt'!CO20+'PADD5 mthly rpt'!CO20","v":73064},{"$f":"'PADD1 mthly rpt'!CP20+'PADD2 mthly rpt'!CP20+'PADD3 mthly rpt'!CP20+'PADD4 mthly rpt'!CP20+'PADD5 mthly rpt'!CP20","v":76200},{"$f":"'PADD1 mthly rpt'!CQ20+'PADD2 mthly rpt'!CQ20+'PADD3 mthly rpt'!CQ20+'PADD4 mthly rpt'!CQ20+'PADD5 mthly rpt'!CQ20","v":74639},{"$f":"'PADD1 mthly rpt'!CR20+'PADD2 mthly rpt'!CR20+'PADD3 mthly rpt'!CR20+'PADD4 mthly rpt'!CR20+'PADD5 mthly rpt'!CR20","v":72933},{"$f":"'PADD1 mthly rpt'!CS20+'PADD2 mthly rpt'!CS20+'PADD3 mthly rpt'!CS20+'PADD4 mthly rpt'!CS20+'PADD5 mthly rpt'!CS20","v":67991},{"$f":"'PADD1 mthly rpt'!CT20+'PADD2 mthly rpt'!CT20+'PADD3 mthly rpt'!CT20+'PADD4 mthly rpt'!CT20+'PADD5 mthly rpt'!CT20","v":55875},{"$f":"'PADD1 mthly rpt'!CU20+'PADD2 mthly rpt'!CU20+'PADD3 mthly rpt'!CU20+'PADD4 mthly rpt'!CU20+'PADD5 mthly rpt'!CU20","v":46995},{"$f":"'PADD1 mthly rpt'!CV20+'PADD2 mthly rpt'!CV20+'PADD3 mthly rpt'!CV20+'PADD4 mthly rpt'!CV20+'PADD5 mthly rpt'!CV20","v":40675},{"$f":"'PADD1 mthly rpt'!CW20+'PADD2 mthly rpt'!CW20+'PADD3 mthly rpt'!CW20+'PADD4 mthly rpt'!CW20+'PADD5 mthly rpt'!CW20","v":41058},{"$f":"'PADD1 mthly rpt'!CX20+'PADD2 mthly rpt'!CX20+'PADD3 mthly rpt'!CX20+'PADD4 mthly rpt'!CX20+'PADD5 mthly rpt'!CX20","v":46901},{"$f":"'PADD1 mthly rpt'!CY20+'PADD2 mthly rpt'!CY20+'PADD3 mthly rpt'!CY20+'PADD4 mthly rpt'!CY20+'PADD5 mthly rpt'!CY20","v":55308},{"$f":"'PADD1 mthly rpt'!CZ20+'PADD2 mthly rpt'!CZ20+'PADD3 mthly rpt'!CZ20+'PADD4 mthly rpt'!CZ20+'PADD5 mthly rpt'!CZ20","v":59921},{"$f":"'PADD1 mthly rpt'!DA20+'PADD2 mthly rpt'!DA20+'PADD3 mthly rpt'!DA20+'PADD4 mthly rpt'!DA20+'PADD5 mthly rpt'!DA20","v":65365},{"$f":"'PADD1 mthly rpt'!DB20+'PADD2 mthly rpt'!DB20+'PADD3 mthly rpt'!DB20+'PADD4 mthly rpt'!DB20+'PADD5 mthly rpt'!DB20","v":68099},{"$f":"'PADD1 mthly rpt'!DC20+'PADD2 mthly rpt'!DC20+'PADD3 mthly rpt'!DC20+'PADD4 mthly rpt'!DC20+'PADD5 mthly rpt'!DC20","v":62526},{"$f":"'PADD1 mthly rpt'!DD20+'PADD2 mthly rpt'!DD20+'PADD3 mthly rpt'!DD20+'PADD4 mthly rpt'!DD20+'PADD5 mthly rpt'!DD20","v":56088},{"$f":"'PADD1 mthly rpt'!DE20+'PADD2 mthly rpt'!DE20+'PADD3 mthly rpt'!DE20+'PADD4 mthly rpt'!DE20+'PADD5 mthly rpt'!DE20","v":45077},{"$f":"'PADD1 mthly rpt'!DF20+'PADD2 mthly rpt'!DF20+'PADD3 mthly rpt'!DF20+'PADD4 mthly rpt'!DF20+'PADD5 mthly rpt'!DF20","v":31544},{"$f":"'PADD1 mthly rpt'!DG20+'PADD2 mthly rpt'!DG20+'PADD3 mthly rpt'!DG20+'PADD4 mthly rpt'!DG20+'PADD5 mthly rpt'!DG20","v":28214},{"$f":"'PADD1 mthly rpt'!DH20+'PADD2 mthly rpt'!DH20+'PADD3 mthly rpt'!DH20+'PADD4 mthly rpt'!DH20+'PADD5 mthly rpt'!DH20","v":28807},{"$f":"'PADD1 mthly rpt'!DI20+'PADD2 mthly rpt'!DI20+'PADD3 mthly rpt'!DI20+'PADD4 mthly rpt'!DI20+'PADD5 mthly rpt'!DI20","v":34812},{"$f":"'PADD1 mthly rpt'!DJ20+'PADD2 mthly rpt'!DJ20+'PADD3 mthly rpt'!DJ20+'PADD4 mthly rpt'!DJ20+'PADD5 mthly rpt'!DJ20","v":47222},{"$f":"'PADD1 mthly rpt'!DK20+'PADD2 mthly rpt'!DK20+'PADD3 mthly rpt'!DK20+'PADD4 mthly rpt'!DK20+'PADD5 mthly rpt'!DK20","v":57899},{"$f":"'PADD1 mthly rpt'!DL20+'PADD2 mthly rpt'!DL20+'PADD3 mthly rpt'!DL20+'PADD4 mthly rpt'!DL20+'PADD5 mthly rpt'!DL20","v":67863},{"$f":"'PADD1 mthly rpt'!DM20+'PADD2 mthly rpt'!DM20+'PADD3 mthly rpt'!DM20+'PADD4 mthly rpt'!DM20+'PADD5 mthly rpt'!DM20","v":77239},{"$f":"'PADD1 mthly rpt'!DN20+'PADD2 mthly rpt'!DN20+'PADD3 mthly rpt'!DN20+'PADD4 mthly rpt'!DN20+'PADD5 mthly rpt'!DN20","v":81408},{"$f":"'PADD1 mthly rpt'!DO20+'PADD2 mthly rpt'!DO20+'PADD3 mthly rpt'!DO20+'PADD4 mthly rpt'!DO20+'PADD5 mthly rpt'!DO20","v":81544},{"$f":"'PADD1 mthly rpt'!DP20+'PADD2 mthly rpt'!DP20+'PADD3 mthly rpt'!DP20+'PADD4 mthly rpt'!DP20+'PADD5 mthly rpt'!DP20","v":80706},{"$f":"'PADD1 mthly rpt'!DQ20+'PADD2 mthly rpt'!DQ20+'PADD3 mthly rpt'!DQ20+'PADD4 mthly rpt'!DQ20+'PADD5 mthly rpt'!DQ20","v":77946},{"$f":"'PADD1 mthly rpt'!DR20+'PADD2 mthly rpt'!DR20+'PADD3 mthly rpt'!DR20+'PADD4 mthly rpt'!DR20+'PADD5 mthly rpt'!DR20","v":68328},{"$f":"'PADD1 mthly rpt'!DS20+'PADD2 mthly rpt'!DS20+'PADD3 mthly rpt'!DS20+'PADD4 mthly rpt'!DS20+'PADD5 mthly rpt'!DS20","v":55894},{"$f":"'PADD1 mthly rpt'!DT20+'PADD2 mthly rpt'!DT20+'PADD3 mthly rpt'!DT20+'PADD4 mthly rpt'!DT20+'PADD5 mthly rpt'!DT20","v":59233},{"$f":"'PADD1 mthly rpt'!DU20+'PADD2 mthly rpt'!DU20+'PADD3 mthly rpt'!DU20+'PADD4 mthly rpt'!DU20+'PADD5 mthly rpt'!DU20","v":67514},{"$f":"'PADD1 mthly rpt'!DV20+'PADD2 mthly rpt'!DV20+'PADD3 mthly rpt'!DV20+'PADD4 mthly rpt'!DV20+'PADD5 mthly rpt'!DV20","v":78296},{"$f":"'PADD1 mthly rpt'!DW20+'PADD2 mthly rpt'!DW20+'PADD3 mthly rpt'!DW20+'PADD4 mthly rpt'!DW20+'PADD5 mthly rpt'!DW20","v":84750},{"$f":"'PADD1 mthly rpt'!DX20+'PADD2 mthly rpt'!DX20+'PADD3 mthly rpt'!DX20+'PADD4 mthly rpt'!DX20+'PADD5 mthly rpt'!DX20","v":91007},{"$f":"'PADD1 mthly rpt'!DY20+'PADD2 mthly rpt'!DY20+'PADD3 mthly rpt'!DY20+'PADD4 mthly rpt'!DY20+'PADD5 mthly rpt'!DY20","v":97570},{"$f":"'PADD1 mthly rpt'!DZ20+'PADD2 mthly rpt'!DZ20+'PADD3 mthly rpt'!DZ20+'PADD4 mthly rpt'!DZ20+'PADD5 mthly rpt'!DZ20","v":100190},{"$f":"'PADD1 mthly rpt'!EA20+'PADD2 mthly rpt'!EA20+'PADD3 mthly rpt'!EA20+'PADD4 mthly rpt'!EA20+'PADD5 mthly rpt'!EA20","v":104546},{"$f":"'PADD1 mthly rpt'!EB20+'PADD2 mthly rpt'!EB20+'PADD3 mthly rpt'!EB20+'PADD4 mthly rpt'!EB20+'PADD5 mthly rpt'!EB20","v":104406},{"$f":"'PADD1 mthly rpt'!EC20+'PADD2 mthly rpt'!EC20+'PADD3 mthly rpt'!EC20+'PADD4 mthly rpt'!EC20+'PADD5 mthly rpt'!EC20","v":96247},{"$f":"'PADD1 mthly rpt'!ED20+'PADD2 mthly rpt'!ED20+'PADD3 mthly rpt'!ED20+'PADD4 mthly rpt'!ED20+'PADD5 mthly rpt'!ED20","v":78414},{"$f":"'PADD1 mthly rpt'!EE20+'PADD2 mthly rpt'!EE20+'PADD3 mthly rpt'!EE20+'PADD4 mthly rpt'!EE20+'PADD5 mthly rpt'!EE20","v":64797},{"$f":"'PADD1 mthly rpt'!EF20+'PADD2 mthly rpt'!EF20+'PADD3 mthly rpt'!EF20+'PADD4 mthly rpt'!EF20+'PADD5 mthly rpt'!EF20","v":66378},{"$f":"'PADD1 mthly rpt'!EG20+'PADD2 mthly rpt'!EG20+'PADD3 mthly rpt'!EG20+'PADD4 mthly rpt'!EG20+'PADD5 mthly rpt'!EG20","v":73861},{"$f":"'PADD1 mthly rpt'!EH20+'PADD2 mthly rpt'!EH20+'PADD3 mthly rpt'!EH20+'PADD4 mthly rpt'!EH20+'PADD5 mthly rpt'!EH20","v":76605},{"$f":"'PADD1 mthly rpt'!EI20+'PADD2 mthly rpt'!EI20+'PADD3 mthly rpt'!EI20+'PADD4 mthly rpt'!EI20+'PADD5 mthly rpt'!EI20","v":85179},{"$f":"'PADD1 mthly rpt'!EJ20+'PADD2 mthly rpt'!EJ20+'PADD3 mthly rpt'!EJ20+'PADD4 mthly rpt'!EJ20+'PADD5 mthly rpt'!EJ20","v":90602},{"$f":"'PADD1 mthly rpt'!EK20+'PADD2 mthly rpt'!EK20+'PADD3 mthly rpt'!EK20+'PADD4 mthly rpt'!EK20+'PADD5 mthly rpt'!EK20","v":98823},{"$f":"'PADD1 mthly rpt'!EL20+'PADD2 mthly rpt'!EL20+'PADD3 mthly rpt'!EL20+'PADD4 mthly rpt'!EL20+'PADD5 mthly rpt'!EL20","v":103828},{"$f":"'PADD1 mthly rpt'!EM20+'PADD2 mthly rpt'!EM20+'PADD3 mthly rpt'!EM20+'PADD4 mthly rpt'!EM20+'PADD5 mthly rpt'!EM20","v":102093},{"$f":"'PADD1 mthly rpt'!EN20+'PADD2 mthly rpt'!EN20+'PADD3 mthly rpt'!EN20+'PADD4 mthly rpt'!EN20+'PADD5 mthly rpt'!EN20","v":100909},{"$f":"'PADD1 mthly rpt'!EO20+'PADD2 mthly rpt'!EO20+'PADD3 mthly rpt'!EO20+'PADD4 mthly rpt'!EO20+'PADD5 mthly rpt'!EO20","v":84096},{"$f":"'PADD1 mthly rpt'!EP20+'PADD2 mthly rpt'!EP20+'PADD3 mthly rpt'!EP20+'PADD4 mthly rpt'!EP20+'PADD5 mthly rpt'!EP20","v":59442},{"$f":"'PADD1 mthly rpt'!EQ20+'PADD2 mthly rpt'!EQ20+'PADD3 mthly rpt'!EQ20+'PADD4 mthly rpt'!EQ20+'PADD5 mthly rpt'!EQ20","v":49494},{"$f":"'PADD1 mthly rpt'!ER20+'PADD2 mthly rpt'!ER20+'PADD3 mthly rpt'!ER20+'PADD4 mthly rpt'!ER20+'PADD5 mthly rpt'!ER20","v":43978},{"$f":"'PADD1 mthly rpt'!ES20+'PADD2 mthly rpt'!ES20+'PADD3 mthly rpt'!ES20+'PADD4 mthly rpt'!ES20+'PADD5 mthly rpt'!ES20","v":42886},{"$f":"'PADD1 mthly rpt'!ET20+'PADD2 mthly rpt'!ET20+'PADD3 mthly rpt'!ET20+'PADD4 mthly rpt'!ET20+'PADD5 mthly rpt'!ET20","v":50160},{"$f":"'PADD1 mthly rpt'!EU20+'PADD2 mthly rpt'!EU20+'PADD3 mthly rpt'!EU20+'PADD4 mthly rpt'!EU20+'PADD5 mthly rpt'!EU20","v":60799},{"$f":"'PADD1 mthly rpt'!EV20+'PADD2 mthly rpt'!EV20+'PADD3 mthly rpt'!EV20+'PADD4 mthly rpt'!EV20+'PADD5 mthly rpt'!EV20","v":68069},{"$f":"'PADD1 mthly rpt'!EW20+'PADD2 mthly rpt'!EW20+'PADD3 mthly rpt'!EW20+'PADD4 mthly rpt'!EW20+'PADD5 mthly rpt'!EW20","v":78360},{"$f":"'PADD1 mthly rpt'!EX20+'PADD2 mthly rpt'!EX20+'PADD3 mthly rpt'!EX20+'PADD4 mthly rpt'!EX20+'PADD5 mthly rpt'!EX20","v":75770},{"$f":"'PADD1 mthly rpt'!EY20+'PADD2 mthly rpt'!EY20+'PADD3 mthly rpt'!EY20+'PADD4 mthly rpt'!EY20+'PADD5 mthly rpt'!EY20","v":77480},{"$f":"'PADD1 mthly rpt'!EZ20+'PADD2 mthly rpt'!EZ20+'PADD3 mthly rpt'!EZ20+'PADD4 mthly rpt'!EZ20+'PADD5 mthly rpt'!EZ20","v":74512},{"$f":"'PADD1 mthly rpt'!FA20+'PADD2 mthly rpt'!FA20+'PADD3 mthly rpt'!FA20+'PADD4 mthly rpt'!FA20+'PADD5 mthly rpt'!FA20","v":66754},{"$f":"'PADD1 mthly rpt'!FB20+'PADD2 mthly rpt'!FB20+'PADD3 mthly rpt'!FB20+'PADD4 mthly rpt'!FB20+'PADD5 mthly rpt'!FB20","v":49631},{"$f":"'PADD1 mthly rpt'!FC20+'PADD2 mthly rpt'!FC20+'PADD3 mthly rpt'!FC20+'PADD4 mthly rpt'!FC20+'PADD5 mthly rpt'!FC20","v":42269},{"$f":"'PADD1 mthly rpt'!FD20+'PADD2 mthly rpt'!FD20+'PADD3 mthly rpt'!FD20+'PADD4 mthly rpt'!FD20+'PADD5 mthly rpt'!FD20","v":37564},{"$f":"'PADD1 mthly rpt'!FE20+'PADD2 mthly rpt'!FE20+'PADD3 mthly rpt'!FE20+'PADD4 mthly rpt'!FE20+'PADD5 mthly rpt'!FE20","v":39107},{"$f":"'PADD1 mthly rpt'!FF20+'PADD2 mthly rpt'!FF20+'PADD3 mthly rpt'!FF20+'PADD4 mthly rpt'!FF20+'PADD5 mthly rpt'!FF20","v":47544},{"$f":"'PADD1 mthly rpt'!FG20+'PADD2 mthly rpt'!FG20+'PADD3 mthly rpt'!FG20+'PADD4 mthly rpt'!FG20+'PADD5 mthly rpt'!FG20","v":60290},{"$f":"'PADD1 mthly rpt'!FH20+'PADD2 mthly rpt'!FH20+'PADD3 mthly rpt'!FH20+'PADD4 mthly rpt'!FH20+'PADD5 mthly rpt'!FH20","v":64300},{"$f":"'PADD1 mthly rpt'!FI20+'PADD2 mthly rpt'!FI20+'PADD3 mthly rpt'!FI20+'PADD4 mthly rpt'!FI20+'PADD5 mthly rpt'!FI20","v":70946},{"$f":"'PADD1 mthly rpt'!FJ20+'PADD2 mthly rpt'!FJ20+'PADD3 mthly rpt'!FJ20+'PADD4 mthly rpt'!FJ20+'PADD5 mthly rpt'!FJ20","v":79626},{"$f":"'PADD1 mthly rpt'!FK20+'PADD2 mthly rpt'!FK20+'PADD3 mthly rpt'!FK20+'PADD4 mthly rpt'!FK20+'PADD5 mthly rpt'!FK20","v":83030},{"$f":"'PADD1 mthly rpt'!FL20+'PADD2 mthly rpt'!FL20+'PADD3 mthly rpt'!FL20+'PADD4 mthly rpt'!FL20+'PADD5 mthly rpt'!FL20","v":78176},{"$f":"'PADD1 mthly rpt'!FM20+'PADD2 mthly rpt'!FM20+'PADD3 mthly rpt'!FM20+'PADD4 mthly rpt'!FM20+'PADD5 mthly rpt'!FM20","v":68029},{"$f":"'PADD1 mthly rpt'!FN20+'PADD2 mthly rpt'!FN20+'PADD3 mthly rpt'!FN20+'PADD4 mthly rpt'!FN20+'PADD5 mthly rpt'!FN20","v":55105},{"$f":"'PADD1 mthly rpt'!FO20+'PADD2 mthly rpt'!FO20+'PADD3 mthly rpt'!FO20+'PADD4 mthly rpt'!FO20+'PADD5 mthly rpt'!FO20","v":49665},{"$f":"'PADD1 mthly rpt'!FP20+'PADD2 mthly rpt'!FP20+'PADD3 mthly rpt'!FP20+'PADD4 mthly rpt'!FP20+'PADD5 mthly rpt'!FP20","v":53127},{"$f":"'PADD1 mthly rpt'!FQ20+'PADD2 mthly rpt'!FQ20+'PADD3 mthly rpt'!FQ20+'PADD4 mthly rpt'!FQ20+'PADD5 mthly rpt'!FQ20","v":57637},{"$f":"'PADD1 mthly rpt'!FR20+'PADD2 mthly rpt'!FR20+'PADD3 mthly rpt'!FR20+'PADD4 mthly rpt'!FR20+'PADD5 mthly rpt'!FR20","v":67659},{"$f":"'PADD1 mthly rpt'!FS20+'PADD2 mthly rpt'!FS20+'PADD3 mthly rpt'!FS20+'PADD4 mthly rpt'!FS20+'PADD5 mthly rpt'!FS20","v":75972},{"$f":"'PADD1 mthly rpt'!FT20+'PADD2 mthly rpt'!FT20+'PADD3 mthly rpt'!FT20+'PADD4 mthly rpt'!FT20+'PADD5 mthly rpt'!FT20","v":82249},{"$f":"'PADD1 mthly rpt'!FU20+'PADD2 mthly rpt'!FU20+'PADD3 mthly rpt'!FU20+'PADD4 mthly rpt'!FU20+'PADD5 mthly rpt'!FU20","v":95773},{"$f":"'PADD1 mthly rpt'!FV20+'PADD2 mthly rpt'!FV20+'PADD3 mthly rpt'!FV20+'PADD4 mthly rpt'!FV20+'PADD5 mthly rpt'!FV20","v":100754},{"$f":"'PADD1 mthly rpt'!FW20+'PADD2 mthly rpt'!FW20+'PADD3 mthly rpt'!FW20+'PADD4 mthly rpt'!FW20+'PADD5 mthly rpt'!FW20","v":99226},{"$f":"'PADD1 mthly rpt'!FX20+'PADD2 mthly rpt'!FX20+'PADD3 mthly rpt'!FX20+'PADD4 mthly rpt'!FX20+'PADD5 mthly rpt'!FX20","v":92604},{"$f":"'PADD1 mthly rpt'!FY20+'PADD2 mthly rpt'!FY20+'PADD3 mthly rpt'!FY20+'PADD4 mthly rpt'!FY20+'PADD5 mthly rpt'!FY20","v":83830},{"$f":"'PADD1 mthly rpt'!FZ20+'PADD2 mthly rpt'!FZ20+'PADD3 mthly rpt'!FZ20+'PADD4 mthly rpt'!FZ20+'PADD5 mthly rpt'!FZ20","v":78673},{"$f":"'PADD1 mthly rpt'!GA20+'PADD2 mthly rpt'!GA20+'PADD3 mthly rpt'!GA20+'PADD4 mthly rpt'!GA20+'PADD5 mthly rpt'!GA20","v":67940},{"$f":"'PADD1 mthly rpt'!GB20+'PADD2 mthly rpt'!GB20+'PADD3 mthly rpt'!GB20+'PADD4 mthly rpt'!GB20+'PADD5 mthly rpt'!GB20","v":64237},{"$f":"'PADD1 mthly rpt'!GC20+'PADD2 mthly rpt'!GC20+'PADD3 mthly rpt'!GC20+'PADD4 mthly rpt'!GC20+'PADD5 mthly rpt'!GC20","v":65840},{"$f":"'PADD1 mthly rpt'!GD20+'PADD2 mthly rpt'!GD20+'PADD3 mthly rpt'!GD20+'PADD4 mthly rpt'!GD20+'PADD5 mthly rpt'!GD20","v":70865},{"$f":"'PADD1 mthly rpt'!GE20+'PADD2 mthly rpt'!GE20+'PADD3 mthly rpt'!GE20+'PADD4 mthly rpt'!GE20+'PADD5 mthly rpt'!GE20","v":79354},{"$f":"'PADD1 mthly rpt'!GF20+'PADD2 mthly rpt'!GF20+'PADD3 mthly rpt'!GF20+'PADD4 mthly rpt'!GF20+'PADD5 mthly rpt'!GF20","v":89124},{"$f":"'PADD1 mthly rpt'!GG20+'PADD2 mthly rpt'!GG20+'PADD3 mthly rpt'!GG20+'PADD4 mthly rpt'!GG20+'PADD5 mthly rpt'!GG20","v":99415},{"$f":"'PADD1 mthly rpt'!GH20+'PADD2 mthly rpt'!GH20+'PADD3 mthly rpt'!GH20+'PADD4 mthly rpt'!GH20+'PADD5 mthly rpt'!GH20","v":104767},{"$f":"'PADD1 mthly rpt'!GI20+'PADD2 mthly rpt'!GI20+'PADD3 mthly rpt'!GI20+'PADD4 mthly rpt'!GI20+'PADD5 mthly rpt'!GI20","v":98995},{"$f":"'PADD1 mthly rpt'!GJ20+'PADD2 mthly rpt'!GJ20+'PADD3 mthly rpt'!GJ20+'PADD4 mthly rpt'!GJ20+'PADD5 mthly rpt'!GJ20","v":94338},{"$f":"'PADD1 mthly rpt'!GK20+'PADD2 mthly rpt'!GK20+'PADD3 mthly rpt'!GK20+'PADD4 mthly rpt'!GK20+'PADD5 mthly rpt'!GK20","v":74207},{"$f":"'PADD1 mthly rpt'!GL20+'PADD2 mthly rpt'!GL20+'PADD3 mthly rpt'!GL20+'PADD4 mthly rpt'!GL20+'PADD5 mthly rpt'!GL20","v":57633},{"$f":"'PADD1 mthly rpt'!GM20+'PADD2 mthly rpt'!GM20+'PADD3 mthly rpt'!GM20+'PADD4 mthly rpt'!GM20+'PADD5 mthly rpt'!GM20","v":42243},{"$f":"'PADD1 mthly rpt'!GN20+'PADD2 mthly rpt'!GN20+'PADD3 mthly rpt'!GN20+'PADD4 mthly rpt'!GN20+'PADD5 mthly rpt'!GN20","v":40359},{"$f":"'PADD1 mthly rpt'!GO20+'PADD2 mthly rpt'!GO20+'PADD3 mthly rpt'!GO20+'PADD4 mthly rpt'!GO20+'PADD5 mthly rpt'!GO20","v":43267},{"$f":"'PADD1 mthly rpt'!GP20+'PADD2 mthly rpt'!GP20+'PADD3 mthly rpt'!GP20+'PADD4 mthly rpt'!GP20+'PADD5 mthly rpt'!GP20","v":49798.480639651309},{"$f":"'PADD1 mthly rpt'!GQ20+'PADD2 mthly rpt'!GQ20+'PADD3 mthly rpt'!GQ20+'PADD4 mthly rpt'!GQ20+'PADD5 mthly rpt'!GQ20","v":57869.833326229207},{"$f":"'PADD1 mthly rpt'!GR20+'PADD2 mthly rpt'!GR20+'PADD3 mthly rpt'!GR20+'PADD4 mthly rpt'!GR20+'PADD5 mthly rpt'!GR20","v":66411.818754018692},{"$f":"'PADD1 mthly rpt'!GS20+'PADD2 mthly rpt'!GS20+'PADD3 mthly rpt'!GS20+'PADD4 mthly rpt'!GS20+'PADD5 mthly rpt'!GS20","v":72988.849371052929},{"$f":"'PADD1 mthly rpt'!GT20+'PADD2 mthly rpt'!GT20+'PADD3 mthly rpt'!GT20+'PADD4 mthly rpt'!GT20+'PADD5 mthly rpt'!GT20","v":78105.541057753682},{"$f":"'PADD1 mthly rpt'!GU20+'PADD2 mthly rpt'!GU20+'PADD3 mthly rpt'!GU20+'PADD4 mthly rpt'!GU20+'PADD5 mthly rpt'!GU20","v":80478.005170631994},{"$f":"'PADD1 mthly rpt'!GV20+'PADD2 mthly rpt'!GV20+'PADD3 mthly rpt'!GV20+'PADD4 mthly rpt'!GV20+'PADD5 mthly rpt'!GV20","v":80994.672970503452},{"$f":"'PADD1 mthly rpt'!GW20+'PADD2 mthly rpt'!GW20+'PADD3 mthly rpt'!GW20+'PADD4 mthly rpt'!GW20+'PADD5 mthly rpt'!GW20","v":75643.041265325359},{"$f":"'PADD1 mthly rpt'!GX20+'PADD2 mthly rpt'!GX20+'PADD3 mthly rpt'!GX20+'PADD4 mthly rpt'!GX20+'PADD5 mthly rpt'!GX20","v":68056.62422813852},{"$f":"'PADD1 mthly rpt'!GY20+'PADD2 mthly rpt'!GY20+'PADD3 mthly rpt'!GY20+'PADD4 mthly rpt'!GY20+'PADD5 mthly rpt'!GY20","v":61954.473703002586},{"$f":"'PADD1 mthly rpt'!GZ20+'PADD2 mthly rpt'!GZ20+'PADD3 mthly rpt'!GZ20+'PADD4 mthly rpt'!GZ20+'PADD5 mthly rpt'!GZ20","v":62932.472005511772},{"$f":"'PADD1 mthly rpt'!HA20+'PADD2 mthly rpt'!HA20+'PADD3 mthly rpt'!HA20+'PADD4 mthly rpt'!HA20+'PADD5 mthly rpt'!HA20","v":67646.35210646542},{"$f":"'PADD1 mthly rpt'!HB20+'PADD2 mthly rpt'!HB20+'PADD3 mthly rpt'!HB20+'PADD4 mthly rpt'!HB20+'PADD5 mthly rpt'!HB20","v":72462.582596423512},{"$f":"'PADD1 mthly rpt'!HC20+'PADD2 mthly rpt'!HC20+'PADD3 mthly rpt'!HC20+'PADD4 mthly rpt'!HC20+'PADD5 mthly rpt'!HC20","v":78263.968915444435}]
["Days of Forward Supply",{"$f":"B20*1000/B18","v":25.644660551223517},21.189707018309196,19.837251462321593,32.552342587972817,38.249265655349852,51.67509042197355,60.090873484152837,57.608812759993683,59.126130472622719,62.6151700995173,55.719333009174619,35.149070120431553,34.895557905272511,23.568883199123206,21.751990727595217,30.55646576653486,36.032013044720408,44.665506989591158,54.404703318345518,57.270221246269287,60.418645691139176,56.317628027735964,51.48652030603801,42.640517650987249,27.490948318873119,17.418349746701644,20.156874073276132,25.044446852538396,32.544497620015356,39.38719761341715,42.237387380404037,44.692795080913527,{"$f":"AH20*1000/AH18","v":45.358187822733129},46.96244409142632,40.309051657394185,34.266294425554079,24.511906894095418,19.046460315159514,19.203643454160627,25.581761357472253,34.994859639410905,38.184664639401369,43.250584941322174,49.709421775218608,64.666496498132958,50.526105590537746,53.034048779457223,47.542297188925012,33.538572228629974,30.848094392090836,32.725190412493752,41.632880252903163,56.718180081326544,61.207175511985326,65.664730673149435,58.465577432578435,63.667239994144779,53.185843701990706,42.05287426126722,32.155707548508275,21.990811917777091,18.317783945566212,22.155574635123799,31.828110337637085,{"$f":"BN20*1000/BN18","v":38.50870086546103},43.99685812497593,47.979786935335362,50.909075083092155,49.420190116333899,49.266332520802585,46.824629022680661,29.330615880410299,20.915783193794383,16.844041277936174,16.773613020952624,22.241970701739703,28.072087156797789,34.143053689963864,43.393322878821245,45.702276424450872,46.589862975325723,50.180830679367467,43.059308528545564,37.627352263540217,32.096290453702721,30.180576172955359,35.889280045653145,41.998831571621807,49.029377921037607,51.80238098941981,56.475789314762537,59.010047413289406,61.7260350878529,56.328639302957306,49.798665304752141,42.335302776190026,{"$f":"CT20*1000/CT18","v":32.2815555812345},28.869900078881866,25.988840115825028,30.1190337002778,35.490543890741471,42.119468979143413,42.94767124093314,47.308400710803923,46.466617151232484,36.807913172463209,31.450169580994228,24.517987848600495,17.135015256799999,16.156119312819744,18.993609722970046,24.285314953909314,33.091674985899402,41.712500190576705,47.394359958950304,53.578630270094813,52.746138248619232,47.040026628329066,47.193262147066207,39.477131722502669,34.42580125216859,26.99277977480391,34.785143548080654,39.019858179567592,47.464039517135511,52.03714604179595,57.368689718607619,60.300639233515064,{"$f":"DZ20*1000/DZ18","v":56.273153831239846},61.34565089883138,55.344838392473122,45.737174473351658,34.271360011313028,28.729238583023118,36.791319880250057,44.105393678048308,42.817323167506501,51.733285192388905,52.223105446910424,54.93095042399797,60.208251902693966,49.228288800613406,47.61151488206044,33.987436995511345,23.645763642177762,21.736170959572679,19.286532472928219,21.339580969328502,26.651072732803005,34.454114949289398,37.705654218377838,44.772121262907895,38.90110966890883,34.809832289696573,33.766060668334106,28.297529048847796,20.834024211998194,19.27198251948667,17.83312198595733,19.503734209100291,24.274614454634108,{"$f":"FG20*1000/FG18","v":31.609856587936569},31.131427150510792,{"$f":"FI20*1000/FI18","v":34.191013383941439},41.867663293553129,{"$f":"FK20*1000/FK18","v":38.512023857217308},{"$f":"FL20*1000/FL18","v":33.502806117671838},26.823902075710464,{"$f":"FN20*1000/FN18","v":22.196521199508936},21.415821987648037,25.130066065777481,{"$f":"FQ20*1000/FQ18","v":26.819857041138583},33.33419485409091,{"$f":"FS20*1000/FS18","v":36.382729155869484},{"$f":"FT20*1000/FT18","v":38.735750529724172},46.946707725438465,{"$f":"FV20*1000/FV18","v":47.149932253446487},{"$f":"FW20*1000/FW18","v":43.060623820399492},39.42433530880934,{"$f":"FY20*1000/FY18","v":33.219471304485516},30.529119678957915,{"$f":"GA20*1000/GA18","v":27.641833601820103},26.404553650645926,{"$f":"GC20*1000/GC18","v":30.208873690262276},35.999562904363472,{"$f":"GE20*1000/GE18","v":36.844453574582253},41.624177239927825,{"$f":"GG20*1000/GG18","v":47.170574861597963},47.491562015505401,{"$f":"GI20*1000/GI18","v":39.759271245188408},36.43604455088817,{"$f":"GK20*1000/GK18","v":23.661837891745069},18.819747482123439,{"$f":"GM20*1000/GM18","v":15.656975320065923},16.612259082085263,{"$f":"GO20*1000/GO18","v":16.592563501774062},21.337570118934885,{"$f":"GQ20*1000/GQ18","v":25.22988662354269},30.309589294183432,{"$f":"GS20*1000/GS18","v":30.778479312604393},32.509088198780447,{"$f":"GU20*1000/GU18","v":31.386024785162704},30.350284114432661,{"$f":"GW20*1000/GW18","v":25.67554339768056},22.631544237897302,{"$f":"GY20*1000/GY18","v":21.111484748503525},23.18562087725854,{"$f":"HA20*1000/HA18","v":26.606935740409202},28.162328947848792,{"$f":"HC20*1000/HC18","v":30.944552639577346}]
["Days per Month",31,28,31,30,31,30,31,31,30,31,30,31,31,28,31,30,31,30,31,31,30,31,30,31,31,28,31,30,31,30,31,31,30,31,30,31,31,29,31,30,31,30,31,31,30,31,30,31,31,28,31,30,31,30,31,31,30,31,30,31,31,28,31,30,31,30,31,31,30,31,30,31,31,28,31,30,31,30,31,31,30,31,30,31,31,29,31,30,31,30,31,31,30,31,30,31,31,28,31,30,31,30,31,31,30,31,30,31,31,28,31,30,31,30,31,31,30,31,30,31,31,28,31,30,31,30,31,31,30,31,30,31,31,29,31,30,31,30,31,31,30,31,30,31,31,28,31,30,31,30,31,31,30,31,30,31,31,28,31,30,31,30,31,31,30,31,30,31,31,28,31,30,31,30,31,31,30,31,30,{"$f":"DAY(EOMONTH(FY3,0))","v":31},31,29,31,30,31,{"$f":"DAY(EOMONTH(GE3,0))","v":30},31,{"$f":"DAY(EOMONTH(GG3,0))","v":31},30,{"$f":"DAY(EOMONTH(GI3,0))","v":31},30,{"$f":"DAY(EOMONTH(GK3,0))","v":31},31,{"$f":"DAY(EOMONTH(GM3,0))","v":28},31,{"$f":"DAY(EOMONTH(GO3,0))","v":30},31,{"$f":"DAY(EOMONTH(GQ3,0))","v":30},31,{"$f":"DAY(EOMONTH(GS3,0))","v":31},30,{"$f":"DAY(EOMONTH(GU3,0))","v":31},30,{"$f":"DAY(EOMONTH(GW3,0))","v":31},31,{"$f":"DAY(EOMONTH(GY3,0))","v":28},31,{"$f":"DAY(EOMONTH(HA3,0))","v":30},31,{"$f":"DAY(EOMONTH(HC3,0))","v":30}]
[]
["CHANGE FROM PREVIOUS YEAR",{"$f":"B$3","v":"2005-01-15"},{"$f":"C$3","v":"2005-02-15"},"2005-03-15","2005-04-15","2005-05-15","2005-06-15","2005-07-15","2005-08-15","2005-09-15","2005-10-15","2005-11-15","2005-12-15","2006-01-15","2006-02-15","2006-03-15","2006-04-15","2006-05-15","2006-06-15","2006-07-15","2006-08-15","2006-09-15","2006-10-15","2006-11-15","2006-12-15","2007-01-15","2007-02-15","2007-03-15","2007-04-15","2007-05-15","2007-06-15","2007-07-15","2007-08-15","2007-09-15","2007-10-15","2007-11-15","2007-12-15","2008-01-15","2008-02-15","2008-03-15","2008-04-15","2008-05-15","2008-06-15","2008-07-15","2008-08-15","2008-09-15","2008-10-15","2008-11-15","2008-12-15","2009-01-15","2009-02-15","2009-03-15","2009-04-15","2009-05-15","2009-06-15","2009-07-15","2009-08-15","2009-09-15","2009-10-15","2009-11-15","2009-12-15","2010-01-15","2010-02-15","2010-03-15","2010-04-15","2010-05-15",{"$f":"BO$3","v":"2010-06-15"},"2010-07-15","2010-08-15","2010-09-15","2010-10-15","2010-11-15","2010-12-15","2011-01-15","2011-02-15","2011-03-15","2011-04-15","2011-05-15","2011-06-15","2011-07-15","2011-08-15","2011-09-15","2011-10-15","2011-11-15","2011-12-15","2012-01-15","2012-02-15","2012-03-15","2012-04-15","2012-05-15","2012-06-15","2012-07-15","2012-08-15","2012-09-15","2012-10-15","2012-11-15","2012-12-15","2013-01-15","2013-02-15","2013-03-15","2013-04-15","2013-05-15","2013-06-15","2013-07-15","2013-08-15","2013-09-15","2013-10-15","2013-11-15","2013-12-15","2014-01-15","2014-02-15","2014-03-15","2014-04-15","2014-05-15","2014-06-15","2014-07-15","2014-08-15","2014-09-15","2014-10-15","2014-11-15","2014-12-15","2015-01-15","2015-02-15","2015-03-15","2015-04-15","2015-05-15","2015-06-15","2015-07-15","2015-08-15","2015-09-15",{"$f":"EA$3","v":"2015-10-15"},"2015-11-15","2015-12-15","2016-01-15","2016-02-15","2016-03-15","2016-04-15","2016-05-15","2016-06-15","2016-07-15","2016-08-15","2016-09-15","2016-10-15","2016-11-15","2016-12-15","2017-01-15","2017-02-15","2017-03-15","2017-04-15","2017-05-15","2017-06-15","2017-07-15","2017-08-15","2017-09-15","2017-10-15","2017-11-15","2017-12-15","2018-01-15","2018-02-15","2018-03-15","2018-04-15","2018-05-15","2018-06-15","2018-07-15","2018-08-15","2018-09-15","2018-10-15","2018-11-15","2018-12-15","2019-01-15","2019-02-15","2019-03-15","2019-04-15","2019-05-15","2019-06-15","2019-07-15","2019-08-15","2019-09-15","2019-10-15","2019-11-15","2019-12-15","2020-01-15","2020-02-15","2020-03-15","2020-04-15","2020-05-15","2020-06-15","2020-07-15","2020-08-15","2020-09-15","2020-10-15","2020-11-15","2020-12-15","2021-01-15","2021-02-15","2021-03-15","2021-04-15","2021-05-15","2021-06-15","2021-07-15","2021-08-15","2021-09-15","2021-10-15","2021-11-15",{"$f":"GW$3","v":"2021-12-15"},"2022-01-15","2022-02-15","2022-03-15","2022-04-15","2022-05-15","2022-06-15"]
[{"$f":"A4","v":"SUPPLY"}]
["Gas Processing",null,null,null,null,null,null,null,null,null,null,null,null,{"$f":"N5-B5","v":-37000.000000000116},-42785.714285714377,-40612.903225806425,-28800,-27096.774193548423,-14833.333333333314,-580.6451612903038,-6129.0322580646025,67899.999999999942,53741.93548387097,{"$f":"X5-L5","v":44433.333333333314},55806.451612903271,-8451.6129032257595,821.42857142857974,9709.6774193549063,-200,7258.0645161289722,400.00000000005821,32.258064516121522,1741.9354838710278,{"$f":"AH5-V5","v":3033.3333333333721},18419.354838709638,15666.666666666802,18645.161290322547,29387.096774193516,26237.684729064,24451.612903225818,31733.333333333372,23645.161290322605,20100,{"$f":"AR5-AF5","v":27096.774193548365},18129.032258064544,-74700,-20580.645161290246,-17566.666666666744,-31322.580645161332,{"$f":"AX5-AL5","v":9580.645161290362},14405.17241379316,8354.8387096773367,11666.666666666628,14870.967741935514,23066.666666666744,7387.0967741934583,30806.451612903213,122666.66666666669,60419.35483870958,46566.666666666628,64064.516129032301,44193.548387096671,33214.285714285797,40032.258064516122,38200,40161.290322580608,33166.666666666511,29451.612903225934,40451.612903225818,37300,40096.774193548481,46033.333333333372,49903.225806451635,39161.290322580724,214.28571428556461,39838.709677419392,32700,39967.741935483995,41166.666666666628,60709.67741935479,47677.419354838668,{"$f":"CD5-BR5","v":30266.666666666628},60774.193548387033,70500,73161.290322580724,78709.677419354906,137003.69458128081,64451.612903225818,72000,72709.67741935479,73066.666666666628,68193.548387096729,72806.451612903271,101800,85000,90566.666666666628,82709.67741935479,63935.483870967641,65389.162561576464,84612.903225806425,109266.66666666674,112096.77419354836,127133.33333333337,137129.0322580646,143064.51612903236,150233.33333333337,127290.32258064509,104266.66666666674,84838.709677419276,104967.74193548399,100285.71428571432,133548.38709677418,138999.99999999988,{"$f":"DJ5-CX5","v":143774.19354838703},174066.66666666674,181580.6451612903,184419.35483870958,173966.66666666663,186000.00000000012,179166.66666666663,236290.32258064521,211741.93548387091,222428.57142857136,218193.54838709685,217333.33333333337,188774.19354838738,146766.66666666674,134645.16129032231,126903.22580645164,125733.33333333349,130612.90322580654,125166.66666666674,70548.387096774066,{"$f":"ED5-DR5","v":63903.225806451635},{"$f":"EE5-DS5","v":51369.458128078841},53483.870967741823,{"$f":"EG5-DU5","v":19333.333333333489},19709.677419354673,16633.333333333489,17516.129032258177,11677.419354838785,-13466.666666666744,-29580.64516129042,1333.3333333332557,-28645.161290322198,1935.483870967757,{"$f":"EQ5-EE5","v":6479.0640394089278},{"$f":"ER5-EF5","v":10322.580645161448},21866.666666666511,44129.032258064253,73666.666666666279,82645.161290322663,65451.612903225701,85900,123709.67741935467,138766.66666666674,172129.03225806425,120741.93548387079,154722.90640394064,163064.51612903201,165133.33333333326,172290.32258064533,154533.33333333326,163387.09677419346,218935.48387096752,224000,185000.00000000023,160166.66666666651,184483.87096774182,{"$f":"FN5-FB5","v":237096.7741935486},{"$f":"FO5-FC5","v":192571.42857142864},{"$f":"FP5-FD5","v":173225.80645161308},192166.66666666674,179290.32258064509,170966.66666666674,{"$f":"FT5-FH5","v":163129.03225806472},{"$f":"FU5-FI5","v":143935.48387096799},189033.33333333326,197290.32258064486,207800,208032.25806451635,246290.32258064486,172467.98029556661,237290.32258064509,138900,-32000,58000.000000000233,93935.48387096799,65903.225806451403,31333.333333333256,14935.48387096799,33366.666666666744,11903.225806451403,-25645.16129032243,-243503.6945812807,-66903.225806451635,49900,223226.56357756979,132332.82373884926,129186.64577517565,139376.20129931136,118785.77644687286,132455.95796075626,{"$f":"GV5-GJ5","v":103832.88965924201},{"$f":"GW5-GK5","v":125097.1509962522},112984.31421981263,393341.12249515532,143308.2724139865,102517.45613687998,98890.665013355669,111063.64498780062]
["Refinery Production",null,null,null,null,null,null,null,null,null,null,null,null,-31967.741935483878,-68392.857142857159,-63903.225806451577,-48933.333333333256,-19483.870967741939,-33133.333333333372,-3193.5483870968455,34322.580645161332,94233.333333333372,90290.32258064521,35099.999999999884,40096.774193548365,46935.483870967757,23785.714285714203,77483.870967741881,25200,9161.290322580724,25200,13516.129032258061,-32354.838709677453,300,7516.1290322581772,19033.333333333489,14225.806451612967,-5870.9677419355139,1416.2561576354783,-36258.064516128972,-42233.333333333372,-30516.129032258061,-23900,-27870.967741935397,-15193.548387096729,-140000,-35258.064516129147,-52666.666666666744,-106129.0322580646,{"$f":"AX6-AL6","v":-90032.258064516063},-52416.256157635478,-6967.7419354839949,22300,7806.4516129032709,22233.333333333256,19806.451612903154,27451.612903225818,138999.99999999988,23645.161290322605,35100,64580.645161290304,52354.838709677395,78928.571428571478,55774.193548387149,42633.333333333256,17612.903225806425,5233.3333333334886,20161.290322580724,-1451.6129032258177,-8133.3333333332557,-1129.0322580644861,-6533.3333333332557,18161.290322580724,29193.548387096729,-50107.142857142841,-46903.225806451635,-42733.333333333256,-7967.7419354839949,-4700.0000000001164,-16645.161290322663,193.54838709672913,{"$f":"CD6-BR6","v":17966.666666666628},13580.645161290304,20466.666666666511,-5580.6451612903038,-29516.129032258061,44756.157635468058,16419.354838709696,15933.333333333256,5225.8064516129671,18433.333333333372,11096.774193548481,-9322.5806451613316,-46900,1032.2580645161215,-13799.999999999884,12387.096774193575,11580.645161290304,-20577.58620689658,14741.935483871028,3366.6666666667443,5612.9032258064253,-19833.333333333256,6870.9677419353975,40354.83870967757,51700,1677.4193548387848,7099.9999999998836,21161.290322580491,41258.064516129089,36285.714285714319,4935.483870967757,38900.000000000116,{"$f":"DJ6-CX6","v":22129.032258064486},30433.333333333256,37096.774193548248,18290.322580644977,-21999.999999999884,-13419.354838709696,46200.000000000233,35451.612903225818,-22870.967741935514,-43142.857142857276,-28741.935483871028,-11000.000000000233,-14322.580645161215,-26633.333333333372,-32225.806451612734,-27870.967741935281,-22733.333333333372,-8709.6774193549063,-44200.000000000233,-57645.161290322547,19516.129032258061,36514.778325123247,50193.548387096613,1666.6666666668607,27258.064516129089,20300.000000000116,3806.4516129031545,-3322.580645161448,46666.666666666628,35903.225806451635,30500.000000000116,16870.967741935514,-16516.129032258061,-35790.640394088812,741.93548387114424,9966.6666666665114,12935.483870967641,25566.666666666511,22645.161290322663,17903.225806451635,-62366.666666666628,38129.032258064486,26166.666666666628,47645.161290322663,35903.225806451635,38597.29064039432,-15419.354838709696,-8166.6666666665114,-30870.967741935397,-8133.3333333332557,-258.06451612897217,14967.741935483995,76800,-20387.096774193458,-7633.3333333332557,-26387.096774193808,-11000,-23035.714285714435,-21935.483870967757,-26033.333333333372,-13806.451612903387,-16533.333333333372,-27709.677419355023,-24516.129032258061,-36700,-41096.774193548481,-27200,-19677.419354838552,-23322.580645161332,-31012.315270936,-24483.870967741939,-72466.666666666744,-85290.322580645094,-86600,-56387.096774193516,-52322.580645161448,-23800,5129.0322580646025,-21366.666666666744,-38096.774193548365,-10419.35483870958,-50416.25615763542,13677.419354838785,84933.333333333256,132568.95699746755,82236.674889786518,71823.956628364802,55914.173381279339,26823.177841763711,15272.647321848548,16642.989036894636,41062.317208164255,59884.139509529457,127823.9666748009,85152.199783569318,64332.481335743563,25014.776696073823,66774.991633621627]
[{"$f":"A7","v":"Imports"},null,null,null,null,null,null,null,null,null,null,null,null,{"$f":"N7-B7","v":-67677.419354838727},-37857.142857142841,17225.806451612909,64300.000000000029,-709.67741935481899,89166.666666666686,6419.354838709638,94000,24466.666666666657,-109709.67741935491,-77433.333333333343,-68935.483870967757,37935.483870967786,6357.1428571428696,4032.2580645161506,-121733.33333333333,-28516.12903225809,-89666.666666666715,-91677.419354838668,-101096.77419354834,-48366.666666666628,-62741.935483870941,-15000,-36322.580645161273,18548.387096774153,1805.418719211797,32806.451612903184,34299.999999999985,18258.06451612903,-52499.999999999971,-4419.3548387096962,22064.516129032214,-46000,-25548.387096774124,-4200,40677.419354838668,{"$f":"AX7-AL7","v":-40064.516129032272},-7912.5615763546666,677.41935483875568,-31133.333333333343,-58870.967741935485,-28866.666666666672,-30580.645161290333,-123387.09677419355,-91500,-33935.483870967786,9733.3333333333139,-16612.903225806454,-30741.935483870941,10642.857142857101,-81516.129032258061,-45733.333333333314,-23161.290322580651,2533.3333333333285,-44161.290322580637,-258.06451612903038,-9833.333333333343,-13870.967741935485,-73666.666666666657,2064.5161290322721,-17096.774193548394,-42607.142857142811,354.83870967739495,17833.333333333328,-7903.2258064515918,-10033.333333333336,4806.4516129032199,10677.419354838705,24233.333333333343,-35870.967741935485,-22666.666666666672,-62258.064516129001,-29258.064516129001,-47523.399014778319,-28580.645161290333,18266.666666666672,32258.064516129016,39833.333333333336,54193.54838709678,11612.903225806454,-8766.666666666657,-4516.1290322580462,28133.333333333328,9612.9032258064253,38096.774193548365,38666.256157635449,32225.806451612938,-3833.333333333343,-25580.645161290318,8799.9999999999854,-27193.548387096773,-322.58064516128798,-13600,66870.967741935499,31099.999999999971,-14999.999999999971,3322.5806451613025,55035.714285714319,-18483.870967741954,-32066.666666666657,{"$f":"DJ7-CX7","v":-14451.612903225818},-19800,-23516.129032258061,-8032.2580645161506,-11500.000000000015,-58709.677419354877,-79199.999999999971,-17709.677419354863,-30838.709677419363,-57607.14285714287,25129.03225806453,48600,25096.774193548394,5100.0000000000146,43451.612903225803,35064.516129032272,16500,20741.935483870984,38966.666666666686,16483.870967741925,-9322.5806451612734,33098.522167487681,-19064.516129032272,-18000.000000000015,15290.322580645166,5333.333333333343,2741.9354838709696,11806.451612903242,35006.768329821847,22721.822093262701,37907.768329821847,33304.467254553019,101015.14467390787,22640.69950738913,43984.886609391746,8446.1016631552047,19696.564028746565,3966.666666666657,-12870.967741935485,-20238.940787334548,772.18984066555277,24310.087907230918,-34968.07934550225,-30017.28747777699,-31323.02108879204,-37817.716842237889,-56082.695807724318,-29867.297543513938,-65814.376064862983,-45725.215345777309,-28465.892356054814,-28777.630742049776,-51126.58503921688,-55193.574058368802,11237.919212759414,7436.5600145512144,-3543.0179989836761,-1506.8266609871644,28632.24053830959,25188.486221608575,21686.663400194142,37538.424610916554,31026.012586679513,11823.720148582943,23861.222678930586,30842.664332779823,15150.534832322388,13370.011855504243,-4466.6110055546742,-30144.155151385989,-15183.689979741175,-13402.411910653595,-544.68502117457683,-16082.413486428733,12004.267811818936,-5000.5808716649044,-10867.12408599582,-2073.1843200836156,8507.3687570652692,17423.824757813709,-54720.309536996851,16005.943974572787,55990.28510412699,-24192.093580979461,-42910.328388806534,37555.324753873021,99587.288958750374,52490.142781363931,67876.531956247025,35620.017948300374,4940.2961434502213,7673.2169880821311,52507.232371219259,41955.198355559405,34519.5450717278,78039.638849894531,94757.213239313671,9286.5118092433549]
["Net Inter-PADD Transfers",null,null,null,null,null,null,null,null,null,null,null,null,0,0,0,0,0,0,0,0,0,0,0,0,0,0,0,0,0,0,0,0,0,0,0,0,0,0,0,0,0,0,0,0,0,0,0,0,{"$f":"AX8-AL8","v":0},0,0,0,0,0,0,0,0,0,0,0,0,0,0,0,0,0,0,0,0,0,0,0,0,0,0,0,0,0,0,0,0,0,0,0,0,0,0,0,0,0,0,0,0,0,0,0,-1.546140993013978E-11,-1.546140993013978E-11,-1.546140993013978E-11,-1.546140993013978E-11,-1.546140993013978E-11,-1.546140993013978E-11,-1.546140993013978E-11,-1.546140993013978E-11,-1.546140993013978E-11,-1.546140993013978E-11,-1.546140993013978E-11,-1.546140993013978E-11,1.546140993013978E-11,1.546140993013978E-11,1.546140993013978E-11,1.546140993013978E-11,{"$f":"DJ8-CX8","v":1.546140993013978E-11},1.546140993013978E-11,1.546140993013978E-11,1.546140993013978E-11,1.546140993013978E-11,1.546140993013978E-11,1.546140993013978E-11,1.546140993013978E-11,0,0,0,0,0,0,0,0,0,0,0,0,1.4551915228366852E-11,1.4551915228366852E-11,1.4551915228366852E-11,1.4551915228366852E-11,1.4551915228366852E-11,1.4551915228366852E-11,1.4551915228366852E-11,1.4551915228366852E-11,1.4551915228366852E-11,1.4551915228366852E-11,1.4551915228366852E-11,1.4551915228366852E-11,1.8189894035458565E-11,1.8189894035458565E-11,1.8189894035458565E-11,1.8189894035458565E-11,1.8189894035458565E-11,1.8189894035458565E-11,1.8189894035458565E-11,1.8189894035458565E-11,1.8189894035458565E-11,1.8189894035458565E-11,1.8189894035458565E-11,1.8189894035458565E-11,70204.234948901139,70204.234948901139,70204.234948901139,62204.234948901139,64204.234948901139,66204.234948901139,68204.234948901139,70204.234948901139,90204.234948901139,92204.234948901139,94204.234948901139,96204.234948901139,-35358.838491810064,-35358.838491810064,-70204.234948901154,-62204.234948901154,-64204.234948901154,-66204.234948901154,-68204.234948901154,-58204.234948901154,-50891.323040880103,-72961.359461813772,-314229.53202663199,-220931.99936852208,67187.170466534895,-449080.22688224638,-171547.36457103584,-311597.26892350963,-54134.339419645999,-6485.7103683323221,46768.147636678666,64314.458007538648,-139013.8012039155,-49084.671988691043,275303.54089600994,-242343.88461157732,-107237.95745172692,32759.959598183923,204280.18939741043,500210.01170435466,514407.54112293769,117343.52709343095,-186686.10576505782,-18959.619297861165,147800.88929589448,128164.37714676493,63421.756181720892,525749.0683860369,126011.84214100419,474313.54077771015,32976.852592980198,-129912.742780845,-367676.42750974337,-27324.483391765083]
["Total Stock Change (Primary+Secondary+Tertiary)",null,null,null,null,null,null,null,null,null,null,null,null,-107694.63892144448,161963.7398498214,99594.695126460079,78236.429099107991,75842.006474714944,46060.488799134677,44048.253558523516,-131169.42526039982,-175021.31829646122,109651.93996463191,30475.066373080947,-210592.35463939895,249934.92709675216,151662.39131323231,-139675.47418791777,121831.20236049799,-32665.993720990926,62133.250080808037,181688.13528022886,235423.71096814255,154026.95049578961,50133.861934987799,129977.19892893278,76570.18961986521,-144736.59528628632,-226447.34276319569,-22377.005171968209,-19172.245362850212,-43688.612965796827,61038.161467710161,-73245.802387954813,-162621.96779924305,-112522.95217569917,-37909.648581723326,-263107.97731697845,-255509.88265003881,{"$f":"AX9-AL9","v":-109193.93823093898},-192209.05034883914,-109846.48114432149,-111524.75800107705,-73993.097420060571,-81359.617631204688,-31374.551388172898,196697.38130681659,96585.930016146507,121537.62623560301,253191.30452694534,281809.04599475453,158672.3277428493,102222.27675606449,18767.374350680511,-11388.836085964111,79672.576289726538,25175.444071318736,67651.147634236724,-103414.39548481061,43593.62932162451,-129207.75897891083,-146815.59003083021,49408.81481429853,4389.4651240588282,163908.06111378779,196115.44285721693,157470.20455192251,75963.089447764447,34563.268854298556,-100712.43714451967,-75200.567461482598,-82198.675856261631,-94918.751169905794,-4588.5268521891958,-223030.58847061513,-195998.00033821273,-245730.49825425714,-242571.40011815223,-176593.3123027611,-158464.07349941233,-113879.12727812686,-1469.9684561399918,24698.224226843711,-43673.02699737715,53451.835736685702,-11079.195774467273,40185.039124624396,140856.98370059245,78797.563717767174,181590.49937494055,64638.136236374892,87753.126946552889,8214.1403047977656,65309.658228444503,-35585.817475844524,46720.713542701356,181803.51330490567,180363.10671496831,145510.29686066959,-43853.859921107767,-74051.061187004016,-156970.11534064607,-61093.813546157777,{"$f":"DJ9-CX9","v":-39528.630912487162},-104334.36280884582,-120260.63922425247,-147033.26862433538,-74899.033507093511,-91422.095667521498,-231987.16226058573,-130927.01815896644,-13795.792789126048,199652.39152853604,-43875.601074415172,23388.326196039532,12612.506877065898,105928.46896025608,-33622.890397375013,50644.842564435792,125813.43521964151,-163587.61991480406,64962.868100115862,109334.58269179758,229145.7434512758,63752.78369987465,16737.999513795294,-58599.401918517717,77268.5643567511,-24408.121062692429,124484.93538156508,160819.99508263453,-124148.23470721874,340612.05788084265,163219.98165016211,348446.2599190661,139386.68322074617,28267.434063872439,421019.04376511771,294765.47168032412,16227.209624445808,14934.0038144071,-22048.914594784947,-111960.03753784392,198972.59963056335,-34209.440947367344,-42676.669496692281,-305078.3767957674,-327171.47947960335,-309453.11604334484,-335593.21585523541,-193893.09318598988,-63320.519890918236,-24199.376919669274,57296.563928861098,49463.574146819039,-385787.36643414089,-271481.41628537682,-131271.85601151688,-84608.502227047691,-86807.681666659279,-6877.8422488492724,-102054.62415500906,14821.238219614024,-51838.053275623533,55049.631389821938,-40342.435066330552,-107991.96516755689,109732.49659038809,34307.708042444829,133967.04993867988,6593.5172863447224,-191302.27250213191,476557.71112063032,292643.48301907,289016.36667804164,110747.92914264937,116791.50764104123,-78497.012498479802,-5367.1947709417727,211475.16374575938,216620.24220708149,-55576.004318034509,863740.5339653464,683408.9182058553,485315.95580293494,-210373.84059662459,-182729.35311181541,-461948.57523750712,-229523.67630682117,-63955.465798801568,35040.024351989938,-164723.73982145314,-237237.50373291384,-109314.61148848332,-889616.09782348934,-406598.15345662233,-800830.86551083741,-11138.92803959706,-180157.75584444689,388205.81193537812,75665.54558523235]
["     TOTAL SUPPLY",null,null,null,null,null,null,null,null,null,null,null,null,-244339.8002117672,12928.025564107113,12304.372545815073,64803.09576577507,28551.683894069865,87260.488799134735,46693.414848845801,-8975.8768733029719,11578.6817035391,143974.52060979302,32575.066373080714,-183624.61270391499,326354.2819354618,182626.67702751793,-48449.667736304924,25097.869027164765,-44762.767914539436,-1933.4165858584456,103559.10302216467,103714.0335487877,108993.61716245604,13327.41032208479,149677.19892893289,73118.576716639567,-102672.07915725396,-196987.98315728432,-1377.0051719683688,4627.7546371496283,-32301.51619160315,4738.1614677100442,-78439.350775051396,-137621.96779924305,-373222.95217569906,-119296.74535591668,-337541.31065031188,-352284.07619842631,{"$f":"AX10-AL10","v":-229710.06726319715},-238132.69566903613,-107781.96501528937,-108691.42466774397,-110186.64580715727,-64926.284297871171,-34761.648162366822,131568.3490487521,266752.5966828129,171666.65849366714,344591.30452694534,393841.304059271,224478.77935575275,225007.99104177882,33057.696931325831,23711.163914036006,114285.47951553296,66108.777404651977,73102.760537462775,-64672.4600009399,62926.962654958246,-104110.98478536215,-180982.25669749663,119537.8470723629,55647.529640187742,71408.061113787815,189405.76543786214,165270.20455192239,100059.86364131281,60996.602187631885,-51841.469402584247,-16652.180364708183,-9732.0091895952355,-56434.880202163942,63711.473147810437,-217708.00782545353,-176062.51646724483,-111494.0450522867,-190281.07753750705,-70393.312302761013,-48270.52511231578,17454.206055206247,132013.9025116018,99794.998420392163,2460.3063359560911,134967.96476894384,93820.804225533037,144894.71654397901,254469.88692639885,162275.39623008226,313171.14453623118,173438.13623637496,179882.15920461761,124314.14030479779,182116.10984134767,147510.95671770396,235054.04687603493,377642.22298232513,322829.77338163462,236510.29686066927,105694.52717566653,117556.08167013898,-36970.115340646356,84739.519787175581,{"$f":"DJ10-CX10","v":111922.98199073831},80365.637191154296,74900.651098328177,47644.150730503025,65567.63315957319,22448.872074413812,-85820.495593918487,123105.23990554991,144236.46527538984,321330.96295710746,170705.04408687516,278321.65952937282,212160.89397384063,231161.80229358957,112248.0773445603,184741.61675798451,245313.43521964177,-20942.458624481224,184896.20143344882,138721.67946599121,303242.51764482399,184735.54232056416,101350.90273960144,-55599.401918517426,139526.62887288025,17858.545603974257,148549.45151059725,180981.28540521488,-55941.466377397068,369656.46061926638,232961.0833133175,369976.53362523206,225821.18273336394,21596.557216581888,476068.44650354213,335044.90667681233,92988.28978222399,118134.00381440669,70370.440243924968,-48844.139615500811,223278.1228045621,151939.356637283,87288.584491138812,-115321.4707251573,-131645.10432917159,-83746.400892346632,-173826.51542373607,-4589.4891139359679,76488.69383182982,142679.64268345432,260163.93877977226,324793.40416012169,-45909.716524456628,-69857.852169038262,126703.63148347707,177129.06692995224,100387.2360360953,125792.20688406751,7663.7040150444955,143938.82282565488,71128.246143411612,180817.1543851709,57898.697410157183,-34953.125129165128,235035.7295617722,148382.56130050775,15488.052744369954,-12613.631516994443,94386.028894331772,138788.99411162874,318718.88008119585,30450.019177211449,-61221.417878816603,65623.383786280174,17823.790046792477,67527.327526222216,69127.571789181326,185526.90202733967,240234.90533504076,612626.92572448542,485386.13508809963,240161.9086367758,-3329.1725466991775,428121.89834489347,365344.15807166137,139944.67416911852,49956.319798431359,263860.92251608288,196562.63571932493,74275.496644755825,79523.31953282468,-190034.34424495418,-55210.625215056352,236602.96279238863,284817.94182266574,-65180.922302774619,239192.03937437804,235466.21062413324]
["DEMAND"]
["  Residential and Commercial ",null,null,null,null,null,null,null,null,null,null,null,null,-237229.83027809253,-75125.790327066439,-63037.789931320236,-6137.6560798877617,-25663.217351030849,6336.8214734020876,26096.612024628732,-36921.507114834676,-21599.992484600865,100303.563998978,50436.030243188725,-174691.4212148143,209486.66401836812,272626.11189857312,7612.4844367775368,63925.01202705683,2128.7732360631344,-12188.493444661784,12900.072911272058,44988.324591315177,-11793.001282787998,-28692.007849192829,10694.326945261215,12797.450951333973,-8306.3728056793334,-205362.41805587953,-6441.9327256500255,-13826.367370302207,19357.481548790412,13846.529467632179,1506.4727115783026,-35893.360072430049,{"$f":"AT12-AH12","v":-60530.908307891339},{"$f":"AU12-AI12","v":40712.747951523634},{"$f":"AV12-AJ12","v":9199.1372539523873},{"$f":"AW12-AK12","v":-6580.0860890572658},{"$f":"AX12-AL12","v":-53302.918763518217},-169338.74960627325,-27794.612026587944,-14822.48045498837,-51969.606626020861,-27988.231145171565,-61875.820251699421,-5406.1567103292327,12352.392746406433,4969.6413440512842,88236.633416549012,103986.43111626257,14581.460221689078,139494.87821430329,-20847.13776919205,-61338.591975181771,-2697.8836367030744,16398.539185748261,36382.632545552915,-12684.686216271075,-15407.414269635628,-94961.159705106344,-179383.68398927728,66761.669072136632,-14831.911334888195,13086.020691012498,16612.104220823443,34083.078286832781,1296.9851458411431,-41435.548386148235,-53732.570902938605,-20376.258661270316,6034.5474559759023,-37368.686388318776,33961.120185135107,-216019.22210583813,-186053.40215633856,-163262.63976049481,-183412.50958541088,-97895.300246611529,-35514.983070627612,-17977.080130366609,-19668.664723197173,-2301.781082284986,-76322.286270636308,-33362.122041593888,-38481.542390291987,-36295.61983230582,184366.98115984676,77715.681751471129,153496.85135248193,54682.869275147677,-6689.5709699012805,24775.329416880442,91617.471940029936,-5949.1427719214116,24445.792051060998,81878.08605849836,75688.365594700736,118097.51175371825,-32626.396083646803,36661.411415061681,-6428.8936744523235,33579.820917618868,{"$f":"DJ12-CX12","v":46975.887111191521},17404.822824555973,-29728.935001814854,32852.747080832603,43154.727285100904,21700.86670144432,-16167.201112849405,-26104.327361889184,-24181.026977524743,-24865.852537018014,-24261.333880449762,-24843.270260772726,-24928.747166977613,-24707.454132498184,-24619.595446034858,-24744.983657732606,-24467.847960870713,-42592.287847314263,-23520.907561574946,-24006.182710027788,{"$f":"ED12-DR12","v":-5525.170812900411},{"$f":"EE12-DS12","v":-5559.0417111879215},-4469.9947804832482,{"$f":"EG12-DU12","v":-3848.448262676131},-3646.3601448025438,-3516.1416375102708,-3495.4379309441429,-3224.6011376667302,-3072.1759607176064,-3010.5948881072691,-3689.1071498516831,-4766.4361070013838,1993.9682708379114,{"$f":"EQ12-EE12","v":-5608.3757815329591},{"$f":"ER12-EF12","v":2866.8640786921605},14032.569408543932,256.20660821557976,-3322.1798836031812,-14376.77864629851,-19909.364009991812,-19071.147728992568,4192.0294386958121,-676.85250860382803,-25270.997253484908,97822.414279250312,-3775.9914745470742,15449.780667944753,71432.218076425721,7908.5630581947044,64818.92035879154,14222.107941869239,24431.553115454677,28539.866208482068,28230.107257293188,50813.353911475453,26226.049194872612,{"$f":"FN12-FB12","v":6457.5973963307915},{"$f":"FO12-FC12","v":131288.87796039914},{"$f":"FP12-FD12","v":61401.494176964043},-81391.167070350843,4753.456759738212,-58618.070962711645,{"$f":"FT12-FH12","v":-1426.6100020850427},{"$f":"FU12-FI12","v":20418.206674215966},-18520.161856420047,-34061.542851989449,-64081.668768731935,-20553.811540073482,-149880.09512625192,-161522.56248076551,-100556.12706673902,-15878.936294562474,-26395.88929831126,-23129.405544218986,-8291.3428880270803,-31274.467122488772,-9619.0545920630684,-12715.615470088902,101595.53352990409,202857.14747468999,180567.02342180838,288158.80607764178,200500.10078579886,193102.03126340971,114893.11198348133,62355.390827463561,-6709.8901359059964,-13946.341191628249,34738.99588140921,127238.62247189251,{"$f":"GV12-GJ12","v":144394.27339051996},{"$f":"GW12-GK12","v":114477.15629237692},143432.21907284996,-13664.283489700174,74141.9228754543,23157.908924828516,7602.3629588789772,-9950.4923583337222]
["  Chemical",null,null,null,null,null,null,null,null,null,null,null,null,{"$f":"N13-B13","v":-28793.687209432595},{"$f":"O13-C13","v":21989.15075201029},{"$f":"P13-D13","v":47847.764814509195},{"$f":"Q13-E13","v":57993.171455670032},{"$f":"R13-F13","v":70293.127605863381},{"$f":"S13-G13","v":106987.15379254508},{"$f":"T13-H13","v":44776.50590198976},{"$f":"U13-I13","v":49297.190405962989},{"$f":"V13-J13","v":51942.969984532858},{"$f":"W13-K13","v":58232.848144536896},{"$f":"X13-L13","v":-17617.595914995298},{"$f":"Y13-M13","v":-7874.8833869708469},{"$f":"Z13-N13","v":79777.790449245018},{"$f":"AA13-O13","v":-49024.614463499282},{"$f":"AB13-P13","v":-48232.533447721973},{"$f":"AC13-Q13","v":-13163.753184790257},{"$f":"AD13-R13","v":-49026.647091019084},{"$f":"AE13-S13","v":5474.1366146161454},{"$f":"AF13-T13","v":73235.696910706349},{"$f":"AG13-U13","v":56155.757464364753},{"$f":"AH13-V13","v":114409.0224208025},{"$f":"AI13-W13","v":51308.458876833552},{"$f":"AJ13-X13","v":72769.392320383573},{"$f":"AK13-Y13","v":50739.149569385918},{"$f":"AL13-Z13","v":-132373.18847880675},{"$f":"AM13-AA13","v":-46130.269779743627},{"$f":"AN13-AB13","v":-25071.868722957908},{"$f":"AO13-AC13","v":-79.123069954803213},{"$f":"AP13-AD13","v":-87881.052156108315},{"$f":"AQ13-AE13","v":619.3014722900698},{"$f":"AR13-AF13","v":-54253.775606954936},{"$f":"AS13-AG13","v":-92350.817160354345},-311120.80672982108,-199234.12951861951,-271364.51535043342,-329670.12102532503,{"$f":"AX13-AL13","v":-123297.36375424691},-64648.095169160923,-66274.3465136062,-106153.86454661837,-18156.909759999835,-51616.549679814954,109.18630505318288,51223.573515905999,199675.69834091194,109540.89517253544,141758.25470510661,204696.43421427161,163376.00815519021,121495.35732431494,51051.248876887548,71783.802164940804,44021.545670048683,11466.660511114751,-7512.5693379339064,-19729.134308424778,53114.458286512294,46860.867243048619,43921.24676428258,61125.938980949926,71092.072313934681,38107.02000324137,102528.97202672029,41621.512232150184,64678.063502956065,62789.160844387603,-1313.3944235611707,-20983.676681241719,-22216.337655045791,20771.874139393913,33111.037952426239,6317.9196760666091,-17259.806811438757,18203.368419111706,3039.3160741352476,19512.29979909875,-7135.9949575689388,1754.2723395817447,88253.704439491383,63314.036974357557,66451.583006929955,39766.343245886499,24703.532873820397,108059.14151537383,61505.033383860486,35042.13744684041,21478.267806661315,17335.719027954852,18008.66757943877,-14168.929788587964,-22606.564139644033,3417.160660915426,7228.2237089301925,48210.645256151212,18164.13377427205,-94213.954761887318,-63027.892219795845,-82026.564830810064,-97179.287333010696,-95120.745511953719,{"$f":"DJ13-CX13","v":-90867.685443253838},-65556.240587712731,-101415.06536555779,-91809.570540481363,-112182.61106699705,-136095.91418033477,-68522.634505862836,24935.543500320753,20248.000950884772,34143.4919762098,73678.248873531003,103810.45533919125,120059.47988034098,116116.10829550237,13275.390598712023,20653.1288939449,12072.897139424807,-13972.260218085605,-34396.973451580852,-57195.050394616905,-54501.324960154248,-37743.309001697344,-100697.13936348865,-127962.3221934099,-173359.46428669599,-188736.10669389163,-2074.5363661051961,91096.104571077274,65377.922476940672,72844.658627026831,51600.113812421681,50969.874873336521,48051.512982046348,11739.557015313418,134446.31557966862,125455.3895617387,128809.90976082167,108134.22944413387,45369.64063117106,-72888.065497180214,-95593.463515947107,-51844.330552048865,-17877.372613497893,-48230.044421027182,-46741.307385788416,-4703.9496970537584,-68545.854899678729,-58572.31886947481,-77675.852592904819,-44487.232056287816,-35558.687839489663,-18631.812023106846,33483.984694885206,15905.557837730041,-8255.643207513378,-13674.500304455403,-24984.756610330543,-32789.178297913168,-43248.980290492764,-29149.390763908392,14888.610563147929,-12085.213831212954,-24927.501430204255,-23103.6296328319,-16175.584346066578,-10186.764497452299,-10186.764497452299,-10186.764497452299,-1423.0735272696475,-1423.0735272696475,-1423.0735272696475,-1423.0735272696475,-1423.0735272696475,-1423.0735272696475,-1423.0735272696475,-1423.0735272696475,-1423.0735272696475,-1423.0735272696475,62564.362108171801,76695.295926285558,88077.344549967092,-98639.095699920435,-64588.619862008316,39961.000998095493,38339.504772393964,38857.245786185027,49964.312969666091,63048.63244671619,55375.805271794554,65767.900825681048,569.36995968176052,-11734.132641481818,-22579.050449801725,150661.64826545608,82325.884536382568,-13281.164653028594,-2769.1246418424416,36818.578236936009]
["  Farm",null,null,null,null,null,null,null,null,null,null,null,null,-1866.9354267660528,-1077.508621733461,-257.32492819312392,-305.16897698297907,-257.32492819312392,-305.16897698297907,-257.32492819312392,-1866.9354267660528,-4047.2570787607983,-7099.0239051421522,-6125.0557690629794,-3678.1744166676363,3493.5810894780807,2710.2913526832344,1896.4838339353482,1943.9559391956427,1896.4838339353482,1943.9559391956427,1896.4838339353482,3493.5810894780807,5656.9527434828924,8684.9948861573066,7718.5984576442133,5290.7393600463402,3510.9287750247895,1056.8303844595794,1366.4235125818595,1428.3149780637177,1366.4235125818595,1428.3149780637177,1366.4235125818595,3510.9287750247895,6456.0103351616126,10528.400730860943,9268.4673264087323,5978.5618871586776,{"$f":"AX14-AL14","v":5311.3447130031054},4814.2835194914078,1491.5412846517429,1566.5569884054275,1491.5412846517429,1566.5569884054275,1491.5412846517429,9391.6302219144345,10395.647792551492,9502.8353064478142,47878.215873940586,9546.3240390238352,-11021.277166268272,-13015.079639327552,-8199.9407234926402,-8420.7781226007755,-8199.9407234926402,-8420.7781226007755,-8199.9407234926402,-21794.559393658055,-4197.3519044265558,-61916.222803102355,-67334.314292170937,-28476.267848586169,-9732.9306878295101,-2111.3574120016056,-1132.4524484523936,-1210.741080318694,-1132.4524484523936,-1210.741080318694,-1132.4524484523936,-3039.9339693510556,-31978.785860028845,12213.261162420516,-16181.781969009724,-5121.6950666385965,1197.8627371980547,-247.51494478560926,444.18482856587434,465.16662436211845,444.18482856587434,465.16662436211845,444.18482856587434,1197.8627371980547,2249.6138457439665,3683.53337772144,3256.4039632978529,2087.7542781729135,11807.558984915457,10143.015205711912,6200.9352627583321,6398.4447911629977,6200.9352627583321,6398.4447911629977,6200.9352627583321,11807.558984915457,19289.111659800736,29811.075754698628,53149.33876338182,18013.059420457226,3879.4770038596107,2890.3087803205053,1943.703738682525,1977.539974008534,{"$f":"DJ14-CX14","v":1943.703738682525},1977.539974008534,1943.703738682525,3879.4770038596107,12054.619420907271,1915.6888745671604,-9860.4058864128019,6143.5403527442395,-14968.081615658411,-11144.160050200429,-7233.063794044323,-7468.7144978580109,-7233.063794044323,-7468.7144978580109,-7233.063794044323,-14968.081615658411,-30916.539677205699,-32669.747604032673,-43644.279571474559,-23696.198831915914,14089.402876843109,10403.500198982692,7265.0604269483119,6797.3789643659838,7265.0604269483119,7511.9314123300501,7167.5950772040633,16026.394679903271,28026.212400756995,45822.195511607119,36961.775369846437,25994.895294405593,-1063.0081969398379,1477.6997818933887,41.592511196118721,777.31812505444395,41.592511196118721,-2823.5568619500336,-2861.7059739528231,1147.39768032336,6577.9881929097464,14179.112531059625,14753.221784841619,5658.7032785534393,4783.496132024804,-548.72758829770464,-2703.9659163190154,-2579.4392543010908,-2703.9659163190154,306.88328473932052,296.79791857417513,636.09845170144399,-8904.2970044870744,1739.0052801895363,-18466.303959600918,1017.9015993818175,-17856.430473109329,-5801.1241998497062,-3665.7410588007297,-3790.3050753619173,-3665.7410588007297,-3790.3050753619173,-3665.7410588007297,-7856.4304731093289,-3532.9906563978438,-21478.395427050884,1057.3720529447892,-12572.068242925801,8823.3813616500775,-868.80560838522069,-548.99986296734278,-567.65519811672129,-548.99986296734278,-567.65519811672129,-548.99986296734278,-1176.6186383499225,-2026.7689115857502,-3216.7127893281286,-91832.621649223089,-10427.890783281997,28243.587961434132,50183.844497450897,25390.992110760857,9438.6556546742504,3389.0614176296294,-23140.069426719354,-25614.775345013411,38856.285371857004,10428.830189418455,-28191.10368898882,9548.3970774554036,-2091.3581277193298,22579.946859280462,-1890.1660175318393,20496.390453751897,4155.1516731178417,-10891.705668129252,582.40989802136755]
["  Other",null,null,null,null,null,null,null,null,null,null,null,null,2421.6204444599134,-786.39766767491528,-3957.9610285355157,-6947.2506330248289,-9724.1272390214435,-10258.317489829584,-10373.997252805231,-8581.3989312136255,-6983.7053842990717,-6333.8353705152549,-3951.645519382655,781.15663711824163,5499.4721848220652,5029.1739540470444,4564.2200213489996,4125.9875790359365,3722.4930742232827,3636.9843049914634,3623.6235597989726,3882.8220165329403,4120.6432809589314,4219.5127953832416,4561.5478723105334,5258.9787713575497,-7535.7047123085504,-9408.0370361702808,-7423.1756230386818,-7328.4032339904516,-7241.1432904155663,-7222.6511169427395,-7219.7617148376157,-7275.8161156771093,-7327.2474731483962,-7303.7645196817757,-7377.7332135730685,-7528.5600034608069,{"$f":"AX15-AL15","v":-15001.774619725882},-12104.22308304382,-13075.515501682588,-12214.96998787552,-11422.63844772389,-11254.727127956648,-11228.490984243021,-11737.472172287453,-12204.475530390075,-12443.487522915515,-13115.132801984466,-14484.659503835937,2672.0322031236283,2426.1040852627193,2182.9706051047833,1953.8103134616686,1742.8151668878272,1698.100963640376,1691.1143693829799,1826.6542979767837,1951.0156757587101,2002.7164732635429,2181.5732862533041,2546.2735064901935,12991.248422352932,11719.21630528057,10461.639098629501,9276.3364440847945,8184.9907072783826,7953.712140537973,7917.5748644847772,8618.6380199166888,9261.8815336635162,9529.2973764571507,10454.411643418847,12340.777453395494,-10786.652837573391,-10319.805088062625,-6739.9385518591153,-4809.5847358121537,-3032.2467710371857,-2655.5923679060652,-2596.7401174168335,-3738.4737769080093,-4786.0438356164377,-5185.0788649706519,-6691.6964774951048,-9763.7839530332858,-5655.787382188777,-3773.8669373798475,-5031.6558269264206,-4773.3847346300317,-4535.5863508693583,-4485.1919913969177,-4477.3178727293271,-4630.0757748802425,-4770.2350871630188,-4864.9751895692025,-5066.552627459052,-5477.5816219063272,9044.8513054033829,7990.0796887160104,6947.2941131273838,5964.4387430323404,{"$f":"DJ15-CX15","v":5059.4926400789846},4867.7159824994742,4837.750879752668,5419.0738730405719,5952.4527019336238,6174.1944622599403,6941.3010925780254,8505.4794559610018,7298.8632402693038,5983.1978538302064,4682.483210418839,3456.5222821460338,2327.7411835534149,2088.5292951099254,2051.1524375406443,2776.2634743849194,3441.5715391183185,3718.160285131089,4675.0078389049741,6626.0798040220398,-5820.3894589643751,-4712.8978059267683,-3617.9912853100686,-2586.0104267977731,-1635.8329290211987,-1434.4708102870791,-1403.0079792348843,-2013.3869016476528,-2573.4252943768806,-2806.250244163195,-3611.6987190996297,-5254.0585000246938,0,967.97176741050498,1907.2227210817655,2279.6295814754267,2622.5163858622545,2545.5111158264044,2529.6068136504182,2838.1502758641291,3121.2468545962474,3238.9386906983709,3646.0888264030073,4476.2933999882225,5703.782890657385,4072.4306061143143,2477.3375502778945,2053.2185980849754,1141.1814636582567,1097.572094215473,1094.6303589729068,1151.7000226788659,1204.0629099967337,138.44519768517057,712.22473911604902,1882.197085315056,-43743.946006866317,-40233.35229020624,-35853.969574954608,-32097.774166837829,-27330.59378622847,-25790.048980989654,-25370.415377210426,-26958.30149202692,-27302.993481457219,-26502.281846618978,-31768.345944503817,-41073.823482743799,3640.0097345905961,3493.8298167185494,2440.628925268742,1253.0175304938311,-627.6487386553199,-1556.4819441145082,-1880.53561042816,-2146.9002824437121,-3503.5311799005576,-3924.147798877384,-3714.7430830361845,-12647.958311678347,-17039.249037774833,-14813.938565813762,-7685.2028061741876,-3302.1640005098743,733.43880226639885,1588.6658862984623,1722.2951181784738,-870.11198029371008,-3248.7123077578726,-4237.5686236699403,-5547.1350960940326,-289.5747355876083,-254.79162984134746,2223.6468603739122,-254.79162984134746,-254.79162984134746,-254.79162984134746,-254.79162984134746]
["     US DOMESTIC CONSUMPTION",null,null,null,null,null,null,null,null,null,null,null,null,-265468.83246983145,-55000.545864464249,-19405.311073539779,44603.095765774604,34648.458087617764,102760.48879913474,60241.795745619922,1927.3489331484307,19312.01503687189,145103.55286785751,22741.733039747691,-185463.32238133484,298257.50774191367,231340.96274180384,-34159.345155660063,56831.20236049802,-41278.896946797147,-1133.4165858586784,91655.877215713146,108520.48516169121,112393.6171624565,35520.958709181286,95743.865595599404,74086.318652123911,-144704.33722176962,-259843.89448733372,-37570.553559064632,-19805.578696183627,-74398.290385151398,8671.4948010433,-58600.641097632702,-132009.06457343674,-372522.95217569917,-155296.74535591668,-260274.64398364536,-337800.20523068449,{"$f":"AX16-AL16","v":-186290.71242448804},-241276.78433898673,-105652.93275722535,-131624.75800107699,-80057.613549092901,-89292.950964537915,-71503.583646237268,43471.574855203507,210219.26334947976,111569.88430011901,264757.97119361209,303744.52986572194,169608.22341373446,250401.25998455333,24187.140989308245,3978.2423806200968,34866.53647674073,21142.522537902696,22361.236853509094,-52381.72562037711,35460.707788208732,-108013.79879189632,-200615.17823091266,101957.61371099064,59518.47871356993,60800.899587532971,128470.26289772056,83770.18588274892,73027.586907623219,28096.583518458763,-48260.842910467414,-35781.231291946373,-38898.694525435101,5145.7462899526581,61344.787811970571,-202482.22004301473,-212901.99906815263,-155626.5913742315,-186668.94723456888,-82727.41855896276,-45239.039970668149,-18413.233534328989,66432.48442744324,58471.64485236269,-12407.133253579028,4902.6757170432247,-17213.302030668827,64087.492008207599,252023.78614643402,119126.96746664401,176144.39859497524,73643.648359635496,12984.445521426853,12519.652428058791,70734.525190415094,4645.5010990290903,46192.892332629068,155034.83187977923,141935.2855048955,36419.034790381789,-82729.959994179662,-34484.764946711948,-94717.183155653067,-53598.94587729394,{"$f":"DJ16-CX16","v":-36888.601953300997},-41306.16180664883,-124362.54574893753,-49658.272582748439,-51020.811659055296,-106305.16414206335,-87608.940412546974,13480.235947137,-11602.244402029319,4116.6772428213153,46866.334409455536,74954.992862706422,90225.410102872411,86028.468960256083,-16526.116203826619,-16283.672905061394,-39869.91895953333,-85516.135384301655,-96887.152745725587,-98271.352132538566,-51757.482355176006,-37611.748319829348,-101520.06500233361,-127599.40191851789,-171376.59693357139,-186174.787729359,194.6128009200329,101884.51121166628,87758.533622603165,112850.00900636357,81261.083313316805,66944.275560715701,48982.473055944545,8576.8527830843814,139261.99489063863,142544.90667681256,131730.22526609572,104534.00381440693,30660.762824569829,-88811.88155098469,-104965.37619743368,-30234.249891594984,-154.91451085708104,-63366.044995970326,61568.385916144587,-4956.238153784303,-53322.702597775031,12333.67855073465,-71330.073987370823,21736.143681458547,-19945.15162007336,7587.53956672817,54323.616808876744,46013.11557289795,24803.631483477307,15451.647575114155,-80127.535693975864,52465.223172430182,-21367.19674728415,-146428.63707645878,-11354.267522143084,-100283.63885027613,-55390.267868300201,-37500.154923752183,-65531.730340341572,-92228.984623111784,-104979.40715774312,-84386.467763195047,-138839.77755728085,-160320.61179970182,-100087.57153170719,-16616.647489455179,-28995.611427203636,-26676.616213719943,-12143.951888692216,-36021.059570551966,-16572.428210818791,-21279.549585564062,68612.530905816704,256476.59430601518,279848.706895435,224889.61630935851,153617.27022837731,239199.52391567011,157355.11697577126,79661.233073227806,19361.942606925033,87088.464646651177,97294.919034864404,160577.85098491469,148964.90533156297,100362.09078758815,143178.32385248737,137330.84561859793,176709.4062357475,13777.104315076023,-6313.2589809340425,27195.704146782402]
["EXPORTS",null,null,null,null,null,null,null,null,null,null,null,null,{"$f":"N17-B17","v":21129.032258064515},67928.57142857142,31709.677419354841,20200,-6096.7741935483864,-15500,-13548.38709677419,-10903.225806451617,-7733.3333333333321,-1129.0322580645225,9833.3333333333212,1838.7096774193487,28096.774193548394,-48714.285714285696,-14290.322580645166,-31733.333333333328,-3483.8709677419356,-800,11903.225806451606,-4806.4516129032236,-3400.0000000000036,-22193.548387096769,53933.333333333336,-967.74193548386393,42032.258064516136,62855.911330049261,36193.548387096787,24433.333333333328,42096.774193548394,-3933.3333333333285,-19838.709677419349,-5612.9032258064544,-699.99999999999636,36000,-77266.666666666657,-14483.870967741936,{"$f":"AX17-AL17","v":-43419.354838709682},3144.0886699507391,-2129.0322580645297,22933.333333333328,-30129.032258064522,24366.666666666664,36741.93548387097,88096.774193548394,56533.333333333328,60096.774193548372,79833.333333333314,90096.774193548379,54870.967741935499,-25392.857142857159,8870.9677419354703,19733.333333333343,79419.354838709696,44966.666666666672,50741.935483870977,-12290.322580645181,27466.666666666672,3903.2258064516354,19633.333333333358,17580.645161290318,-3870.9677419355139,10607.14285714287,60935.483870967757,81500.000000000015,27032.258064516122,32900,-3580.6451612903475,19129.032258064544,{"$f":"CD17-BR17","v":29166.666666666642},-61580.645161290333,2366.666666666657,-15225.80645161288,36838.709677419363,44131.773399014768,-3612.9032258064253,12333.333333333285,-3032.2580645161215,35866.666666666672,65580.645161290347,41322.580645161273,14866.666666666686,130064.51612903224,111033.33333333334,80806.451612903184,-1548.3870967742114,39153.940886699536,133032.25806451609,95800.000000000087,162903.22580645164,107800.00000000003,107387.09677419355,138870.96774193548,184866.66666666663,218612.90322580648,176900.00000000003,196096.77419354842,192774.19354838709,153000.00000000003,46290.322580645152,123866.66666666657,{"$f":"DJ17-CX17","v":142387.09677419357},116233.33333333331,161032.25806451612,109580.6451612903,128866.66666666669,141096.77419354836,14333.333333333314,122451.61290322582,155483.87096774194,320250,139290.32258064515,221833.33333333337,132354.83870967728,154566.66666666669,170999.99999999994,192741.93548387097,276900.00000000006,56225.806451612851,273233.3333333332,228161.29032258061,355000.00000000006,222347.29064039409,202870.9677419354,72000,310903.22580645175,204033.33333333337,148354.83870967757,79096.774193548481,-143700,256806.45161290339,151700.00000000012,303032.25806451601,176838.70967741928,13019.704433497391,336806.45161290327,192499.99999999988,-38741.935483871028,13599.999999999884,39709.677419354673,39967.741935483762,328243.49900199601,182173.60652887763,87443.499001996126,-51955.425729186623,-193213.49024531583,-78790.162738562212,-120503.81282596081,-16923.167664670502,147818.76781920041,120943.49900199613,280109.09039984562,317205.86459339375,-100233.33333333326,-115870.96774193551,101899.99999999977,161677.4193548389,180514.77173007047,73326.98371163744,29030.900762328412,290367.45990211354,82482.513665554579,281100.79323544691,113288.96527845762,2547.029794586706,300567.4599021133,240611.54592361895,120467.45990211377,71772.83624619944,233225.80645161332,299109.6059113302,418806.45161290339,47066.666666666744,-32225.806451613316,92300.000000000233,29967.741935484111,103548.38709677442,85700.000000000233,206806.45161290327,171622.37442922383,356150.33141847095,205537.4281926644,15272.292327417294,-156946.44277507742,188922.37442922336,207989.04109589057,60283.441095890244,30594.377191506792,176772.4578694317,99267.716684460174,-86302.354340158403,-69441.585798738524,-290396.43503254233,-198388.94906754419,99272.117173790233,108108.5355869194,-78958.026617850177,245505.29835531139,208270.50647735083]
["     TOTAL DEMAND",null,null,null,null,null,null,null,null,null,null,null,null,-244339.80021176673,12928.025564107113,12304.366345815128,64803.095765774604,28551.6838940694,87260.488799134851,46693.408648845623,-8975.8768733029719,11578.681703538634,143974.52060979302,32575.066373080947,-183624.61270391545,326354.28193546203,182626.67702751816,-48449.66773630539,25097.869027164765,-44762.76791453897,-1933.4165858586784,103559.1030221649,103714.03354878793,108993.6171624565,13327.410322084324,149677.19892893266,73118.576716640033,-102672.07915725349,-196987.98315728432,-1377.0051719679032,4627.7546371496283,-32301.51619160315,4738.1614677098114,-78439.350775052095,-137621.96779924328,-373222.95217569929,-119296.74535591668,-337541.31065031188,-352284.07619842631,{"$f":"AX18-AL18","v":-229710.06726319785},-238132.69566903613,-107781.96501528984,-108691.42466774373,-110186.64580715727,-64926.284297871171,-34761.648162366357,131568.34904875187,266752.59668281313,171666.65849366738,344591.30452694534,393841.3040592703,224479.19115566998,225008.40284169628,33058.108731243759,23711.575713953469,114285.89131545043,66109.18920456944,73103.172337380005,-64672.048201022204,62927.374454875477,-104110.57298544468,-180981.8448975794,119538.25887228083,55647.510971634416,71408.042444675695,189405.74676868832,165270.18588274904,100059.84497213922,60996.583518458763,-51841.488071757602,-16652.19903388177,-9732.0278587685898,-56434.898871337529,63711.454478637315,-217708.02649462759,-176063.28939073323,-111494.81797521655,-190281.85046037519,-70394.08522562962,-48271.298035184154,17453.433132337639,132013.12958873343,99794.225497523788,2459.5334130877163,134967.19184607547,93820.031302664429,144893.94362111087,250475.39904965996,158280.90835334337,309176.65665949136,169443.64835963561,175887.67132787849,120319.65242805891,178121.62196460878,143516.4688409646,231059.55899929581,373647.73510558554,318835.2855048955,232515.80898393015,110044.23355420725,118515.23505328805,-48426.860575007973,70267.720789372688,{"$f":"DJ18-CX18","v":105498.49482089258},74927.171526684426,36669.712315578479,59922.372578541981,77845.855007611215,34791.610051485244,-73275.607079213485,135931.84885036293,143881.62656571274,324366.67724282155,186156.65699010063,296788.32619603979,222580.24881254975,240595.13562692283,154473.88379617338,176458.2625788094,237030.08104046667,-29290.328932689037,176346.18058760744,129889.93819004204,303242.51764482423,184735.54232056439,101350.90273960191,-55599.401918517891,139526.62887288025,17858.545603974257,148549.45151059749,180981.28540521488,-55941.466377396602,369656.46061926708,232961.08331331704,369976.53362523159,225821.18273336347,21596.557216581888,476068.4465035419,335044.90667681233,92988.289782224689,118134.00381440669,70370.440243924502,-48844.139615500811,223278.1228045621,151939.35663728276,87288.584491138812,-115321.47072515683,-131645.10432917112,-83746.400892346166,-173826.51542373607,-4589.4891139357351,76488.693831829587,142679.64268345479,260163.93877977226,324793.40416012192,-45909.716524456395,-69857.852169037797,126703.63148347754,177129.06692995271,100387.23603609437,125792.20688406751,7663.7040150444955,143938.82282565488,71128.246143411612,180817.1543851709,57898.697410157416,-34953.125129165594,235035.7295617715,148382.56130050728,15488.05274437042,-12613.631516995374,94386.028894332703,138788.99411162827,318718.88008119585,30450.019177211449,-61221.417878817068,65623.383786280174,17823.790046792012,67527.327526222449,69127.571789181791,185526.90202733921,240234.9053350403,612626.92572448635,485386.13508809963,240161.9086367758,-3329.1725466996431,428121.89834489347,365344.1580716616,139944.67416911805,49956.319798431825,263860.92251608288,196562.63571932446,74275.496644756291,79523.31953282468,-190034.34424495418,-55210.625215057284,236602.96279238816,284817.94182266667,-65180.922302774154,239192.03937437758,235466.21062413324]
[]
["INVENTORIES (End of Month, Thousand Barrels)",null,null,null,null,null,null,null,null,null,null,null,null,6522,3931,2889,-194,-1495,-3274,-3298,-897,2205,923,-3820,4368,-1264,-6273,-3180,-5733,-5526,-5937,-8687,-9477,-12772,-11395,-8847,-9592,-7607,-952,-1297,752,1619,-1152,-2200,-692,682,-1401,944,3401,{"$f":"AX20-AL20","v":6793},10625,14477,14477,17423,21654,22341,17220,16072,12266,1935,-5268,-10957,-11975,-12202,-9787,-13436,-15132,-15306,-12509,-13685,-10423,-1374,-899,-557,-1022,-3587,-6858,-8607,-8898,-7464,-6775,-3968,-1692,-2178,5737,12869,17720.53571428571,20816,22019,22654,21660,21651,21038,18800,14919,13910,13013,8360,2643.4642857142899,-4399,-9078,-9268,-6482,-8815,-7699,-8101,-12113,-16845,-22914,-24331,-18781,-11868,-6246,{"$f":"DJ20-CX20","v":321},2591,7942,11874,13309,19018,24618,32869,36784,27680,30426,32702,31074,26851,23144,20331,18782,23002,23700,18301,{"$f":"ED20-DR20","v":10086},8903,7145,{"$f":"EG20-DU20","v":6347},-1691,429,-405,1253,3638,-2453,-3497,-12151,-18972,{"$f":"EQ20-EE20","v":-15303},{"$f":"ER20-EF20","v":-22400},-30975,-26445,-24380,-22533,-20463,-28058,-24613,-26397,-17342,-9811,-7225,-6414,-3779,-2616,-509,-3769,-7414,3856,5550,3664,1275,{"$f":"FN20-FB20","v":5474},{"$f":"FO20-FC20","v":7396},{"$f":"FP20-FD20","v":15563},18530,20115,15682,{"$f":"FT20-FH20","v":17949},{"$f":"FU20-FI20","v":24827},21128,16196,14428,15801,23568,18275,11110,8203,3206,3382,6875,3642,4013,-231,1734,-9623,-21040,-25697,-23878,-22573,-21066.519360348691,-21484.166673770793,-22712.181245981308,-26426.150628947071,-26661.458942246318,-18516.994829368006,{"$f":"GV20-GJ20","v":-13343.327029496548},{"$f":"GW20-GK20","v":1436.0412653253588},10423.62422813852,19711.473703002586,22573.472005511772,24379.35210646542,22664.101956772203,20394.135589215228]
["Days of Forward Supply",null,null,null,null,null,null,null,null,null,null,null,null,9.2508973540489947,2.3791761808140102,1.9147392652736244,-1.9958768214379567,-2.2172526106294441,-7.0095834323823922,-5.6861701658073187,-0.33859151372439555,1.2925152185164563,-6.2975420717813364,-4.2328127031366094,7.4914475305556962,-7.4046095863993919,-6.1505334524215627,-1.5951166543190851,-5.5120189139964637,-3.4875154247050517,-5.2783093761740076,-12.167315937941481,-12.57742616535576,-15.060457868406047,-9.3551839363096434,-11.177468648643824,-8.3742232254331697,-2.9790414247777015,1.6281105684578705,-0.95323061911550511,0.5373145049338568,2.4503620193955484,-1.2025329740157815,1.0131975609181367,5.0166266943050815,19.308308675399829,3.5636614991114257,12.724997122063037,13.276002763370933,{"$f":"AX21-AL21","v":9.026665334534556},11.801634076931322,13.521546958333126,16.051118895430911,21.723320441915639,23.022510872583958,22.414145731827261,8.7561556573598267,-0.99925650398817822,2.6597381114529597,-10.981174518190002,-15.386589640416737,-11.547760310852883,-12.530310446524624,-10.569615777369954,-9.8047699152660783,-18.209479215865514,-17.210317387009397,-17.684943737814073,-7.55650234948628,-14.247049877810881,-3.9195111811881205,4.7717547614134403,-2.8250916680979756,-1.0750287239827081,-1.473742667630038,-5.3819616141711748,-9.586139635897382,-10.436613708663241,-9.8538044350120657,-4.5864640565141173,-5.2067986586412829,-2.8303271410081763,0.91449815856488215,-3.7653204941350964,8.2967363831299181,11.180507259908339,13.336534895019184,19.115667024700521,19.756860869882104,20.957290764239819,17.659327299455946,13.082466435941292,13.307770988838534,15.136172112527177,6.1478086235898388,6.7393567762065771,4.7079505126498091,0.18526512753177826,-1.3106760940734929,-9.9004399298281172,-11.879797871344007,-13.538834030296137,-9.6829120102763966,-13.528118073829397,-11.701646702485483,-15.259417936620416,-19.520726130494097,-18.348495723757914,-17.817314927589532,-15.1465403244345,-12.713780766062122,-6.9952303928549817,-5.8337187463684863,{"$f":"DJ21-CX21","v":-2.3988689048420682},-0.40696878856670793,4.4466887180171639,6.2702295592908897,6.2795210973867484,10.232113455865857,15.743092566071979,14.959143873902175,17.290785995368591,10.836660461984167,15.791533825110609,14.734543225658278,14.372364531236109,10.324645851219245,9.9743297596573157,6.7220089634202509,3.5270155826206135,14.305624270502314,8.1515762454069147,6.2600427508489886,-0.15444124085556155,1.7364588082192078,2.0061763321694031,5.0855354984807164,-4.6467163496290098,-0.3038608494070445,-5.1455842716971958,-5.3696888095170934,3.9350980714541208,-12.117362098217974,-7.7333235104126814,-11.749737477840313,-10.625596369135266,{"$f":"EQ21-EE21","v":-6.9930676234504396},-17.504787407321839,-22.765812708719807,-16.166250434703496,-17.279170243099507,-14.517451228532586,-10.158829161090075,-21.307142233785136,-14.418456510916833,-13.845454213726335,-5.6899079466635492,-2.8117394301795677,-2.4641884400860086,-1.4534104869708884,-1.8358467602282111,-2.3764582781688972,-2.8442583613528285,-6.5742270678670458,-10.581107878966456,2.9665536246442983,3.7021915675207353,-0.26325455066226766,-1.4736269731373319,1.3624969875107418,2.1438394681613673,7.2969440798201504,7.3161228320382925,9.0595803994568023,4.7728725679329145,7.6043233792133798,12.755694341497026,5.2822689598933579,4.5485999631821841,5.9215291911375019,6.3955692287750523,{"$f":"FZ21-FN21","v":8.3325984794489791},6.2260116141720658,{"$f":"GB21-FP21","v":1.2744875848684458},3.3890166491236933,2.6653680502725621,0.46172441871276959,2.8884267102036532,0.22386713615949816,0.34162976205891482,-3.3013525752110837,-2.9882907579211704,-9.5576334127404472,-11.709372196834476,-11.98485828175418,-9.7922945685606635,-13.616310188488214,-14.661992785428588,-11.614566951039563,-11.314587945744393,-16.39209554899357,-14.982473816724955,-8.3732464600257046,-6.0857604364555087,2.0137055059354907,3.8117967557738623,5.4545094284376017,6.5733617951732768,10.01437223863514,6.8247588289139074,5.7146660160346556]
[]
["                                                                                                                                                                                "]
["(Barrels per Day)",{"$f":"B$3","v":"2005-01-15"},{"$f":"C$3","v":"2005-02-15"},"2005-03-15","2005-04-15","2005-05-15","2005-06-15","2005-07-15","2005-08-15","2005-09-15","2005-10-15","2005-11-15","2005-12-15","2006-01-15","2006-02-15","2006-03-15","2006-04-15","2006-05-15","2006-06-15","2006-07-15","2006-08-15","2006-09-15","2006-10-15","2006-11-15","2006-12-15","2007-01-15","2007-02-15","2007-03-15","2007-04-15","2007-05-15","2007-06-15","2007-07-15","2007-08-15","2007-09-15","2007-10-15","2007-11-15","2007-12-15","2008-01-15","2008-02-15","2008-03-15","2008-04-15","2008-05-15","2008-06-15","2008-07-15","2008-08-15","2008-09-15","2008-10-15","2008-11-15","2008-12-15","2009-01-15","2009-02-15","2009-03-15","2009-04-15","2009-05-15","2009-06-15","2009-07-15","2009-08-15","2009-09-15","2009-10-15","2009-11-15","2009-12-15","2010-01-15","2010-02-15","2010-03-15","2010-04-15","2010-05-15",{"$f":"BO$3","v":"2010-06-15"},"2010-07-15","2010-08-15","2010-09-15","2010-10-15","2010-11-15","2010-12-15","2011-01-15","2011-02-15","2011-03-15","2011-04-15","2011-05-15","2011-06-15","2011-07-15","2011-08-15","2011-09-15","2011-10-15","2011-11-15","2011-12-15","2012-01-15","2012-02-15","2012-03-15","2012-04-15","2012-05-15","2012-06-15","2012-07-15","2012-08-15","2012-09-15","2012-10-15","2012-11-15","2012-12-15","2013-01-15","2013-02-15","2013-03-15","2013-04-15","2013-05-15","2013-06-15","2013-07-15","2013-08-15","2013-09-15","2013-10-15","2013-11-15","2013-12-15","2014-01-15","2014-02-15","2014-03-15","2014-04-15","2014-05-15","2014-06-15","2014-07-15","2014-08-15","2014-09-15","2014-10-15","2014-11-15","2014-12-15","2015-01-15","2015-02-15","2015-03-15","2015-04-15","2015-05-15","2015-06-15","2015-07-15","2015-08-15","2015-09-15",{"$f":"EA$3","v":"2015-10-15"},"2015-11-15","2015-12-15","2016-01-15","2016-02-15","2016-03-15","2016-04-15","2016-05-15","2016-06-15","2016-07-15","2016-08-15","2016-09-15","2016-10-15","2016-11-15","2016-12-15","2017-01-15","2017-02-15","2017-03-15","2017-04-15","2017-05-15","2017-06-15","2017-07-15","2017-08-15","2017-09-15","2017-10-15","2017-11-15","2017-12-15","2018-01-15","2018-02-15","2018-03-15","2018-04-15","2018-05-15","2018-06-15","2018-07-15","2018-08-15","2018-09-15","2018-10-15","2018-11-15","2018-12-15","2019-01-15","2019-02-15","2019-03-15","2019-04-15","2019-05-15","2019-06-15","2019-07-15","2019-08-15","2019-09-15","2019-10-15","2019-11-15","2019-12-15","2020-01-15","2020-02-15","2020-03-15","2020-04-15","2020-05-15","2020-06-15","2020-07-15","2020-08-15","2020-09-15","2020-10-15","2020-11-15","2020-12-15","2021-01-15","2021-02-15","2021-03-15","2021-04-15","2021-05-15","2021-06-15","2021-07-15","2021-08-15","2021-09-15","2021-10-15",{"$f":"GV$3","v":"2021-11-15"},"2021-12-15","2022-01-15","2022-02-15","2022-03-15","2022-04-15","2022-05-15"]
[{"$f":"A4","v":"SUPPLY"}]
["Gas Processing",null,null,null,null,null,null,null,null,null,null,null,null,null,null,null,null,null,null,null,null,null,null,null,null,null,null,null,null,null,null,null,null,null,null,null,null,null,null,null,null,null,null,null,null,null,null,null,null,null,null,null,null,null,null,null,null,null,null,null,null,null,null,null,null,null,null,null,null,null,null,null,null,null,null,null,null,null,null,null,null,null,null,null,null,null,null,null,null,null,null,null,null,null,null,null,null,null,null,null,null,null,null,null,null,null,null,null,null,{"$f":"DF5-DF68","v":0},0,0,0,0,0,0,0,0,0,0,0,0,0,0,0,0,0,0,0,0,0,0,0,{"$f":"ED5-ED68","v":0},0,0,0,0,0,0,0,0,0,0,0,0,0,0,0,0,0,0,0,0,0,0,0,0,0,0,0,{"$f":"FF5-FF68","v":0},0,{"$f":"FH5-FH68","v":0},0,{"$f":"FJ5-FJ68","v":0},0,{"$f":"FL5-FL68","v":0},0,{"$f":"FN5-FN68","v":0},0,{"$f":"FP5-FP68","v":0},0,{"$f":"FR5-FR68","v":0},0,{"$f":"FT5-FT68","v":0},0,{"$f":"FV5-FV68","v":0},0,{"$f":"FX5-FX68","v":0},0,{"$f":"FZ5-FZ68","v":0},0,{"$f":"GB5-GB68","v":0},0,{"$f":"GD5-GD68","v":0},0,{"$f":"GF5-GF68","v":0},0,{"$f":"GH5-GH68","v":0},0,{"$f":"GJ5-GJ68","v":0},0,{"$f":"GL5-GL68","v":0},0,{"$f":"GN5-GN68","v":0},53.81496866652742,{"$f":"GP5-GP68","v":22649.319671618054},11540.072134016315,{"$f":"GR5-GR68","v":42790.325475380756},46237.297468981706,{"$f":"GT5-GT68","v":46197.287512776442},46203.003998745466,{"$f":"GV5-GV68","v":46342.490730424179},46363.331824972061,{"$f":"GX5-GX68","v":46164.972000779584},46227.904949595686,{"$f":"GZ5-GZ68","v":46510.121944825863},46614.51422508806,{"$f":"HB5-HB68","v":46753.277462468017}]
["Refinery Production",null,null,null,null,null,null,null,null,null,null,null,null,null,null,null,null,null,null,null,null,null,null,null,null,null,null,null,null,null,null,null,null,null,null,null,null,null,null,null,null,null,null,null,null,null,null,null,null,null,null,null,null,null,null,null,null,null,null,null,null,null,null,null,null,null,null,null,null,null,null,null,null,null,null,null,null,null,null,null,null,null,null,null,null,null,null,null,null,null,null,null,null,null,null,null,null,null,null,null,null,null,null,null,null,null,null,null,null,{"$f":"DF6-DF69","v":0},0,0,0,0,0,0,0,0,0,0,0,0,0,0,0,0,0,0,0,0,0,0,0,{"$f":"ED6-ED69","v":0},0,0,0,0,0,0,0,0,0,0,0,0,0,0,0,0,0,0,0,0,0,0,0,0,0,0,0,{"$f":"FF6-FF69","v":0},0,{"$f":"FH6-FH69","v":0},0,{"$f":"FJ6-FJ69","v":0},0,{"$f":"FL6-FL69","v":0},0,{"$f":"FN6-FN69","v":0},0,{"$f":"FP6-FP69","v":0},0,{"$f":"FR6-FR69","v":0},0,{"$f":"FT6-FT69","v":0},0,{"$f":"FV6-FV69","v":0},0,{"$f":"FX6-FX69","v":0},0,{"$f":"FZ6-FZ69","v":0},0,{"$f":"GB6-GB69","v":0},0,{"$f":"GD6-GD69","v":0},0,{"$f":"GF6-GF69","v":0},0,{"$f":"GH6-GH69","v":0},0,{"$f":"GJ6-GJ69","v":0},0,{"$f":"GL6-GL69","v":0},0,{"$f":"GN6-GN69","v":0},2355.0109379556961,{"$f":"GP6-GP69","v":40404.027208894375},3774.6725702265976,{"$f":"GR6-GR69","v":2426.4183859606273},115.44621726404876,{"$f":"GT6-GT69","v":4159.748410260072},17508.596568113193,{"$f":"GV6-GV69","v":8956.7773521566996},11482.847231657826,{"$f":"GX6-GX69","v":4869.0115029093577},5027.4830879891524,{"$f":"GZ6-GZ69","v":4898.8310665899189},7069.2571148944553,{"$f":"HB6-HB69","v":4925.3787787969923}]
[{"$f":"A7","v":"Imports"},null,null,null,null,null,null,null,null,null,null,null,null,null,null,null,null,null,null,null,null,null,null,null,null,null,null,null,null,null,null,null,null,null,null,null,null,null,null,null,null,null,null,null,null,null,null,null,null,null,null,null,null,null,null,null,null,null,null,null,null,null,null,null,null,null,null,null,null,null,null,null,null,null,null,null,null,null,null,null,null,null,null,null,null,null,null,null,null,null,null,null,null,null,null,null,null,null,null,null,null,null,null,null,null,null,null,null,null,{"$f":"DF7-DF70","v":0},0,0,0,0,0,0,0,0,0,0,0,0,0,0,0,0,0,0,0,0,0,0,0,{"$f":"ED7-ED70","v":0},0,0,0,0,0,0,0,0,0,0,0,0,0,0,0,0,0,0,0,0,0,0,0,0,0,0,0,{"$f":"FF7-FF70","v":0},0,{"$f":"FH7-FH70","v":0},0,{"$f":"FJ7-FJ70","v":0},0,{"$f":"FL7-FL70","v":0},0,{"$f":"FN7-FN70","v":0},0,{"$f":"FP7-FP70","v":0},0,{"$f":"FR7-FR70","v":0},0,{"$f":"FT7-FT70","v":0},0,{"$f":"FV7-FV70","v":0},0,{"$f":"FX7-FX70","v":0},0,{"$f":"FZ7-FZ70","v":0},0,{"$f":"GB7-GB70","v":0},0,{"$f":"GD7-GD70","v":0},0,{"$f":"GF7-GF70","v":0},0,{"$f":"GH7-GH70","v":0},0,{"$f":"GJ7-GJ70","v":0},0,{"$f":"GL7-GL70","v":-1.5218686774314847},3496.0511492141522,{"$f":"GN7-GN70","v":11617.062302019447},-26326.069158492915,{"$f":"GP7-GP70","v":-34343.365408809856},-3889.3561231778585,{"$f":"GR7-GR70","v":78514.493681152497},30318.870975605532,{"$f":"GT7-GT70","v":27397.02646858916},23695.27597556336,{"$f":"GV7-GV70","v":25890.032347487751},24838.544933623751,{"$f":"GX7-GX70","v":25682.510741815611},37508.568767567194,{"$f":"GZ7-GZ70","v":57165.864996892866},55879.195393270289,{"$f":"HB7-HB70","v":57639.157614894837}]
["Net Inter-PADD Transfers",null,null,null,null,null,null,null,null,null,null,null,null,null,null,null,null,null,null,null,null,null,null,null,null,null,null,null,null,null,null,null,null,null,null,null,null,null,null,null,null,null,null,null,null,null,null,null,null,null,null,null,null,null,null,null,null,null,null,null,null,null,null,null,null,null,null,null,null,null,null,null,null,null,null,null,null,null,null,null,null,null,null,null,null,null,null,null,null,null,null,null,null,null,null,null,null,null,null,null,null,null,null,null,null,null,null,null,null,{"$f":"DF8-DF71","v":0},0,0,0,0,0,0,0,0,0,0,0,0,0,0,0,0,0,0,0,0,0,0,0,{"$f":"ED8-ED71","v":0},0,0,0,0,0,0,0,0,0,0,0,0,0,0,0,0,0,0,0,0,0,0,0,0,0,0,0,{"$f":"FF8-FF71","v":0},0,{"$f":"FH8-FH71","v":0},0,{"$f":"FJ8-FJ71","v":0},0,{"$f":"FL8-FL71","v":0},0,{"$f":"FN8-FN71","v":0},0,{"$f":"FP8-FP71","v":0},0,{"$f":"FR8-FR71","v":0},0,{"$f":"FT8-FT71","v":0},0,{"$f":"FV8-FV71","v":0},0,{"$f":"FX8-FX71","v":0},0,{"$f":"FZ8-FZ71","v":0},0,{"$f":"GB8-GB71","v":0},0,{"$f":"GD8-GD71","v":0},0,{"$f":"GF8-GF71","v":0},0,{"$f":"GH8-GH71","v":0},0,{"$f":"GJ8-GJ71","v":0},0,{"$f":"GL8-GL71","v":0},2127.7026919645723,{"$f":"GN8-GN71","v":13090.007165877207},-5999.9999999997963,{"$f":"GP8-GP71","v":0},-188046.80948248407,{"$f":"GR8-GR71","v":-188756.66780579847},0,{"$f":"GT8-GT71","v":0},0,{"$f":"GV8-GV71","v":0},0,{"$f":"GX8-GX71","v":4999.9999999999709},25000,{"$f":"GZ8-GZ71","v":14999.999999999985},33.333333333299379,{"$f":"HB8-HB71","v":14999.999999999971}]
["Total Stock Change (Primary+Secondary+Tertiary)",null,null,null,null,null,null,null,null,null,null,null,null,null,null,null,null,null,null,null,null,null,null,null,null,null,null,null,null,null,null,null,null,null,null,null,null,null,null,null,null,null,null,null,null,null,null,null,null,null,null,null,null,null,null,null,null,null,null,null,null,null,null,null,null,null,null,null,null,null,null,null,null,null,null,null,null,null,null,null,null,null,null,null,null,null,null,null,null,null,null,null,null,null,null,null,null,null,null,null,null,null,null,null,null,null,null,null,null,{"$f":"DF9-DF72","v":0},0,0,0,0,0,0,0,0,0,0,0,0,0,0,0,0,0,0,0,0,0,0,0,{"$f":"ED9-ED72","v":0},0,0,0,0,0,0,0,0,0,0,0,0,0,0,0,0,0,0,0,0,0,0,0,0,0,0,0,{"$f":"FF9-FF72","v":0},0,{"$f":"FH9-FH72","v":0},0,{"$f":"FJ9-FJ72","v":0},0,{"$f":"FL9-FL72","v":0},0,{"$f":"FN9-FN72","v":0},0,{"$f":"FP9-FP72","v":0},0,{"$f":"FR9-FR72","v":0},0,{"$f":"FT9-FT72","v":0},0,{"$f":"FV9-FV72","v":0},0,{"$f":"FX9-FX72","v":0},0,{"$f":"FZ9-FZ72","v":0},0,{"$f":"GB9-GB72","v":0},0,{"$f":"GD9-GD72","v":0},0,{"$f":"GF9-GF72","v":0},0,{"$f":"GH9-GH72","v":0},0,{"$f":"GJ9-GJ72","v":0},0,{"$f":"GL9-GL72","v":1.5218686773441732},-1903.3625411266694,{"$f":"GN9-GN72","v":-37593.177433143508},26204.287300287451,{"$f":"GP9-GP72","v":-383969.61340004962},125921.35923875036,{"$f":"GR9-GR72","v":-66459.40001921088},-85269.804371063045,{"$f":"GT9-GT72","v":-78277.797826345792},-93028.069356859531,{"$f":"GV9-GV72","v":-40668.32030559524},-5125.7808115785883,{"$f":"GX9-GX72","v":46366.40048624028},92905.469943781034,{"$f":"GZ9-GZ72","v":67997.894619881612},121711.69718746352,{"$f":"HB9-HB72","v":114662.2598586799}]
["     TOTAL SUPPLY",null,null,null,null,null,null,null,null,null,null,null,null,null,null,null,null,null,null,null,null,null,null,null,null,null,null,null,null,null,null,null,null,null,null,null,null,null,null,null,null,null,null,null,null,null,null,null,null,null,null,null,null,null,null,null,null,null,null,null,null,null,null,null,null,null,null,null,null,null,null,null,null,null,null,null,null,null,null,null,null,null,null,null,null,null,null,null,null,null,null,null,null,null,null,null,null,null,null,null,null,null,null,null,null,null,null,null,null,{"$f":"DF10-DF73","v":0},0,0,0,0,0,0,0,0,0,0,0,0,0,0,0,0,0,0,0,0,0,0,0,{"$f":"ED10-ED73","v":0},0,0,0,0,0,0,0,0,0,0,0,0,0,0,0,0,0,0,0,0,0,0,0,0,0,0,0,{"$f":"FF10-FF73","v":0},0,{"$f":"FH10-FH73","v":0},0,{"$f":"FJ10-FJ73","v":0},0,{"$f":"FL10-FL73","v":0},0,{"$f":"FN10-FN73","v":0},0,{"$f":"FP10-FP73","v":0},0,{"$f":"FR10-FR73","v":0},0,{"$f":"FT10-FT73","v":0},0,{"$f":"FV10-FV73","v":0},0,{"$f":"FX10-FX73","v":0},0,{"$f":"FZ10-FZ73","v":0},0,{"$f":"GB10-GB73","v":0},0,{"$f":"GD10-GD73","v":0},0,{"$f":"GF10-GF73","v":0},0,{"$f":"GH10-GH73","v":0},0,{"$f":"GJ10-GJ73","v":0},0,{"$f":"GL10-GL73","v":0},3720.3913000524044,{"$f":"GN10-GN73","v":-12886.107965246774},-3712.9559515826404,{"$f":"GP10-GP73","v":-355259.63192834752},-50700.061662668828,{"$f":"GR10-GR73","v":-131484.83028251491},-8598.1897092121653,{"$f":"GT10-GT73","v":-523.73543471936136},-5621.1928144376725,{"$f":"GV10-GV73","v":40520.980124473572},77558.943178674672,{"$f":"GX10-GX73","v":128082.89473174559},206669.4267489328,{"$f":"GZ10-GZ73","v":191572.71262818994},231307.99725404941,{"$f":"HB10-HB73","v":238980.07371484023}]
["DEMAND"]
["  Residential and Commercial ",null,null,null,null,null,null,null,null,null,null,null,null,null,null,null,null,null,null,null,null,null,null,null,null,null,null,null,null,null,null,null,null,null,null,null,null,null,null,null,null,null,null,null,null,null,null,null,null,null,null,null,null,null,null,null,null,null,null,null,null,null,null,null,null,null,null,null,null,null,null,null,null,null,null,null,null,null,null,null,null,null,null,null,null,null,null,null,null,null,null,null,null,null,null,null,null,null,null,null,null,null,null,null,null,null,null,null,null,{"$f":"DF12-DF75","v":0},0,0,0,0,0,0,0,0,0,0,0,0,0,0,0,0,0,0,0,0,0,0,0,{"$f":"ED12-ED75","v":0},0,0,0,0,0,0,0,0,0,0,0,0,0,0,0,0,0,0,0,0,0,0,0,0,0,0,0,{"$f":"FF12-FF75","v":0},0,{"$f":"FH12-FH75","v":0},0,{"$f":"FJ12-FJ75","v":0},0,{"$f":"FL12-FL75","v":0},0,{"$f":"FN12-FN75","v":0},0,{"$f":"FP12-FP75","v":0},0,{"$f":"FR12-FR75","v":0},0,{"$f":"FT12-FT75","v":0},0,{"$f":"FV12-FV75","v":0},0,{"$f":"FX12-FX75","v":0},0,{"$f":"FZ12-FZ75","v":0},0,{"$f":"GB12-GB75","v":0},0,{"$f":"GD12-GD75","v":0},0,{"$f":"GF12-GF75","v":0},0,{"$f":"GH12-GH75","v":0},0,{"$f":"GJ12-GJ75","v":0},0,{"$f":"GL12-GL75","v":0},3931.3322028733091,{"$f":"GN12-GN75","v":-10728.306515420321},-1402.9970118086785,{"$f":"GP12-GP75","v":-129596.49404190632},29878.917298025335,{"$f":"GR12-GR75","v":-1229.1856715877657},-1281.955679117993,{"$f":"GT12-GT75","v":-548.26536349038361},1035.9369793644873,{"$f":"GV12-GV75","v":72946.364299610839},122673.8835651041,{"$f":"GX12-GX75","v":97726.037233363022},77287.522380782291,{"$f":"GZ12-GZ75","v":101599.4806658359},93178.620956856001,{"$f":"HB12-HB75","v":87320.787438553467}]
["  Chemical",null,null,null,null,null,null,null,null,null,null,null,null,null,null,null,null,null,null,null,null,null,null,null,null,null,null,null,null,null,null,null,null,null,null,null,null,null,null,null,null,null,null,null,null,null,null,null,null,null,null,null,null,null,null,null,null,null,null,null,null,null,null,null,null,null,null,null,null,null,null,null,null,null,null,null,null,null,null,null,null,null,null,null,null,null,null,null,null,null,null,null,null,null,null,null,null,null,null,null,null,null,null,null,null,null,null,null,null,{"$f":"DF13-DF76","v":0},0,0,0,0,0,0,0,0,0,0,0,0,0,0,0,0,0,0,0,0,0,0,0,{"$f":"ED13-ED76","v":0},0,0,0,0,0,0,0,0,0,0,0,0,0,0,0,0,0,0,0,0,0,0,0,0,0,0,0,{"$f":"FF13-FF76","v":0},0,{"$f":"FH13-FH76","v":0},0,{"$f":"FJ13-FJ76","v":0},0,{"$f":"FL13-FL76","v":0},0,{"$f":"FN13-FN76","v":0},0,{"$f":"FP13-FP76","v":0},0,{"$f":"FR13-FR76","v":0},0,{"$f":"FT13-FT76","v":0},0,{"$f":"FV13-FV76","v":0},0,{"$f":"FX13-FX76","v":0},0,{"$f":"FZ13-FZ76","v":0},0,{"$f":"GB13-GB76","v":0},0,{"$f":"GD13-GD76","v":0},0,{"$f":"GF13-GF76","v":0},0,{"$f":"GH13-GH76","v":0},0,{"$f":"GJ13-GJ76","v":0},0,{"$f":"GL13-GL76","v":0},0,{"$f":"GN13-GN76","v":0},-72.652164204395376,{"$f":"GP13-GP76","v":-17820.90806511452},-33915.097374510602,{"$f":"GR13-GR76","v":-32362.913293730584},-20255.930856010295,{"$f":"GT13-GT76","v":-19811.489661989617},-6058.2659168322571,{"$f":"GV13-GV76","v":-5788.3269103224156},-7401.1795182578498,{"$f":"GX13-GX76","v":-18432.288288775366},-18433.619924602215,{"$f":"GZ13-GZ76","v":-31237.818815712235},-14797.538950316724,{"$f":"HB13-HB76","v":-7442.7637627529912}]
["  Farm",null,null,null,null,null,null,null,null,null,null,null,null,null,null,null,null,null,null,null,null,null,null,null,null,null,null,null,null,null,null,null,null,null,null,null,null,null,null,null,null,null,null,null,null,null,null,null,null,null,null,null,null,null,null,null,null,null,null,null,null,null,null,null,null,null,null,null,null,null,null,null,null,null,null,null,null,null,null,null,null,null,null,null,null,null,null,null,null,null,null,null,null,null,null,null,null,null,null,null,null,null,null,null,null,null,null,null,null,{"$f":"DF14-DF77","v":0},0,0,0,0,0,0,0,0,0,0,0,0,0,0,0,0,0,0,0,0,0,0,0,{"$f":"ED14-ED77","v":0},0,0,0,0,0,0,0,0,0,0,0,0,0,0,0,0,0,0,0,0,0,0,0,0,0,0,0,{"$f":"FF14-FF77","v":0},0,{"$f":"FH14-FH77","v":0},0,{"$f":"FJ14-FJ77","v":0},0,{"$f":"FL14-FL77","v":0},0,{"$f":"FN14-FN77","v":0},0,{"$f":"FP14-FP77","v":0},0,{"$f":"FR14-FR77","v":0},0,{"$f":"FT14-FT77","v":0},0,{"$f":"FV14-FV77","v":0},0,{"$f":"FX14-FX77","v":0},0,{"$f":"FZ14-FZ77","v":0},0,{"$f":"GB14-GB77","v":0},0,{"$f":"GD14-GD77","v":0},0,{"$f":"GF14-GF77","v":0},0,{"$f":"GH14-GH77","v":0},0,{"$f":"GJ14-GJ77","v":0},0,{"$f":"GL14-GL77","v":0},-210.9409028210066,{"$f":"GN14-GN77","v":-2157.8014498268458},-1570.6401089030696,{"$f":"GP14-GP77","v":14855.176230056475},772.38977239960286,{"$f":"GR14-GR77","v":107.26868280295662},-60.303174083543126,{"$f":"GT14-GT77","v":-163.98040924026282},-598.8638769693498,{"$f":"GV14-GV77","v":-1637.0572648149682},-2713.7608681709535,{"$f":"GX14-GX77","v":8789.1457871570165},7815.524292753078,{"$f":"GZ14-GZ77","v":6211.050778066623},3689.965247510605,{"$f":"HB14-HB77","v":1906.5661680713674}]
["  Other",null,null,null,null,null,null,null,null,null,null,null,null,null,null,null,null,null,null,null,null,null,null,null,null,null,null,null,null,null,null,null,null,null,null,null,null,null,null,null,null,null,null,null,null,null,null,null,null,null,null,null,null,null,null,null,null,null,null,null,null,null,null,null,null,null,null,null,null,null,null,null,null,null,null,null,null,null,null,null,null,null,null,null,null,null,null,null,null,null,null,null,null,null,null,null,null,null,null,null,null,null,null,null,null,null,null,null,null,{"$f":"DF15-DF78","v":0},0,0,0,0,0,0,0,0,0,0,0,0,0,0,0,0,0,0,0,0,0,0,0,{"$f":"ED15-ED78","v":0},0,0,0,0,0,0,0,0,0,0,0,0,0,0,0,0,0,0,0,0,0,0,0,0,0,0,0,{"$f":"FF15-FF78","v":0},0,{"$f":"FH15-FH78","v":0},0,{"$f":"FJ15-FJ78","v":0},0,{"$f":"FL15-FL78","v":0},0,{"$f":"FN15-FN78","v":0},0,{"$f":"FP15-FP78","v":0},0,{"$f":"FR15-FR78","v":0},0,{"$f":"FT15-FT78","v":0},0,{"$f":"FV15-FV78","v":0},0,{"$f":"FX15-FX78","v":0},0,{"$f":"FZ15-FZ78","v":0},0,{"$f":"GB15-GB78","v":0},0,{"$f":"GD15-GD78","v":0},0,{"$f":"GF15-GF78","v":0},0,{"$f":"GH15-GH78","v":0},0,{"$f":"GJ15-GJ78","v":0},0,{"$f":"GL15-GL78","v":0},0,{"$f":"GN15-GN78","v":0},0,{"$f":"GP15-GP78","v":0},0,{"$f":"GR15-GR78","v":0},0,{"$f":"GT15-GT78","v":0},0,{"$f":"GV15-GV78","v":0},0,{"$f":"GX15-GX78","v":0},0,{"$f":"GZ15-GZ78","v":0},0,{"$f":"HB15-HB78","v":0}]
["     US DOMESTIC CONSUMPTION",null,null,null,null,null,null,null,null,null,null,null,null,null,null,null,null,null,null,null,null,null,null,null,null,null,null,null,null,null,null,null,null,null,null,null,null,null,null,null,null,null,null,null,null,null,null,null,null,null,null,null,null,null,null,null,null,null,null,null,null,null,null,null,null,null,null,null,null,null,null,null,null,null,null,null,null,null,null,null,null,null,null,null,null,null,null,null,null,null,null,null,null,null,null,null,null,null,null,null,null,null,null,null,null,null,null,null,null,{"$f":"DF16-DF79","v":0},0,0,0,0,0,0,0,0,0,0,0,0,0,0,0,0,0,0,0,0,0,0,0,{"$f":"ED16-ED79","v":0},0,0,0,0,0,0,0,0,0,0,0,0,0,0,0,0,0,0,0,0,0,0,0,0,0,0,0,{"$f":"FF16-FF79","v":0},0,{"$f":"FH16-FH79","v":0},0,{"$f":"FJ16-FJ79","v":0},0,{"$f":"FL16-FL79","v":0},0,{"$f":"FN16-FN79","v":0},0,{"$f":"FP16-FP79","v":0},0,{"$f":"FR16-FR79","v":0},0,{"$f":"FT16-FT79","v":0},0,{"$f":"FV16-FV79","v":0},0,{"$f":"FX16-FX79","v":0},0,{"$f":"FZ16-FZ79","v":0},0,{"$f":"GB16-GB79","v":0},0,{"$f":"GD16-GD79","v":0},0,{"$f":"GF16-GF79","v":0},0,{"$f":"GH16-GH79","v":0},0,{"$f":"GJ16-GJ79","v":0},0,{"$f":"GL16-GL79","v":0},3720.3913000524044,{"$f":"GN16-GN79","v":-12886.107965247007},-3046.2892849158961,{"$f":"GP16-GP79","v":-132562.2258769644},-3263.7903040857054,{"$f":"GR16-GR79","v":-33484.830282515381},-21598.189709211932,{"$f":"GT16-GT79","v":-20523.73543472006},-5621.1928144374397,{"$f":"GV16-GV79","v":65520.980124473805},112558.94317867537,{"$f":"GX16-GX79","v":88082.894731744891},66669.426748932805,{"$f":"GZ16-GZ79","v":76572.712628190406},82071.047254049918,{"$f":"HB16-HB79","v":81784.589843871654}]
["EXPORTS",null,null,null,null,null,null,null,null,null,null,null,null,null,null,null,null,null,null,null,null,null,null,null,null,null,null,null,null,null,null,null,null,null,null,null,null,null,null,null,null,null,null,null,null,null,null,null,null,null,null,null,null,null,null,null,null,null,null,null,null,null,null,null,null,null,null,null,null,null,null,null,null,null,null,null,null,null,null,null,null,null,null,null,null,null,null,null,null,null,null,null,null,null,null,null,null,null,null,null,null,null,null,null,null,null,null,null,null,{"$f":"DF17-DF80","v":0},0,0,0,0,0,0,0,0,0,0,0,0,0,0,0,0,0,0,0,0,0,0,0,{"$f":"ED17-ED80","v":0},0,0,0,0,0,0,0,0,0,0,0,0,0,0,0,0,0,0,0,0,0,0,0,0,0,0,0,{"$f":"FF17-FF80","v":0},0,{"$f":"FH17-FH80","v":0},0,{"$f":"FJ17-FJ80","v":0},0,{"$f":"FL17-FL80","v":0},0,{"$f":"FN17-FN80","v":0},0,{"$f":"FP17-FP80","v":0},0,{"$f":"FR17-FR80","v":0},0,{"$f":"FT17-FT80","v":0},0,{"$f":"FV17-FV80","v":0},0,{"$f":"FX17-FX80","v":0},0,{"$f":"FZ17-FZ80","v":0},0,{"$f":"GB17-GB80","v":0},0,{"$f":"GD17-GD80","v":0},0,{"$f":"GF17-GF80","v":0},0,{"$f":"GH17-GH80","v":0},0,{"$f":"GJ17-GJ80","v":0},0,{"$f":"GL17-GL80","v":0},0,{"$f":"GN17-GN80","v":0},-666.66666666674428,{"$f":"GP17-GP80","v":-222697.40605138242},-47436.271358583122,{"$f":"GR17-GR80","v":-98000},13000,{"$f":"GT17-GT80","v":20000},0,{"$f":"GV17-GV80","v":-25000},-35000,{"$f":"GX17-GX80","v":40000},140000,{"$f":"GZ17-GZ80","v":115000},149236.94999999995,{"$f":"HB17-HB80","v":157195.48387096776}]
["     TOTAL DEMAND",null,null,null,null,null,null,null,null,null,null,null,null,null,null,null,null,null,null,null,null,null,null,null,null,null,null,null,null,null,null,null,null,null,null,null,null,null,null,null,null,null,null,null,null,null,null,null,null,null,null,null,null,null,null,null,null,null,null,null,null,null,null,null,null,null,null,null,null,null,null,null,null,null,null,null,null,null,null,null,null,null,null,null,null,null,null,null,null,null,null,null,null,null,null,null,null,null,null,null,null,null,null,null,null,null,null,null,null,{"$f":"DF18-DF81","v":0},0,0,0,0,0,0,0,0,0,0,0,0,0,0,0,0,0,0,0,0,0,0,0,{"$f":"ED18-ED81","v":0},0,0,0,0,0,0,0,0,0,0,0,0,0,0,0,0,0,0,0,0,0,0,0,0,0,0,0,{"$f":"FF18-FF81","v":0},0,{"$f":"FH18-FH81","v":0},0,{"$f":"FJ18-FJ81","v":0},0,{"$f":"FL18-FL81","v":0},0,{"$f":"FN18-FN81","v":0},0,{"$f":"FP18-FP81","v":0},0,{"$f":"FR18-FR81","v":0},0,{"$f":"FT18-FT81","v":0},0,{"$f":"FV18-FV81","v":0},0,{"$f":"FX18-FX81","v":0},0,{"$f":"FZ18-FZ81","v":0},0,{"$f":"GB18-GB81","v":0},0,{"$f":"GD18-GD81","v":0},0,{"$f":"GF18-GF81","v":0},0,{"$f":"GH18-GH81","v":0},0,{"$f":"GJ18-GJ81","v":0},0,{"$f":"GL18-GL81","v":0},3720.3913000524044,{"$f":"GN18-GN81","v":-12886.107965246774},-3712.9559515826404,{"$f":"GP18-GP81","v":-355259.63192834705},-50700.061662668828,{"$f":"GR18-GR81","v":-131484.83028251538},-8598.1897092121653,{"$f":"GT18-GT81","v":-523.73543472029269},-5621.1928144372068,{"$f":"GV18-GV81","v":40520.980124473572},77558.943178675603,{"$f":"GX18-GX81","v":128082.89473174466},206669.4267489328,{"$f":"GZ18-GZ81","v":191572.71262819041},231307.99725404987,{"$f":"HB18-HB81","v":238980.07371483929}]
[]
["INVENTORIES (End of Month, Thousand Barrels)",null,null,null,null,null,null,null,null,null,null,null,null,null,null,null,null,null,null,null,null,null,null,null,null,null,null,null,null,null,null,null,null,null,null,null,null,null,null,null,null,null,null,null,null,null,null,null,null,null,null,null,null,null,null,null,null,null,null,null,null,null,null,null,null,null,null,null,null,null,null,null,null,null,null,null,null,null,null,null,null,null,null,null,null,null,null,null,null,null,null,null,null,null,null,null,null,null,null,null,null,null,null,null,null,null,null,null,null,{"$f":"DF20-DF83","v":0},0,0,0,0,0,0,0,0,0,0,0,0,0,0,0,0,0,0,0,0,0,0,0,{"$f":"ED20-ED83","v":0},0,0,0,0,0,0,0,0,0,0,0,0,0,0,0,0,0,0,0,0,0,0,0,0,0,0,0,{"$f":"FF20-FF83","v":0},0,{"$f":"FH20-FH83","v":0},0,{"$f":"FJ20-FJ83","v":0},0,{"$f":"FL20-FL83","v":0},0,{"$f":"FN20-FN83","v":0},0,{"$f":"FP20-FP83","v":0},0,{"$f":"FR20-FR83","v":0},0,{"$f":"FT20-FT83","v":0},0,{"$f":"FV20-FV83","v":0},0,{"$f":"FX20-FX83","v":0},0,{"$f":"FZ20-FZ83","v":0},0,{"$f":"GB20-GB83","v":0},0,{"$f":"GD20-GD83","v":0},0,{"$f":"GF20-GF83","v":0},0,{"$f":"GH20-GH83","v":0},0,{"$f":"GJ20-GJ83","v":0},0,{"$f":"GL20-GL83","v":0},0,{"$f":"GN20-GN83","v":0},410.8789929867271,{"$f":"GP20-GP83","v":1994.8069880847761},-1782.8337890777329,{"$f":"GR20-GR83","v":277.40761151781771},2920.7715470207477,{"$f":"GT20-GT83","v":5269.1054818111297},8152.9756318737927,{"$f":"GV20-GV83","v":9373.0252410416433},9531.924446200559,{"$f":"GX20-GX83","v":8094.5660311271058},5493.2128727012532,{"$f":"GZ20-GZ83","v":3385.2781394849226},-266.07277613898623,{"$f":"HB20-HB83","v":-3820.602831758064}]
["Days of Forward Supply",null,null,null,null,null,null,null,null,null,null,null,null,null,null,null,null,null,null,null,null,null,null,null,null,null,null,null,null,null,null,null,null,null,null,null,null,null,null,null,null,null,null,null,null,null,null,null,null,null,null,null,null,null,null,null,null,null,null,null,null,null,null,null,null,null,null,null,null,null,null,null,null,null,null,null,null,null,null,null,null,null,null,null,null,null,null,null,null,null,null,null,null,null,null,null,null,null,null,null,null,null,null,null,null,null,null,null,null,{"$f":"DF21-DF84","v":0},{"$f":"DG21-DG84","v":0},{"$f":"DH21-DH84","v":0},{"$f":"DI21-DI84","v":0},0,0,0,0,0,0,0,0,0,0,0,0,0,0,0,0,0,0,0,0,{"$f":"ED21-ED84","v":0},0,0,0,0,0,0,0,0,0,0,0,0,0,0,0,0,0,0,0,0,0,0,0,0,0,0,0,{"$f":"FF21-FF84","v":0},0,{"$f":"FH21-FH84","v":0},0,{"$f":"FJ21-FJ84","v":0},0,{"$f":"FL21-FL84","v":0},0,{"$f":"FN21-FN84","v":0},0,{"$f":"FP21-FP84","v":0},0,{"$f":"FR21-FR84","v":0},0,{"$f":"FT21-FT84","v":0},0,{"$f":"FV21-FV84","v":0},0,{"$f":"FX21-FX84","v":0},0,{"$f":"FZ21-FZ84","v":0},0,{"$f":"GB21-GB84","v":0},0,{"$f":"GD21-GD84","v":0},0,{"$f":"GF21-GF84","v":0},0,{"$f":"GH21-GH84","v":0},0,{"$f":"GJ21-GJ84","v":0},0,{"$f":"GL21-GL84","v":0},-2.1619660768838145E-2,{"$f":"GN21-GN84","v":8.7647859630102687E-2},0.180937304287351,{"$f":"GP21-GP84","v":3.5607395058767004},-0.21484243619282495,{"$f":"GR21-GR84","v":1.8352956747283997},1.3383949462647564,{"$f":"GT21-GT84","v":2.199714191914051},3.2413201297791403,{"$f":"GV21-GV84","v":3.0984637298246618},2.6286963408889825,{"$f":"GX21-GX84","v":1.8046951010095817},0.414270249281536,{"$f":"GZ21-GZ84","v":-0.41877646648342903},-2.7780711643473097,{"$f":"HB21-HB84","v":-4.5203950748503985}]
[]
["PREVIOUS FCST VALUES"]
[null,{"$f":"B$3","v":"2005-01-15"},{"$f":"C$3","v":"2005-02-15"},"2005-03-15","2005-04-15","2005-05-15","2005-06-15","2005-07-15","2005-08-15","2005-09-15","2005-10-15","2005-11-15","2005-12-15","2006-01-15","2006-02-15","2006-03-15","2006-04-15","2006-05-15","2006-06-15","2006-07-15","2006-08-15","2006-09-15","2006-10-15","2006-11-15","2006-12-15","2007-01-15","2007-02-15","2007-03-15","2007-04-15","2007-05-15","2007-06-15","2007-07-15","2007-08-15","2007-09-15","2007-10-15","2007-11-15","2007-12-15","2008-01-15","2008-02-15","2008-03-15","2008-04-15","2008-05-15","2008-06-15","2008-07-15","2008-08-15","2008-09-15","2008-10-15","2008-11-15","2008-12-15","2009-01-15","2009-02-15","2009-03-15","2009-04-15","2009-05-15","2009-06-15","2009-07-15","2009-08-15","2009-09-15","2009-10-15","2009-11-15","2009-12-15","2010-01-15","2010-02-15","2010-03-15","2010-04-15","2010-05-15",{"$f":"BO$3","v":"2010-06-15"},"2010-07-15","2010-08-15","2010-09-15","2010-10-15","2010-11-15","2010-12-15","2011-01-15","2011-02-15","2011-03-15","2011-04-15","2011-05-15","2011-06-15","2011-07-15","2011-08-15","2011-09-15","2011-10-15","2011-11-15","2011-12-15","2012-01-15","2012-02-15","2012-03-15","2012-04-15","2012-05-15","2012-06-15","2012-07-15","2012-08-15","2012-09-15","2012-10-15","2012-11-15","2012-12-15","2013-01-15","2013-02-15","2013-03-15","2013-04-15","2013-05-15","2013-06-15","2013-07-15","2013-08-15","2013-09-15","2013-10-15","2013-11-15","2013-12-15","2014-01-15","2014-02-15","2014-03-15","2014-04-15","2014-05-15","2014-06-15","2014-07-15","2014-08-15","2014-09-15","2014-10-15","2014-11-15","2014-12-15","2015-01-15","2015-02-15","2015-03-15","2015-04-15","2015-05-15","2015-06-15","2015-07-15","2015-08-15","2015-09-15",{"$f":"EA$3","v":"2015-10-15"},"2015-11-15","2015-12-15","2016-01-15","2016-02-15","2016-03-15","2016-04-15","2016-05-15","2016-06-15","2016-07-15","2016-08-15","2016-09-15","2016-10-15","2016-11-15","2016-12-15","2017-01-15","2017-02-15","2017-03-15","2017-04-15","2017-05-15","2017-06-15","2017-07-15","2017-08-15","2017-09-15","2017-10-15","2017-11-15","2017-12-15","2018-01-15","2018-02-15","2018-03-15","2018-04-15","2018-05-15","2018-06-15","2018-07-15","2018-08-15","2018-09-15","2018-10-15","2018-11-15","2018-12-15","2019-01-15","2019-02-15","2019-03-15","2019-04-15","2019-05-15","2019-06-15","2019-07-15","2019-08-15","2019-09-15","2019-10-15","2019-11-15","2019-12-15","2020-01-15","2020-02-15","2020-03-15","2020-04-15","2020-05-15","2020-06-15","2020-07-15","2020-08-15","2020-09-15","2020-10-15","2020-11-15","2020-12-15","2021-01-15","2021-02-15","2021-03-15","2021-04-15","2021-05-15","2021-06-15","2021-07-15","2021-08-15","2021-09-15","2021-10-15",{"$f":"GV$3","v":"2021-11-15"},"2021-12-15","2022-01-15","2022-02-15","2022-03-15","2022-04-15","2022-05-15"]
[{"$f":"A4","v":"SUPPLY"}]
["Gas Processing",526612.90322580654,540071.42857142864,540064.51612903224,531100,530870.96774193551,516466.66666666663,505387.09677419357,504935.48387096776,437433.33333333337,447806.45161290321,469366.66666666663,443774.19354838709,489612.90322580643,497285.71428571426,499451.61290322582,502300,503774.19354838709,501633.33333333331,504806.45161290327,498806.45161290315,505333.33333333331,501548.38709677418,513799.99999999994,499580.64516129036,481161.29032258067,498107.14285714284,509161.29032258072,502100,511032.25806451606,502033.33333333337,504838.70967741939,500548.38709677418,508366.66666666669,519967.74193548382,529466.66666666674,518225.80645161291,510548.38709677418,524344.82758620684,533612.90322580654,533833.33333333337,534677.41935483867,522133.33333333337,531935.48387096776,518677.41935483873,433666.66666666669,499387.09677419357,511900,486903.22580645158,520129.03225806454,538750,541967.74193548388,545500,549548.38709677418,545200.00000000012,539322.58064516122,549483.87096774194,556333.33333333337,559806.45161290315,558466.66666666663,550967.74193548388,564322.58064516122,571964.2857142858,582000,583700,589709.67741935479,578366.66666666663,568774.19354838715,589935.48387096776,593633.33333333337,599903.22580645164,604500,600870.96774193551,603483.87096774194,572178.57142857136,621838.70967741939,616400,629677.41935483878,619533.33333333326,629483.87096774194,637612.90322580643,623900,660677.41935483867,675000,674032.25806451624,682193.54838709685,709182.26600985217,686290.32258064521,688400,702387.09677419357,692599.99999999988,697677.41935483867,710419.3548387097,725700,745677.41935483867,765566.66666666663,756741.93548387103,746129.03225806449,774571.42857142864,770903.22580645164,797666.66666666674,814483.87096774194,819733.33333333326,834806.45161290327,853483.87096774206,875933.33333333337,872967.74193548376,869833.33333333337,841580.6451612903,851096.77419354848,874857.14285714296,904451.61290322582,936666.66666666663,958258.06451612897,993800,1016387.0967741936,1037903.2258064516,1049900,1058967.7419354839,1049000,1077870.9677419355,1062838.7096774194,1097285.7142857143,1122645.1612903227,1154000,1147032.2580645164,1140566.6666666667,1151032.2580645159,1164806.4516129033,1175633.3333333335,1189580.6451612904,1174166.6666666667,1148419.3548387096,1126741.935483871,1148655.1724137932,1176129.0322580645,1173333.3333333335,1166741.935483871,1157200.0000000002,1168548.3870967741,1176483.8709677421,1162166.6666666667,1160000,1175500,1119774.1935483874,1128677.4193548388,1155134.2364532021,1186451.6129032259,1195200,1210870.9677419353,1230866.6666666665,1251193.5483870967,1241935.4838709678,1248066.6666666667,1283709.6774193547,1314266.6666666667,1291903.2258064516,1249419.3548387096,1309857.1428571427,1349516.1290322579,1360333.3333333333,1383161.2903225806,1385399.9999999998,1414580.6451612902,1460870.9677419353,1472066.6666666667,1468709.6774193549,1474433.3333333333,1476387.0967741935,1486516.1290322582,1502428.5714285714,1522741.935483871,1552500,1562451.6129032257,1556366.6666666665,1577709.6774193549,1604806.4516129033,1661100,1665999.9999999998,1682233.3333333333,1684419.3548387098,1732806.451612903,1674896.551724138,1760032.2580645161,1691400,1530451.6129032257,1614366.6666666667,1671645.1612903229,1670709.6774193547,1692433.3333333333,1680935.4838709678,1715600,1696322.5806451612,1707161.2903225806,1431392.8571428573,1693129.0322580645,1741246.1850313335,1731028.8568091774,1735159.4182714997,1758041.4815901178,1763848.5812496843,1765021.8222674297,1767188.4378329786,1773090.3989288178,1775056.3998164413,1773980.6325416137,1778506.0746884169,1789927.1827272251,1797202.9419117919,1805815.5640316831]
["Refinery Production",560000,578535.71428571432,548935.48387096776,585866.66666666663,586645.16129032255,576033.33333333337,551709.67741935491,539612.90322580643,465600,440903.22580645152,513433.33333333337,540870.96774193551,528032.25806451612,510142.85714285716,485032.25806451618,536933.33333333337,567161.29032258061,542900,548516.12903225806,573935.48387096776,559833.33333333337,531193.54838709673,548533.33333333326,580967.74193548388,574967.74193548388,533928.57142857136,562516.12903225806,562133.33333333337,576322.58064516133,568100,562032.25806451612,541580.6451612903,560133.33333333337,538709.67741935491,567566.66666666674,595193.54838709685,569096.77419354836,535344.82758620684,526258.06451612909,519900,545806.45161290327,544200,534161.29032258072,526387.09677419357,420133.33333333337,503451.61290322576,514900,489064.51612903224,479064.5161290323,482928.57142857136,519290.32258064509,542200,553612.90322580654,566433.33333333326,553967.74193548388,553838.70967741939,559133.33333333326,527096.77419354836,550000,553645.16129032255,531419.3548387097,561857.14285714284,575064.51612903224,584833.33333333326,571225.80645161297,571666.66666666674,574129.0322580646,552387.09677419357,551000,525967.74193548388,543466.66666666674,571806.45161290327,560612.90322580643,511750,528161.29032258061,542100,563258.06451612897,566966.66666666663,557483.87096774194,552580.6451612903,568966.66666666663,539548.38709677418,563933.33333333326,566225.80645161297,531096.77419354836,556506.15763546806,544580.6451612903,558033.33333333326,568483.87096774194,585400,568580.64516129042,543258.06451612897,522066.66666666663,540580.6451612903,550133.33333333337,578612.90322580654,542677.41935483867,535928.57142857148,559322.58064516133,561400,574096.77419354836,565566.66666666674,575451.61290322582,583612.90322580654,573766.66666666663,542258.06451612909,557233.33333333326,599774.19354838703,583935.48387096776,572214.2857142858,564258.06451612909,600300.00000000012,596225.80645161285,596000,612548.38709677407,601903.22580645152,551766.66666666674,528838.70967741939,603433.33333333349,635225.80645161285,561064.51612903224,529071.42857142852,535516.12903225806,589299.99999999988,581903.22580645164,569366.66666666663,580322.58064516133,574032.25806451624,529033.33333333337,520129.03225806449,559233.33333333326,577580.6451612903,580580.6451612903,565586.20689655177,585709.67741935467,590966.66666666674,609161.29032258072,589666.66666666674,584129.03225806449,570709.67741935479,575700,556032.25806451612,589733.33333333337,594451.61290322582,564064.51612903224,529795.56650246296,586451.61290322582,600933.33333333326,622096.77419354836,615233.33333333326,606774.19354838715,588612.90322580643,513333.33333333337,594161.29032258061,615900,642096.77419354848,599967.74193548388,568392.85714285728,571032.25806451612,592766.66666666674,591225.80645161297,607100,606516.12903225818,603580.64516129042,590133.33333333337,573774.19354838715,608266.66666666674,615709.67741935467,588967.74193548388,545357.14285714284,549096.77419354836,566733.33333333337,577419.35483870958,590566.66666666663,578806.45161290315,579064.51612903236,553433.33333333337,532677.41935483867,581066.66666666674,596032.25806451612,565645.16129032255,514344.82758620684,524612.90322580643,494266.66666666663,492129.03225806449,503966.66666666663,522419.35483870964,526741.93548387091,529633.33333333337,537806.45161290327,559700,557935.48387096776,555225.80645161297,463928.57142857142,538290.32258064521,576844.98906204419,584293.96204663767,582428.66898622655,591816.89308111381,582540.6626478862,552296.76276483701,535570.50236663863,567386.21168473794,587514.95384747419,610240.93445823307,586725.05501538317,618543.69129762461,636463.22422084899,644787.38717280887]
[{"$f":"A7","v":"Imports"},274000,244142.85714285713,163580.6451612903,178499.99999999997,174935.48387096776,151833.33333333334,220161.29032258067,171064.51612903224,256199.99999999997,376935.48387096776,292866.66666666669,293193.54838709679,206322.58064516127,206285.71428571429,180806.45161290321,242800,174225.80645161294,241000.00000000003,226580.6451612903,265064.51612903224,280666.66666666663,267225.80645161285,215433.33333333334,224258.06451612903,244258.06451612906,212642.85714285716,184838.70967741936,121066.66666666667,145709.67741935485,151333.33333333331,134903.22580645164,163967.74193548391,232300,204483.87096774191,200433.33333333334,187935.48387096776,262806.45161290321,214448.27586206896,217645.16129032255,155366.66666666666,163967.74193548388,98833.333333333343,130483.87096774194,186032.25806451612,186300,178935.48387096779,196233.33333333334,228612.90322580643,222741.93548387094,206535.71428571429,218322.5806451613,124233.33333333331,105096.77419354839,69966.666666666672,99903.225806451606,62645.161290322583,94800,145000,205966.66666666666,211999.99999999997,192000,217178.57142857139,136806.45161290324,78500,81935.483870967742,72500,55741.93548387097,62387.096774193553,84966.666666666657,131129.03225806452,132300,214064.51612903224,174903.22580645161,174571.42857142858,137161.29032258064,96333.333333333328,74032.258064516151,62466.666666666664,60548.38709677419,73064.516129032258,109200,95258.06451612903,109633.33333333333,151806.45161290324,145645.16129032261,127048.02955665026,108580.6451612903,114600,106290.32258064517,102300,114741.93548387097,84677.419354838712,100433.33333333334,90741.935483870984,137766.66666666666,161419.35483870967,183741.93548387097,165714.28571428571,140806.45161290324,110766.66666666666,80709.677419354848,111099.99999999999,87548.387096774197,84354.838709677424,86833.333333333343,157612.90322580648,168866.66666666663,146419.3548387097,187064.51612903227,220750.00000000003,122322.58064516129,78700,66258.06451612903,91299.999999999985,64032.258064516136,76322.580645161273,75333.333333333328,98903.225806451606,89666.666666666657,128709.67741935483,156225.80645161291,163142.85714285716,147451.61290322582,127300,91354.838709677424,96400,107483.87096774194,111387.09677419355,91833.333333333328,119645.16129032259,128633.33333333334,145193.54838709676,146903.22580645164,196241.37931034484,128387.09677419355,109299.99999999999,106645.16129032259,101733.33333333334,110225.80645161291,123193.54838709679,126840.10166315518,142366.98338358529,166541.10166315519,178498.01564164978,247918.3704803595,218882.07881773397,172371.98338358529,117746.10166315519,126341.72531906916,105700,97354.838709677424,102954.60759976224,127612.29150382073,166677.07129081621,131573.02231765294,148480.72816387279,216595.34939156746,181064.36197549608,116289.28757586097,87878.804119641252,60527.349254206172,59974.784654222691,68888.94635362261,74176.976857712463,76485.706464603849,111483.49723244741,142810.94153041235,155917.288178424,213052.33139258379,179557.53531450892,144921.52811417056,113067.29034124983,82214.012654400314,97513.209265139245,99914.958940302124,86000.697006295406,100346.92914353443,142326.16156522723,157961.47636273474,169287.30003392824,208585.72038702911,149413.38016312293,129737.83813442939,99664.878430596233,81669.327633225737,81430.795778710512,111919.22675212106,81000.116134630502,89479.805057538615,140252.97724514361,166468.84511980001,186711.12479174195,153866.93271870969,161923.27298848156,174111.06093653693,101798.85400810969,73102.364653229059,122875.47665576139,132992.02202971894,103171.3879403889,129959.31054519648,152177.71921788063,145519.10891576248,169545.79684620033,180690.13247943591,169865.95372568793,163081.80331339131,97633.228306241013,75877.054868838037]
["Net Inter-PADD Transfers",0,0,0,0,0,0,0,0,0,0,0,0,0,0,0,0,0,0,0,0,0,0,0,0,0,0,0,0,0,0,0,0,0,0,0,0,0,0,0,0,0,0,0,0,0,0,0,0,0,0,0,0,0,0,0,0,0,0,0,0,0,0,0,0,0,0,0,0,0,0,0,0,0,0,0,0,0,0,0,0,0,0,0,0,0,0,0,0,0,0,0,0,0,0,0,0,-1.546140993013978E-11,-1.546140993013978E-11,-1.546140993013978E-11,-1.546140993013978E-11,-1.546140993013978E-11,-1.546140993013978E-11,-1.546140993013978E-11,-1.546140993013978E-11,-1.546140993013978E-11,-1.546140993013978E-11,-1.546140993013978E-11,-1.546140993013978E-11,0,0,0,0,0,0,0,0,0,0,0,0,0,0,0,0,0,0,0,0,0,0,0,0,1.4551915228366852E-11,1.4551915228366852E-11,1.4551915228366852E-11,1.4551915228366852E-11,1.4551915228366852E-11,1.4551915228366852E-11,1.4551915228366852E-11,1.4551915228366852E-11,1.4551915228366852E-11,1.4551915228366852E-11,1.4551915228366852E-11,1.4551915228366852E-11,3.2741809263825417E-11,3.2741809263825417E-11,3.2741809263825417E-11,3.2741809263825417E-11,3.2741809263825417E-11,3.2741809263825417E-11,3.2741809263825417E-11,3.2741809263825417E-11,3.2741809263825417E-11,3.2741809263825417E-11,3.2741809263825417E-11,3.2741809263825417E-11,70204.234948901169,70204.234948901169,70204.234948901169,62204.234948901169,64204.234948901169,66204.234948901169,68204.234948901169,70204.234948901169,90204.234948901169,92204.234948901169,94204.234948901169,96204.234948901169,34845.396457091105,34845.396457091105,1.4551915228366852E-11,1.4551915228366852E-11,1.4551915228366852E-11,1.4551915228366852E-11,1.4551915228366852E-11,12000.000000000015,39312.911908021066,19242.875487087396,-220025.29707773082,-124727.76441962093,102032.566923626,-414234.83042515529,-171547.36457103584,-311597.26892350963,-54134.339419645985,-6485.7103683323076,46768.147636678681,76314.458007538662,-99700.88929589442,-29841.796501603647,55278.243818279123,-367071.64903119823,-5205.3905281009265,-383602.57351893594,19642.817660497371,194612.74278084483,460273.20170329174,298904.62620758271,48838.709677419327,57354.838709677526,48100.000000000073,98322.580645161288,118699.99999999999,158677.41935483864,115806.4516129033,67838.669950738811,50709.67741935479,58666.66666666673,77596.774193548394]
["Total Stock Change (Primary+Secondary+Tertiary)",266080.49428183655,161433.41471608987,116459.81533760007,-206144.14236079756,-154207.53804186784,-221229.17292883084,-250496.49408051497,-84605.391034070301,5497.0396763995323,-124675.65044408856,23038.757321177218,350397.82130075281,158385.85536039207,323397.15456591127,216054.51046406015,-127907.71326168957,-78365.531567152895,-175168.68412969616,-206448.24052199145,-215774.8162944701,-169524.2786200617,-15023.710479456649,53513.823694258164,139805.46666135386,408320.78245714423,475059.54587914358,76379.036276142389,-6076.5109011915756,-111031.52528814382,-113035.43404888813,-24760.105241762583,19648.894673672432,-15497.328124272073,35110.151455531151,183491.02262319095,216375.65628121907,263584.18717085791,248612.20311594789,54002.031104174181,-25248.756264041789,-154720.13825394065,-51997.272581177967,-98005.907629717403,-142973.07312557063,-128020.28029997124,-2799.4971261921755,-79616.954693787513,-39134.226368819742,154390.24893991894,56403.152767108739,-55844.450040147305,-136773.51426511884,-228713.23567400122,-133356.89021238266,-129380.4590178903,53724.308181245964,-31434.350283824737,118738.12910941083,173574.34983315784,242674.81962593476,313062.57668276824,158625.42952317322,-37077.075689466794,-148162.35035108295,-149040.65938427468,-108181.44614106392,-61729.31138365357,-49690.087303564651,12159.279037799772,-10469.6298695,26758.759802327637,292083.63444023329,317452.04180682707,322533.49063696101,159038.36716775014,9307.8542008395689,-73077.569936510234,-73618.177286765364,-162441.74852817325,-124890.65476504725,-70039.396818461857,-105388.38103940579,22170.232950138441,69053.045969618164,121454.04146861433,76802.992382703858,-83533.032950402092,-167285.45810192154,-231541.64343592257,-187497.30456489223,-163911.71698431324,-100192.43053820354,-113712.42381583901,-51936.545302720093,11091.037175671168,109238.08509424256,262311.02516920678,155600.55610047103,98057.466424538463,-102647.32186554665,-143788.51648936968,-179283.16426009446,-98602.05875586874,-135778.24801404806,-66991.710273137651,129866.96800218559,191454.14389063948,254748.38195491215,218457.16524809902,81549.494913467017,-58912.648916107602,-163741.13541170442,-183317.14740185684,-283617.52706894028,-218862.69798012121,-282811.51663838344,-141890.74378023116,38444.872334664091,-40533.018369946258,123821.36379594571,204661.37245897297,281201.88644200307,-102788.24999052277,-140352.80921566489,-170704.64052479094,-177689.0581086842,-252485.58837749623,-232166.67407394765,-16077.308560589643,-125142.74758013996,24429.849730169604,233155.94648774329,433807.11591024877,344954.67014187772,-86050.25047672748,-198952.21113418261,-93436.076168039843,-202097.17917137663,-128000.65299593114,-71346.678991313122,-140225.54326780839,215469.31030070269,187649.83138033171,581602.20640680939,573193.79913099494,373222.10420575016,334968.79328839021,95813.260546141508,-77208.866543594035,-187163.17535696953,-150049.56759071609,-183306.71652915704,58747.056362754971,181259.86935333535,144973.16188363943,276523.82961104199,246022.31965139162,63768.988162405309,-624.42256684521271,-98079.832639848377,-140529.38643451227,-211362.5522766388,-92753.003661854993,-133843.142382338,-327040.31007138593,-90221.546932041485,13701.305872122553,191915.3273839943,159214.63798473234,56891.145913556036,-102679.04672185428,-83258.594420234353,-192367.4397101358,-156312.92088681686,-133095.43872818555,-241835.10754989489,-217307.81348099784,-55913.838889596656,147668.35581080243,198508.84467033902,-32087.634517399572,533448.85703418637,189964.43629721575,205757.77225780726,-81619.510567486432,-39521.413245775635,-211592.45122666535,-247202.30232083666,-5832.6497352384722,160706.40331748483,92092.351492767921,1062249.3786356857,651319.76181977836,1020668.175378248,17183.77313373467,-3175.8681542955892,-159598.47240494392,-394966.44879134715,-209088.51700625604,-126892.47359778368,-92278.591730345812,16496.968941430518,23446.060309879838,177759.06162377467,198356.7297455931,125028.47738250287,-99546.226958887506,-278841.03388591856,-270024.5337282953]
["     TOTAL SUPPLY",1626693.3975076431,1524183.4147160898,1369040.4604988904,1089322.5243058689,1138244.0748613579,1023104.1604045024,1026761.5704356142,1131007.5121917361,1164730.3730097327,1140969.5108462339,1298705.423987844,1628236.5309781721,1382353.5972958759,1537111.440280197,1381344.8330447054,1154125.620071644,1166795.7587554278,1110364.6492036371,1073454.98528446,1122031.6353184332,1176309.0547132718,1284944.0314560269,1331280.4903609247,1444611.9182742571,1708707.8792313377,1719738.1173077149,1332895.1653084005,1179223.4890988087,1122032.9908408883,1108431.2326177787,1177014.0883066247,1225745.6688672209,1285302.6718757278,1298271.4417781117,1480957.6892898576,1517730.4949908967,1606035.8000740837,1522750.1341504306,1331518.1601364322,1183851.2437359584,1089731.4746492852,1113169.3940854887,1098574.7375315733,1088123.7010679778,912079.71970002877,1178974.6964221951,1143416.3786395458,1165446.4187924704,1376325.7328108866,1284617.4384813944,1223736.1951211428,1075159.8190682144,979544.82884212793,1048243.1097876176,1063813.0893692065,1219692.0501167299,1178832.3163828417,1350641.3549158622,1488007.6831664911,1559287.7228517414,1600804.5121666393,1509625.4295231733,1256793.8920524686,1098870.9829822504,1093830.3083576609,1114351.8871922696,1136915.8499066692,1155019.59011579,1241759.2790377999,1246530.3701305001,1307025.4264689945,1678825.5699241043,1656452.0418068271,1581033.4906369611,1446199.6574903307,1264141.1875341728,1193890.1719989737,1175348.4893799014,1085074.380504085,1138367.4097510818,1232027.2698482047,1190095.4899283361,1370736.8996168049,1461117.5620986507,1480389.5253395822,1469539.4455846744,1255918.5799528237,1193747.8752314118,1145619.6468866579,1192802.6954351077,1217088.2830156868,1238162.408171474,1234487.5761841608,1325063.45469728,1464557.7038423379,1606012.2786426297,1734859.4122659811,1631814.8418147566,1569089.7244890549,1367186.0114677867,1325501.8060912755,1317116.8357399055,1399204.3928570345,1385673.364889178,1469541.6230601957,1702705.6776796051,1787387.4772239726,1842522.575503299,1840553.9394416476,1749370.9234848956,1532119.6091484085,1451925.5312549623,1437424.7880820138,1397482.4729310598,1474105.0439553626,1433317.515619681,1535109.2562197689,1725154.5497540189,1701566.9816300541,1965627.8154088489,1984790.4047170375,2070701.8864420031,1702824.6532352837,1730247.1907843351,1649585.6820558545,1628644.2752246493,1586353.1212999229,1618059.1323776655,1780422.6914394107,1704212.0911295377,1886463.1830635029,2104349.4948748401,2288032.9223618614,2255437.4287625672,1804175.5559748851,1674647.7888658177,1789112.3109287347,1646502.8208286236,1734902.5728105202,1799040.4177828804,1724481.2250620136,2073868.551748804,2119424.2663768204,2474326.0285000722,2513854.1050952254,2277033.9859791491,2280244.0024784273,2009692.69554263,1882100.6007109587,1764636.8246430303,1805273.0130544452,1750196.2781673796,1947759.3478665757,2225807.908386087,2206712.8508679592,2359004.5577749149,2382209.0007660538,2193287.5850868025,2106417.4870546912,2005103.2064286941,1958589.2945427885,1907316.4673264846,2065436.9518342174,2074989.6823275012,1901849.6313421191,2155950.0562170488,2333416.4823514363,2536133.6247048671,2482596.2368021491,2319079.79197087,2114081.1910697357,2149042.0292543489,2029717.5406862001,2088133.6217116555,2123335.6492443746,2040036.5571983361,2136885.3609038913,2304332.6175175565,2348904.5350958062,2523519.9931878727,2576982.2656964809,2457868.7860824987,2432800.0711509315,2179492.0484315604,1968496.1228073835,2153757.0054979357,2141159.4392911671,2107563.8847245583,2206012.9326930726,2489859.5195448962,2589139.440430847,3136146.9189123586,3062368.4007845805,2694310.3034192221,2442357.0065694791,2611326.9027280365,2689099.9128073924,2344401.741329723,2322600.5893721133,2380022.9969498534,2403099.3038471169,2569756.2090040897,2628141.7798391981,2868553.6314887293,2879074.8808377786,2727964.2307627304,2522716.1277987082,2311125.0272196298,2334052.2465385827]
["DEMAND"]
["  Residential and Commercial ",815628.25039788918,734884.27293011849,620200.65172080277,362426.48615994729,363365.75533994997,325937.26562930312,311614.89293238072,365404.50910246203,419034.26509810984,336794.73236763908,423749.4624010144,765643.84465147823,578398.42011979665,659758.48260305205,557162.86178948253,356288.83008005953,337702.53798891912,332274.08710270521,337711.50495700946,328483.00198762736,397434.27261350898,437098.29636661708,474185.49264420313,590952.42343666393,787885.08413816476,932384.59450162516,564775.34622626007,420213.84210711636,339831.31122498226,320085.59365804342,350611.57786828151,373471.32657894253,385641.27133072098,408406.28851742425,484879.81958946434,603749.8743879979,779578.71133248543,727022.17644574563,558333.41350061004,406387.47473681415,359188.79277377267,333932.1231256756,352118.05057985982,337577.96650651249,325110.36302282964,449119.03646894789,494078.95684341673,597169.78829894064,726275.79256896721,557683.42683947238,530538.8014740221,391564.99428182578,307219.18614775181,305943.89198050404,290242.2303281604,332171.80979618325,337462.75576923607,454088.67781299917,582315.59025996574,701156.2194152032,740857.25279065629,697178.30505377566,509691.66370483005,330226.40230664401,304521.30251104874,322342.4311662523,326624.86287371331,319487.12357991218,322055.34149960044,359127.51810789283,402931.90627068846,767917.88848733983,726025.3414557681,710264.32574478816,526303.76792565349,364309.48059347679,305818.28765688988,280906.88278010406,272892.29197077471,299110.86491864186,328089.88895557635,321758.83171957405,436893.02645582356,551898.66638150171,539971.93929942953,547001.68598429335,342891.25834024261,266414.18034686527,270303.30458626227,262929.80264973745,253223.62724757753,296809.08383635688,251767.60268494004,288396.70967798016,398411.48406553158,515603.04654919589,724338.9204592763,624717.36773576448,496388.10969272454,321097.04962201294,263613.73361636099,287705.13206661789,344841.09918760747,290859.94106443546,276213.39473600104,370274.79573647853,474099.84966023231,633700.55830291414,691712.52437562949,661378.77915082616,489959.21601827221,354676.87053963181,310589.62072755251,305109.95489117387,315112.16418579262,323712.68814526807,319368.12202110194,391975.66243792285,457932.64854738291,607596.23094102496,667531.49739810475,636512.92661380814,465697.88213782245,329833.60027885908,285660.8735605749,280402.50075867568,290492.56873975776,298967.70448753546,294900.27406023123,349383.37459060858,434411.74098580796,583590.04823099717,662006.32658520434,630953.88490262022,461227.8873573392,325985.15201618295,282014.51341577235,276886.35912116541,286997.13080881361,295743.10334986873,291828.09809951362,346372.77970250131,430722.63383595628,578823.61212399579,664000.29485604225,625345.50912108726,464094.75143603137,340017.72142472689,282270.72002398793,273564.17923756223,272620.3521625151,275833.73933987692,272756.95037052105,350564.80914119713,430045.78132735245,553552.61487051088,761822.70913529256,621569.51764654019,479544.53210397612,411449.93950115261,290179.28308218264,338383.09959635377,286842.46010438434,300265.2924553316,301296.81657900312,378794.91639849031,480859.1352388279,579778.66406538349,768280.30653162336,752858.39560693933,540946.02628094016,330058.77243080176,294932.73984192085,279765.02863364213,285415.8501022993,320683.49912954756,282776.65472258307,344733.37354650086,416777.46647009597,559224.85252531001,618400.21140537143,591335.83312617382,440389.89921420114,314179.83613623929,268536.85054360959,256635.62308942314,277124.50721427222,289409.03200705879,273157.60013052,332017.75807641196,518373.00000000006,762082,798967.23482717981,875563.3070009423,651618.30651542032,508684.86441145767,513026.45656899724,289112.09661886137,271643.80274995399,276744.64649454853,308444.8613754196,458220.44356893998,589820.90909090918,753885.27272727282,844673.41666666674,788542.83333333314,613432.4422096184,437261.15536762151,303711.53804741643]
["  Chemical",616502.37028042774,605919.35938843142,584753.33760443889,562262.62964496086,612917.66281052853,532882.7104089316,554215.43080792238,573913.21444268746,523105.50433960237,517464.71150899323,611767.24842421804,623774.77754762501,587708.68307099515,627908.51014044171,632601.10241894808,620255.8011006309,683210.79041639192,639869.86420147668,598991.93670991214,623210.40484865045,575048.47432413523,575697.55965353013,594149.65250922274,615899.89416065416,667486.47352024016,578883.89567694243,584368.56897122611,607092.04791584064,634184.14332537283,645344.00081609283,672227.63362061849,679366.1623130152,689457.49674493773,627006.01853036368,666919.04482960631,666639.04373004008,535113.28504143341,532753.6258971988,559296.7002482682,607012.92484588583,546303.09116926452,645963.3022883829,617973.85801366356,587015.34515266086,378336.69001511665,427771.88901174418,395554.5294791729,336968.92270471505,411815.9212871865,468105.53072803788,493022.353734662,500859.06029926747,528146.18140926468,594346.75260856794,618083.04431871674,638238.91866856685,578012.38835602859,537312.78418427962,537312.7841842795,541665.35691898665,575191.92944237671,589600.88805235282,544073.60261154955,572642.86246420827,572167.72707931336,605813.41311968269,610570.47498078283,618509.78436014208,631126.84664254088,584173.65142732824,581234.03094856208,602791.29589993658,646284.00175631139,627707.90805559419,646602.57463826984,614264.37469635846,636845.79058226943,668602.5739640703,609257.08055722166,597526.10767890036,608910.50898749509,604945.52556672215,614345.06890098832,609109.21557600319,629024.19494487264,645911.2764747059,649641.89071240509,633776.67449545721,629709.79562470049,670356.84630365204,697510.78499671305,660840.14465325791,675362.09199442505,644711.86881260865,639048.60177480872,717168.35709137702,690529.22832873312,680953.41392154631,671120.1585190664,651112.39352341206,647718.46320413926,656187.91651506408,674904.22085706901,664257.30531417334,682590.31570335524,692922.51406875986,657212.73554908077,622954.40232948971,627501.33610893728,598926.84909073624,573940.87118605571,555991.64801145834,556850.77776088542,590631.67592735135,573489.15549151122,572447.73477369198,570407.70463635819,556826.59988842509,588690.10104321793,647889.94582981046,647749.33705982205,633070.34106694604,647619.12005958671,659802.10335064959,676910.2576412264,706747.78422285372,586764.54609022324,593100.86366763688,582480.601775783,542854.33967033948,554293.12759163708,590694.89543519355,593248.0120996678,595327.0320652487,546921.98069609806,531839.78115723969,503550.79335453041,518011.67752896209,584690.00972411805,684196.96823871415,647858.52425272367,615698.99829736631,605893.24140405876,641664.77030853007,641299.52508171415,607066.58908056212,681368.29627576668,657295.17071897839,632360.70311535208,626145.90697309596,630059.65035528911,611308.90274153394,552265.06073677656,563854.66774531745,588015.86879056087,593434.72588750289,594558.21769592573,602362.63938350836,612822.44137608795,598722.85184950358,554684.85052244726,581658.67491680814,594500.96251579945,592677.09071842709,585749.04543166177,579760.22558304749,579760.22558304749,579760.22558304749,569573.46108559519,569573.46108559519,569573.46108559519,569573.46108559519,569573.46108559519,569573.46108559519,569573.46108559519,569573.46108559519,569573.46108559519,569573.46108559519,569573.46108559519,569573.46108559519,568150.38755832554,568150.38755832554,568150.38755832554,568150.38755832554,568150.38755832554,568150.38755832554,568150.38755832554,568150.38755832554,568150.38755832554,568150.38755832554,632137.82319376699,646268.75701188075,656227.73210829264,469511.29185840511,503561.76769631723,608184.04072062543,624310.80039583403,640922.73071902117,650477.61382172222,651454.95086105203,643337.68249210971,639976.55430083885,638495.52006377117,641935.80388865678,652080.96994726628,638606.56004846341,617125.47104841203,609627.76285370917,611163.53145163006]
["  Farm",57265.943171720544,43889.823651914368,29992.556618349503,30803.23052864079,29992.556618349503,30803.23052864079,29992.556618349503,57265.943171720544,94209.511369280459,145918.92579000306,129415.92118764477,87955.741204176273,55399.007744954491,42812.315030180907,29735.231690156379,30498.061551657811,29735.231690156379,30498.061551657811,29735.231690156379,55399.007744954491,90162.254290519661,138819.90188486091,123290.86541858179,84277.566787508636,58892.588834432572,45522.606382864142,31631.715524091727,32442.017490853454,31631.715524091727,32442.017490853454,31631.715524091727,58892.588834432572,95819.207034002553,147504.89677101822,131009.463876226,89568.306147554977,62403.517609457362,46579.436767323721,32998.139036673587,33870.332468917171,32998.139036673587,33870.332468917171,32998.139036673587,62403.517609457362,102275.21736916417,158033.29750187916,140277.93120263473,95546.868034713654,67714.862322460467,51393.720286815129,34489.68032132533,35436.889457322599,34489.68032132533,35436.889457322599,34489.68032132533,71795.147831371796,112670.86516171566,167536.13280832698,188156.14707657532,105093.19207373749,56693.585156192195,38378.640647487577,26289.739597832689,27016.111334721823,26289.739597832689,27016.111334721823,26289.739597832689,50000.588437713741,108473.5132572891,105619.91000522462,120821.83278440438,76616.924225151321,46960.654468362685,36267.283235485971,25157.287149380296,25805.370254403129,25157.287149380296,25805.370254403129,25157.287149380296,46960.654468362685,76494.727397260256,117833.17116764514,104640.05081539466,71495.229158512724,48158.51720556074,36019.768290700362,25601.47197794617,26270.536878765248,25601.47197794617,26270.536878765248,25601.47197794617,48158.51720556074,78744.341243004223,121516.70454536658,107896.45477869251,73582.983436685638,59966.076190476197,46162.783496412274,31802.407240704502,32668.981669928246,31802.407240704502,32668.981669928246,31802.407240704502,59966.076190476197,98033.452902804958,151327.78030006521,161045.79354207433,91596.042857142864,63845.553194335807,49053.092276732779,33746.110979387027,34646.52164393678,33746.110979387027,34646.52164393678,33746.110979387027,63845.553194335807,110088.07232371223,153243.46917463237,151185.38765566153,97739.583209887103,48877.471578677396,37908.93222653235,26513.047185342704,27177.807146078769,26513.047185342704,27177.807146078769,26513.047185342704,48877.471578677396,79171.53264650653,120573.72157059969,107541.10808418697,74043.38437797119,62966.874455520505,48312.432425515042,33778.107612291016,33975.186110444753,33778.107612291016,34689.738558408819,33680.642262546768,64903.866258580667,107197.74504726352,166395.91708220681,144502.88345403341,100038.27967237678,61903.866258580667,49790.132207408431,33819.700123487135,34752.504235499197,33819.700123487135,31866.181696458785,30818.936288593944,66051.263938904027,113775.73324017327,180575.02961326644,159256.10523887502,105696.98295093022,66687.362390605471,49241.404619110726,31115.73420716812,32173.064981198106,31115.73420716812,32173.064981198106,31115.73420716812,66687.362390605471,104871.4362356862,182314.03489345597,140789.80127927411,106714.88455031204,48830.931917496142,43440.28041926102,27449.99314836739,28382.759905836188,27449.99314836739,28382.759905836188,27449.99314836739,58830.931917496142,101338.44557928835,160835.63946640509,141847.1733322189,94142.816307386238,57654.313279146219,42571.474810875799,26900.993285400047,27815.104707719467,26900.993285400047,27815.104707719467,26900.993285400047,57654.313279146219,99311.676667702603,157618.92667707696,50014.5516829958,83714.925524104241,85897.901240580351,92966.260211147703,54449.78684598775,38824.400471296787,15434.878472973201,3902.6455086005121,1178.9492575836798,96570.901825086767,109904.48726636132,130026.68686505749,61200.006025266171,84337.328264555865,99688.702312703797,83049.628998041779,66577.325071846179,37718.946788000954,17491.782866829057]
["  Other",108845.22075437961,104525.67303133977,100255.21107787997,96230.177972320147,92548.745253820322,91714.287170960335,91616.115631800349,93972.232571640227,96181.092202740139,97113.721824760083,100206.12530829996,106636.3611232797,111266.84119883952,103739.27536366486,96297.250049344453,89282.927339295318,82824.618014798878,81455.969681130751,81242.118378995117,85390.833640426601,89197.386818441068,90779.886454244828,96254.479788917306,107417.51776039794,116766.31338366159,108768.4493177119,100861.47007069345,93408.914918331255,86547.111089022161,85092.953986122215,84865.74193879409,89273.655656959541,93318.030099399999,94999.39924962807,100816.02766122784,112676.49653175549,109230.60867135304,99360.412281541619,93438.294447654771,86080.511684340803,79305.967798606594,77870.302869179475,77645.980223956474,81997.839541282432,85990.782626251603,87695.634729946294,93438.294447654771,105147.93652829468,94228.834051627156,87256.189198497799,80362.778945972183,73865.541696465283,67883.329350882705,66615.575741222827,66417.489239713454,70260.367368994979,73786.307095861528,75252.147207030779,80323.161645670305,90663.277024458745,96900.866254750785,89682.293283760519,82545.749551076966,75819.352009926952,69626.144517770532,68313.676704863203,68108.603609096434,72087.021666971763,75737.322771620238,77254.863680294322,82504.734931923609,93209.550530948938,109892.11467710372,101401.50958904109,93007.388649706467,85095.688454011746,77811.135225048914,76267.388845401176,76026.178473581211,80705.659686888452,84999.204305283754,86784.161056751473,92959.146575342456,105550.32798434443,99105.461839530326,91081.704500978463,86267.450097847352,80286.103718199593,74778.888454011729,73611.796477495111,73429.438356164377,76967.185909980442,80213.160469667317,81599.082191780821,86267.450097847352,95786.544031311147,93449.674457341549,87307.837563598616,81235.794270920931,75512.718983569561,70243.30210314237,69126.604486098193,68952.12048343505,72337.1101351002,75442.925382504298,76734.107002211618,81200.8974703883,90308.962409404819,102494.52576274493,95297.917252314626,88183.088384048315,81477.157726601901,75302.794743221355,73994.320468597667,73789.871363187718,77756.184008140772,81395.378084437922,82908.301464471559,88142.198562966325,98814.441865365821,109793.38900301424,101281.11510614483,92865.571594467154,84933.680008747935,77630.53592677477,76082.849763707593,75841.023800728362,80532.447482525691,84836.94962355624,86626.461749602648,92817.206401871299,105440.52166938786,103972.99954404986,96568.217300218064,89247.580309157085,82347.669581950162,75994.702997753571,74648.378953420513,74438.015821493478,78519.060580878038,82263.524329179359,83820.211505439453,89205.507682771669,100186.46316936317,103972.99954404986,97536.189067628569,91154.803030238851,84627.299163425589,78617.219383615826,77193.890069246918,76967.622635143896,81357.210856742167,85384.771183775607,87059.150196137824,92851.596509174677,104662.75656935139,109676.78243470725,101608.61967374288,93632.140580516745,86680.517761510564,79758.400847274082,78291.462163462391,78062.252994116803,82508.910879421033,86588.834093772341,87197.595393822994,93563.821248290726,106544.95365466645,65932.836427840928,61375.267383536644,57778.171005562137,54582.743594672735,52427.807061045612,52501.413182472737,52691.837616906378,55550.609387394114,59285.840612315122,60695.313547204016,61795.475303786909,65471.130171922647,69572.846162431524,64869.097200255193,60218.799930830879,55835.761125166566,51800.158322390293,50944.931238358229,50811.302006478218,53403.709104950402,55782.309432414564,56771.165748326632,58080.732220750724,52823.1718602443,52533.597124656691,50055.158634441432,52533.597124656691,52533.597124656691,52533.597124656691,52533.597124656691,52533.597124656691,52533.597124656691,52533.597124656691,52533.597124656691,52533.597124656691,52533.597124656691,52278.805494815344,52278.805494815344,52278.805494815344,52278.805494815344,52278.805494815344]
["     US DOMESTIC CONSUMPTION",1598241.7846044169,1489219.1290018039,1335201.7570214712,1051722.5243058691,1098824.7200226483,981337.4937378359,987438.99599045306,1090555.8992885104,1132530.3730097329,1097292.0914913954,1265138.7573211773,1584010.7245265595,1332772.9521345855,1434218.5831373397,1315796.4459479314,1096325.6200716437,1133473.1781102661,1084097.9825369706,1047680.791736073,1092483.2482216589,1151842.3880466048,1242395.6443592529,1287880.490360925,1398547.4021452246,1631030.4598764991,1665559.5458791435,1281637.1007922713,1153156.8224321418,1092194.281163469,1082964.565951112,1139336.6689517861,1201003.7333833501,1264236.0052090613,1277916.6030684342,1383624.3559565244,1472633.7207973485,1486326.1226547295,1405715.6513918098,1244066.5472332067,1133351.2437359581,1017795.9907783176,1091636.0607521553,1080736.0278541534,1068994.6688099133,891713.05303336214,1122619.8577125175,1123349.711972879,1134833.515566664,1300035.4102302415,1164438.8670528231,1138413.6144759813,1001726.4857348811,937738.37722922466,1002343.1097876173,1009232.4442079162,1112466.2436651168,1101932.3163828419,1234189.7420126365,1388107.6831664911,1438578.045432386,1469643.6336439759,1414840.1270373764,1162600.7554652896,1005704.7281155012,972604.91370596539,1023485.63232552,1031593.6810614252,1060084.5180447397,1137393.0241710506,1126175.9432207402,1187492.5049355784,1540535.6591433766,1529162.1123575459,1475641.0266249094,1291071.0183630101,1089474.9139982502,1045632.5006135886,1051582.2158439788,983332.83815095783,1024303.2867527934,1098494.3296456155,1131321.6895106928,1248837.292747549,1338053.4391003619,1316260.1132893933,1320014.4352506779,1104402.0711284413,1006747.4954392874,1000393.4606429205,1033168.9823096498,1049765.3225784011,1082774.931605156,1086087.1963920365,1136224.3652277361,1231623.9907168802,1402140.9311085695,1568283.8994358273,1439141.4027173219,1280546.4697234165,1080391.1437989229,1013377.9061643473,1045688.6347377086,1120499.8477688162,1087420.4327041851,1132280.0887246656,1291259.1971075153,1373559.2762217757,1438559.9658989513,1485553.9394416476,1404656.6377706099,1185829.2865677634,1026792.1979216289,976489.30421104631,1004382.4729310598,996137.30201987864,1037762.1601214367,1081259.2770656103,1184954.0329654519,1285950.3358092287,1452040.2018460883,1473951.6950396183,1408773.3150134312,1232695.620977219,1101747.1907843354,1066714.7143139187,1090410.9418913159,979611.18581605202,1021478.4872163753,1041389.358106077,1099437.8975811503,1189063.1830635031,1353768.8497135497,1422194.2126844423,1371161.5666936019,1131175.5559748854,974147.78886581748,895338.11738034734,904236.15416195686,979805.79861697205,1123362.9984280416,1129147.8917286801,1212287.9065875139,1270324.2663768199,1420713.1252742654,1471176.6857403868,1379738.4194766863,1270437.550865524,1116692.69554263,1027068.3426464431,1008770.1579763638,1010466.5614415419,1034551.1168770569,1024182.5155312464,1182053.6566959189,1270169.3518659628,1357347.0802782951,1532745.0716565314,1374782.181322902,1217114.848267749,1129026.3740933647,955738.26865907223,1030506.3016578223,990521.40982146852,1042138.6564437851,1078506.1323401232,1228066.7722688168,1294972.9833494402,1372798.7278534092,1452617.5359625556,1427247.4044953322,1195747.6515204648,982597.73701690591,944384.00113692915,930222.66280754621,935131.14195316832,1004638.5015200329,1012974.4019997816,1135837.787645705,1189993.576191697,1288412.2600902142,1313777.7584052747,1266926.7926956303,1095660.0799887576,965981.08952745073,915388.38970972551,903546.04659382626,922987.1900644761,968617.44194948091,996401.97378896282,1114558.238060141,1258606.1070975137,1544888.8543962294,1593626.4653007097,1488096.0177049364,1262163.4581823819,1208226.9027280367,1205305.7325624612,986471.06997113978,975833.96295391652,1077304.096305344,1114220.6282585473,1280757.2818594931,1342050.0323046029,1532692.0020051422,1648721.8944214522,1562477.827874654,1349414.043824692,1136886.670504147,984645.65786069108]
["EXPORTS",28451.612903225803,34964.285714285717,33838.709677419356,37600,39419.354838709674,41766.666666666664,39322.580645161288,40451.61290322581,32200,43677.419354838712,33566.666666666672,44225.806451612902,49580.645161290318,102892.85714285713,65548.387096774197,57800,33322.580645161288,26266.666666666664,25774.193548387098,29548.387096774193,24466.666666666668,42548.38709677419,43399.999999999993,46064.51612903225,77677.419354838712,54178.571428571435,51258.06451612903,26066.666666666672,29838.709677419352,25466.666666666664,37677.419354838705,24741.93548387097,21066.666666666664,20354.83870967742,97333.333333333328,45096.774193548386,119709.67741935485,117034.4827586207,87451.612903225818,50500,71935.483870967742,21533.333333333336,17838.709677419356,19129.032258064515,20366.666666666668,56354.838709677417,20066.666666666664,30612.903225806451,76290.322580645166,120178.57142857143,85322.580645161288,73433.333333333328,41806.45161290322,45900,54580.645161290326,107225.80645161291,76900,116451.61290322579,99899.999999999985,120709.67741935483,131161.29032258067,94785.714285714275,94193.548387096758,93166.666666666672,121225.80645161291,90866.666666666672,105322.5806451613,94935.483870967728,104366.66666666667,120354.83870967742,119533.33333333334,138290.32258064515,127290.32258064515,105392.85714285714,155129.03225806452,174666.66666666669,148258.06451612903,123766.66666666667,101741.93548387096,114064.51612903227,133533.33333333331,58774.193548387091,121900,123064.51612903227,164129.03225806452,149524.63054187191,151516.12903225809,186999.99999999997,145225.80645161291,159633.33333333334,167322.5806451613,155387.09677419355,148400,188838.70967741933,232933.33333333334,203870.96774193546,162580.6451612903,188678.57142857145,284548.38709677418,282800.00000000006,308129.03225806454,267433.33333333337,274709.67741935485,294258.06451612903,333266.66666666663,407451.61290322582,409833.33333333337,399967.74193548388,355354.83870967739,341678.57142857148,330838.70967741933,406666.66666666663,450516.12903225812,383666.66666666669,435741.93548387097,403838.70967741933,462133.33333333331,548548.38709677418,424166.66666666669,522419.3548387097,510838.70967741933,661928.57142857148,470129.03225806449,628500,582870.9677419354,538233.33333333337,606741.93548387091,596580.6451612903,739033.33333333337,604774.19354838703,697399.99999999988,750580.6451612903,865838.70967741939,884275.86206896557,672999.99999999988,700500,893774.19354838715,742266.66666666674,755096.77419354848,675677.41935483878,595333.33333333337,861580.64516129042,849100,1053612.9032258063,1042677.4193548387,897295.56650246296,1009806.4516129032,892999.99999999988,855032.25806451612,755866.66666666663,794806.45161290315,715645.16129032255,923576.83233532938,1043754.2516901681,936543.49900199613,1001657.4774966197,849463.92910952284,818505.40376390074,889302.63878694235,876076.83233532938,1002851.0258837165,876810.16566866275,1074915.5420127488,1032851.0258837163,823343.49900199613,927883.28394823254,1038443.4990019959,1163334.8968514586,1029978.7008395933,891832.38747553818,918333.53954927076,1166444.2922374429,1085333.5395492711,1157910.9589041097,1188204.5072912064,1035398.055678303,1123910.9589041094,1168494.8298718515,1158910.9589041097,1235107.733097658,1263204.5072912066,1190941.9933868684,1337139.9911621741,1213510.9589041097,1053107.7330976578,1250210.9589041099,1218172.2492266905,1138946.4427750774,1209610.9589041097,1375301.2814847548,1330533.3333333335,1591258.064516129,1468741.935483871,1206214.2857142857,1180193.5483870967,1403099.9999999998,1483794.1802449308,1357930.6713585833,1346766.6264181973,1302718.9006445091,1288878.6755885698,1288998.9271445964,1286091.747534595,1335861.6294835866,1230352.9864163268,1165486.4028880759,1173302.0839740161,1174238.3567154829,1349406.588677892]
["     TOTAL DEMAND",1626693.3975076426,1524183.4147160896,1369040.4666988906,1089322.5243058691,1138244.0748613579,1023104.1604045025,1026761.5766356144,1131007.5121917361,1164730.3730097329,1140969.5108462342,1298705.423987844,1628236.5309781723,1382353.5972958759,1537111.4402801967,1381344.8330447057,1154125.6200716437,1166795.7587554273,1110364.6492036374,1073454.98528446,1122031.6353184332,1176309.0547132716,1284944.0314560272,1331280.490360925,1444611.9182742569,1708707.8792313379,1719738.1173077149,1332895.1653084003,1179223.4890988085,1122032.9908408883,1108431.2326177787,1177014.0883066249,1225745.6688672211,1285302.6718757281,1298271.4417781115,1480957.6892898576,1517730.4949908969,1606035.8000740844,1522750.1341504306,1331518.1601364324,1183851.2437359581,1089731.4746492852,1113169.3940854885,1098574.7375315728,1088123.7010679778,912079.71970002877,1178974.6964221948,1143416.3786395458,1165446.4187924706,1376325.7328108866,1284617.4384813944,1223736.1951211425,1075159.8190682144,979544.82884212793,1048243.1097876173,1063813.0893692065,1219692.0501167297,1178832.3163828419,1350641.3549158622,1488007.6831664911,1559287.7228517409,1600804.9239665566,1509625.8413230907,1256794.3038523863,1098871.3947821679,1093830.7201575784,1114352.2989921868,1136916.2617065865,1155020.0019157075,1241759.6908377174,1246530.7819304175,1307025.8382689117,1678825.9817240217,1656452.434938191,1581033.8837677664,1446200.0506210746,1264141.5806649169,1193890.5651297176,1175348.8825106455,1085074.7736348289,1138367.8028818257,1232027.6629789488,1190095.88305908,1370737.292747549,1461117.9552293941,1480389.1455474577,1469539.0657925499,1255918.2001606994,1193747.4954392873,1145619.2670945334,1192802.3156429832,1217087.9032235623,1238162.0283793495,1234487.1963920365,1325063.0749051555,1464557.3240502134,1606011.898850505,1730864.5445971177,1627819.9741458932,1565094.8568201908,1363191.1437989229,1321506.9384224119,1313121.9680710421,1395209.5251881711,1381678.4972203141,1465546.7553913323,1698710.810010741,1783392.6095551089,1838527.7078344352,1840908.778151325,1746335.2091991813,1516667.9962451828,1433458.8645882956,1427005.4332433045,1388049.1395977265,1431879.2375037496,1441600.8697988561,1543392.6103989435,1733502.4200622262,1710117.0024758955,1974459.5566847981,1984790.4047170377,2070701.8864420028,1702824.6532352834,1730247.1907843354,1649585.6820558542,1628644.2752246493,1586353.1212999229,1618059.1323776655,1780422.6914394102,1704212.0911295372,1886463.1830635029,2104349.4948748401,2288032.9223618619,2255437.4287625672,1804175.5559748854,1674647.7888658175,1789112.3109287345,1646502.8208286236,1734902.5728105204,1799040.4177828804,1724481.2250620136,2073868.5517488043,2119424.2663768199,2474326.0285000717,2513854.1050952254,2277033.9859791491,2280244.0024784273,2009692.6955426298,1882100.6007109592,1764636.8246430303,1805273.0130544449,1750196.2781673796,1947759.3478665757,2225807.908386087,2206712.8508679587,2359004.5577749149,2382209.0007660543,2193287.585086803,2106417.4870546912,2005103.2064286941,1958589.2945427888,1907316.4673264851,2065436.9518342172,2074989.6823275015,1901849.6313421193,2155950.0562170492,2333416.4823514363,2536133.6247048676,2482596.2368021486,2319079.7919708705,2114081.1910697357,2149042.0292543489,2029717.5406862004,2088133.621711656,2123335.6492443746,2040036.5571983359,2136885.3609038908,2304332.6175175565,2348904.5350958067,2523519.9931878722,2576982.2656964813,2457868.7860824987,2432800.0711509315,2179492.0484315604,1968496.1228073833,2153757.0054979362,2141159.4392911666,2107563.8847245583,2206012.9326930726,2489859.5195448957,2589139.440430847,3136146.9189123586,3062368.400784581,2694310.3034192221,2442357.0065694787,2611326.9027280365,2689099.912807392,2344401.741329723,2322600.5893721138,2380022.9969498534,2403099.3038471173,2569756.2090040892,2628141.7798391981,2868553.6314887288,2879074.880837779,2727964.2307627299,2522716.1277987082,2311125.0272196298,2334052.2465385832]
[]
["INVENTORIES (End of Month, Thousand Barrels)",41716,32297,27158,35460,43537,52869,61699,65156,68866,71442,72363,57231,48238,36228,30047,35266,42042,49595,58401,64259,71071,72365,68543,61599,46974,29955,26867,29533,36516,43658,49714,54782,58299,60970,59696,52007,39367,29003,25570,30285,38135,42506,47514,54090,58981,59569,60640,55408,46160,39628,40047,44762,55558,64160,69855,71310,75053,71835,62575,50140,35203,27653,27845,34975,42122,49028,54549,58801,61368,61412,61201,49241,34646,26631,24258,28117,33515,40130,47085,52026,57400,59720,59023,54978,47515,44351.53571428571,45074,50136,56169,61790,68736,73064,76200,74639,72933,67991,55875,46995,40675,41058,46901,55308,59921,65365,68099,62526,56088,45077,31544,28214,28807,34812,47222,57899,67863,77239,81408,81544,80706,77946,68328,55894,59233,67514,78296,84750,91007,97570,100190,104546,104406,96247,78414,64797,66378,73861,76605,85179,90602,98823,103828,102093,100909,84096,59442,49494,43978,42886,50160,60799,68069,78360,75770,77480,74512,66754,49631,42269,37564,39107,47544,60290,64300,70946,79626,83030,78176,68029,55105,49665,53127,57637,67659,75972,82249,95773,100754,99226,92604,83830,78673,67940,64237,65840,70865,79354,89124,99415,104767,98995,94338,74207,57633,42243,40359,42856.121007013273,47803.673651566532,59652.66711530694,66134.411142500874,70068.077824032182,72836.435575942553,72325.029538758201,71621.647729461809,66111.1168191248,59962.058197011414,56461.260830301333,59547.19386602685,67912.424882604406,76283.185428181576]
["Days of Forward Supply",25.644660551223517,21.189707018309196,19.837251462321593,32.552342587972817,38.249265655349852,51.67509042197355,60.090873484152837,57.608812759993683,59.126130472622719,62.6151700995173,55.719333009174619,35.149070120431553,34.895557905272511,23.568883199123206,21.751990727595217,30.55646576653486,36.032013044720408,44.665506989591158,54.404703318345518,57.270221246269287,60.418645691139176,56.317628027735964,51.48652030603801,42.640517650987249,27.490948318873119,17.418349746701644,20.156874073276132,25.044446852538396,32.544497620015356,39.38719761341715,42.237387380404037,44.692795080913527,45.358187822733129,46.96244409142632,40.309051657394185,34.266294425554079,24.511906894095418,19.046460315159514,19.203643454160627,25.581761357472253,34.994859639410905,38.184664639401369,43.250584941322174,49.709421775218608,64.666496498132958,50.526105590537746,53.034048779457223,47.542297188925012,33.538572228629974,30.848094392090836,32.725190412493752,41.632880252903163,56.718180081326544,61.207175511985326,65.664730673149435,58.465577432578435,63.667239994144779,53.185843701990706,42.05287426126722,32.155707548508275,21.990811917777091,18.317783945566212,22.155574635123799,31.828110337637085,38.50870086546103,43.99685812497593,47.979786935335362,50.909075083092155,49.420190116333899,49.266332520802585,46.824629022680661,29.330615880410299,20.915783193794383,16.844041277936174,16.773613020952624,22.241970701739703,28.072087156797789,34.143053689963864,43.393322878821245,45.702276424450872,46.589862975325723,50.180830679367467,43.059308528545564,37.627352263540217,32.096290453702721,30.180576172955359,35.889280045653145,41.998831571621807,49.029377921037607,51.80238098941981,56.475789314762537,59.010047413289406,61.7260350878529,56.328639302957306,49.798665304752141,42.335302776190026,32.2815555812345,28.869900078881866,25.988840115825028,30.1190337002778,35.490543890741471,42.119468979143413,42.94767124093314,47.308400710803923,46.466617151232484,36.807913172463209,31.450169580994228,24.517987848600495,17.135015256799999,16.156119312819744,18.993609722970046,24.285314953909314,33.091674985899402,41.712500190576705,47.394359958950304,53.578630270094813,52.746138248619232,47.040026628329066,47.193262147066207,39.477131722502669,34.42580125216859,26.99277977480391,34.785143548080654,39.019858179567592,47.464039517135511,52.03714604179595,57.368689718607619,60.300639233515064,56.273153831239846,61.34565089883138,55.344838392473122,45.737174473351658,34.271360011313028,28.729238583023118,36.791319880250057,44.105393678048308,42.817323167506501,51.733285192388905,52.223105446910424,54.93095042399797,60.208251902693966,49.228288800613406,47.61151488206044,33.987436995511345,23.645763642177762,21.736170959572679,19.286532472928219,21.339580969328502,26.651072732803005,34.454114949289398,37.705654218377838,44.772121262907895,38.90110966890883,34.809832289696573,33.766060668334106,28.297529048847796,20.834024211998194,19.27198251948667,17.83312198595733,19.503734209100291,24.274614454634108,31.609856587936569,31.131427150510792,34.191013383941439,41.867663293553129,38.512023857217308,33.502806117671838,26.823902075710464,22.196521199508936,21.415821987648037,25.130066065777481,26.819857041138583,33.33419485409091,36.382729155869484,38.735750529724172,46.946707725438465,47.149932253446487,43.060623820399492,39.42433530880934,33.219471304485516,30.529119678957915,27.641833601820103,26.404553650645926,30.208873690262276,35.999562904363472,36.844453574582253,41.624177239927825,47.170574861597963,47.491562015505401,39.759271245188408,36.43604455088817,23.661837891745069,18.819747482123439,15.678594980834761,16.52461122245516,16.411626197486711,17.776830613058184,25.444729059735515,28.474293619455032,29.440084366339637,30.309374006866395,28.144704655383563,27.251820384607999,23.046847056791577,20.82684913688772,20.697214499221989,23.604397343741969,29.385006904756512,32.68272402269919]
["Days per Month",31,28,31,30,31,30,31,31,30,31,30,31,31,28,31,30,31,30,31,31,30,31,30,31,31,28,31,30,31,30,31,31,30,31,30,31,31,29,31,30,31,30,31,31,30,31,30,31,31,28,31,30,31,30,31,31,30,31,30,31,31,28,31,30,31,30,31,31,30,31,30,31,31,28,31,30,31,30,31,31,30,31,30,31,31,29,31,30,31,30,31,31,30,31,30,31,31,28,31,30,31,30,31,31,30,31,30,31,31,28,31,30,31,30,31,31,30,31,30,31,31,28,31,30,31,30,31,31,30,31,30,31,31,29,31,30,31,30,31,31,30,31,30,31,31,28,31,30,31,30,31,31,30,31,30,31,31,28,31,30,31,30,31,31,30,31,30,31,31,28,31,30,31,30,31,31,30,31,30,31,31,29,31,30,31,30,31,31,30,31,30,31,31,28,31,30,31,30,31,31,30,31,30,31,31,28,31,30,31]

{"sheet":"PADD1 mthly rpt","index":1,"n_rows":85,"n_cols":211,"rows_kept":85,"cut":false,"hidden":false,"merged":[]}
[null,null,null,null,null,null,null,null,null,null,null,null,null,null,null,null,null,null,null,null,null,null,null,null,null,null,null,null,null,null,null,null,null,null,null,null,null,null,null,null,null,null,null,null,null,null,null,null,null,null,null,null,null,null,null,null,null,null,null,null,null,null,null,null,null,null,null,null,null,null,null,null,null,null,null,null,null,null,null,null,null,null,null,null,null,null,null,null,null,null,null,null,null,null,null,null,null,null,null,null,null,null,null,null,null,null,null,null,null,null,null,null,null,null,null,null,null,null,null,null,null,null,null,null,null,null,null,null,null,null,null,null,null,null,null,null,null,null,null,null,null,null,null,null,null,null,null,null,null,null,null,null,null,null,null,null,null,null,null,null,null,null,null,null,null,null,null,null,null,null,null,null,null,null,"Legend:  BLACK - Actual / RED - Estimated (Inventory from US Dept. of Energy; Supply and Demand prepared by IHS) / BLUE - Forecast"]
["PADD I (East Coast)                 (includes CT, MA, RI, ME, NH, VT, DE, NY, NJ, MD, PA, DC, FL, GA, NC, SC, VA, & WV)",null,null,null,null,null,null,null,null,null,null,null,null,null,null,null,null,null,null,null,null,null,null,null,null,null,null,null,null,null,null,null,null,null,null,null,null,null,null,null,null,null,null,null,null,null,null,null,null,null,null,null,null,null,null,null,null,null,null,null,null,null,null,null,null,null,null,null,null,null,null,null,null,null,null,null,null,null,null,null,null,null,null,null,null,null,null,null,null,null,null,null,null,null,null,null,null,null,null,null,null,null,null,null,null,null,null,null,null,"","","","","","","","","","","","","","","","","","","","","","","","","","","","","","","","","","","","","","","","","",null,"","","","","","","","","","","","","","","",null,null,null,null,null,null,null,null,null,null,null,null,null,null,null,null,null,null,null,null,null,null,null,null,null,null,null,null,null,null,null,null,"   FCST -->"]
["(Barrels per Day)","2005-01-15","2005-02-15","2005-03-15","2005-04-15","2005-05-15","2005-06-15","2005-07-15","2005-08-15","2005-09-15","2005-10-15","2005-11-15","2005-12-15","2006-01-15","2006-02-15","2006-03-15","2006-04-15","2006-05-15","2006-06-15","2006-07-15","2006-08-15","2006-09-15","2006-10-15","2006-11-15","2006-12-15","2007-01-15","2007-02-15","2007-03-15","2007-04-15","2007-05-15","2007-06-15","2007-07-15","2007-08-15","2007-09-15","2007-10-15","2007-11-15","2007-12-15","2008-01-15","2008-02-15","2008-03-15","2008-04-15","2008-05-15","2008-06-15","2008-07-15","2008-08-15","2008-09-15","2008-10-15","2008-11-15","2008-12-15","2009-01-15","2009-02-15","2009-03-15","2009-04-15","2009-05-15","2009-06-15","2009-07-15","2009-08-15","2009-09-15","2009-10-15","2009-11-15","2009-12-15","2010-01-15","2010-02-15","2010-03-15","2010-04-15","2010-05-15","2010-06-15","2010-07-15","2010-08-15","2010-09-15","2010-10-15","2010-11-15","2010-12-15","2011-01-15","2011-02-15","2011-03-15","2011-04-15","2011-05-15","2011-06-15","2011-07-15","2011-08-15","2011-09-15","2011-10-15","2011-11-15","2011-12-15","2012-01-15","2012-02-15","2012-03-15","2012-04-15","2012-05-15","2012-06-15","2012-07-15","2012-08-15","2012-09-15","2012-10-15","2012-11-15","2012-12-15","2013-01-15","2013-02-15","2013-03-15","2013-04-15","2013-05-15","2013-06-15","2013-07-15","2013-08-15","2013-09-15","2013-10-15","2013-11-15","2013-12-15","2014-01-15","2014-02-15","2014-03-15","2014-04-15","2014-05-15","2014-06-15","2014-07-15","2014-08-15","2014-09-15","2014-10-15","2014-11-15","2014-12-15","2015-01-15","2015-02-15","2015-03-15","2015-04-15","2015-05-15","2015-06-15","2015-07-15","2015-08-15","2015-09-15","2015-10-15","2015-11-15","2015-12-15","2016-01-15","2016-02-15","2016-03-15","2016-04-15","2016-05-15","2016-06-15","2016-07-15","2016-08-15","2016-09-15","2016-10-15","2016-11-15","2016-12-15","2017-01-15","2017-02-15","2017-03-15","2017-04-15","2017-05-15","2017-06-15","2017-07-15","2017-08-15","2017-09-15","2017-10-15","2017-11-15","2017-12-15","2018-01-15","2018-02-15","2018-03-15","2018-04-15","2018-05-15","2018-06-15","2018-07-15","2018-08-15","2018-09-15","2018-10-15","2018-11-15","2018-12-15","2019-01-15","2019-02-15","2019-03-15","2019-04-15","2019-05-15","2019-06-15","2019-07-15","2019-08-15","2019-09-15","2019-10-15","2019-11-15","2019-12-15","2020-01-15","2020-02-15","2020-03-15","2020-04-15","2020-05-15","2020-06-15","2020-07-15","2020-08-15","2020-09-15","2020-10-15","2020-11-15","2020-12-15","2021-01-15","2021-02-15","2021-03-15","2021-04-15","2021-05-15","2021-06-15","2021-07-15","2021-08-15","2021-09-15","2021-10-15","2021-11-15","2021-12-15","2022-01-15","2022-02-15","2022-03-15","2022-04-15","2022-05-15","2022-06-15"]
["SUPPLY"]
["Gas Processing",9967.7419354838712,7142.8571428571431,10032.258064516129,9033.3333333333339,9580.645161290322,9300,7225.8064516129034,9451.6129032258068,9566.6666666666661,9677.4193548387102,9500,9774.1935483870966,9677.4193548387102,11178.571428571429,11322.58064516129,10966.666666666666,13225.806451612903,12733.333333333334,11903.225806451614,10451.612903225807,10966.666666666666,9709.677419354839,11133.333333333334,11000,10774.193548387097,11250,11064.516129032258,11433.333333333334,10838.709677419354,10266.666666666666,9225.8064516129034,9000,10600,10387.096774193549,10733.333333333334,10935.483870967742,10354.838709677419,10413.793103448275,10193.548387096775,9400,10419.354838709678,10266.666666666666,10483.870967741936,10290.322580645161,8466.6666666666661,10774.193548387097,10833.333333333334,10774.193548387097,10322.58064516129,10535.714285714286,11000,10833.333333333334,10645.161290322581,10600,11290.322580645161,11483.870967741936,10700,11967.741935483871,11766.666666666666,11645.161290322581,13580.645161290322,13857.142857142857,15096.774193548386,14433.333333333334,14677.41935483871,15266.666666666666,15258.064516129032,15064.516129032258,12033.333333333334,13838.709677419354,17566.666666666668,15935.483870967742,15838.709677419354,17714.285714285714,17838.709677419356,17833.333333333332,18387.096774193549,19300,19967.741935483871,19516.129032258064,19866.666666666668,19967.741935483871,22066.666666666668,24161.290322580644,23612.903225806451,24142.857142857141,22580.645161290322,22566.666666666668,23451.612903225807,24200,22129.032258064515,25387.096774193549,26166.666666666668,27032.258064516129,30466.666666666668,31451.612903225807,31935.483870967742,36035.714285714283,37774.193548387098,44033.333333333336,47032.258064516129,51566.666666666664,52096.774193548386,51774.193548387098,51366.666666666664,54290.322580645159,59733.333333333336,58645.161290322583,56000,63642.857142857145,67516.129032258061,65333.333333333336,69612.903225806454,74433.333333333328,79483.870967741939,86516.129032258061,91333.333333333328,94516.129032258061,93500,98290.322580645166,103870.96774193548,102750,107419.35483870968,111333.33333333333,112225.80645161291,113800,112580.64516129032,113838.70967741935,115366.66666666667,110516.12903225806,106966.66666666667,112193.54838709677,113483.87096774194,118000,118419.35483870968,120466.66666666667,118838.70967741935,109700,122967.74193548386,127129.03225806452,125733.33333333333,120419.35483870968,125600,125451.6129032258,127516.12903225806,130214.28571428571,130387.09677419355,134700,141677.4193548387,142133.33333333331,142258.06451612903,147258.06451612903,149533.33333333334,152032.25806451612,156833.33333333334,154032.25806451612,143967.74193548388,152071.42857142858,154580.64516129033,154500,159741.93548387097,159900,161870.96774193548,167806.45161290324,174833.33333333334,178483.87096774191,177200,169161.29032258064,181838.70967741936,180285.71428571429,183516.12903225809,186400,184258.06451612903,194300,194290.32258064515,195193.54838709676,203166.66666666666,202451.61290322579,208200,210129.03225806452,212387.09677419355,217310.34482758623,215838.70967741936,206800,207483.87096774191,222666.66666666666,220709.67741935485,225870.96774193548,222400,225806.45161290324,223400,229161.29032258064,230516.12903225809,218714.28571428571,217419.35483870967,224833.33333333334,229677.41935483873,229244.25097633334,231733.59936387101,228384.06854678079,226064.03252273914,226704.47032039321,231313.7153536577,231177.95203785007,233182.84387884784,233342.96944483498,237087.40401668611,236032.0076642783,234384.3575448991,232531.69960005084]
["Refinery Production",50774.193548387098,52285.714285714283,50806.451612903227,56366.666666666664,50096.774193548386,45366.666666666664,44032.258064516129,45193.548387096773,45000,44419.354838709674,41833.333333333336,38903.225806451614,42064.516129032258,40142.857142857145,31580.645161290322,38700,43774.193548387098,46066.666666666664,47483.870967741932,48774.193548387098,49233.333333333336,48709.677419354841,50333.333333333336,50838.709677419356,51193.548387096773,46428.571428571428,52290.322580645159,53166.666666666664,53838.709677419356,53066.666666666664,49387.096774193546,47290.322580645159,51800,53258.06451612903,52633.333333333336,54322.580645161288,51967.741935483871,48241.379310344826,44709.677419354841,46800,52741.93548387097,49400,49322.580645161288,52258.06451612903,53200,51548.387096774197,47966.666666666664,44064.516129032258,42935.483870967742,39285.714285714283,27548.387096774193,39533.333333333336,44387.096774193546,48233.333333333336,48193.548387096773,45870.967741935485,48166.666666666664,49225.806451612902,43733.333333333336,41064.516129032258,34096.774193548386,43392.857142857145,35322.580645161288,42466.666666666664,39548.387096774197,39000,38225.806451612902,39870.967741935485,39366.666666666664,32161.290322580644,36066.666666666664,41322.580645161288,39290.322580645159,37785.714285714283,35290.322580645159,32466.666666666668,43129.032258064515,42133.333333333336,41387.096774193546,40258.06451612903,45833.333333333336,43677.419354838712,43833.333333333336,40709.677419354841,38548.387096774197,40250,40967.741935483871,37433.333333333336,39935.483870967742,38900,33193.548387096773,31806.451612903227,31566.666666666668,31903.225806451614,23366.666666666668,37096.774193548386,36548.387096774197,36357.142857142855,36064.516129032258,39100,39516.129032258068,37466.666666666664,34225.806451612902,33806.451612903227,35933.333333333336,19225.806451612902,22133.333333333332,37096.774193548386,31903.225806451614,33571.428571428572,33612.903225806454,39033.333333333336,38645.161290322583,38500,38258.06451612903,39322.580645161288,39233.333333333336,40225.806451612902,36800,38870.967741935485,36580.645161290326,28250,38483.870967741932,41400,41161.290322580644,39600,37677.419354838712,34225.806451612902,31800,36451.612903225803,39466.666666666664,39258.06451612903,37419.354838709674,32586.206896551725,33322.580645161288,36966.666666666664,38870.967741935485,37266.666666666664,32483.870967741936,32193.548387096773,34666.666666666664,33548.387096774197,38900,35064.516129032258,32838.709677419356,32785.714285714283,30548.387096774193,34200,39677.419354838712,37766.666666666664,35258.06451612903,37354.838709677417,36366.666666666664,38516.129032258061,40266.666666666664,38612.903225806447,32322.580645161288,24607.142857142859,22387.096774193549,37800,38258.06451612903,39766.666666666664,36387.096774193553,28580.645161290326,28233.333333333336,36774.193548387098,35666.666666666664,33516.129032258061,35354.838709677417,21178.571428571428,23354.83870967742,32133.333333333332,37709.677419354841,32833.333333333336,26322.580645161292,28096.774193548386,30500,31677.419354838708,33133.333333333336,33258.06451612903,32322.580645161288,19965.517241379308,23806.451612903224,22900,25096.774193548386,23233.333333333336,20903.225806451614,26354.83870967742,28000,28580.645161290326,30400,26677.419354838708,26709.677419354841,27500,29000,29300,26161.290322580644,29976.147367942507,27451.37001606627,25784.574971970444,26251.647964611315,27745.507381763517,28260.282580451603,28956.090685216463,25103.481333864354,26247.619281798772,26647.664460110638,29986.582698625898,29980.350810748543,28664.45310169613]
["Imports",71451.612903225803,98071.428571428565,74258.06451612903,49433.333333333328,45000,18766.666666666668,35709.677419354841,33741.93548387097,50500,43967.741935483871,51700,96000,90451.612903225803,78678.571428571435,67354.838709677424,89266.666666666672,67290.322580645166,79700,63935.483870967742,19451.612903225807,46600,63741.93548387097,69866.666666666672,61387.096774193553,104903.22580645162,65000,91290.322580645166,34800,49935.483870967742,23766.666666666664,33612.903225806454,51612.903225806447,39200,51387.096774193546,58933.333333333336,78935.483870967742,104548.3870967742,88724.137931034493,62064.516129032258,78733.333333333343,94870.967741935485,16000,38709.677419354834,39225.806451612909,24833.333333333332,46548.387096774197,46533.333333333336,78806.451612903227,85225.806451612894,108071.42857142857,103548.3870967742,64866.666666666664,37903.225806451614,16933.333333333336,49161.290322580644,15612.903225806451,38433.333333333336,47419.354838709682,69033.333333333328,85129.032258064515,80677.419354838712,114214.28571428571,67935.483870967742,34733.333333333328,43774.193548387098,34333.333333333336,18903.225806451614,17258.06451612903,27133.333333333336,55419.354838709682,50533.333333333336,107096.77419354839,80516.129032258075,77678.571428571435,50741.935483870962,49533.333333333328,27677.419354838712,28833.333333333332,19000,23032.258064516129,46366.666666666664,26000,38800,60677.419354838712,44129.032258064515,46642.857142857145,49161.290322580644,65833.333333333328,53064.516129032258,51966.666666666664,41258.06451612903,18548.387096774193,20000,28419.354838709674,50800,59290.322580645166,64677.419354838705,64250,52193.548387096773,36466.666666666664,21774.193548387095,25300,11806.451612903225,19000,27133.333333333336,40064.516129032258,54233.333333333328,64548.387096774197,74000,99535.714285714275,43935.483870967742,24866.666666666668,19387.096774193549,22833.333333333332,18419.354838709678,17451.612903225807,19800,24451.612903225807,33966.666666666672,51806.451612903227,78193.548387096773,78607.142857142855,69709.677419354848,38066.666666666672,26935.483870967742,24400,27000,37677.419354838712,27400,47032.258064516129,41433.333333333336,52000,55806.451612903227,78793.10344827587,43387.096774193546,28266.666666666664,25580.645161290326,23933.333333333336,30838.709677419356,42548.387096774197,24900,28645.16129032258,40866.666666666664,52709.677419354834,79967.741935483878,72642.857142857145,49064.516129032258,31633.333333333336,40290.322580645166,18700,18354.83870967742,22516.129032258064,24633.333333333332,28161.290322580644,43233.333333333336,49225.806451612902,91516.129032258061,70464.28571428571,34677.419354838712,37400,20064.516129032261,13766.666666666668,13870.967741935485,22612.903225806451,16600,25774.193548387095,46066.666666666672,54709.677419354841,63451.61290322581,54928.571428571428,45419.354838709682,34100,24451.612903225807,21666.666666666668,17258.06451612903,15000,17233.333333333336,25516.129032258064,31866.666666666668,45709.677419354841,61580.645161290318,24517.241379310344,28354.83870967742,21700,25580.645161290326,8233.3333333333321,33806.451612903227,14516.129032258064,12300,22645.16129032258,37166.666666666664,48838.709677419349,38645.161290322583,53857.142857142855,45774.193548387098,25533.333333333336,15193.548387096775,15746.595233589178,88778.997525033876,20098.936981071311,25435.174326566033,32093.08630671924,39355.785003992831,46885.088647033634,52468.433056970003,50262.479375529627,51194.489217888593,35809.054681011999,32090.559770244119,29952.996091834677]
["Net Inter-PADD Transfers (+ = Receipt)",115301.92420697802,115301.92420697802,115301.92420697802,115301.92420697802,115301.92420697802,115301.92420697802,115301.92420697802,115301.92420697802,115301.92420697802,115301.92420697802,115301.92420697802,115301.92420697802,109107.46469171968,109107.46469171968,109107.46469171968,109107.46469171968,109107.46469171968,109107.46469171968,109107.46469171968,109107.46469171968,109107.46469171968,109107.46469171968,109107.46469171968,109107.46469171968,93028.332756775984,93028.332756775984,93028.332756775984,93028.332756775984,93028.332756775984,93028.332756775984,93028.332756775984,93028.332756775984,93028.332756775984,93028.332756775984,93028.332756775984,93028.332756775984,81560.341143746511,81560.341143746511,81560.341143746511,81560.341143746511,81560.341143746511,81560.341143746511,81560.341143746511,81560.341143746511,81560.341143746511,81560.341143746511,81560.341143746511,81560.341143746511,89655.412897404458,89655.412897404458,89655.412897404458,89655.412897404458,89655.412897404458,89655.412897404458,89655.412897404458,89655.412897404458,89655.412897404458,89655.412897404458,89655.412897404458,89655.412897404458,92775.798763025377,92775.798763025377,92775.798763025377,92775.798763025377,92775.798763025377,92775.798763025377,92775.798763025377,92775.798763025377,92775.798763025377,92775.798763025377,92775.798763025377,92775.798763025377,97272.537508153939,97272.537508153939,97272.537508153939,97272.537508153939,97272.537508153939,97272.537508153939,97272.537508153939,97272.537508153939,97272.537508153939,97272.537508153939,97272.537508153939,97272.537508153939,88512.506560585156,88512.506560585156,88512.506560585156,88512.506560585156,88512.506560585156,88512.506560585156,88512.506560585156,88512.506560585156,88512.506560585156,88512.506560585156,88512.506560585156,88512.506560585156,107452.05479452055,107452.05479452055,107452.05479452055,107452.05479452055,107452.05479452055,107452.05479452055,107452.05479452055,107452.05479452055,107452.05479452055,107452.05479452055,107452.05479452055,107452.05479452055,123416.43835616438,123416.43835616438,123416.43835616438,123416.43835616438,123416.43835616438,123416.43835616438,123416.43835616438,123416.43835616438,123416.43835616438,123416.43835616438,123416.43835616438,123416.43835616438,106293.1506849315,106293.1506849315,106293.1506849315,106293.1506849315,106293.1506849315,106293.1506849315,106293.1506849315,106293.1506849315,106293.1506849315,106293.1506849315,106293.1506849315,106293.1506849315,95375.34246575342,95375.34246575342,95375.34246575342,95375.34246575342,95375.34246575342,95375.34246575342,95375.34246575342,95375.34246575342,95375.34246575342,95375.34246575342,95375.34246575342,95375.34246575342,88542.465753424651,88542.465753424651,88542.465753424651,88542.465753424651,88542.465753424651,88542.465753424651,88542.465753424651,88542.465753424651,88542.465753424651,88542.465753424651,88542.465753424651,88542.465753424651,42000,42000,42000,42000,42000,42000,42000,42000,60000,60000,60000,60000,46310.66406277442,46310.66406277442,46310.66406277442,46310.66406277442,46310.66406277442,46310.66406277442,46310.66406277442,46310.66406277442,46310.66406277442,82257.46263499801,-44449.63181874872,-45837.447536715059,131599.04058181401,56460.422732069208,-32846.362556845823,-2142.1393280098055,52259.568977036972,94796.970729466877,58844.719145470961,69725.301824647671,75178.35066791912,15692.802573902416,22973.775634980382,36695.397988722216,36696.397988722209,36697.397988722209,36698.397988722209,27578.962710888482,46442.838571354034,29931.818181818187,-41992.668621700883,-1406.1525177142755,39504.545454545449,82655.425219941346,82040.909090909059,105338.70967741931,143916.66666666666,143801.41625615762,133865.7622119172,72250,-15972.87390029328,-42509.848484848473]
["Total Stock Change (Primary+Secondary+Tertiary)",48077.383455085488,30074.117810424868,26276.065396955026,-17684.243830755971,-36236.146617879815,1608.5855331720859,-35596.83106650698,1428.7912551461213,-5219.964335493918,-35264.206003291984,-14566.600739448031,36373.591539191766,-7411.9679245301804,9539.7405552100317,27984.813417744219,-38495.650542819276,-27312.680314722391,-30427.676466025965,-24857.36391613014,-8952.2908915127155,-10533.288757971604,-18761.589919434795,-13505.529959966379,-5242.0874002363616,26416.057845826777,139658.78705290903,-14412.44729258967,38423.516444579982,7967.0780274304307,13858.230169239609,9003.2463209270027,1682.6366411335985,38152.3045924338,5066.9540201716263,25679.539002731442,40038.133955052079,49733.719289906527,46028.316769282261,47216.232665395073,6712.0378019816417,-5294.2112228790138,34121.467676680128,19356.706465123978,2930.8532137196344,33907.305956035882,31611.979634923104,39281.972212842004,38513.35233808199,62210.619482393326,15923.199884211092,2928.0777159350109,5555.4082747850807,6179.4699809780323,46356.624840738848,4344.2058450630975,33929.193059213459,4052.2416744630791,11600.33623855376,-750.32944987616429,53347.304873746834,85694.913816962478,14253.111741681474,20189.514541635668,20060.412126471161,-9429.9911431125038,-4305.050811447134,13831.48317062014,11164.167080419596,15517.505836123688,730.14912685913077,13017.346624097991,43833.509471745056,55940.800869874962,37652.542493305926,39501.808479472493,-360.35019078322148,-11733.188413565018,-4758.6746334415911,3110.2676084242321,10435.006706845488,-13599.200596525188,-1829.0050682063666,31362.480606947422,15337.862149119654,37234.977411122956,42132.298026963035,-8086.5357289573249,-38259.180274681552,-25793.389020407529,-21387.829273917836,-38532.464993168265,-10569.693063546691,-22394.864174487455,1046.1400351129469,33109.109659105416,-11402.691570193054,48655.417393481061,36290.388445402546,7688.9627445159349,-31041.320462543605,-33704.590648750258,-41954.616283314033,7283.813147561923,-25186.313638857424,-32506.187193408405,-17575.702733786151,-5656.694468497376,7743.1077714282619,-23801.350627478023,-54811.262987748356,-42135.567777294978,-47567.784886617956,-57495.880398656576,-71244.815869192389,-72321.541405624521,{"$f":"DM18-SUM(DM5:DM8)","v":-73901.334435596917},-60946.808478170831,-49200.69477301836,-61992.90394686535,-51862.117652799061,-40628.977054316143,-23115.320139081392,-78626.948117743799,-79071.103442984197,-56360.750873480778,-54341.366489443171,-56087.982052920066,-77904.877450198081,-44098.212906563916,-78735.427382199996,-46841.353520607197,-23431.357299286115,{"$f":"ED18-SUM(ED5:ED8)","v":-1136.6788260395988},-37961.194198542042,-51211.186917330371,-60729.557597266015,-42765.025047682895,-31781.547809486947,-60861.281734903256,-93064.598491194251,-80555.350590273883,-41450.498219628964,-80449.473837876139,-25576.277971291274,-40301.353225477564,-44984.974058646359,-9114.0924684330821,-52375.115575325035,-84623.355023934593,-68146.141086465097,-60331.984232678427,-84966.426056441182,-58604.989979410253,-35008.460649143846,-77130.723162764276,-31054.418454190949,51627.416261467151,20740.989740345452,-8684.9090928949881,310.58133868779987,-21421.350374306261,{"$f":"FG18-SUM(FG5:FG8)","v":-29116.407956581039},10024.922276774567,{"$f":"FI18-SUM(FI5:FI8)","v":-10473.666639647185},-42988.644938719488,{"$f":"FK18-SUM(FK5:FK8)","v":33589.818076232099},{"$f":"FL18-SUM(FL5:FL8)","v":-19510.757997438894},-21272.495929490891,{"$f":"FN18-SUM(FN5:FN8)","v":6547.2193971760571},20158.0179910406,{"$f":"FP18-SUM(FP5:FP8)","v":58469.728608575359},{"$f":"FQ18-SUM(FQ5:FQ8)","v":21720.289148619748},14792.629498683382,{"$f":"FS18-SUM(FS5:FS8)","v":16150.892781713104},{"$f":"FT18-SUM(FT5:FT8)","v":38674.792031443329},-18884.803882555105,{"$f":"FV18-SUM(FV5:FV8)","v":47193.692243350786},{"$f":"FW18-SUM(FW5:FW8)","v":-49372.262880734459},59949.283120387176,{"$f":"FY18-SUM(FY5:FY8)","v":76670.876194211072},-150279.52810997015,{"$f":"GA18-SUM(GA5:GA8)","v":31429.281290176092},104138.84135705471,{"$f":"GC18-SUM(GC5:GC8)","v":89747.56101337669},-12976.498409786611,{"$f":"GE18-SUM(GE5:GE8)","v":-36025.13033493032},8742.1925742838648,{"$f":"GG18-SUM(GG5:GG8)","v":-11606.537041970645},-35305.034564634319,{"$f":"GI18-SUM(GI5:GI8)","v":84136.817637835047},14921.373677281488,{"$f":"GK18-SUM(GK5:GK8)","v":125475.51144334173},145675.22891505377,{"$f":"GM18-SUM(GM5:GM8)","v":198303.32075864979},70276.528390871477,{"$f":"GO18-SUM(GO5:GO8)","v":16849.532684904349},-39203.249995941122,{"$f":"GQ18-SUM(GQ5:GQ8)","v":1766.6666666666861},-69419.354838709667,{"$f":"GS18-SUM(GS5:GS8)","v":17485.2385215619},-2561.8743221576442,{"$f":"GU18-SUM(GU5:GU8)","v":-36710.1804302737},-27743.147280619363,{"$f":"GW18-SUM(GW5:GW8)","v":26325.605451619485},54529.598790149961,{"$f":"GY18-SUM(GY5:GY8)","v":56543.949227645586},-36087.153017052507,{"$f":"HA18-SUM(HA5:HA8)","v":-5486.1404767629574},39683.421556647343,{"$f":"HC18-SUM(HC5:HC8)","v":44325.177742663916}]
["     TOTAL SUPPLY",{"$f":"SUM(B5:B9)","v":295572.8560491603},{"$f":"SUM(C5:C9)","v":302876.04201740288},276674.76379748143,212451.01370955538,183743.19694393693,190343.84307348344,166672.83507595491,205117.8122363177,215148.62653815077,178102.2343327183,203768.65680086333,296352.93510100851,243889.04515428629,248647.20524692972,247350.34262559292,209545.14748223376,206085.10695764245,217179.78822569372,207572.6814207508,178832.5931550457,205374.17593374808,212507.16509486554,226935.26806508665,227091.18374309622,286315.35834453825,355365.6912382564,233261.04675450889,230851.84920135597,215608.31401001287,193986.56292601558,194257.38552931588,202614.1952043612,232780.63734920978,213127.54484146374,241007.87175950743,277260.01509892487,298165.02817558852,274967.96825785638,245744.31574462546,223205.7122790615,234298.38798538363,191348.4754870933,199433.17664112855,186265.38790585325,201967.64709978239,222043.2885206051,226175.64668992185,253718.85477215107,290349.90334753972,263471.46992447268,234680.26480688786,210444.15450552289,188770.36674935024,211778.70440480998,202644.78003279012,196552.3478921018,191007.65457186755,209868.65236176466,213438.41678086162,280841.42744857067,306825.55128966528,278493.19621899258,231320.15201433847,204469.54422282986,181345.80761991287,{"$f":"SUM(BO5:BO9)","v":177070.74795157823},178994.37870783906,176133.51423054177,186826.63793248241,194925.30272859419,209959.81205379002,300964.14694444789,288858.49966835149,268103.65143003128,240645.31372956192,196745.52065070404,174732.89748168571,182780.52954137904,180737.6438262556,190513.99582790263,195740.00357829541,185088.69373027014,233335.01811510135,238158.78675404779,232037.80655235329,241680.51887326245,193135.64825098269,176086.65961923695,179170.73044340342,182191.34395333397,146560.68672870722,153684.74898090944,143850.97571943104,176913.48530537551,226254.94955302391,204948.52466781146,289268.76251058222,280385.3003827802,241173.27560355261,196010.73433197694,182070.04479093157,179830.77184453982,212864.90020014698,186846.38631695346,189379.20093444549,203456.99722202471,237895.36032602316,275485.48514659394,261518.31353513798,265355.17536841601,226345.38670790163,205081.98680287978,193565.71924783039,187938.28915363865,187256.18727312051,192805.42650121261,212836.29654466017,233409.2919702428,225690.20107596571,260522.06263884919,284309.33492093795,292784.97340299294,243279.10579299417,218022.04724194729,230254.98045661199,229751.78419548832,227463.23314814045,214130.20871860438,236761.60444503426,{"$f":"SUM(EA5:EA9)","v":221557.72330273149},247318.46383099098,286313.40628887119,300948.34105906868,286793.45861203899,239293.18780648755,220345.78486848742,235900.63999871569,234493.79465626649,220804.38331149533,204181.71171649464,200119.99187547955,236537.7474719309,220292.53529454392,283024.87094607507,288563.69317310839,279200.34883763548,289428.3732849916,236700.68351143296,225564.27201981263,218996.32466695952,224081.44926268171,210705.07195504798,240470.80910734774,272243.68252363562,251745.07592399372,299359.01504116919,361433.86787437036,309883.84688320261,244960.25219742762,272010.5813386878,238643.16575472601,{"$f":"SUM(FG5:FG9)","v":226316.92537675228},264153.95453483908,{"$f":"SUM(FI5:FI9)","v":250526.33336035284},236678.0217279472,{"$f":"SUM(FK5:FK9)","v":334622.07614074822},{"$f":"SUM(FL5:FL9)","v":299422.57533589442},296114.60084470268,{"$f":"SUM(FN5:FN9)","v":333503.04475027311},322861.53919667215,357070.71525199496,{"$f":"SUM(FQ5:FQ9)","v":320664.28654472751},307522.64840016747,{"$f":"SUM(FS5:FS9)","v":311261.5568444875},{"$f":"SUM(FT5:FT9)","v":322856.42383615323},265716.1827608645,{"$f":"SUM(FV5:FV9)","v":344404.35630612518},{"$f":"SUM(FW5:FW9)","v":292530.36104458611},288699.65130163846,{"$f":"SUM(FY5:FY9)","v":319930.20285104436},287609.83505248901,{"$f":"SUM(GA5:GA9)","v":349682.80747052119},339292.47880020889,{"$f":"SUM(GC5:GC9)","v":339005.42168536689},297444.36088983098,{"$f":"SUM(GE5:GE9)","v":312905.17372786993},343006.2665584645,{"$f":"SUM(GG5:GG9)","v":324860.70026654797},302573.31610328483,{"$f":"SUM(GI5:GI9)","v":376861.87827625364},328861.81597892853,{"$f":"SUM(GK5:GK9)","v":466848.3287869026},478242.59464571148,{"$f":"SUM(GM5:GM9)","v":535072.14731880056},399168.47476669046,{"$f":"SUM(GO5:GO9)","v":324095.16206245951},278271.84663992905,{"$f":"SUM(GQ5:GQ9)","v":306665.47842634987},236551.9434445606,{"$f":"SUM(GS5:GS9)","v":290346.66650367016},314693.52594630432,{"$f":"SUM(GU5:GU9)","v":332488.30879854364},353227.54474839184,{"$f":"SUM(GW5:GW9)","v":438683.44649913895},509201.02372649877,{"$f":"SUM(GY5:GY9)","v":510198.43358596659},412708.16688954999,{"$f":"SUM(HA5:HA9)","v":368591.50456715323},320165.81578224583,{"$f":"SUM(HC5:HC9)","v":292964.47805139708}]
["DEMAND"]
["  Residential and Commercial ",224298.47150542508,236387.72626028382,215155.6534251179,152517.93183873835,125121.70633397972,131896.32984415331,108093.20431133539,138948.91375481494,138599.06057295424,87442.480359363137,116556.28736445696,217803.07706603559,171074.70556008522,181662.10759439069,186599.02407163344,150736.58817518462,149817.23990824597,161242.5674117718,151928.21620194663,114855.13353709478,130489.25432322829,123968.04069563953,140785.61387218744,147440.19878364072,209304.02066969743,285117.47404397512,169540.03126098789,169277.97281742137,156395.21520379456,133862.75427040335,135826.11779737676,135049.45020441664,153625.15764730936,118654.39919884964,149431.03726187663,192867.09347443972,222329.28127719605,206060.06589391822,181273.04401413538,161907.86833968476,175445.10876225471,133458.35008271501,141845.21614876698,120203.40086521904,125032.35484373773,131215.48255468259,137601.32960911168,171446.34380100647,222298.30346794188,201005.83072549407,178106.07303200525,155819.62184539004,136529.38835667097,159444.52704598178,150958.3531761464,135592.88892648119,120371.82848245486,127346.57131017362,124113.07567072792,206107.20593789246,244081.88525177527,221968.92686356191,181850.9863077114,155456.2475314702,136101.31702920626,131855.56512940617,134363.78492798354,123671.83644526651,116848.1950941869,125305.48743420551,134369.19325469114,234317.45893018789,219910.90972725934,205926.52670732711,184757.32738189871,140817.74661286973,124397.28740445996,132590.86411411222,131109.20994792299,133247.39072511031,129063.04493511209,106148.6279116139,155697.46566891737,165115.86880274001,179659.93604571218,194101.65100955218,150085.18672104756,133759.33748285862,138638.82834784748,139675.11118420944,105772.4392845832,106162.45787792548,81446.08006707106,97549.913843407558,154650.9090865739,141411.17199884899,231320.4369249719,226098.39302413361,189749.03810160697,148678.40727339557,140150.70079318393,138280.85757134657,167585.19909531434,138092.04718001006,128248.33871604677,127547.89043152407,158140.16751401711,211435.42222116914,220957.61068326634,222266.44267751698,180183.72452694352,156166.0571621249,148357.01141186594,143325.13575447618,142525.10756144769,132059.49022673717,126169.50919859923,123789.90658552192,150008.83202174393,191638.74674896509,209830.89610743467,211117.22030995032,169758.1924878046,146153.55342408386,138478.79868762044,133533.45545748679,132747.18523189027,122461.54358266319,116672.85169391577,114334.17075777064,140102.2131808738,181016.22437369009,204305.72529453423,205558.17859876223,165288.19770732135,142305.10516140773,134832.43854281789,130017.31381997651,129251.74730094612,119236.94244499646,113600.67573319821,111323.57586966337,136413.10603102215,176249.78826668861,207243.65805373521,200829.24580923628,169004.4615738118,156877.43327592706,135707.71801176728,132485.01710937289,131363.01704526567,119973.42109491483,116200.94870939876,117934.69004515615,137885.955524497,178177.88452189704,275783.44199578819,222073.83799237423,178929.58353568416,168361.54256729153,141615.71040690973,129008.15584549005,126625.18691575545,121438.14667303592,120772.6829240621,146944.53630531841,173641.3588673202,182024.62108854303,221704.27532157069,213952.7319194274,221203.65701664082,132082.38311205863,125607.53980892958,123078.15933409939,122035.82484469026,111454.92644792263,103305.32751533399,104915.96769957687,128095.61393624153,165526.68776798112,176850.66664397792,177430.0832099283,155015.74594145417,129718.3389070182,120775.219469074,122970.61181257917,120783.91544793626,111435.92790715599,101648.92207753779,102724.25608492369,166737.5747665106,274959.02764772245,290766.08318741462,334992.96265265305,227418.66453285649,171279.89975513902,124971.60481806356,124443.26449496782,79273.360355751734,79767.163170962856,94493.697997373456,132417.19596767885,197321.34922671283,294005.5603252466,318895.81789865647,309009.974150191,248002.49974982269,179904.5750386508,123014.63877140346,88690.722675919984]
["  Chemical",23944.796871482078,23944.796871482078,23944.796871482078,23944.796871482078,23944.796871482078,23944.796871482078,23944.796871482078,23944.796871482078,23944.796871482078,23944.796871482078,23944.796871482078,23944.796871482078,25215.606750185587,25215.606750185587,25215.606750185587,25215.606750185587,25215.606750185587,25215.606750185587,25215.606750185587,25215.606750185587,25215.606750185587,25215.606750185587,25215.606750185587,25215.606750185587,26381.621043400315,26381.621043400315,26381.621043400315,26381.621043400315,26381.621043400315,26381.621043400315,26381.621043400315,26381.621043400315,26381.621043400315,26381.621043400315,26381.621043400315,26381.621043400315,27469.205116727553,27469.205116727553,27469.205116727553,27469.205116727553,27469.205116727553,27469.205116727553,27469.205116727553,27469.205116727553,27469.205116727553,27469.205116727553,27469.205116727553,27469.205116727553,25265.478445116521,25265.478445116521,25265.478445116521,25265.478445116521,25265.478445116521,25265.478445116521,25265.478445116521,25265.478445116521,25265.478445116521,25265.478445116521,25265.478445116521,25265.478445116521,18153.424657534248,18153.424657534248,18153.424657534248,18153.424657534248,18153.424657534248,18153.424657534248,18153.424657534248,18153.424657534248,18153.424657534248,18153.424657534248,18153.424657534248,18153.424657534248,19726.027397260274,19726.027397260274,19726.027397260274,19726.027397260274,19726.027397260274,19726.027397260274,19726.027397260274,19726.027397260274,19726.027397260274,19726.027397260274,19726.027397260274,19726.027397260274,15064.013698630137,15064.013698630137,15064.013698630137,15064.013698630137,15064.013698630137,15064.013698630137,15064.013698630137,15064.013698630137,15064.013698630137,15064.013698630137,15064.013698630137,15064.013698630137,12863.013698630137,12863.013698630137,12863.013698630137,12863.013698630137,12863.013698630137,12863.013698630137,12863.013698630137,12863.013698630137,12863.013698630137,12863.013698630137,12863.013698630137,12863.013698630137,14263.013698630137,14263.013698630137,14263.013698630137,14263.013698630137,14263.013698630137,14263.013698630137,14263.013698630137,14263.013698630137,14263.013698630137,14263.013698630137,14263.013698630137,14263.013698630137,16801.434600000001,16801.434600000001,16801.434600000001,16801.434600000001,16801.434600000001,16801.434600000001,16801.434600000001,16801.434600000001,16801.434600000001,16801.434600000001,16801.434600000001,16801.434600000001,16872.974418749996,16872.974418749996,16872.974418749996,16872.974418749996,16872.974418749996,16872.974418749996,16872.974418749996,16872.974418749996,16872.974418749996,16872.974418749996,16872.974418749996,16872.974418749996,16872.974418749996,16556.244749999998,16556.244749999998,16556.244749999998,16556.244749999998,16556.244749999998,16556.244749999998,16556.244749999998,16556.244749999998,16556.244749999998,16556.244749999998,16556.244749999998,16541.660281249995,16541.660281249995,16541.660281249995,16541.660281249995,16541.660281249995,16541.660281249995,16541.660281249995,16541.660281249995,16541.660281249995,16541.660281249995,16541.660281249995,16541.660281249995,16466.034999999996,16466.034999999996,16466.034999999996,16466.034999999996,16466.034999999996,16466.034999999996,16466.034999999996,16466.034999999996,16466.034999999996,16466.034999999996,16466.034999999996,16466.034999999996,16466.034999999996,16466.034999999996,16466.034999999996,16466.034999999996,16466.034999999996,16466.034999999996,16466.034999999996,16466.034999999996,16466.034999999996,16466.034999999996,16466.034999999996,16466.034999999996,16391.261999999995,16391.261999999995,16391.261999999995,16391.261999999995,16391.261999999995,16391.261999999995,16391.261999999995,16391.261999999995,16391.261999999995,16391.261999999995,16391.261999999995,16391.261999999995,16391.261999999995,16391.261999999995,16391.261999999995,16391.261999999995,16391.261999999995,16391.261999999995]
["  Farm",13412.140417590927,9903.4151214827689,6257.9862424093562,6470.6362603553052,6257.9862424093562,6470.6362603553052,6257.9862424093562,13412.140417590927,23102.905521127745,36666.938808680068,32337.99201478039,21462.46252554471,13094.335198248655,9668.7503389106714,6109.7011344036755,6317.312337999917,6109.7011344036755,6317.312337999917,6109.7011344036755,13094.335198248655,22555.474333563081,35798.103248666201,31571.732318314138,20953.902191534937,14390.071203707836,10625.51123988393,6714.2801086383106,6942.4352579609722,6714.2801086383106,6942.4352579609722,6714.2801086383106,14390.071203707836,24787.427294269102,39340.466461778844,34695.879493424669,23027.373285208578,13059.440432843116,9311.3072464678025,6094.4055353267868,6300.9955534734581,6094.4055353267868,6300.9955534734581,6094.4055353267868,13059.440432843116,22503.55554811949,35710.560279638798,31504.977767367287,20909.861122416605,13070.569305998075,9646.2330199822045,6099.5990094657682,6298.3328117791889,6099.5990094657682,6298.3328117791889,6099.5990094657682,13926.653377502042,22502.781308104288,34014.054626720135,38340.336630927683,20912.910889596922,14278.121899823251,9161.1909042520747,5783.7265360705351,5986.6643092659915,5783.7265360705351,5986.6643092659915,5783.7265360705351,12408.195275379392,28744.686017613712,27947.430480060128,32194.628161936485,19844.415107470082,11062.901369863013,8168.7561643835616,5161.85205479452,5337.2547945205479,5161.85205479452,5337.2547945205479,5161.85205479452,11062.901369863013,19056.254794520548,30244.443835616439,26673.745205479452,17703.147945205481,12460.950097847357,8884.5870189171565,5815.1100456620998,6012.2324200913235,5815.1100456620998,6012.2324200913235,5815.1100456620998,12460.950097847357,21472.258643183297,34074.010437051533,30061.162100456615,19951.600326157859,12273.468493150684,9061.0465753424651,5718.9753424657529,5920.6520547945192,5718.9753424657529,5920.6520547945192,5718.9753424657529,12273.468493150684,21132.838356164382,33535.956164383555,35797.616438356155,19634.668493150682,12634.321961890115,9324.6476438551181,5899.8542191058614,6101.3126558558179,5899.8542191058614,6101.3126558558179,5899.8542191058614,12634.321961890115,22980.651677834296,32636.26675349291,32175.790326635873,20217.793116692039,11169.674438190428,8247.5965274067494,5211.6714252938355,5388.7670562504218,5211.6714252938355,5388.7670562504218,5211.6714252938355,11169.674438190428,19240.175334640589,30536.346652085726,26931.185593326642,17874.009038689779,12850.956865368913,9489.0417624241582,5996.1429541698662,6199.8953846513668,5996.1429541698662,6199.8953846513668,5996.1429541698662,12850.956865368913,22136.246197311568,35132.740513024415,27984.923178222441,20564.441733597137,9850.956865368913,9688.6086519819291,6122.2496389824455,6330.2872480740825,6122.2496389824455,6330.2872480740825,6122.2496389824455,13121.229201993932,22601.800244884224,35871.627739086471,31636.576411149581,20996.938689034458,13209.931954793263,9754.1060413649011,6163.6375598808872,6373.0815546341219,6163.6375598808872,6373.0815546341219,6163.6375598808872,13209.931954793263,22754.594001404927,36114.128809593363,31850.447487831094,21138.883184737122,12631.56555772994,9327.0450097847352,5893.776908023483,6094.0508806262224,5893.776908023483,6094.0508806262224,5893.776908023483,12631.56555772994,21758.336594911936,34532.954990215265,30455.949119373778,20213.365949119372,12378.934246575342,9140.504109589041,5775.9013698630133,5972.169863013698,5775.9013698630133,5972.169863013698,5775.9013698630133,12378.934246575342,21323.169863013696,33842.295890410962,10234.40068781037,18581.181044680212,19246.446988463038,17861.793007373719,12519.745764000201,7566.9182675942284,6779.854771386551,516.43655832245474,96.905715749293563,22397.8259596477,23518.150575871237,28389.435457805241,11224.518148619391,17496.208800832821,23211.82122393154,19095.074831864848,16112.282535816539,9093.5449245917371,3967.4698262864858,668.32077156638081]
["  Other",33207.769835307336,31818.675192725615,30445.365716536871,29150.982072313,27967.094592839945,27698.746764159387,27667.176431373438,28424.864418236193,29135.196905920027,29435.115067386534,30429.580550143895,32497.437347623498,33891.4944199604,31386.454849156835,28909.881637112401,26575.64021886362,24426.430132549198,23970.968392403091,23899.802495505264,25280.420895323139,26547.173860104493,27073.801497148423,28895.648457732834,32610.50827579949,35207.387363216549,32562.513482425617,29947.69498664367,27483.153415906665,25213.97184772808,24733.085687584273,24657.947225061806,26115.633397997713,27453.098030897676,28009.122653563951,29932.667294139173,33854.895037812094,34726.456187531992,31230.838276604904,29133.467530048649,26527.643269175722,24128.37824849394,23619.924734177272,23540.478872565291,25081.728587837693,26495.864924530928,27099.653472781971,29133.467530048649,33280.541506193971,29134.906967192877,26803.927733879886,24499.436900945453,22327.388069903805,20327.513841322769,19903.699435265866,19837.47843431947,21122.165852679471,22300.899669525246,22790.935076528545,24486.192700756175,27942.928950157828,29408.893674080879,27102.510936501545,24822.337093667433,22673.207724559419,20694.436171295332,20275.093855371819,20209.571618508769,21480.703013651924,22646.998829814202,23131.863382600764,24809.232646294826,28229.493410545994,36707.048271363339,33496.626875407695,30322.68754076973,27331.158512720154,24576.762883235486,23993.049902152641,23901.844748858446,25671.224722765815,27294.676451402476,27969.594585779516,30304.446510110894,35065.355512067843,23162.83953033268,21426.375081539463,20384.496412263536,19090.04109589041,17898.195042400519,17645.618395303325,17606.153294194388,18371.776255707762,19074.255055446836,19374.189823874753,20384.496412263536,22444.574690150032,19544.627527723416,18343.327071102409,17155.677756033918,16036.284148727984,15005.622961513371,14787.204696673187,14753.07684279191,15415.157208088713,16022.633007175471,16275.179125896932,17148.852185257663,18930.326157860403,27034.228749168418,24915.711708074123,22821.268724264992,20847.196026881669,19029.604701851906,18644.419785289305,18584.234642076401,19751.826420406778,20823.121969596508,21268.492029372013,22809.231695622409,25950.89617133611,33217.007194667727,30475.864822778691,27765.871796024752,25211.625494946333,22859.849937246079,22361.460415084432,22283.587052246679,23794.330291299157,25180.476149811228,25756.739034810627,27750.297123457203,31815.286663588107,27467.07157718973,25321.539694171559,23200.388855278594,21201.14323701166,19360.37440555857,18970.277699555267,18909.325089242251,20091.805729314765,21176.762192886454,21627.811509202773,23188.198333215991,26369.924591555442,27467.07157718973,25911.963912131563,23745.417322197383,21703.384904098497,19823.220909385498,19424.775559512545,19362.518473594897,20570.305940397287,21678.482069731435,22139.18450552204,23732.965905013851,26982.785789915124,28447.220739313052,26228.528282499257,24035.048239967437,21967.630268845489,20064.092990556383,19660.694362044782,19597.663326339847,20820.465419015629,21942.417854563515,22408.84751878005,24022.442032826446,27312.662096624183,18475.362419359546,17258.584410317191,16055.633424104864,14921.81755204267,13877.877328375649,13656.644963095219,13622.077406020155,14292.688013276453,14907.990529212642,15163.790451568137,16048.71991268985,17853.146392008344,18333.554000645403,17128.94377169347,15938.022295343268,14815.544582001694,13782.043760571345,13563.023718943719,13528.801837439403,14192.706338623138,14801.855829399967,15055.097752531907,15390.472191274206,15390.472191274206,15290.415373059588,15290.415373059588,15290.415373059588,15290.415373059588,15290.415373059588,15290.415373059588,15290.415373059588,15290.415373059588,15290.415373059588,15290.415373059588,15290.415373059588,15290.415373059588,15202.122603910728,15202.122603910728,15202.122603910728,15202.122603910728,15202.122603910728,15202.122603910728]
["     US DOMESTIC CONSUMPTION",{"$f":"SUM(B12:B15)","v":294863.17862980539},{"$f":"SUM(C12:C15)","v":302054.61344597425},275803.80225554621,212084.34704288872,183291.58404071111,190010.50974015007,165963.16385660027,204730.71546212415,214781.95987148408,177489.33110691182,203268.65680086333,295707.7738106859,243276.14192847983,247932.91953264381,246834.21359333509,208845.14748223376,205568.97792538445,216746.45489236043,207153.32658204113,178445.49638085213,204807.50926708145,212055.55219163973,226468.60139842003,226220.2160011607,285283.10028002213,354687.11980968498,232583.62739967019,230085.18253468932,214705.08820356126,191919.89625934893,193579.96617447719,201936.7758495225,232247.30401587643,212385.60935759274,240441.20509284077,276130.98284086073,297584.38301429874,274071.41653371847,243970.12219623837,222205.7122790615,233137.09766280299,190848.4754870933,198949.30567338661,185813.7750026274,201500.98043311571,221494.90142383092,225708.98002325519,253105.95154634462,289769.25818624935,262721.46992447268,233970.58738753299,209710.82117218955,188221.97965257603,210912.03773814335,202160.90906504815,195907.18660177922,190440.98790520092,209417.03945853884,212205.0834475283,280228.52422276372,305922.32548321364,276386.0533618498,230610.47459498362,202269.54422282986,180732.90439410639,{"$f":"SUM(BO12:BO15)","v":176270.74795157823},178510.50774009712,175714.15939183207,186393.30459914907,194538.20595440068,209526.47872045671,300544.79210573819,287406.88676574593,267317.93714437861,239967.89437472323,193212.18731737073,173861.92973975025,181647.1962080457,179898.93414883624,189707.54421499942,195140.00357829541,184088.69373027014,232401.68478176798,237610.39965727361,230347.73937252234,239476.62680863898,191348.80687760335,173925.62469747051,177416.1471345402,178396.97569823419,144257.71632306982,152059.19793011073,137056.60746433135,166062.12780296395,220160.58129792419,198871.36071378703,276001.54664447613,266365.7803692086,225486.70489873676,183498.35717554821,173738.3127957932,171851.7280214444,200920.26497920213,178643.68657987961,178266.82377801675,190222.03942043468,223949.64983626106,262863.43057081033,274889.175092955,270769.81572807638,223167.86116894451,197377.57954349252,187549.48403145385,182333.88189425145,181272.21012126005,178708.65230766422,184236.29654466017,191957.67906701699,219256.86774263237,252070.44973562338,271019.0123402928,266642.11626013578,219537.1703091232,193555.38057528064,183351.75465016038,178085.11752882166,177043.87830943079,174226.98291215277,177894.9377783676,{"$f":"SUM(EA12:EA15)","v":187428.69104466698},211585.13049765764,247506.95467596798,261496.72815584287,257241.73447410797,211357.70393551979,186579.11820182076,177061.93032129633,172060.46132293314,171030.18976310824,169052.67945843012,173786.65854214621,184957.10231064056,204459.20196121058,240057.12901059119,261434.66091504385,252986.06312334974,215428.3732849916,201467.35017809962,178209.43331013521,174796.32466695952,173404.02990784298,170221.20098730605,177037.4757740144,192501.74703976468,209811.7425906604,242713.85375084661,333982.25497114455,274598.13259748835,225669.92961678247,213243.91467202111,184385.10123859698,{"$f":"SUM(FG12:FG15)","v":171583.59204341893},168928.14808322617,{"$f":"SUM(FI12:FI15)","v":172010.20432809478},182011.35506128054,{"$f":"SUM(FK12:FK15)","v":222009.1729149418},{"$f":"SUM(FL12:FL15)","v":246055.90866922773},247017.82665115432,{"$f":"SUM(FN12:FN15)","v":269277.2382986602},257004.39633952931,259619.10234876917,{"$f":"SUM(FQ12:FQ15)","v":169564.28654472751},161845.22904532871,{"$f":"SUM(FS12:FS15)","v":159294.89017782084},{"$f":"SUM(FT12:FT15)","v":158017.7141587339},154845.21501892904,{"$f":"SUM(FV12:FV15)","v":156437.68963945855},{"$f":"SUM(FW12:FW15)","v":171078.74814136029},191066.31796830514,{"$f":"SUM(FY12:FY15)","v":220059.23510910885},224029.18989119868,{"$f":"SUM(GA12:GA15)","v":220165.56609121081},193195.70460666047,{"$f":"SUM(GC12:GC15)","v":166972.08835203358},156799.19959950834,{"$f":"SUM(GE12:GE15)","v":158971.84039453659},156554.65365523868,{"$f":"SUM(GG12:GG15)","v":154473.60349235445},154239.98276995146,{"$f":"SUM(GI12:GI15)","v":168087.68472786655},208828.48264559518,{"$f":"SUM(GK12:GK15)","v":325396.71588367684},341694.20754893724,{"$f":"SUM(GM12:GM15)","v":384536.4330330863},271620.08766991628,{"$f":"SUM(GO12:GO15)","v":210528.49539579285},163433.13696250968,{"$f":"SUM(GQ12:GQ15)","v":156641.37842634987},111051.9434445606,{"$f":"SUM(GS12:GS15)","v":133846.66650367013},149693.52594630429,{"$f":"SUM(GU12:GU15)","v":192488.30879854367},240227.54474839181,{"$f":"SUM(GW12:GW15)","v":343183.44649913895},373701.02372649877,{"$f":"SUM(GY12:GY15)","v":359698.43358596659},295708.16688954999,{"$f":"SUM(HA12:HA15)","v":220591.50456715323},158575.49320160068,{"$f":"SUM(HC12:HC15)","v":120952.42805139709}]
["EXPORTS",709.67741935483866,821.42857142857144,870.9677419354839,366.66666666666669,451.61290322580646,333.33333333333331,709.67741935483866,387.09677419354841,366.66666666666669,612.90322580645159,500,645.16129032258061,612.90322580645159,714.28571428571433,516.12903225806451,700,516.12903225806451,433.33333333333331,419.35483870967744,387.09677419354841,566.66666666666663,451.61290322580646,466.66666666666669,870.9677419354839,1032.258064516129,678.57142857142856,677.41935483870964,766.66666666666663,903.22580645161293,2066.6666666666665,677.41935483870964,677.41935483870964,533.33333333333337,741.93548387096769,566.66666666666663,1129.0322580645161,580.64516129032256,896.55172413793105,1774.1935483870968,1000,1161.2903225806451,500,483.87096774193549,451.61290322580646,466.66666666666669,548.38709677419354,466.66666666666669,612.90322580645159,580.64516129032256,750,709.67741935483866,733.33333333333337,548.38709677419354,866.66666666666663,483.87096774193549,645.16129032258061,566.66666666666663,451.61290322580646,1233.3333333333333,612.90322580645159,903.22580645161293,2107.1428571428573,709.67741935483866,2200,612.90322580645159,800,483.87096774193549,419.35483870967744,433.33333333333331,387.09677419354841,433.33333333333331,419.35483870967744,1451.6129032258063,785.71428571428567,677.41935483870964,3533.3333333333335,870.9677419354839,1133.3333333333333,838.70967741935488,806.45161290322585,600,1000,933.33333333333337,548.38709677419354,1129.0322580645161,1642.8571428571429,1225.8064516129032,1600,1193.5483870967741,3233.3333333333335,1741.9354838709678,1064.516129032258,6233.333333333333,10290.322580645161,5533.333333333333,5516.1290322580644,6354.8387096774195,7107.1428571428569,8774.1935483870966,5600,1419.3548387096773,1066.6666666666667,5032.2580645161288,1290.3225806451612,4200,6322.5806451612907,7033.333333333333,5709.677419354839,6580.6451612903229,2035.7142857142858,1129.0322580645161,15166.666666666666,10290.322580645161,10300,10709.677419354839,14096.774193548386,28600,41451.612903225803,6433.333333333333,8451.6129032258068,13290.322580645161,26142.857142857141,23741.935483870966,24466.666666666668,46903.225806451614,51666.666666666664,50419.354838709674,39903.225806451614,58866.666666666664,34129.032258064515,35733.333333333336,38806.451612903227,39451.612903225803,29551.724137931036,27935.483870967742,33766.666666666664,58838.709677419356,62433.333333333336,49774.193548387098,35129.032258064515,26333.333333333332,51580.645161290326,15833.333333333334,42967.741935483871,27129.032258064515,26214.285714285714,74000,35233.333333333336,47354.838709677417,44200,50677.419354838712,40483.870967741939,63433.333333333328,79741.935483870955,41933.333333333328,56645.161290322583,27451.612903225807,35285.714285714283,19290.322580645159,58766.666666666664,54258.06451612903,54733.333333333336,95225.806451612894,78516.129032258061,54666.666666666664,112612.90322580645,53366.666666666664,49096.774193548386,64225.806451612894,65857.142857142855,97451.612903225803,151100,145677.41935483873,151966.66666666666,164838.70967741936,110870.96774193548,187966.66666666666,121451.6129032258,97633.333333333343,99870.967741935485,63580.645161290318,129517.24137931035,146096.77419354839,172033.33333333334,140645.16129032261,153933.33333333334,186451.61290322579,170387.09677419355,148333.33333333334,208774.19354838709,120033.33333333333,141451.61290322579,136548.38709677421,150535.71428571429,127548.3870967742,113566.66666666666,114838.70967741936,150024.1,125500,156500,165000,140000,113000,95500,135500,150500,117000,148000,161590.32258064512,172012.05]
["     TOTAL DEMAND",{"$f":"B16+B17","v":295572.85604916024},{"$f":"C16+C17","v":302876.04201740283},276674.76999748166,212451.01370955538,183743.19694393693,190343.84307348341,166672.84127595511,205117.8122363177,215148.62653815074,178102.23433271828,203768.65680086333,296352.93510100851,243889.04515428629,248647.20524692952,247350.34262559316,209545.14748223376,206085.10695764251,217179.78822569377,207572.6814207508,178832.59315504567,205374.17593374811,212507.16509486554,226935.26806508668,227091.18374309619,286315.35834453825,355365.6912382564,233261.04675450889,230851.84920135597,215608.31401001287,193986.56292601558,194257.38552931588,202614.1952043612,232780.63734920978,213127.54484146371,241007.87175950743,277260.01509892527,298165.02817558905,274967.96825785638,245744.31574462546,223205.7122790615,234298.38798538363,191348.4754870933,199433.17664112855,186265.38790585322,201967.64709978236,222043.2885206051,226175.64668992185,253718.85477215107,290349.90334753966,263471.46992447268,234680.26480688783,210444.15450552289,188770.36674935021,211778.70440481001,202644.78003279009,196552.3478921018,191007.65457186758,209868.65236176466,213438.41678086165,280841.42744857015,306825.55128966528,278493.19621899264,231320.15201433847,204469.54422282986,181345.80761991284,{"$f":"BO16+BO17","v":177070.74795157823},178994.37870783906,176133.51423054174,186826.63793248241,194925.30272859422,209959.81205379005,300964.14694444789,288858.49966897175,268103.65143009287,240645.31372956192,196745.52065070407,174732.89748168574,182780.52954137904,180737.6438262556,190513.99582790263,195740.00357829541,185088.69373027014,233335.01811510132,238158.78675404779,231476.77163058685,241119.48395149611,192574.61332921626,175525.62469747051,178609.69552163698,181630.30903156754,145999.65180694079,153123.71405914301,143289.94079766469,176352.4503836091,225693.91463125753,204387.48974604509,282356.38535415352,273472.92322635144,234260.89844712385,189098.35717554821,175157.66763450287,172918.39468811106,205952.52304371825,179934.00916052476,182466.82377801675,196544.62006559598,230982.9831695944,268573.10799016518,281469.82025424531,272805.53001379065,224296.89342700902,212544.24621015918,197839.806612099,192633.88189425145,191981.8875406149,192805.42650121261,212836.29654466017,233409.2919702428,225690.20107596571,260522.06263884919,284309.33492093795,292784.97340299294,243279.10579299417,218022.04724194729,230254.98045661199,229751.78419548832,227463.23314814045,214130.20871860438,236761.60444503426,{"$f":"EA16+EA17","v":221557.72330273149},247318.46383099098,286313.40628887119,300948.34105906868,286793.45861203899,239293.18780648755,220345.78486848742,235900.63999871569,234493.79465626649,220804.38331149533,204181.71171649464,200119.99187547955,236537.7474719309,220292.53529454392,283024.87094607507,288563.69317310839,279200.34883763548,289428.3732849916,236700.68351143296,225564.27201981263,218996.32466695952,224081.44926268171,210705.07195504798,240470.80910734774,272243.68252363562,251745.07592399372,299359.01504116919,361433.86787437036,309883.84688320261,244960.25219742762,272010.5813386878,238643.16575472601,{"$f":"FG16+FG17","v":226316.92537675228},264153.95453483908,{"$f":"FI16+FI17","v":250526.33336035284},236678.0217279472,{"$f":"FK16+FK17","v":334622.07614074822},{"$f":"FL16+FL17","v":299422.57533589442},296114.60084470268,{"$f":"FN16+FN17","v":333503.04475027311},322861.53919667215,357070.71525199496,{"$f":"FQ16+FQ17","v":320664.28654472751},307522.64840016747,{"$f":"FS16+FS17","v":311261.5568444875},{"$f":"FT16+FT17","v":322856.42383615323},265716.1827608645,{"$f":"FV16+FV17","v":344404.35630612518},{"$f":"FW16+FW17","v":292530.36104458611},288699.65130163846,{"$f":"FY16+FY17","v":319930.20285104436},287609.83505248901,{"$f":"GA16+GA17","v":349682.80747052119},339292.47880020889,{"$f":"GC16+GC17","v":339005.42168536689},297444.36088983098,{"$f":"GE16+GE17","v":312905.17372786993},343006.2665584645,{"$f":"GG16+GG17","v":324860.70026654797},302573.31610328483,{"$f":"GI16+GI17","v":376861.87827625364},328861.81597892853,{"$f":"GK16+GK17","v":466848.3287869026},478242.59464571148,{"$f":"GM16+GM17","v":535072.14731880056},399168.47476669046,{"$f":"GO16+GO17","v":324095.16206245951},278271.84663992905,{"$f":"GQ16+GQ17","v":306665.47842634987},236551.9434445606,{"$f":"GS16+GS17","v":290346.66650367016},314693.52594630432,{"$f":"GU16+GU17","v":332488.30879854364},353227.54474839184,{"$f":"GW16+GW17","v":438683.44649913895},509201.02372649877,{"$f":"GY16+GY17","v":510198.43358596659},412708.16688954999,{"$f":"HA16+HA17","v":368591.50456715323},320165.81578224583,{"$f":"HC16+HC17","v":292964.47805139708}]
[]
["INVENTORIES (End of Month, Thousand Barrels)",3985,3036,2103,2519,3524,3361,4346,4182.9999999999991,4225,5200,5522,4276,4210,3676,2513,3382,3933,4560,5035,5017,5047,5333,5452,5319,5262,2040,3249,2834,3349,3671,4154,4864,4457,5062,5029,4550,3802,3210,2540,3107,4065,3810,4004,4707,4458,4272,3862,3462,2275,2499,3150,3701,4251,3578,4185,3875,4471,4853,5593,4681,2561,2647,2558,2476,3305,3954,4062,4253,4307,4821,4950,4127.9999999999991,2964,2425,1771,2334,3268,3963,4437,4684,5644,6271,5882,5977,4583,3300.821428571428,3198,4114.0000000000009,4674,5084,6039,6127,6567,6295,5070,5184,3255,1888.0000000000002,1292,1919,2687,3687,3194,3710,4442,4777,4721,4114.0000000000009,2291,2211,2109,2678,3037,4271,5281,5598,5712,6479,6199,5707,4147.9999999999991,1841,2069,2987,4235,4336,4360,4805,5897,6995,7086,6723,5041,3521,3686,4241,3869,3955.0000000000005,5249,6643,7213,6745,7284,6014,5129,4207,2949,2705,3729,4482,5051,5915,5599,6592,6993,5999,3221,3194,2564,2787,3508,4685,4983,6441,7629,7169,7301,6108,5381,4271,3626,3564,4050,4941,5555,8013,8069,8381,7970,6719,7005,5399,4677,4803,6173,7559,7873,8631,9713,8432,8972,8316,6769,3899,3808,4186,5705,5652,7803.9999999999982,7261.9576058315797,7338.8138354963094,8476.8294288347934,9309.1238472533732,8493.0300782531685,6802.6125157585211,5219.3819373844444,6338.0836809130751,6502.6678952159637,5272.4818269598954,3942.7264946799778]
["Days of Forward Supply",{"$f":"B20*1000/B18","v":13.48229351391187},10.023902781407701,7.6009821929883303,11.856850932440166,19.178941362793587,17.65751886549052,26.075033981117901,20.393158226457363,19.637587596920177,29.19671400801025,27.099359080510975,14.428741859912993,17.261947937582512,14.783998864372492,10.159678670038687,16.139719963148956,19.084348491074444,20.996428982890603,24.256563848081875,28.05417016824401,24.574657339723753,25.09562441162532,24.024472028897364,23.422309542484399,18.378336497296662,5.740565424005081,13.928600789566667,12.276271599315193,15.53279619748092,18.923991149841036,21.384000349233101,24.006215334982137,{"$f":"AH20*1000/AH18","v":19.146781496752055},23.751036046351498,20.866538355304211,16.410588444845096,12.75132775719427,11.674087059441637,10.335946092195831,13.919894649091656,17.349671224599245,19.911316200985304,20.076900280262929,25.270395390791158,22.072842180497947,19.239491670578317,17.075224749084743,13.645024541471324,7.8353737120996971,9.4848979311360306,13.422517665011378,17.586613459025163,22.519424384254595,16.894994282148112,20.651901318764896,19.714849715899586,23.407438879983545,23.123987052790326,26.204279830947034,16.667768863470904,8.3467624819232622,9.5047205315512855,11.058266985063375,12.109382888346774,{"$f":"BN20*1000/BN18","v":18.224849216955878},22.33005759416152,22.693450092252,24.146455139895945,23.053457727781378,24.732551046554264,23.575940326770006,13.715919460539423,10.261079398379161,9.045009223353718,7.3593787161392896,11.863040095045983,18.702831848493375,21.68174044546047,24.549396053128369,24.586120193663916,28.834167246463839,33.881053853774191,25.208389411564795,25.096701580750786,19.798962840703503,13.689567406487257,16.606550285695516,23.43817324160355,26.168792160746875,27.990923029902437,41.363112344853604,40.013397256243977,45.830153627274214,35.695562983711639,22.464052733913761,25.363587597466008,{"$f":"CT20*1000/CT18","v":11.527984380156035},6.9037913433108589,5.5152183252282008,10.14815796743548,15.340464601337898,21.322196557804954,15.508428606732819,20.618670240878103,24.344151490267588,24.304913552992168,20.43873507570774,15.317989320623457,8.1394161474597588,8.1046744172973,9.4027160509305645,12.599729457517524,15.350803521328709,22.17159285792005,27.507803301927495,29.034452513009494,26.837527680817502,27.75810656598026,27.466854876492668,21.90601418625867,14.589742546277961,6.2878910027463206,8.5046350086493199,13.700449279265841,18.392653186487841,18.872541143404739,19.167932943081194,22.439617598815357,{"$f":"DZ20*1000/DZ18","v":24.906910112484166},31.571907743618528,28.651318184000736,23.481261625649971,16.750383079900669,12.277127996712949,15.403698006567605,19.247021233155085,16.400972884266292,16.86611795334478,23.772173003445676,32.534745370455973,36.043375438912356,28.515533237672376,33.065124019117889,21.249015960671002,17.774238829564503,15.068032749652881,10.18904942362443,11.427934891744176,16.531873450563396,20.466096893708325,22.540910979555989,28.072413943893633,23.283491334287355,24.21360135483657,27.778100422950516,20.039483358050838,8.9117271132974647,10.307087743117636,10.467004246605381,10.24592494263975,14.699771472213337,{"$f":"FG20*1000/FG18","v":20.701058889876791},18.863999249130284,{"$f":"FI20*1000/FI18","v":25.709872146395782},32.233664724345459,{"$f":"FK20*1000/FK18","v":21.424169267853642},{"$f":"FL20*1000/FL18","v":24.383598971485984},20.627149024655292,{"$f":"FN20*1000/FN18","v":16.134785228210703},13.228580928613818,10.154851252478178,{"$f":"FQ20*1000/FQ18","v":11.114427610269219},13.169761710460719,{"$f":"FS20*1000/FS18","v":15.874109382767825},{"$f":"FT20*1000/FT18","v":17.205790530651214},30.156236314787897,{"$f":"FV20*1000/FV18","v":23.428855797711911},{"$f":"FW20*1000/FW18","v":28.650017625769131},27.606545293928342,{"$f":"FY20*1000/FY18","v":21.001455755423894},24.355912581089523,{"$f":"GA20*1000/GA18","v":15.439706741816709},13.784567275226971,{"$f":"GC20*1000/GC18","v":14.167915003016368},20.753461190297667,{"$f":"GE20*1000/GE18","v":24.15747847804516},22.952933423034324,{"$f":"GG20*1000/GG18","v":26.568310641817465},32.101310601640833,{"$f":"GI20*1000/GI18","v":22.374245011375319},27.281975480470106,{"$f":"GK20*1000/GK18","v":17.813065801496997},14.153904473972181,{"$f":"GM20*1000/GM18","v":7.2868677981792658},9.5398315265897029,{"$f":"GO20*1000/GO18","v":12.915959539048211},20.501534987770455,{"$f":"GQ20*1000/GQ18","v":18.430506195229956},32.990639968379625,{"$f":"GS20*1000/GS18","v":25.0113345308195},23.32051100647212,{"$f":"GU20*1000/GU18","v":25.495120292999378},26.354467497387194,{"$f":"GW20*1000/GW18","v":19.360270249608881},13.359384994898065,{"$f":"GY20*1000/GY18","v":10.230101846255467},15.357301331546678,{"$f":"HA20*1000/HA18","v":17.641936438150466},16.467972428842515,{"$f":"HC20*1000/HC18","v":13.458036007997782}]
["Days per Month",31,28,31,30,31,30,31,31,30,31,30,31,31,28,31,30,31,30,31,31,30,31,30,31,31,28,31,30,31,30,31,31,30,31,30,31,31,29,31,30,31,30,31,31,30,31,30,31,31,28,31,30,31,30,31,31,30,31,30,31,31,28,31,30,31,30,31,31,30,31,30,31,31,28,31,30,31,30,31,31,30,31,30,31,31,29,31,30,31,30,31,31,30,31,30,31,31,28,31,30,31,30,31,31,30,31,30,31,31,28,31,30,31,30,31,31,30,31,30,31,31,28,31,30,31,30,31,31,30,31,30,31,31,29,31,30,31,30,31,31,30,31,30,31,31,28,31,30,31,30,31,31,30,31,30,31,31,28,31,30,31,30,31,31,30,31,30,31,31,28,31,30,31,30,31,31,30,31,30,{"$f":"DAY(EOMONTH(FY3,0))","v":31},31,29,31,30,31,{"$f":"DAY(EOMONTH(GE3,0))","v":30},31,{"$f":"DAY(EOMONTH(GG3,0))","v":31},30,{"$f":"DAY(EOMONTH(GI3,0))","v":31},30,{"$f":"DAY(EOMONTH(GK3,0))","v":31},31,{"$f":"DAY(EOMONTH(GM3,0))","v":28},31,{"$f":"DAY(EOMONTH(GO3,0))","v":30},31,{"$f":"DAY(EOMONTH(GQ3,0))","v":30},31,{"$f":"DAY(EOMONTH(GS3,0))","v":31},30,{"$f":"DAY(EOMONTH(GU3,0))","v":31},30,{"$f":"DAY(EOMONTH(GW3,0))","v":31},31,{"$f":"DAY(EOMONTH(GY3,0))","v":28},31,{"$f":"DAY(EOMONTH(HA3,0))","v":30},31,{"$f":"DAY(EOMONTH(HC3,0))","v":30}]
[]
["CHANGE FROM PREVIOUS YEAR",{"$f":"B$3","v":"2005-01-15"},{"$f":"C$3","v":"2005-02-15"},"2005-03-15","2005-04-15","2005-05-15","2005-06-15","2005-07-15","2005-08-15","2005-09-15","2005-10-15","2005-11-15","2005-12-15","2006-01-15","2006-02-15","2006-03-15","2006-04-15","2006-05-15","2006-06-15","2006-07-15","2006-08-15","2006-09-15","2006-10-15","2006-11-15","2006-12-15","2007-01-15","2007-02-15","2007-03-15","2007-04-15","2007-05-15","2007-06-15","2007-07-15","2007-08-15","2007-09-15","2007-10-15","2007-11-15","2007-12-15","2008-01-15","2008-02-15","2008-03-15","2008-04-15","2008-05-15","2008-06-15","2008-07-15","2008-08-15","2008-09-15","2008-10-15","2008-11-15","2008-12-15","2009-01-15","2009-02-15","2009-03-15","2009-04-15","2009-05-15","2009-06-15","2009-07-15","2009-08-15","2009-09-15","2009-10-15","2009-11-15","2009-12-15","2010-01-15","2010-02-15","2010-03-15","2010-04-15","2010-05-15",{"$f":"BO$3","v":"2010-06-15"},"2010-07-15","2010-08-15","2010-09-15","2010-10-15","2010-11-15","2010-12-15","2011-01-15","2011-02-15","2011-03-15","2011-04-15","2011-05-15","2011-06-15","2011-07-15","2011-08-15","2011-09-15","2011-10-15","2011-11-15","2011-12-15","2012-01-15","2012-02-15","2012-03-15","2012-04-15","2012-05-15","2012-06-15","2012-07-15","2012-08-15","2012-09-15","2012-10-15","2012-11-15","2012-12-15","2013-01-15","2013-02-15","2013-03-15","2013-04-15","2013-05-15","2013-06-15","2013-07-15","2013-08-15","2013-09-15","2013-10-15","2013-11-15","2013-12-15","2014-01-15","2014-02-15","2014-03-15","2014-04-15","2014-05-15","2014-06-15","2014-07-15","2014-08-15","2014-09-15","2014-10-15","2014-11-15","2014-12-15","2015-01-15","2015-02-15","2015-03-15","2015-04-15","2015-05-15","2015-06-15","2015-07-15","2015-08-15","2015-09-15",{"$f":"EA$3","v":"2015-10-15"},"2015-11-15","2015-12-15","2016-01-15","2016-02-15","2016-03-15","2016-04-15","2016-05-15","2016-06-15","2016-07-15","2016-08-15","2016-09-15","2016-10-15","2016-11-15","2016-12-15","2017-01-15","2017-02-15","2017-03-15","2017-04-15","2017-05-15","2017-06-15","2017-07-15","2017-08-15","2017-09-15","2017-10-15","2017-11-15","2017-12-15","2018-01-15","2018-02-15","2018-03-15","2018-04-15","2018-05-15","2018-06-15","2018-07-15","2018-08-15","2018-09-15","2018-10-15","2018-11-15","2018-12-15","2019-01-15","2019-02-15","2019-03-15","2019-04-15","2019-05-15","2019-06-15","2019-07-15","2019-08-15","2019-09-15","2019-10-15","2019-11-15","2019-12-15","2020-01-15","2020-02-15","2020-03-15","2020-04-15","2020-05-15","2020-06-15","2020-07-15","2020-08-15","2020-09-15","2020-10-15","2020-11-15","2020-12-15","2021-01-15","2021-02-15","2021-03-15","2021-04-15","2021-05-15","2021-06-15","2021-07-15","2021-08-15","2021-09-15","2021-10-15","2021-11-15",{"$f":"GW$3","v":"2021-12-15"},"2022-01-15","2022-02-15","2022-03-15","2022-04-15","2022-05-15","2022-06-15"]
[{"$f":"A4","v":"SUPPLY"}]
["Gas Processing",null,null,null,null,null,null,null,null,null,null,null,null,{"$f":"N5-B5","v":-290.322580645161},4035.7142857142862,1290.322580645161,1933.3333333333321,3645.1612903225814,3433.3333333333339,4677.4193548387102,1000,1400,32.258064516128798,{"$f":"X5-L5","v":1633.3333333333339},1225.8064516129034,1096.7741935483864,71.428571428570649,-258.0645161290322,466.66666666666788,-2387.0967741935492,-2466.6666666666679,-2677.4193548387102,-1451.6129032258068,{"$f":"AH5-V5","v":-366.66666666666606},677.41935483871021,-400,-64.516129032257595,-419.35483870967801,-836.20689655172464,-870.96774193548299,-2033.3333333333339,-419.35483870967619,0,{"$f":"AR5-AF5","v":1258.0645161290322},1290.322580645161,-2133.3333333333339,387.09677419354739,100,-161.29032258064581,{"$f":"AX5-AL5","v":-32.258064516128798},121.92118226601087,806.4516129032254,1433.3333333333339,225.8064516129034,333.33333333333394,806.4516129032254,1193.5483870967746,2233.3333333333339,1193.5483870967746,933.33333333333212,870.96774193548481,3258.0645161290322,3321.4285714285706,4096.7741935483864,3600,4032.2580645161288,4666.6666666666661,3967.7419354838712,3580.645161290322,1333.3333333333339,1870.967741935483,5800.0000000000018,4290.322580645161,2258.0645161290322,3857.1428571428569,2741.9354838709696,3399.9999999999982,3709.677419354839,4033.3333333333339,4709.677419354839,4451.6129032258068,{"$f":"CD5-BR5","v":7833.3333333333339},6129.032258064517,4500,8225.8064516129016,7774.1935483870966,6428.5714285714275,4741.935483870966,4733.3333333333358,5064.5161290322576,4900,2161.290322580644,5870.9677419354848,6300,7064.5161290322576,8400,7290.3225806451628,8322.5806451612916,11892.857142857141,15193.548387096776,21466.666666666668,23580.645161290322,27366.666666666664,29967.741935483871,26387.096774193549,25199.999999999996,27258.06451612903,29266.666666666668,27193.548387096776,24064.516129032258,27607.142857142862,29741.935483870962,21300,{"$f":"DJ5-CX5","v":22580.645161290326},22866.666666666664,27387.096774193553,34741.935483870962,39966.666666666664,40225.806451612902,33766.666666666664,39645.161290322583,47870.967741935485,39107.142857142855,39903.225806451621,45999.999999999993,42612.903225806454,39366.666666666672,33096.774193548379,27322.580645161288,24033.333333333343,16000,13466.666666666672,13903.225806451606,{"$f":"ED5-DR5","v":9612.9032258064544},{"$f":"EE5-DS5","v":15250},11000,{"$f":"EG5-DU5","v":9133.333333333343},6612.9032258064399,-4100,10387.096774193546,13290.322580645166,10366.666666666657,{"$f":"EM5-EA5","v":9903.2258064516209},18633.333333333328,13258.06451612903,14032.258064516122,{"$f":"EQ5-EE5","v":12214.28571428571},{"$f":"ER5-EF5","v":11967.741935483864},14233.333333333328,22838.709677419349,32433.333333333314,19290.322580645166,20129.032258064515,23800.000000000015,31612.90322580644,31233.333333333343,28580.645161290318,16451.612903225818,21857.14285714287,24193.548387096787,19800,18064.516129032272,17766.666666666686,19612.903225806454,20548.387096774211,25300,26451.612903225789,20366.666666666657,15129.032258064515,{"$f":"FN5-FB5","v":37870.967741935485},{"$f":"FO5-FC5","v":28214.28571428571},{"$f":"FP5-FD5","v":28935.483870967757},31900,24516.129032258061,34400,{"$f":"FT5-FH5","v":32419.354838709667},{"$f":"FU5-FI5","v":27387.096774193516},28333.333333333314,23967.741935483878,31000,40967.741935483878,30548.387096774182,37024.630541871942,32322.580645161273,20400,23225.80645161288,28366.666666666657,26419.354838709696,30677.419354838727,19233.333333333343,23354.838709677453,15200,19032.258064516122,18129.032258064544,1403.9408866994781,1580.6451612903038,18033.333333333343,22193.548387096816,6577.5843096666795,11023.921944516158,2513.1008048453077,3664.032522739144,898.01870748997317,{"$f":"GV5-GJ5","v":7913.7153536576952},{"$f":"GW5-GK5","v":2016.661715269438},2666.714846589748,14628.683730549266,19668.049177976442,11198.674330944952,4706.9381900603767,3287.4486237175006]
["Refinery Production",null,null,null,null,null,null,null,null,null,null,null,null,-8709.6774193548408,-12142.857142857138,-19225.806451612905,-17666.666666666664,-6322.580645161288,700,3451.6129032258032,3580.6451612903256,4233.3333333333358,4290.3225806451665,8500,11935.483870967742,9129.0322580645152,6285.7142857142826,20709.677419354837,14466.666666666664,10064.516129032258,7000,1903.2258064516136,-1483.8709677419392,2566.6666666666642,4548.3870967741896,2300,3483.870967741932,774.19354838709842,1812.8078817733985,-7580.6451612903184,-6366.6666666666642,-1096.7741935483864,-3666.6666666666642,-64.516129032257595,4967.7419354838712,1400,-1709.6774193548335,-4666.6666666666715,-10258.06451612903,{"$f":"AX6-AL6","v":-9032.2580645161288},-8955.6650246305435,-17161.290322580648,-7266.6666666666642,-8354.838709677424,-1166.6666666666642,-1129.0322580645152,-6387.0967741935456,-5033.3333333333358,-2322.5806451612953,-4233.3333333333285,-3000,-8838.709677419356,4107.1428571428623,7774.1935483870948,2933.3333333333285,-4838.7096774193487,-9233.3333333333358,-9967.7419354838712,-6000,-8800,-17064.516129032258,-7666.6666666666715,258.06451612903038,5193.5483870967728,-5607.1428571428623,-32.258064516128798,-9999.9999999999964,3580.6451612903184,3133.3333333333358,3161.290322580644,387.09677419354557,{"$f":"CD6-BR6","v":6466.6666666666715},11516.129032258068,7766.6666666666715,-612.90322580644715,-741.93548387096234,2464.2857142857174,5677.419354838712,4966.6666666666679,-3193.5483870967728,-3233.3333333333358,-8193.5483870967728,-8451.6129032258032,-14266.666666666668,-11774.193548387098,-20466.666666666668,-3612.9032258064544,-2000,-3892.8571428571449,-4903.2258064516136,1666.6666666666642,-419.35483870967437,-1433.3333333333358,1032.2580645161288,2000,4366.6666666666679,-12677.419354838712,-1233.3333333333358,0,-4645.1612903225832,-2785.7142857142826,-2451.6129032258032,-66.666666666664241,{"$f":"DJ6-CX6","v":-870.96774193548481},1033.3333333333358,4032.2580645161288,5516.1290322580608,3300,21000,14666.666666666668,1774.1935483870984,4677.419354838712,-5321.4285714285725,4870.9677419354775,2366.6666666666642,2516.1290322580608,1100,-580.64516129031836,-5096.7741935483864,-7433.3333333333358,-3774.1935483870984,2666.6666666666642,387.09677419354557,838.70967741934874,4336.2068965517246,-5161.290322580644,-4433.3333333333358,-2290.3225806451592,-2333.3333333333358,-5193.5483870967764,-2032.2580645161288,2866.6666666666642,-2903.2258064516063,-566.66666666666424,-4193.5483870967728,-4580.6451612903184,199.50738916255796,-2774.1935483870948,-2766.6666666666642,806.45161290322721,500,2774.1935483870948,5161.290322580644,1700,4967.7419354838639,1366.6666666666642,3548.3870967741896,-516.12903225806804,-8178.5714285714239,-8161.290322580644,3600,-1419.3548387096816,2000,1129.0322580645225,-8774.1935483870911,-8133.3333333333285,-1741.9354838709623,-4600,-5096.7741935483864,3032.2580645161288,-3428.5714285714312,967.7419354838712,-5666.6666666666679,-548.38709677418956,-6933.3333333333285,-10064.516129032261,-483.87096774193924,2266.6666666666642,-5096.77419354839,-2533.3333333333285,-258.06451612903038,-3032.2580645161288,-1213.0541871921196,451.61290322580317,-9233.3333333333321,-12612.903225806454,-9600,-5419.354838709678,-1741.935483870966,-2500,-3096.7741935483828,-2733.3333333333358,-6580.645161290322,-5612.9032258064472,7534.482758620692,5193.5483870967764,6400,1064.5161290322576,6742.8140346091714,6548.1442096146566,-570.26373770697683,-1748.3520353886852,-835.13777952680903,-2139.7174195483967,2278.6713303777542,-1606.1960854904864,-1252.3807182012279,-2352.3355398893618,686.58269862589805,3819.0604881678992,-1311.6942662463771]
[{"$f":"A7","v":"Imports"},null,null,null,null,null,null,null,null,null,null,null,null,{"$f":"N7-B7","v":19000},-19392.85714285713,-6903.2258064516063,39833.333333333343,22290.322580645166,60933.333333333328,28225.806451612902,-14290.322580645163,-3900,19774.193548387098,18166.666666666672,-34612.903225806447,14451.612903225818,-13678.571428571435,23935.483870967742,-54466.666666666672,-17354.838709677424,-55933.333333333336,-30322.580645161288,32161.29032258064,-7400,-12354.838709677424,-10933.333333333336,17548.38709677419,-354.83870967742405,23724.137931034493,-29225.806451612909,43933.333333333343,44935.483870967742,-7766.6666666666642,5096.7741935483791,-12387.096774193538,-14366.666666666668,-4838.7096774193487,-12400,-129.03225806451519,{"$f":"AX7-AL7","v":-19322.580645161303},19347.290640394072,41483.870967741939,-13866.666666666679,-56967.741935483871,933.33333333333576,10451.61290322581,-23612.903225806458,13600.000000000004,870.96774193548481,22499.999999999993,6322.580645161288,-4548.3870967741823,6142.8571428571449,-35612.903225806454,-30133.333333333336,5870.9677419354848,17400,-30258.06451612903,1645.1612903225796,-11300,8000,-18499.999999999993,21967.741935483878,-161.29032258063671,-36535.714285714275,-17193.54838709678,14800,-16096.774193548386,-5500.0000000000036,96.774193548386393,5774.1935483870984,19233.333333333328,-29419.354838709682,-11733.333333333336,-46419.354838709682,-36387.09677419356,-31035.71428571429,-1580.6451612903184,16300,25387.096774193546,23133.333333333332,22258.06451612903,-4483.8709677419356,-26366.666666666664,2419.3548387096744,12000,-1387.0967741935456,20548.38709677419,17607.142857142855,3032.2580645161288,-29366.666666666664,-31290.322580645163,-26666.666666666664,-29451.612903225803,451.6129032258068,7133.3333333333358,11645.161290322583,3433.3333333333285,5258.0645161290304,9322.5806451612953,35285.714285714275,-8258.0645161290304,-11599.999999999996,{"$f":"DJ7-CX7","v":-2387.0967741935456},-2466.6666666666679,6612.9032258064526,-1548.3870967741932,-7333.3333333333358,-15612.903225806451,-20266.666666666657,-12741.93548387097,4193.5483870967728,-20928.57142857142,25774.193548387106,13200.000000000004,7548.3870967741932,1566.6666666666679,8580.645161290322,20225.806451612905,7600,22580.645161290322,7466.6666666666642,193.54838709677279,-22387.096774193546,185.96059113301453,-26322.580645161303,-9800.0000000000073,-1354.8387096774168,-466.66666666666424,3838.709677419356,4870.9677419354848,-2500,-18387.096774193549,-566.66666666667152,709.67741935483355,24161.290322580651,-6150.2463054187247,5677.419354838712,3366.6666666666715,14709.677419354841,-5233.3333333333358,-12483.870967741936,-20032.258064516132,-266.66666666666788,-483.8709677419356,2366.6666666666715,-3483.870967741932,11548.387096774182,-2178.5714285714348,-14387.096774193546,5766.6666666666642,-20225.806451612905,-4933.3333333333321,-4483.8709677419356,96.774193548386393,-8033.3333333333321,-2387.0967741935492,2833.3333333333358,5483.8709677419392,-28064.51612903225,-15535.714285714283,10741.93548387097,-3300,4387.0967741935456,7900,3387.0967741935456,-7612.9032258064508,633.33333333333576,-258.06451612903038,-14200.000000000004,-9000,-1870.9677419354921,-30411.330049261083,-17064.516129032261,-12400,1129.0322580645188,-13433.333333333336,16548.387096774197,-483.8709677419356,-4933.3333333333358,-2870.9677419354848,5299.9999999999964,3129.0322580645079,-22935.483870967735,29339.901477832511,17419.354838709678,3833.3333333333358,-10387.096774193551,7513.2619002558458,54972.545912130649,5582.8079488132462,13135.174326566033,9447.9250163966608,2189.1183373261665,-1953.6210303857151,13823.27176664742,-3594.6634816132282,5420.2956695014946,10275.721347678664,16897.011383147343,14206.400858245499]
["Net Inter-PADD Transfers (+ = Receipt)",null,null,null,null,null,null,null,null,null,null,null,null,-6194.4595152583352,-6194.4595152583352,-6194.4595152583352,-6194.4595152583352,-6194.4595152583352,-6194.4595152583352,-6194.4595152583352,-6194.4595152583352,-6194.4595152583352,-6194.4595152583352,-6194.4595152583352,-6194.4595152583352,-16079.131934943696,-16079.131934943696,-16079.131934943696,-16079.131934943696,-16079.131934943696,-16079.131934943696,-16079.131934943696,-16079.131934943696,-16079.131934943696,-16079.131934943696,-16079.131934943696,-16079.131934943696,-11467.991613029473,-11467.991613029473,-11467.991613029473,-11467.991613029473,-11467.991613029473,-11467.991613029473,-11467.991613029473,-11467.991613029473,-11467.991613029473,-11467.991613029473,-11467.991613029473,-11467.991613029473,8095.0717536579468,8095.0717536579468,8095.0717536579468,8095.0717536579468,8095.0717536579468,8095.0717536579468,8095.0717536579468,8095.0717536579468,8095.0717536579468,8095.0717536579468,8095.0717536579468,8095.0717536579468,3120.3858656209195,3120.3858656209195,3120.3858656209195,3120.3858656209195,3120.3858656209195,3120.3858656209195,3120.3858656209195,3120.3858656209195,3120.3858656209195,3120.3858656209195,3120.3858656209195,3120.3858656209195,4496.7387451285613,4496.7387451285613,4496.7387451285613,4496.7387451285613,4496.7387451285613,4496.7387451285613,4496.7387451285613,4496.7387451285613,4496.7387451285613,4496.7387451285613,4496.7387451285613,4496.7387451285613,-8760.0309475687827,-8760.0309475687827,-8760.0309475687827,-8760.0309475687827,-8760.0309475687827,-8760.0309475687827,-8760.0309475687827,-8760.0309475687827,-8760.0309475687827,-8760.0309475687827,-8760.0309475687827,-8760.0309475687827,18939.548233935391,18939.548233935391,18939.548233935391,18939.548233935391,18939.548233935391,18939.548233935391,18939.548233935391,18939.548233935391,18939.548233935391,18939.548233935391,18939.548233935391,18939.548233935391,15964.38356164383,15964.38356164383,15964.38356164383,15964.38356164383,15964.38356164383,15964.38356164383,15964.38356164383,15964.38356164383,15964.38356164383,15964.38356164383,15964.38356164383,15964.38356164383,-17123.287671232873,-17123.287671232873,-17123.287671232873,-17123.287671232873,-17123.287671232873,-17123.287671232873,-17123.287671232873,-17123.287671232873,-17123.287671232873,-17123.287671232873,-17123.287671232873,-17123.287671232873,-10917.808219178085,-10917.808219178085,-10917.808219178085,-10917.808219178085,-10917.808219178085,-10917.808219178085,-10917.808219178085,-10917.808219178085,-10917.808219178085,-10917.808219178085,-10917.808219178085,-10917.808219178085,-6832.8767123287689,-6832.8767123287689,-6832.8767123287689,-6832.8767123287689,-6832.8767123287689,-6832.8767123287689,-6832.8767123287689,-6832.8767123287689,-6832.8767123287689,-6832.8767123287689,-6832.8767123287689,-6832.8767123287689,-46542.465753424651,-46542.465753424651,-46542.465753424651,-46542.465753424651,-46542.465753424651,-46542.465753424651,-46542.465753424651,-46542.465753424651,-28542.465753424651,-28542.465753424651,-28542.465753424651,-28542.465753424651,4310.66406277442,4310.66406277442,4310.66406277442,4310.66406277442,4310.66406277442,4310.66406277442,4310.66406277442,4310.66406277442,-13689.33593722558,22257.46263499801,-104449.63181874872,-105837.44753671506,85288.376519039593,10149.758669294788,-79157.026619620243,-48452.803390784225,5948.9049142625518,48486.306666692457,12534.055082696541,23414.637761873251,28867.6866051447,-66564.660061095594,67423.407453729102,82532.845525437267,-94902.642593091805,-19763.024743346999,69544.760545568031,29721.102038898287,-5816.730405682938,-64865.152547648686,-100837.38776717184,-71131.454342361947,-35673.805213373671,66962.62264603893,59067.133455928677,68643.311688697082,107220.26867794445,107104.01826743541,97167.364223194993,44671.037289111518,-62415.712471647312,-72441.666666666657]
["Total Stock Change (Primary+Secondary+Tertiary)",null,null,null,null,null,null,null,null,null,null,null,null,-55489.351379615669,-20534.377255214837,1708.7480207891931,-20811.406712063304,8923.4663031574237,-32036.26199919805,10739.46715037684,-10381.082146658837,-5313.3244224776863,16502.616083857189,1061.0707794816517,-41615.67893942813,33828.025770356959,130119.04649769899,-42397.260710333889,76919.166987399251,35279.758342152825,44285.906635265572,33860.610237057146,10634.927532646314,48685.593350405405,23828.543939606421,39185.06896269782,45280.221355288442,23317.661444079749,-93630.470283626768,61628.679957984743,-31711.47864259834,-13261.289250309444,20263.237507440521,10353.460144196975,1248.2165725860359,-4244.9986363979187,26545.025614751477,13602.433210110561,-1524.7816169700891,12476.900192486799,-30105.116885071169,-44288.154949460062,-1156.629527196561,11473.681203857046,12235.157164058721,-15012.50062006088,30998.339845493825,-29855.064281572802,-20011.643396369342,-40032.301662718164,14833.952535664845,23484.294334569153,-1670.0881425296175,17261.436825700657,14505.00385168608,-15609.461124090536,-50661.675652185979,9487.2773255570428,-22765.025978793863,11465.264161660609,-10870.187111694629,13767.676073974155,-9513.7954020017787,-29754.112947087517,23399.430751624452,19312.293937836825,-20420.762317254383,-2303.1972704525142,-453.6238219944571,-10721.215562195908,-729.16037357410823,-29116.706432648876,-2559.1541950654973,18345.133982849431,-28495.647322625402,-18705.823458752006,4479.7555336571095,-47588.344208429815,-37898.830083898327,-14060.200606842511,-16629.154640476245,-41642.732601592499,-21004.699770392181,-8795.6635779622666,2875.1451033193134,1746.629052157994,-26740.553719312709,11420.439982358104,-5841.9095815604887,15775.498473473261,7217.8598121379473,-7911.2016283427292,-20566.787009396197,45816.278140730188,-14616.620575310733,-10111.32301892095,-18621.8427688991,-38765.804127602794,19145.799341621314,-72456.768020959076,-91101.651433150895,-49824.530521810913,-16526.464424074351,-23791.289749906318,-29290.199585878356,-79605.354553186451,-48715.020796739496,-28440.621284762427,-31624.992039232209,-56336.209478367971,-59605.225424227319,-16827.62642683812,31695.942848666964,-36491.380340448821,-31503.318556366241,1135.1295251757983,16903.449379749218,16233.559352704455,-4003.543014601164,16848.595571606915,-29534.732609181636,15151.550426258153,28430.760353512946,39492.298228276544,-14845.87405946065,27415.761200413428,18341.545845718181,13595.725825797883,22559.818679956225,-4773.2996819831897,-15159.72104099617,-36457.137683709967,37284.929162571032,-33608.120317268942,-2144.9206720051588,-39164.674399437965,-7023.7798601043178,42097.094448897289,8354.4420219409803,-41858.329976251698,-36364.59327697815,529.29750222482835,8098.172434753069,21950.36061086363,6442.0375704851176,3318.7506751118635,-5478.1404828996747,91928.769486944715,65725.963798991812,429.18337553809397,52685.696914012835,63202.004649628332,39029.733129884058,70356.906509452994,74492.759416793997,15616.345040690765,68598.278725375945,57619.965165325382,9781.9225247000577,-45080.196864291094,-582.97174930485198,67154.637701470347,21409.707809931948,36213.979872989643,45267.300738294143,28649.869754668762,-8411.1372429079202,90182.337182070274,-82962.080956966558,79460.041117826069,97943.372123701964,-156826.74750714621,11271.263299135491,45669.112748479354,68027.271864756942,-27769.127908469993,-52176.023116643424,-29932.599457159464,7278.2668405844597,-82498.726807985106,133509.08051856951,-45027.909443105687,48804.635249130661,295954.75702502392,166874.0394684737,-33862.312966183235,-72898.028328472341,-26226.751586154511,37791.797001597006,-78161.547412993532,29091.775563532545,32743.160242476675,-120846.99806810875,-42664.520957900851,-99149.905991722248,-91145.630124903808,-141759.3715310042,-106363.68140792398,-22335.673161667306,78886.671552588465,42558.51107599723]
["     TOTAL SUPPLY",null,null,null,null,null,null,null,null,null,null,null,null,-51683.810894874012,-54228.836770473165,-29324.421171888505,-2905.8662273216178,22341.910013705521,26835.945152210275,40899.846344795893,-26285.219081271993,-9774.450604402693,34404.93076214724,23166.61126422332,-69261.75135791229,42426.313190251967,106718.48599132668,-14089.295871084032,21306.701719122211,9523.2070523704169,-23193.225299678132,-13315.295891434915,23781.602049315494,27406.461415461701,620.37974659819156,14072.603694420774,50168.831355828646,11849.669831050269,-80397.722980400024,12483.268990116572,-7646.1369222944777,18690.07397537076,-2638.0874389222881,5175.7911118126649,-16348.807298507949,-30812.990249427385,8915.7436791413638,-14832.225069585576,-23541.160326773796,-7815.1248280488071,-11496.498333383701,-11064.0509377376,-12761.557773538603,-45528.021236033383,20430.228917716682,3211.6033916615706,10286.959986248548,-10959.992527914845,-12174.63615884044,-12737.229909060232,27122.572676419601,16475.647942125564,15021.726294519904,-3360.1127925493929,-5974.6102826930291,-7424.5591294373735,-34707.956453231745,-23650.401324951061,-20418.833661560027,-4181.0166393851396,-14943.349633170466,-3478.6047270715935,20122.719495877216,-17967.051621313789,-10389.544788961299,9325.1617152234539,-7724.0235721258214,-6612.910138227162,5709.7815898008121,1743.2651184165443,14380.481597360864,8913.365645812999,-9836.6089983240527,23375.206061311328,-62805.360190400097,-56820.693115998205,-26423.132556768833,-47509.665478579234,-20658.861031467095,4437.8329617177078,-589.18558804507484,-34176.95709754838,-36829.246846993192,-51889.027858864371,-8175.2084248946339,-7080.0685620774457,-33210.262086236326,57230.955958228937,38704.78150951775,48037.627352569922,19924.074712739995,2899.314347528154,-2360.5721087941492,66304.213471439754,33161.637336044019,45528.225215014449,26543.511916649208,11640.410772999254,70536.960478782479,-27750.448975444247,-15030.125014364196,-14827.888895650976,{"$f":"DI10-CW10","v":9071.2524709028366},11495.674456898822,8107.5173090988246,-25608.71292702647,5959.0401842591527,23457.095610214688,29952.29474821809,-12205.159250057448,-14963.422507744748,22791.021385799977,27429.798034576932,16933.71908509254,12940.060439067514,36689.261208781594,41813.495041849674,40207.045875019947,21324.782217391767,23925.307900374086,-11851.56866751131,21628.262755025266,25791.343650021998,16639.006138130731,-5991.5147909539519,-3985.9179865066253,2323.7376265401253,5645.6595421037055,4742.0104607781686,-6658.849836645124,-9948.4970021097397,-36641.612569554709,14980.024169199402,-27025.928536447056,-3288.5353427961236,-12384.647885960294,-7593.1097744035069,50135.185478504049,16354.89864294554,-10336.367978903058,-15497.469989306963,3277.0659511863778,6523.360238553345,40350.81723186819,35705.935051704728,31452.540629449795,16334.144095094118,72870.174701261974,30683.498045567132,-44468.121087563981,35309.897827254841,13078.893734913378,7320.6007097927504,40072.505272157374,39821.26140530486,-3792.7873794005427,62378.393617112597,47677.499411900702,-3244.4141964665032,-27930.823124097253,12977.692313469539,112110.46305456734,48653.705206039711,68879.482645441458,84944.63146773522,58702.469301314151,15189.849400511652,107726.33457817798,-42091.715096162108,-10722.924034255964,23815.60200634168,-45893.209697784099,26821.26827384904,-17778.23645178607,18341.135140639381,-10078.287510336493,1643.616883382434,20149.842722311267,59144.517505683471,-41831.040202840348,84331.517231667531,40162.164677290071,146918.12593585823,190632.75959322246,185389.33984827937,59875.995966481569,-14910.259622907382,-19172.514249901928,-6239.6953015200561,-106454.3231139039,-34514.033762877807,12120.209843019489,-44373.56947771,24365.728769463312,-28164.882287763641,30958.429080787289,-24873.713732833974,13539.692122859531,44496.342504693719,41893.969142316782,-13701.000374952797]
["DEMAND"]
["  Residential and Commercial ",null,null,null,null,null,null,null,null,null,null,null,null,-53223.765945339866,-54725.618665893126,-28556.629353484459,-1781.3436635537364,24695.533574266257,29346.237567618489,43835.011890611248,-24093.780217720167,-8109.8062497259525,36525.560336276394,24229.326507730482,-70362.878282394871,38229.315109612216,103455.36644958443,-17058.992810645548,18541.38464223675,6577.9752955485892,-27379.813141368446,-16102.098404569871,20194.316667321866,23135.903324081068,-5313.6414967898891,8645.4233896891819,45426.894690799003,13025.260607498611,-79057.408150056901,11733.012753147486,-7370.1044777366042,19049.893558460142,-404.40418768834206,6019.0983513902174,-14846.049339197605,-28592.802803571627,12561.083355832947,-11829.707652764948,-21420.749673433253,{"$f":"AX12-AL12","v":-30.977809254167369},-5054.2351684241439,-3166.9709821301221,-6088.2464942947263,-38915.720405583736,25986.176963266771,9113.1370273794164,15389.488061262149,-4660.5263612828712,-3868.9112445089704,-13488.253938383757,34660.862136885989,21783.58178383339,20963.096138067835,3744.9132757061452,-363.37431391983409,-428.07132746471325,-27588.961916575616,-16594.568248162861,-11921.052481214676,-3523.633388267961,-2041.0838759681064,10256.11758396322,28210.252992295427,-24170.975524515932,-16042.400156234798,2906.3410741873085,-14638.500918600475,-11704.029624746297,735.29898470605258,-3254.5749800605408,9575.5542798437964,12214.849840925192,-19156.859522591607,21328.27241422623,-69201.590127447882,-40250.973681547155,-11824.875697774929,-34672.140660851146,-7058.4091300111031,14241.540943387517,7084.247070097219,-25336.77066333979,-27084.932847184828,-47616.964868041032,-8598.7140682063473,-1046.5565823434736,-23704.696803891013,51660.500879259722,31996.742014581425,39663.851380559412,14919.069790536945,1511.8724453364557,-1394.2536128628708,61812.759810731135,31929.589302084583,46802.258648975709,29997.976588116508,3489.2584274432156,70024.250222320145,-10362.826241705567,-3831.9503466166207,-9565.3135746634507,7487.6498887293274,{"$f":"DJ12-CX12","v":8206.3106186820078},5044.2781831296161,-25060.091533866653,-6032.5569532728987,-2078.8295174475352,-3757.9838460021419,-8131.3354922731814,-19796.67547220405,-11126.714575831662,-11149.222367566661,-10425.532039138925,-10012.503738041036,-9878.2127242455026,-9791.6802969893906,-9777.9223295574193,-9597.946644073978,-9496.6575046834623,-9455.7358277512831,-9906.6188408701273,-10622.522375275003,{"$f":"ED12-DR12","v":-5525.1708129004401},{"$f":"EE12-DS12","v":-5559.0417111880961},-4469.9947804832482,{"$f":"EG12-DU12","v":-3848.448262676131},-3646.3601448025438,-3516.1416375102854,-3495.4379309441429,-3224.6011376667302,-3072.1759607175627,{"$f":"EM12-EA12","v":-3010.5948881072691},-3689.107149851654,-4766.4361070014711,2937.9327592009795,{"$f":"EQ12-EE12","v":-4728.9327895259485},{"$f":"ER12-EF12","v":3716.2638664904516},14572.328114519332,875.27946894938941,2467.7032893963769,2111.2697443195502,736.47864991836832,2600.2729762005474,6611.1141754927812,1472.8494934748451,1928.0962552084238,68539.783942052978,21244.592183137953,9925.1219618723553,11484.109291364468,5907.9923951424425,-3476.8612638828345,-4737.8301295102283,1464.7255781210988,4571.7342146633455,29009.84626016226,35755.403342823207,3846.7365666459955,{"$f":"FN12-FB12","v":-54079.1666742175},{"$f":"FO12-FC12","v":-8121.10607294683},{"$f":"FP12-FD12","v":42274.073480956664},-36279.159455232904,-16008.170597980148,-5929.9965113906655,{"$f":"FT12-FH12","v":-4589.3620710651885},{"$f":"FU12-FI12","v":-9983.2202251132985},-17467.355408728108,-42028.568605741544,-45545.744931078676,-16497.933320561919,-44853.608677592769,-36522.648709499103,-66187.911075186654,-2364.0442050404235,-4832.3203398555779,-107.54752152021683,-1251.9093967539957,-18.998540766639053,-1656.405437796202,-2191.7116146531771,38641.960830269076,109432.33987974134,113915.4165434367,157562.87944272475,72402.918591402326,41561.560848120818,4196.3853489895555,1472.6526823886525,-41510.555092184528,-31668.76473619313,-7155.2240801643347,29692.939882755163,{"$f":"GV12-GJ12","v":30583.774460202229},{"$f":"GW12-GK12","v":19046.532677524141},28129.73471124185,-25982.988502462045,20583.835216966196,8624.6752835117804,-1956.9660466600908,-35752.541819047838]
["  Chemical",null,null,null,null,null,null,null,null,null,null,null,null,1270.8098787035087,1270.8098787035087,1270.8098787035087,1270.8098787035087,1270.8098787035087,1270.8098787035087,1270.8098787035087,1270.8098787035087,1270.8098787035087,1270.8098787035087,1270.8098787035087,1270.8098787035087,1166.0142932147282,1166.0142932147282,1166.0142932147282,1166.0142932147282,1166.0142932147282,1166.0142932147282,1166.0142932147282,1166.0142932147282,1166.0142932147282,1166.0142932147282,1166.0142932147282,1166.0142932147282,1087.584073327238,1087.584073327238,1087.584073327238,1087.584073327238,1087.584073327238,1087.584073327238,1087.584073327238,1087.584073327238,1087.584073327238,1087.584073327238,1087.584073327238,1087.584073327238,-2203.7266716110316,-2203.7266716110316,-2203.7266716110316,-2203.7266716110316,-2203.7266716110316,-2203.7266716110316,-2203.7266716110316,-2203.7266716110316,-2203.7266716110316,-2203.7266716110316,-2203.7266716110316,-2203.7266716110316,-7112.0537875822738,-7112.0537875822738,-7112.0537875822738,-7112.0537875822738,-7112.0537875822738,-7112.0537875822738,-7112.0537875822738,-7112.0537875822738,-7112.0537875822738,-7112.0537875822738,-7112.0537875822738,-7112.0537875822738,1572.6027397260259,1572.6027397260259,1572.6027397260259,1572.6027397260259,1572.6027397260259,1572.6027397260259,1572.6027397260259,1572.6027397260259,1572.6027397260259,1572.6027397260259,1572.6027397260259,1572.6027397260259,-4662.0136986301368,-4662.0136986301368,-4662.0136986301368,-4662.0136986301368,-4662.0136986301368,-4662.0136986301368,-4662.0136986301368,-4662.0136986301368,-4662.0136986301368,-4662.0136986301368,-4662.0136986301368,-4662.0136986301368,-2201,-2201,-2201,-2201,-2201,-2201,-2201,-2201,-2201,-2201,-2201,-2201,1400,1400,1400,1400,1400,1400,1400,1400,1400,1400,1400,1400,2538.4209013698637,2538.4209013698637,2538.4209013698637,2538.4209013698637,2538.4209013698637,2538.4209013698637,2538.4209013698637,2538.4209013698637,2538.4209013698637,2538.4209013698637,2538.4209013698637,2538.4209013698637,71.539818749995902,71.539818749995902,71.539818749995902,71.539818749995902,71.539818749995902,71.539818749995902,71.539818749995902,71.539818749995902,71.539818749995902,71.539818749995902,71.539818749995902,71.539818749995902,0,-316.72966874999838,-316.72966874999838,-316.72966874999838,-316.72966874999838,-316.72966874999838,-316.72966874999838,-316.72966874999838,-316.72966874999838,-316.72966874999838,-316.72966874999838,-316.72966874999838,-331.31413750000138,-14.584468750002998,-14.584468750002998,-14.584468750002998,-14.584468750002998,-14.584468750002998,-14.584468750002998,-14.584468750002998,-14.584468750002998,-14.584468750002998,-14.584468750002998,-14.584468750002998,-75.625281249998807,-75.625281249998807,-75.625281249998807,-75.625281249998807,-75.625281249998807,-75.625281249998807,-75.625281249998807,-75.625281249998807,-75.625281249998807,-75.625281249998807,-75.625281249998807,-75.625281249998807,0,0,0,0,0,0,0,0,0,0,0,0,-74.773000000001048,-74.773000000001048,-74.773000000001048,-74.773000000001048,-74.773000000001048,-74.773000000001048,-74.773000000001048,-74.773000000001048,-74.773000000001048,-74.773000000001048,-74.773000000001048,-74.773000000001048,0,0,0,0,0,0]
["  Farm",null,null,null,null,null,null,null,null,null,null,null,null,-317.80521934227181,-234.66478257209747,-148.28510800568074,{"$f":"Q14-E14","v":-153.32392235538828},-148.28510800568074,-153.32392235538828,-148.28510800568074,-317.80521934227181,-547.43118756466356,-868.83556001386751,-766.25969646625163,-508.56033400977321,1295.7360054591809,956.76090097325869,604.5789742346351,625.12291996105523,604.5789742346351,625.12291996105523,604.5789742346351,1295.7360054591809,2231.9529607060213,3542.3632131126433,3124.147175110531,2073.471093673641,-1330.63077086472,-1314.2039934161276,-619.87457331152382,-641.43970448751406,-619.87457331152382,-641.43970448751406,-619.87457331152382,-1330.63077086472,-2283.8717461496126,-3629.9061821400464,-3190.9017260573819,-2117.5121627919725,11.128873154959365,334.92577351440195,5.1934741389814008,-2.6627416942692435,5.1934741389814008,-2.6627416942692435,5.1934741389814008,867.21294465892606,-0.77424001520193997,-1696.5056529186622,6835.3588635603955,3.0497671803168487,1207.5525938251758,-485.04211573012981,-315.8724733952331,-311.66850251319738,-315.8724733952331,-311.66850251319738,-315.8724733952331,-1518.4581021226495,6241.9047095094247,-6066.6241466600077,-6145.7084689911972,-1068.4957821268399,-3215.2205299602374,-992.43473986851313,-621.8744812760151,-649.40951474544363,-621.8744812760151,-649.40951474544363,-621.8744812760151,-1345.2939055163788,-9688.4312230931646,2297.0133555563116,-5520.8829564570333,-2141.2671622646012,1398.0487279843437,715.8308545335949,653.25799086757979,674.97762557077567,653.25799086757979,674.97762557077567,653.25799086757979,1398.0487279843437,2416.0038486627491,3829.5666014350936,3387.4168949771629,2248.452380952378,-187.48160469667346,176.45955642530862,-96.134703196346891,-91.580365296804302,-96.134703196346891,-91.580365296804302,-96.134703196346891,-187.48160469667346,-339.42028701891468,-538.05427266797778,5736.4543378995404,-316.93183300717646,360.85346873943126,263.601068512653,180.8788766401085,180.66060106129862,180.8788766401085,180.66060106129862,180.8788766401085,360.85346873943126,1847.8133216699134,-899.68941089064538,-3621.8261117202819,583.12462354135641,-1464.6475236996866,-1077.0511164483687,-688.18279381202592,-712.54559960539609,-688.18279381202592,-712.54559960539609,-688.18279381202592,-1464.6475236996866,-3740.4763431937063,-2099.9201014071841,-5244.604733309232,-2343.7840780022598,1681.2824271784848,1241.4452350174088,784.47152887603079,811.12832840094507,784.47152887603079,811.12832840094507,784.47152887603079,1681.2824271784848,2896.0708626709784,4596.3938609386896,1053.7375848958,2690.4326949073584,-3000,199.56688955777099,126.10668481257926,130.39186342271569,126.10668481257926,130.39186342271569,126.10668481257926,270.27233662501931,465.55404757265569,738.88722606205556,3651.6532329271395,432.49695543732014,3358.9750894243498,65.49738938297196,41.387920898441735,42.794306560039331,41.387920898441735,42.794306560039331,41.387920898441735,88.702752799330483,152.79375652070303,242.50107050689257,213.87107668151293,141.94449570266443,-578.36639706332244,-427.06103158016595,-269.86065185740426,-279.03067400789951,-269.86065185740426,-279.03067400789951,-269.86065185740426,-578.36639706332244,-996.25740649299041,-1581.1738193780984,-1394.4983684573162,-925.51723561774998,-252.63131115459873,-186.54090019569412,-117.87553816046966,-121.88101761252437,-117.87553816046966,-121.88101761252437,-117.87553816046966,-252.63131115459873,-435.16673189823996,-690.65909980430297,-20221.548431563409,-1632.1849044391602,6867.5127418876964,8721.2888977846778,6743.8443941371879,1594.7484045805304,1003.9534015235377,-5455.7333046912436,-5678.9956541137199,10018.891713072358,2194.9807128575412,-5452.8604326057211,990.11746080902049,-1084.9722438473909,3965.3742354685019,1233.2818244911286,3592.5367718163379,1526.6266569975087,-2812.3849451000651,151.88421324392607]
["  Other",null,null,null,null,null,null,null,null,null,null,null,null,{"$f":"N15-B15","v":683.72458465306408},-432.22034356878066,-1535.4840794244701,-2575.3418534493794,-3540.6644602907472,-3727.7783717562961,-3767.3739358681742,-3144.443522913054,-2588.0230458155347,-2361.3135702381114,-1533.9320924110616,113.07092817599187,1315.892943256149,1176.0586332687817,1037.8133495312686,907.51319704304478,787.54171517888244,762.11729518118227,758.14472955654128,835.21250267457435,905.92417079318329,935.32115641552809,1037.0188364063397,1244.3867620126039,-480.93117568455637,-1331.675205820713,-814.22745659502107,-955.51014673094323,-1085.5935992341401,-1113.1609534070012,-1117.4683524965149,-1033.9048101600201,-957.23310636674796,-909.46918078197996,-799.1997640905247,-574.35353161812236,-5591.549220339115,-4426.9105427250179,-4634.0306291031957,-4200.2551992719164,-3800.8644071711715,-3716.2252989114058,-3703.000438245821,-3959.5627351582225,-4194.9652550056817,-4308.7183962534255,-4647.2748292924734,-5337.6125560361434,273.98670688800121,298.58320262165944,322.90019272197969,345.8196546556137,366.9223299725636,371.39442010595303,372.09318418929979,358.53716097245342,346.09916028895532,340.92830607221913,323.0399455386505,286.56446038816648,7298.1545972824606,6394.1159389061504,5500.350447102297,4657.9507881607351,3882.3267119401535,3717.9560467808224,3692.2731303496766,4190.5217091138911,4647.6776215882746,4837.7312031787515,5495.2138638160686,6835.8621015218487,-13544.208741030659,-12070.251793868232,-9938.1911285061942,-8241.1174168297439,-6678.5678408349668,-6347.4315068493161,-6295.6914546640583,-7299.4484670580532,-8220.42139595564,-8595.4047619047633,-9919.9500978473588,-12620.780821917811,-3618.2120026092634,-3083.0480104370545,-3228.8186562296178,-3053.7569471624265,-2892.5720808871483,-2858.4136986301382,-2853.0764514024777,-2956.6190476190495,-3051.6220482713652,-3099.0106979778211,-3235.6442270058724,-3514.2485322896282,7489.601221445002,6572.3846369717139,5665.5909682310739,{"$f":"DI15-CW15","v":4810.9118781536854},4023.981740338535,3857.215088616118,3831.1577992844905,4336.6692123180655,4800.4889624210373,4993.3129034750818,5660.3795103647462,7020.5700134757062,6182.7784454993089,5560.153114704568,4944.6030717597605,4364.4294680646635,3830.2452353941735,3717.0406297951267,3699.3524101702787,4042.5038708923785,4357.3541802147192,4488.247005438614,4941.0654278347938,5864.3904922519978,-5749.9356174779969,-5154.3251286071318,-4565.4829407461584,-4010.4822579346728,-3499.4755316875089,-3391.1827155291649,-3374.2619630044283,-3702.5245619843918,-4003.7139569247738,-4128.9275256078545,-4562.0987902412126,-5445.3620720326653,0,590.42421796000417,545.02846691878949,502.24166708683697,462.8465038269278,454.49785995727871,453.19338435264581,478.50021108252258,501.71987684498163,511.37299631926726,544.76757179786,612.86119835968202,980.14916212332173,316.56437036769421,289.6309177700532,264.24536474699198,240.87208117088448,235.91880253223644,235.14485274495019,250.15947861834138,263.93578483207966,269.66301325801032,289.47612781259522,329.87630670905855,-9971.858319953506,-8969.9438721820661,-7979.4148158625721,-7045.8127168028186,-6186.2156621807335,-6004.0493989495626,-5975.5859203196924,-6527.7774057391762,-7034.4273253508727,-7245.0570672119138,-7973.7221201365955,-9459.5157046158383,-141.80841871414304,-129.64063862372132,-117.61112876159677,-106.27297004097636,-95.833567804304039,-93.621244151499923,-93.275568580751496,-99.981674653314258,-106.13469981267554,-108.6926990362299,-658.24772141564426,-2462.6742007341381,-3043.1386275858149,-1838.5283986338818,-647.60692228367952,474.87079105789417,1508.371612488243,1727.3916541158687,1761.6135356201848,1097.7090344364497,488.55954365962134,235.31762052768136,-100.05681821461803,-100.05681821461803,-88.292769148860316,-88.292769148860316,-88.292769148860316,-88.292769148860316,-88.292769148860316,-88.292769148860316]
["     US DOMESTIC CONSUMPTION",null,null,null,null,null,null,null,null,null,null,null,null,-51587.03670132556,-54121.69391333044,-28969.588662211114,-3239.1995606549608,22277.393884673336,26735.945152210363,41190.162725440867,-26285.219081272022,-9974.4506044026348,34566.221084727906,23199.944597556692,-69487.557809525199,42006.9583515423,106754.20027704118,-14250.586193664902,21240.035052455554,9136.1102781768132,-24826.558633011504,-13573.360407563945,23491.279468670371,27439.794748794986,330.05716595301055,13972.603694420744,49910.766839700023,12301.28273427661,-80615.703275966516,11386.494796568179,-7879.4702556278207,18432.00945924173,-1071.4207722556312,5369.3394989094231,-16123.000846895098,-30746.323582760728,9109.2920662381803,-14732.225069585576,-23025.031294516113,{"$f":"AX16-AL16","v":-7815.1248280493892},-11349.946609245788,-9999.5348087053862,-12494.891106871946,-44915.118010226957,20063.562251050054,3211.6033916615415,10093.411599151819,-11059.992527914786,-12077.861965292075,-13503.896575726889,27122.572676419106,16153.067296964291,13664.583437377121,-3360.1127925493638,-7441.2769493596861,-7489.0752584696456,-34641.289786565118,-23650.401324951032,-20193.027209947148,-4047.6833060518547,-14878.833504138165,-2678.6047270715935,20316.267882974469,-18515.43871746771,-9068.1162174711935,9357.4197797396046,-9057.3569054591353,-6870.9746543561341,5376.448256467469,1388.4264087391202,13993.384823167347,8746.698979146342,-10449.512224130536,22875.20606131127,-62934.392448464583,-57059.147393223597,-27841.310335739632,-48619.087497119879,-19286.562619900214,3554.2173947899428,-3250.2205098115082,-35641.21782576642,-37648.346284888685,-58083.39611396406,-18026.56592730619,-12241.103483843792,-38739.038943486579,45653.807271953789,26889.153560569626,34137.898021133413,9572.732478077698,-3677.834338746994,-6545.2476767897897,56662.548656132305,26584.488649768871,41210.216313685407,24159.911617470731,3789.0685383368691,63992.069857023307,-1112.3715515211225,4404.0353588677826,-2318.8437297922501,13879.222367944312,13811.171235660644,10482.153872807045,-19648.054857942072,64.965727784612682,5969.4727666434192,1735.6396465823054,-4692.782093628688,-10792.980835186958,-3870.1627526622033,-4127.6994679406052,-3630.6908598213049,-3822.1989682118874,-4197.7293812934658,-4248.7643654297863,-4228.3318118292664,-4481.6693955114461,-6341.3587662925711,-4528.9880223500077,-7671.7372449747345,-4563.4950596553972,-9522.2841844499344,-9400.3817860278068,-8179.4663736034126,-6976.2623734598747,-6289.8243288640515,-6024.6562058885174,-6013.6885463225481,-5174.3034537226486,-4108.279236221395,-2471.5887340264162,-7125.9285364470561,-7449.8256653767894,-62.06724079902051,-4255.6713507582317,4070.6693494718056,14888.231976278854,1147.5029888388817,2735.8633440263802,2373.8401447347424,1168.5215288759209,3250.81723186819,7544.6447291241202,5352.5406294498243,2656.7247402554203,72547.594056100701,21612.069474138611,10241.556331790867,11776.564493921498,6175.6679284617712,-3212.7326235405926,-4475.8818246168084,1789.0033407887386,4973.8792872661434,29507.425875177112,36244.16607856733,4303.9729003077082,-64705.016672484344,-17593.736257959041,33949.172731986706,-43679.628127293603,-22539.872193268267,-12288.701865598094,-10910.433924492274,-17164.989309165743,-25573.665421821992,-50930.424773581501,-54989.590700922592,-26958.591542045469,-45248.048407461523,-36838.830248318496,-66423.397742108704,-2592.1981926939334,-5046.0294458203716,-323.04978328425204,-1463.0605034952168,-371.61152657459024,-2197.7068695070921,-2991.0634134937427,17762.164677290042,105337.48077456799,117665.01765773856,164370.86694187549,78424.383063255809,43556.407043759275,6633.9373630013433,-2330.4619681867189,-45502.71021067808,-20626.93698868432,-4546.4568236471678,24400.62407067712,31399.062102796626,17786.730615462118,32006.81617756153,-24837.999447119713,24088.079219633713,10063.009171360376,-4857.6437609090062,-35688.950374952779]
["EXPORTS",null,null,null,null,null,null,null,null,null,null,null,null,-96.774193548387075,-107.14285714285711,-354.83870967741939,333.33333333333331,64.51612903225805,100,-290.32258064516122,0,199.99999999999994,-161.29032258064512,-33.333333333333314,225.80645161290329,419.35483870967744,-35.714285714285779,161.29032258064512,66.666666666666629,387.09677419354841,1633.3333333333333,258.0645161290322,290.32258064516122,-33.333333333333258,290.32258064516122,99.999999999999943,258.0645161290322,-451.61290322580646,217.98029556650249,1096.7741935483873,233.33333333333337,258.0645161290322,-1566.6666666666665,-193.54838709677415,-225.80645161290317,-66.666666666666686,-193.54838709677415,-99.999999999999943,-516.12903225806451,0,-146.55172413793105,-1064.516129032258,-266.66666666666663,-612.90322580645159,366.66666666666663,0,193.54838709677415,99.999999999999943,-96.774193548387075,766.66666666666652,0,322.58064516129036,1357.1428571428573,0,1466.6666666666665,64.51612903225805,-66.666666666666629,0,-225.80645161290317,-133.33333333333331,-64.51612903225805,-800,-193.54838709677415,548.38709677419342,-1321.4285714285716,-32.258064516129025,1333.3333333333335,258.06451612903231,333.33333333333326,354.83870967741939,387.09677419354841,166.66666666666669,612.90322580645159,500.00000000000006,129.0322580645161,-322.58064516129025,857.14285714285722,548.38709677419354,-1933.3333333333335,322.58064516129025,2100,903.22580645161293,258.0645161290322,5633.333333333333,9290.322580645161,4600,4967.7419354838712,5225.8064516129034,5464.2857142857138,7548.3870967741932,4000,225.80645161290317,-2166.666666666667,3290.322580645161,225.80645161290317,-2033.333333333333,-3967.7419354838703,1500,193.5483870967746,225.8064516129034,-5071.4285714285706,-7645.1612903225805,9566.6666666666661,8870.967741935483,9233.3333333333339,5677.4193548387102,12806.451612903225,24400,35129.032258064515,-600,2741.9354838709678,6709.6774193548381,24107.142857142855,22612.903225806451,9300.0000000000018,36612.903225806454,41366.666666666664,39709.677419354834,25806.451612903227,30266.666666666664,-7322.580645161288,29300.000000000004,30354.83870967742,26161.290322580644,3408.8669950738949,4193.5483870967764,9299.9999999999964,11935.483870967742,10766.666666666672,-645.16129032257595,-4774.1935483870984,-32533.333333333332,17451.61290322581,-19900,4161.290322580644,-12322.580645161288,-3337.4384236453225,46064.516129032258,1466.6666666666715,-11483.870967741939,-18233.333333333336,903.22580645161361,5354.838709677424,37100,28161.290322580629,26099.999999999993,13677.419354838712,322.58064516129161,9071.4285714285688,-54709.677419354841,23533.333333333328,6903.2258064516136,10533.333333333336,44548.387096774182,38032.258064516122,-8766.6666666666642,32870.967741935499,11433.333333333336,-7548.3870967741968,36774.193548387091,30571.428571428572,78161.290322580637,92333.333333333343,91419.354838709696,97233.333333333314,69612.903225806469,32354.838709677424,133300,8838.7096774193487,44266.666666666679,50774.193548387098,-645.16129032257595,63660.098522167493,48645.161290322591,20933.333333333343,-5032.2580645161215,1966.6666666666861,21612.903225806425,59516.129032258061,-39633.333333333314,87322.580645161288,22399.999999999985,41580.645161290304,72967.741935483893,21018.472906403942,-18548.387096774197,-58466.666666666686,-25806.451612903242,-3909.2333333333372,-60951.612903225789,-13887.096774193546,16666.666666666657,-68774.193548387091,-7033.3333333333285,-45951.612903225789,-1048.3870967742114,-35.714285714289872,-10548.387096774197,34433.333333333343,46751.61290322576,21987.949999999983]
["     TOTAL DEMAND",null,null,null,null,null,null,null,null,null,null,null,null,-51683.810894873954,-54228.83677047331,-29324.427371888509,-2905.8662273216178,22341.910013705579,26835.945152210363,40899.840144795686,-26285.219081272022,-9774.4506044026348,34404.930762147269,23166.611264223349,-69261.751357912319,42426.313190251967,106718.48599132689,-14089.295871084265,21306.701719122211,9523.2070523703587,-23193.22529967819,-13315.295891434915,23781.602049315523,27406.461415461672,620.37974659816246,14072.603694420744,50168.831355829083,11849.669831050793,-80397.722980400024,12483.268990116572,-7646.1369222944777,18690.07397537076,-2638.0874389222881,5175.7911118126649,-16348.807298507978,-30812.990249427414,8915.7436791413929,-14832.225069585576,-23541.160326774203,-7815.1248280493892,-11496.498333383701,-11064.050937737629,-12761.557773538603,-45528.021236033412,20430.228917716711,3211.6033916615415,10286.959986248577,-10959.992527914786,-12174.63615884044,-12737.229909060203,27122.572676419077,16475.647942125623,15021.726294519962,-3360.1127925493638,-5974.6102826930291,-7424.5591294373735,-34707.956453231775,-23650.401324951032,-20418.833661560056,-4181.0166393851687,-14943.349633170437,-3478.6047270715935,20122.71949587774,-17967.051620693528,-10389.544788899773,9325.1617152234539,-7724.0235721257923,-6612.9101382271037,5709.7815898008121,1743.2651184165443,14380.481597360893,8913.365645812999,-9836.6089983240818,23375.20606131127,-62805.360190400097,-57381.728038384899,-26984.167478596763,-48070.700400345668,-21219.895953233558,3876.7980399512453,-1150.2205098115082,-34737.992019314814,-37390.281768759625,-52450.062780630717,-8736.2433466610382,-7641.1034838437918,-33771.297008002701,50879.613723566668,32353.439274855336,41686.285117907595,13572.732478077698,-3452.0278871341143,-8711.9143434564758,59952.871236777457,26810.295101381751,39176.882980352064,20192.169681986881,5289.0685383368691,64185.618244120094,-886.5650999082136,-667.39321256079711,-9964.005020114826,23445.889034610969,22682.138977596129,19715.487206140388,-13970.635503103345,12871.417340687854,30369.472766643419,36864.671904646821,-5292.782093628688,-8051.0453513159882,2839.5146666926448,19979.443389202293,18982.21236598515,5477.8010317881126,32415.173844512989,37117.902301236871,35481.345607525553,21324.782217391767,23925.307900374086,-11851.56866751131,21628.262755025266,25791.343650021998,16639.006138130731,-5991.5147909539519,-3985.9179865066253,2323.7376265401253,5645.6595421037055,4742.0104607781686,-6658.849836645124,-9948.4970021097397,-36641.612569554709,14980.024169199402,-27025.928536447056,-3288.5353427961236,-12384.647885960294,-7593.1097744035069,50135.185478504049,16354.89864294554,-10336.367978903058,-15497.469989306963,3277.0659511863778,6523.360238553345,40350.81723186819,35705.935051704728,31452.540629449795,16334.144095094118,72870.174701261974,30683.498045567132,-44468.121087563981,35309.897827254841,13078.893734913378,7320.6007097927504,40072.505272157374,39821.26140530486,-3792.7873794005427,62378.393617112597,47677.499411900702,-3244.4141964665032,-27930.823124097253,12977.692313469539,112110.46305456734,48653.705206039711,68879.482645441458,84944.63146773522,58702.469301314151,15189.849400511652,107726.33457817798,-42091.715096162108,-10722.924034255964,23815.60200634168,-45893.209697784099,26821.26827384904,-17778.23645178607,18341.135140639381,-10078.287510336493,1643.616883382434,20149.842722311267,59144.517505683471,-41831.040202840348,84331.517231667531,40162.164677290071,146918.12593585823,190632.75959322246,185389.33984827937,59875.995966481569,-14910.259622907382,-19172.514249901928,-6239.6953015200561,-106454.3231139039,-34514.033762877807,12120.209843019489,-44373.56947771,24365.728769463312,-28164.882287763641,30958.429080787289,-24873.713732833974,13539.692122859531,44496.342504693719,41893.969142316782,-13701.000374952797]
[]
["INVENTORIES (End of Month, Thousand Barrels)",null,null,null,null,null,null,null,null,null,null,null,null,225,640,410,863,409,1199,689,834.00000000000091,822,133,-70,1043,1052,-1636,736,-548,-584,-889,-881,-153,-590,-271,-423,-769,-1460,1170,-709,273,716,139,-150,-157,1,-790,-1167,-1088,{"$f":"AX20-AL20","v":-1527},-711,610,594,186,-232,181,-832,13,581,1731,1219,286,148,-592,-1225,-946,376,-123,378,-164,-32,-643,-553.00000000000091,403,-222,-787,-142,-37,9,375,431,1337,1450,932,1849.0000000000009,1619,875.82142857142799,1427,1780.0000000000009,1406,1121,1602,1443,923,24,-812,-793,-1328,-1412.8214285714278,-1906,-2195.0000000000009,-1987,-1397,-2845,-2417,-2125,-1518,-349,-1069.9999999999991,-964,322.99999999999977,817,759,{"$f":"DJ20-CX20","v":350},584,2087,1888,1270,1702,1478,1592.9999999999991,1856.9999999999991,-370,-40,309,1198,65,-921,-793,185,516,887,1016,{"$f":"ED20-DR20","v":893.00000000000091},1680,1617,{"$f":"EG20-DU20","v":1254},-366,-380.99999999999955,889,1838,1316,{"$f":"EM20-EA20","v":-250},198,-709,88,{"$f":"EQ20-EE20","v":686},{"$f":"ER20-EF20","v":-737},-1536,-140,526.99999999999955,-198,-728,-1614,-153,-291,-15,-1908,-1013,-385,82,-221,203,-68,526,2030,577,308,109,{"$f":"FN20-FB20","v":2160},{"$f":"FO20-FC20","v":1077},{"$f":"FP20-FD20","v":1062},777,542,256,{"$f":"FT20-FH20","v":572},{"$f":"FU20-FI20","v":1572},440,1212,669,611,1624,1128,1051,1239,2123,2618,2318,618,1644,51,1002,1597,-236,-1500,-869,-617,-468,-1907,-69.000000000001819,-1369.0423941684203,-2374.1861645036906,44.829428834793362,{"$f":"GV20-GJ20","v":337.12384725337324},{"$f":"GW20-GK20","v":177.03007825316854},33.612515758521113,1320.3819373844444,2530.0836809130751,2316.6678952159637,-432.51817304010456,-1709.2735053200222]
["Days of Forward Supply",null,null,null,null,null,null,null,null,null,null,null,null,3.7796544236706424,4.7600960829647914,2.5586964770503569,4.28286903070879,-9.4592871719143545E-2,3.3389101174000828,-1.8184701330360262,7.6610119417866471,4.9370697428035761,-4.1010895963849308,-3.0748870516136115,8.9935676825714062,1.1163885597141494,-9.0434334403674121,3.7689221195279803,-3.8634483638337631,-3.5515522935935238,-2.0724378330495661,-2.8725634988487734,-4.0479548332618727,-5.427875842971698,-1.3445883652738218,-3.1579336735931527,-7.0117210976393025,-5.6270087401023918,5.9335216354365565,-3.5926546973708362,1.6436230497764637,1.8168750271183249,0.98732505114426772,-1.3071000689701719,1.264180055809021,2.9260606837458916,-4.5115443757731803,-3.7913136062194681,-2.7655639033737724,-4.9159540450945727,-2.1891891283056069,3.0865715728155472,3.6667188099335064,5.1697531596553503,-3.0163219188371926,0.57500103850196638,-5.5555456748915724,1.3345966994855978,3.884495382212009,9.1290550818622904,3.0227443219995802,0.51138876982356507,1.9822600415254854E-2,-2.3642506799480039,-5.4772305706783886,-4.2945751672987171,5.4350633120134084,2.0415487734871043,4.4316054239963591,-0.35398115220216653,1.6085639937639371,-2.6283395041770277,-2.9518494029314812,1.9143169164558991,-0.45971130819756745,-3.698888268924085,-0.24634279330079067,0.47798263153749687,-0.64831714870105017,1.8559459608763689,0.43966505376797116,5.7807095186824604,9.148502807219927,1.6324490847947892,11.380782120211363,9.5378834423243415,4.6445581831335385,9.247171569556226,11.575133146557567,7.4659603122535003,6.3091825844419667,16.813716291725235,15.42727706258006,16.995986380810375,1.8145091299374485,-2.7443366776510345,0.2668860167152225,-8.2709784605474681,-6.7857760631763977,-11.091331960467315,-13.29001527416807,-10.828327559408978,-6.6687264720974824,-25.854683738120784,-19.394727015365874,-21.486002137006626,-11.390649430719471,-2.0253176582060206,-10.045598276842551,-3.3885682326962758,1.2008830739864411,3.8874977257023637,2.4515714900820438,1.033891999081149E-2,0.84939630011509593,11.999374695194676,8.4157822721313913,2.4933761905499132,3.4531930129880912,7.0281198007849284,6.5880248656352123,6.450326398818202,-1.8167834145509794,-0.89808104228124463,1.1007198217483172,3.0418496651591322,-3.2990517145153113,-8.3398703588463015,-6.5948349141941378,-1.9306175683333358,3.8138011776382683,1.1844633075080679,1.5752474393913012,2.1606405336227077,5.9892369939666281,6.8990629979182856,5.5465719538892433,-1.9916803022215497,-2.0064231900599587,4.6042400603644822,10.095127771640616,11.136465326428191,-3.0563745059461525,4.4138058351171523,-2.2322456649789686,1.0238557496638343,{"$f":"EQ21-EE21","v":2.790904752939932},-5.214648582943175,-7.8190863414109089,0.13090056629710389,3.5999789403635454,-1.2312620238896876,-4.4623314265623399,-12.759884104625002,-4.301931882835806,-5.2870235961673728,-1.2095326026201647,-8.8625117162670382,-4.7609450065352448,0.27795482298095031,-1.182009949104426,-1.8321019783500585,0.23496199616846525,-3.6769117304257044,-2.3625417974978511,8.9501733900581044,-2.7894320869829272,-3.3945014514645315,0.58766566660445463,7.223058114913238,2.9214931854961819,-0.31215299412720299,0.86850266762946937,-1.530009761752618,-4.8269495071089654,-1.6582087184790701,4.4463641683921153,-8.8048089266335481,7.2258483579154884,3.2229463224423576,0.37430673076860188,8.2211273528788205,2.2111258132028908,3.6297160227487932,3.0534873927471491,7.5836994798369481,8.2833690952773349,5.7471428923831098,-3.5879256729704316,8.6724548039289218,-6.2757726143938122,-0.32456981345823621,-3.1883899539268974,-10.202008107117342,-8.1528389436374429,-4.2447357486372681,-1.2519554639681569,-0.25192620252721198,-5.7269722828152041,10.037706545345301,-1.5569761109979652,-8.7807995951687126,3.120875281624059,-0.92750798308291138,1.5472044481118843,-0.79451947907411657,2.9432340480762011,5.8174698049569749,4.725976899102255,-4.0335625589279402,-4.9724701872321742]
[]
["CHANGE FROM PREVIOUS FORECAST"]
[null,{"$f":"B$3","v":"2005-01-15"},{"$f":"C$3","v":"2005-02-15"},"2005-03-15","2005-04-15","2005-05-15","2005-06-15","2005-07-15","2005-08-15","2005-09-15","2005-10-15","2005-11-15","2005-12-15","2006-01-15","2006-02-15","2006-03-15","2006-04-15","2006-05-15","2006-06-15","2006-07-15","2006-08-15","2006-09-15","2006-10-15","2006-11-15","2006-12-15","2007-01-15","2007-02-15","2007-03-15","2007-04-15","2007-05-15","2007-06-15","2007-07-15","2007-08-15","2007-09-15","2007-10-15","2007-11-15","2007-12-15","2008-01-15","2008-02-15","2008-03-15","2008-04-15","2008-05-15","2008-06-15","2008-07-15","2008-08-15","2008-09-15","2008-10-15","2008-11-15","2008-12-15","2009-01-15","2009-02-15","2009-03-15","2009-04-15","2009-05-15","2009-06-15","2009-07-15","2009-08-15","2009-09-15","2009-10-15","2009-11-15","2009-12-15","2010-01-15","2010-02-15","2010-03-15","2010-04-15","2010-05-15",{"$f":"BO$3","v":"2010-06-15"},"2010-07-15","2010-08-15","2010-09-15","2010-10-15","2010-11-15","2010-12-15","2011-01-15","2011-02-15","2011-03-15","2011-04-15","2011-05-15","2011-06-15","2011-07-15","2011-08-15","2011-09-15","2011-10-15","2011-11-15","2011-12-15","2012-01-15","2012-02-15","2012-03-15","2012-04-15","2012-05-15","2012-06-15","2012-07-15","2012-08-15","2012-09-15","2012-10-15","2012-11-15","2012-12-15","2013-01-15","2013-02-15","2013-03-15","2013-04-15","2013-05-15","2013-06-15","2013-07-15","2013-08-15","2013-09-15","2013-10-15","2013-11-15","2013-12-15","2014-01-15","2014-02-15","2014-03-15","2014-04-15","2014-05-15","2014-06-15","2014-07-15","2014-08-15","2014-09-15","2014-10-15","2014-11-15","2014-12-15","2015-01-15","2015-02-15","2015-03-15","2015-04-15","2015-05-15","2015-06-15","2015-07-15","2015-08-15","2015-09-15",{"$f":"EA$3","v":"2015-10-15"},"2015-11-15","2015-12-15","2016-01-15","2016-02-15","2016-03-15","2016-04-15","2016-05-15","2016-06-15","2016-07-15","2016-08-15","2016-09-15","2016-10-15","2016-11-15","2016-12-15","2017-01-15","2017-02-15","2017-03-15","2017-04-15","2017-05-15","2017-06-15","2017-07-15","2017-08-15","2017-09-15","2017-10-15","2017-11-15","2017-12-15","2018-01-15","2018-02-15","2018-03-15","2018-04-15","2018-05-15","2018-06-15","2018-07-15","2018-08-15","2018-09-15","2018-10-15","2018-11-15","2018-12-15","2019-01-15","2019-02-15","2019-03-15","2019-04-15","2019-05-15","2019-06-15","2019-07-15","2019-08-15","2019-09-15","2019-10-15","2019-11-15","2019-12-15","2020-01-15",{"$f":"GA$3","v":"2020-02-15"},"2020-03-15","2020-04-15","2020-05-15","2020-06-15","2020-07-15","2020-08-15","2020-09-15","2020-10-15","2020-11-15","2020-12-15","2021-01-15","2021-02-15","2021-03-15","2021-04-15","2021-05-15","2021-06-15","2021-07-15","2021-08-15","2021-09-15","2021-10-15","2021-11-15","2021-12-15","2022-01-15","2022-02-15","2022-03-15","2022-04-15","2022-05-15"]
[{"$f":"A4","v":"SUPPLY"}]
["Gas Processing",null,null,null,null,null,null,null,null,null,null,null,null,null,null,null,null,null,null,null,null,null,null,null,null,null,null,null,null,null,null,null,null,null,null,null,null,null,null,null,null,null,null,null,null,null,null,null,null,null,null,null,null,null,null,null,null,null,null,null,null,null,null,null,null,null,null,null,null,null,null,null,null,null,null,null,null,null,null,null,null,null,null,null,null,null,null,null,null,null,null,null,null,null,null,null,null,null,null,null,null,null,null,null,null,null,null,null,null,{"$f":"DF5-DF68","v":0},0,0,0,0,0,0,0,0,0,0,0,0,0,0,0,0,0,0,0,0,0,0,0,{"$f":"ED5-ED68","v":0},0,0,0,0,0,0,0,0,0,0,0,0,0,0,0,0,0,0,0,0,0,0,0,0,0,0,0,{"$f":"FF5-FF68","v":0},0,{"$f":"FH5-FH68","v":0},0,{"$f":"FJ5-FJ68","v":0},0,{"$f":"FL5-FL68","v":0},0,{"$f":"FN5-FN68","v":0},0,{"$f":"FP5-FP68","v":0},0,{"$f":"FR5-FR68","v":0},0,{"$f":"FT5-FT68","v":0},0,{"$f":"FV5-FV68","v":0},0,{"$f":"FX5-FX68","v":0},0,{"$f":"FZ5-FZ68","v":0},{"$f":"GA5-GA68","v":0},0,{"$f":"GC5-GC68","v":0},0,{"$f":"GE5-GE68","v":0},{"$f":"GF5-GF68","v":0},0,{"$f":"GH5-GH68","v":0},0,{"$f":"GJ5-GJ68","v":0},0,{"$f":"GL5-GL68","v":0},{"$f":"GM5-GM68","v":0},0,{"$f":"GO5-GO68","v":0},7036.4011861290492,{"$f":"GQ5-GQ68","v":6162.0211129999952},9550.2974540449213,{"$f":"GS5-GS68","v":6840.7163573102443},6776.6512509471213,{"$f":"GU5-GU68","v":6768.0119011869247},6863.1173676885664,{"$f":"GW5-GW68","v":6863.2341344674351},6879.9083446333534,{"$f":"GY5-GY68","v":6871.4138940631237},6960.3910263795115,{"$f":"HA5-HA68","v":6897.6547109548992},6853.2277878456516]
["Refinery Production",null,null,null,null,null,null,null,null,null,null,null,null,null,null,null,null,null,null,null,null,null,null,null,null,null,null,null,null,null,null,null,null,null,null,null,null,null,null,null,null,null,null,null,null,null,null,null,null,null,null,null,null,null,null,null,null,null,null,null,null,null,null,null,null,null,null,null,null,null,null,null,null,null,null,null,null,null,null,null,null,null,null,null,null,null,null,null,null,null,null,null,null,null,null,null,null,null,null,null,null,null,null,null,null,null,null,null,null,{"$f":"DF6-DF69","v":0},0,0,0,0,0,0,0,0,0,0,0,0,0,0,0,0,0,0,0,0,0,0,0,{"$f":"ED6-ED69","v":0},0,0,0,0,0,0,0,0,0,0,0,0,0,0,0,0,0,0,0,0,0,0,0,0,0,0,0,{"$f":"FF6-FF69","v":0},0,{"$f":"FH6-FH69","v":0},0,{"$f":"FJ6-FJ69","v":0},0,{"$f":"FL6-FL69","v":0},0,{"$f":"FN6-FN69","v":0},0,{"$f":"FP6-FP69","v":0},0,{"$f":"FR6-FR69","v":0},0,{"$f":"FT6-FT69","v":0},0,{"$f":"FV6-FV69","v":0},0,{"$f":"FX6-FX69","v":0},0,{"$f":"FZ6-FZ69","v":0},0,0,{"$f":"GC6-GC69","v":0},0,{"$f":"GE6-GE69","v":0},{"$f":"GF6-GF69","v":0},0,{"$f":"GH6-GH69","v":0},0,{"$f":"GJ6-GJ69","v":0},0,{"$f":"GL6-GL69","v":0},{"$f":"GM6-GM69","v":0},0,{"$f":"GO6-GO69","v":0},-3862.9731825552553,{"$f":"GQ6-GQ69","v":564.45503909701438},458.78062239612336,{"$f":"GS6-GS69","v":407.14038040157902},390.00624131173026,{"$f":"GU6-GU69","v":418.53994783055896},474.18276015724405,{"$f":"GW6-GW69","v":414.39888907718705},410.38597541458148,{"$f":"GY6-GY69","v":267.26660358594745},351.98727960697215,{"$f":"HA6-HA69","v":423.53187782554232},421.23116716191726]
[{"$f":"A7","v":"Imports"},null,null,null,null,null,null,null,null,null,null,null,null,null,null,null,null,null,null,null,null,null,null,null,null,null,null,null,null,null,null,null,null,null,null,null,null,null,null,null,null,null,null,null,null,null,null,null,null,null,null,null,null,null,null,null,null,null,null,null,null,null,null,null,null,null,null,null,null,null,null,null,null,null,null,null,null,null,null,null,null,null,null,null,null,null,null,null,null,null,null,null,null,null,null,null,null,null,null,null,null,null,null,null,null,null,null,null,null,{"$f":"DF7-DF70","v":0},0,0,0,0,0,0,0,0,0,0,0,0,0,0,0,0,0,0,0,0,0,0,0,{"$f":"ED7-ED70","v":0},0,0,0,0,0,0,0,0,0,0,0,0,0,0,0,0,0,0,0,0,0,0,0,0,0,0,0,{"$f":"FF7-FF70","v":0},0,{"$f":"FH7-FH70","v":0},0,{"$f":"FJ7-FJ70","v":0},0,{"$f":"FL7-FL70","v":0},0,{"$f":"FN7-FN70","v":0},0,{"$f":"FP7-FP70","v":0},0,{"$f":"FR7-FR70","v":0},0,{"$f":"FT7-FT70","v":0},0,{"$f":"FV7-FV70","v":0},0,{"$f":"FX7-FX70","v":0},0,{"$f":"FZ7-FZ70","v":0},0,0,{"$f":"GC7-GC70","v":0},0,{"$f":"GE7-GE70","v":0},{"$f":"GF7-GF70","v":0},0,{"$f":"GH7-GH70","v":0},0,{"$f":"GJ7-GJ70","v":0},0,{"$f":"GL7-GL70","v":0},{"$f":"GM7-GM70","v":0},0,{"$f":"GO7-GO70","v":0},-22556.332392070544,{"$f":"GQ7-GQ70","v":-44779.538070054521},42967.560997682769,{"$f":"GS7-GS70","v":-5141.4684124840278},-6325.8958359908684,{"$f":"GU7-GU70","v":-7883.6063322775444},-6809.3915650761555,{"$f":"GW7-GW70","v":-7086.4444717866572},-3906.8966936020151,{"$f":"GY7-GY70","v":-3185.0342283119753},5735.3688226108497,{"$f":"HA7-HA70","v":9149.4825070866318},9455.3733735487076]
["Net Inter-PADD Transfers (+ = Receipt)",null,null,null,null,null,null,null,null,null,null,null,null,null,null,null,null,null,null,null,null,null,null,null,null,null,null,null,null,null,null,null,null,null,null,null,null,null,null,null,null,null,null,null,null,null,null,null,null,null,null,null,null,null,null,null,null,null,null,null,null,null,null,null,null,null,null,null,null,null,null,null,null,null,null,null,null,null,null,null,null,null,null,null,null,null,null,null,null,null,null,null,null,null,null,null,null,null,null,null,null,null,null,null,null,null,null,null,null,{"$f":"DF8-DF71","v":0},0,0,0,0,0,0,0,0,0,0,0,0,0,0,0,0,0,0,0,0,0,0,0,{"$f":"ED8-ED71","v":0},0,0,0,0,0,0,0,0,0,0,0,0,0,0,0,0,0,0,0,0,0,0,0,0,0,0,0,{"$f":"FF8-FF71","v":0},0,{"$f":"FH8-FH71","v":0},0,{"$f":"FJ8-FJ71","v":0},0,{"$f":"FL8-FL71","v":0},{"$f":"FM8-FM71","v":0},{"$f":"FN8-FN71","v":0},0,{"$f":"FP8-FP71","v":0},0,{"$f":"FR8-FR71","v":0},0,{"$f":"FT8-FT71","v":0},0,{"$f":"FV8-FV71","v":0},0,{"$f":"FX8-FX71","v":0},0,{"$f":"FZ8-FZ71","v":0},0,0,{"$f":"GC8-GC71","v":0},0,{"$f":"GE8-GE71","v":0},{"$f":"GF8-GF71","v":0},0,{"$f":"GH8-GH71","v":0},0,{"$f":"GJ8-GJ71","v":0},0,{"$f":"GL8-GL71","v":0},{"$f":"GM8-GM71","v":0},0,{"$f":"GO8-GO71","v":-4980.2675560271455},-27000,{"$f":"GQ8-GQ71","v":35000},-45000,{"$f":"GS8-GS71","v":-5000},-15000,{"$f":"GU8-GU71","v":-15000.000000000015},-15000,{"$f":"GW8-GW71","v":-15000},-15000,{"$f":"GY8-GY71","v":-15000},-10032.258064516092,{"$f":"HA8-HA71","v":-11111.363636363589},-20000]
["Total Stock Change (Primary+Secondary+Tertiary)",null,null,null,null,null,null,null,null,null,null,null,null,null,null,null,null,null,null,null,null,null,null,null,null,null,null,null,null,null,null,null,null,null,null,null,null,null,null,null,null,null,null,null,null,null,null,null,null,null,null,null,null,null,null,null,null,null,null,null,null,null,null,null,null,null,null,null,null,null,null,null,null,null,null,null,null,null,null,null,null,null,null,null,null,null,null,null,null,null,null,null,null,null,null,null,null,null,null,null,null,null,null,null,null,null,null,null,null,{"$f":"DF9-DF72","v":0},0,0,0,0,0,0,0,0,0,0,0,0,0,0,0,0,0,0,0,0,0,0,0,{"$f":"ED9-ED72","v":0},0,0,0,0,0,0,0,0,0,0,0,0,0,0,0,0,0,0,0,0,0,0,0,0,0,0,0,{"$f":"FF9-FF72","v":0},0,{"$f":"FH9-FH72","v":0},0,{"$f":"FJ9-FJ72","v":0},0,{"$f":"FL9-FL72","v":0},0,{"$f":"FN9-FN72","v":0},{"$f":"FO9-FO72","v":0},{"$f":"FP9-FP72","v":0},0,{"$f":"FR9-FR72","v":0},0,{"$f":"FT9-FT72","v":0},0,{"$f":"FV9-FV72","v":0},0,{"$f":"FX9-FX72","v":0},0,{"$f":"FZ9-FZ72","v":0},0,0,{"$f":"GC9-GC72","v":0},0,{"$f":"GE9-GE72","v":0},{"$f":"GF9-GF72","v":0},0,{"$f":"GH9-GH72","v":0},0,{"$f":"GJ9-GJ72","v":0},0,{"$f":"GL9-GL72","v":0},{"$f":"GM9-GM72","v":0},-19279.264489986235,{"$f":"GO9-GO72","v":-14403.051522479102},-16945.185479812033,{"$f":"GQ9-GQ72","v":30600.000000000058},-35025.143182809319,{"$f":"GS9-GS72","v":7898.6982057983987},24824.29249755753,{"$f":"GU9-GU72","v":4211.4359114298131},-10272.261558509199,{"$f":"GW9-GW72","v":6938.0538839483052},28786.947847840143,{"$f":"GY9-GY72","v":11084.344520590559},-37180.541166025971,{"$f":"HA9-HA72","v":-3263.1418840850238},11797.300656870764]
["     TOTAL SUPPLY",null,null,null,null,null,null,null,null,null,null,null,null,null,null,null,null,null,null,null,null,null,null,null,null,null,null,null,null,null,null,null,null,null,null,null,null,null,null,null,null,null,null,null,null,null,null,null,null,null,null,null,null,null,null,null,null,null,null,null,null,null,null,null,null,null,null,null,null,null,null,null,null,null,null,null,null,null,null,null,null,null,null,null,null,null,null,null,null,null,null,null,null,null,null,null,null,null,null,null,null,null,null,null,null,null,null,null,null,{"$f":"DF10-DF73","v":0},0,0,0,0,0,0,0,0,0,0,0,0,0,0,0,0,0,0,0,0,0,0,0,{"$f":"ED10-ED73","v":0},0,0,0,0,0,0,0,0,0,0,0,0,0,0,0,0,0,0,0,0,0,0,0,0,0,0,0,{"$f":"FF10-FF73","v":0},0,{"$f":"FH10-FH73","v":0},0,{"$f":"FJ10-FJ73","v":0},0,{"$f":"FL10-FL73","v":0},0,{"$f":"FN10-FN73","v":0},0,{"$f":"FP10-FP73","v":0},0,{"$f":"FR10-FR73","v":0},0,{"$f":"FT10-FT73","v":0},0,{"$f":"FV10-FV73","v":0},0,{"$f":"FX10-FX73","v":0},0,{"$f":"FZ10-FZ73","v":0},0,0,{"$f":"GC10-GC73","v":0},0,{"$f":"GE10-GE73","v":0},{"$f":"GF10-GF73","v":0},0,{"$f":"GH10-GH73","v":0},0,{"$f":"GJ10-GJ73","v":0},0,{"$f":"GL10-GL73","v":0},{"$f":"GM10-GM73","v":0},-19279.264489986235,{"$f":"GO10-GO73","v":-19383.319078506262},-63328.089868308802,{"$f":"GQ10-GQ73","v":27546.938082042499},-27048.504108685505,{"$f":"GS10-GS73","v":5005.0865310262307},10665.054153825506,{"$f":"GU10-GU73","v":-11485.618571830215},-24744.352995739551,{"$f":"GW10-GW73","v":-7870.7575642937445},17170.345474286005,{"$f":"GY10-GY73","v":37.990789927658625},-34165.052101944748,{"$f":"HA10-HA73","v":2096.1635754184681},8527.1329854270443]
["DEMAND"]
["  Residential and Commercial ",null,null,null,null,null,null,null,null,null,null,null,null,null,null,null,null,null,null,null,null,null,null,null,null,null,null,null,null,null,null,null,null,null,null,null,null,null,null,null,null,null,null,null,null,null,null,null,null,null,null,null,null,null,null,null,null,null,null,null,null,null,null,null,null,null,null,null,null,null,null,null,null,null,null,null,null,null,null,null,null,null,null,null,null,null,null,null,null,null,null,null,null,null,null,null,null,null,null,null,null,null,null,null,null,null,null,null,null,{"$f":"DF12-DF75","v":0},0,0,0,0,0,0,0,0,0,0,0,0,0,0,0,0,0,0,0,0,0,0,0,{"$f":"ED12-ED75","v":0},0,0,0,0,0,0,0,0,0,0,0,0,0,0,0,0,0,0,0,0,0,0,0,0,0,0,0,{"$f":"FF12-FF75","v":0},0,{"$f":"FH12-FH75","v":0},0,{"$f":"FJ12-FJ75","v":0},0,{"$f":"FL12-FL75","v":0},0,{"$f":"FN12-FN75","v":0},0,{"$f":"FP12-FP75","v":0},0,{"$f":"FR12-FR75","v":0},0,{"$f":"FT12-FT75","v":0},0,{"$f":"FV12-FV75","v":0},0,{"$f":"FX12-FX75","v":0},0,{"$f":"FZ12-FZ75","v":0},{"$f":"GA12-GA75","v":0},0,{"$f":"GC12-GC75","v":0},0,{"$f":"GE12-GE75","v":0},{"$f":"GF12-GF75","v":0},0,{"$f":"GH12-GH75","v":0},0,{"$f":"GJ12-GJ75","v":0},0,{"$f":"GL12-GL75","v":0},{"$f":"GM12-GM75","v":0},-18753.64220784622,{"$f":"GO12-GO75","v":-19065.633645946073},-59082.190791358764,{"$f":"GQ12-GQ75","v":29503.883937410836},-9045.6670632740133,{"$f":"GS12-GS75","v":-7973.330510864078},-9255.2452520553488,{"$f":"GU12-GU75","v":-11250.660253986687},660.39597172074718,{"$f":"GW12-GW75","v":27752.968579082808},20194.793884765473,{"$f":"GY12-GY75","v":13455.248175417481},14501.254617816536,{"$f":"HA12-HA75","v":16750.911849506549},15819.781566584745]
["  Chemical",null,null,null,null,null,null,null,null,null,null,null,null,null,null,null,null,null,null,null,null,null,null,null,null,null,null,null,null,null,null,null,null,null,null,null,null,null,null,null,null,null,null,null,null,null,null,null,null,null,null,null,null,null,null,null,null,null,null,null,null,null,null,null,null,null,null,null,null,null,null,null,null,null,null,null,null,null,null,null,null,null,null,null,null,null,null,null,null,null,null,null,null,null,null,null,null,null,null,null,null,null,null,null,null,null,null,null,null,{"$f":"DF13-DF76","v":0},0,0,0,0,0,0,0,0,0,0,0,0,0,0,0,0,0,0,0,0,0,0,0,{"$f":"ED13-ED76","v":0},0,0,0,0,0,0,0,0,0,0,0,0,0,0,0,0,0,0,0,0,0,0,0,0,0,0,0,{"$f":"FF13-FF76","v":0},0,{"$f":"FH13-FH76","v":0},0,{"$f":"FJ13-FJ76","v":0},0,{"$f":"FL13-FL76","v":0},0,{"$f":"FN13-FN76","v":0},0,{"$f":"FP13-FP76","v":0},0,{"$f":"FR13-FR76","v":0},0,{"$f":"FT13-FT76","v":0},0,{"$f":"FV13-FV76","v":0},0,{"$f":"FX13-FX76","v":0},0,{"$f":"FZ13-FZ76","v":0},0,0,{"$f":"GC13-GC76","v":0},0,{"$f":"GE13-GE76","v":0},{"$f":"GF13-GF76","v":0},0,{"$f":"GH13-GH76","v":0},0,{"$f":"GJ13-GJ76","v":0},0,{"$f":"GL13-GL76","v":0},{"$f":"GM13-GM76","v":0},0,{"$f":"GO13-GO76","v":0},0,{"$f":"GQ13-GQ76","v":0},0,{"$f":"GS13-GS76","v":0},0,{"$f":"GU13-GU76","v":0},0,{"$f":"GW13-GW76","v":0},0,{"$f":"GY13-GY76","v":0},0,{"$f":"HA13-HA76","v":0},0]
["  Farm",null,null,null,null,null,null,null,null,null,null,null,null,null,null,null,null,null,null,null,null,null,null,null,null,null,null,null,null,null,null,null,null,null,null,null,null,null,null,null,null,null,null,null,null,null,null,null,null,null,null,null,null,null,null,null,null,null,null,null,null,null,null,null,null,null,null,null,null,null,null,null,null,null,null,null,null,null,null,null,null,null,null,null,null,null,null,null,null,null,null,null,null,null,null,null,null,null,null,null,null,null,null,null,null,null,null,null,null,{"$f":"DF14-DF77","v":0},0,0,0,0,0,0,0,0,0,0,0,0,0,0,0,0,0,0,0,0,0,0,0,{"$f":"ED14-ED77","v":0},0,0,0,0,0,0,0,0,0,0,0,0,0,0,0,0,0,0,0,0,0,0,0,0,0,0,0,{"$f":"FF14-FF77","v":0},0,{"$f":"FH14-FH77","v":0},0,{"$f":"FJ14-FJ77","v":0},0,{"$f":"FL14-FL77","v":0},0,{"$f":"FN14-FN77","v":0},0,{"$f":"FP14-FP77","v":0},0,{"$f":"FR14-FR77","v":0},0,{"$f":"FT14-FT77","v":0},0,{"$f":"FV14-FV77","v":0},0,{"$f":"FX14-FX77","v":0},0,{"$f":"FZ14-FZ77","v":0},0,0,{"$f":"GC14-GC77","v":0},0,{"$f":"GE14-GE77","v":0},{"$f":"GF14-GF77","v":0},0,{"$f":"GH14-GH77","v":0},0,{"$f":"GJ14-GJ77","v":0},0,{"$f":"GL14-GL77","v":0},{"$f":"GM14-GM77","v":0},-525.62228214005881,{"$f":"GO14-GO77","v":-317.68543256020985},3705.068664985547,{"$f":"GQ14-GQ77","v":18.954144631623478},-2.8370454114919141,{"$f":"GS14-GS77","v":-21.58295810970958},-79.700594119149173,{"$f":"GU14-GU77","v":-234.9583178435023},-404.74896746033846,{"$f":"GW14-GW77","v":-623.72614337653795},1975.5515895204881,{"$f":"GY14-GY77","v":1582.7426145101563},1333.69328023868,{"$f":"HA14-HA77","v":858.30172591195878},511.86754787457858]
["  Other",null,null,null,null,null,null,null,null,null,null,null,null,null,null,null,null,null,null,null,null,null,null,null,null,null,null,null,null,null,null,null,null,null,null,null,null,null,null,null,null,null,null,null,null,null,null,null,null,null,null,null,null,null,null,null,null,null,null,null,null,null,null,null,null,null,null,null,null,null,null,null,null,null,null,null,null,null,null,null,null,null,null,null,null,null,null,null,null,null,null,null,null,null,null,null,null,null,null,null,null,null,null,null,null,null,null,null,null,{"$f":"DF15-DF78","v":0},0,0,0,0,0,0,0,0,0,0,0,0,0,0,0,0,0,0,0,0,0,0,0,{"$f":"ED15-ED78","v":0},0,0,0,0,0,0,0,0,0,0,0,0,0,0,0,0,0,0,0,0,0,0,0,0,0,0,0,{"$f":"FF15-FF78","v":0},0,{"$f":"FH15-FH78","v":0},0,{"$f":"FJ15-FJ78","v":0},0,{"$f":"FL15-FL78","v":0},0,{"$f":"FN15-FN78","v":0},0,{"$f":"FP15-FP78","v":0},0,{"$f":"FR15-FR78","v":0},0,{"$f":"FT15-FT78","v":0},0,{"$f":"FV15-FV78","v":0},0,{"$f":"FX15-FX78","v":0},0,{"$f":"FZ15-FZ78","v":0},0,0,{"$f":"GC15-GC78","v":0},0,{"$f":"GE15-GE78","v":0},{"$f":"GF15-GF78","v":0},0,{"$f":"GH15-GH78","v":0},0,{"$f":"GJ15-GJ78","v":0},0,{"$f":"GL15-GL78","v":0},{"$f":"GM15-GM78","v":0},0,{"$f":"GO15-GO78","v":0},0,{"$f":"GQ15-GQ78","v":0},0,{"$f":"GS15-GS78","v":0},0,{"$f":"GU15-GU78","v":0},0,{"$f":"GW15-GW78","v":0},0,{"$f":"GY15-GY78","v":0},0,{"$f":"HA15-HA78","v":0},0]
["     US DOMESTIC CONSUMPTION",null,null,null,null,null,null,null,null,null,null,null,null,null,null,null,null,null,null,null,null,null,null,null,null,null,null,null,null,null,null,null,null,null,null,null,null,null,null,null,null,null,null,null,null,null,null,null,null,null,null,null,null,null,null,null,null,null,null,null,null,null,null,null,null,null,null,null,null,null,null,null,null,null,null,null,null,null,null,null,null,null,null,null,null,null,null,null,null,null,null,null,null,null,null,null,null,null,null,null,null,null,null,null,null,null,null,null,null,{"$f":"DF16-DF79","v":0},0,0,0,0,0,0,0,0,0,0,0,0,0,0,0,0,0,0,0,0,0,0,0,{"$f":"ED16-ED79","v":0},0,0,0,0,0,0,0,0,0,0,0,0,0,0,0,0,0,0,0,0,0,0,0,0,0,0,0,{"$f":"FF16-FF79","v":0},0,{"$f":"FH16-FH79","v":0},0,{"$f":"FJ16-FJ79","v":0},0,{"$f":"FL16-FL79","v":0},0,{"$f":"FN16-FN79","v":0},0,{"$f":"FP16-FP79","v":0},0,{"$f":"FR16-FR79","v":0},0,{"$f":"FT16-FT79","v":0},0,{"$f":"FV16-FV79","v":0},0,{"$f":"FX16-FX79","v":0},0,{"$f":"FZ16-FZ79","v":0},0,0,{"$f":"GC16-GC79","v":0},0,{"$f":"GE16-GE79","v":0},{"$f":"GF16-GF79","v":0},0,{"$f":"GH16-GH79","v":0},0,{"$f":"GJ16-GJ79","v":0},0,{"$f":"GL16-GL79","v":0},{"$f":"GM16-GM79","v":0},-19279.264489986235,{"$f":"GO16-GO79","v":-19383.319078506262},-55377.12212637323,{"$f":"GQ16-GQ79","v":29522.838082042479},-9048.5041086855053,{"$f":"GS16-GS79","v":-7994.9134689737984},-9334.9458461744944,{"$f":"GU16-GU79","v":-11485.618571830215},255.64700426041964,{"$f":"GW16-GW79","v":27129.242435706255},22170.345474286005,{"$f":"GY16-GY79","v":15037.990789927659},15834.947898055252,{"$f":"HA16-HA79","v":17609.213575418456},16331.649114459346]
["EXPORTS",null,null,null,null,null,null,null,null,null,null,null,null,null,null,null,null,null,null,null,null,null,null,null,null,null,null,null,null,null,null,null,null,null,null,null,null,null,null,null,null,null,null,null,null,null,null,null,null,null,null,null,null,null,null,null,null,null,null,null,null,null,null,null,null,null,null,null,null,null,null,null,null,null,null,null,null,null,null,null,null,null,null,null,null,null,null,null,null,null,null,null,null,null,null,null,null,null,null,null,null,null,null,null,null,null,null,null,null,{"$f":"DF17-DF80","v":0},0,0,0,0,0,0,0,0,0,0,0,0,0,0,0,0,0,0,0,0,0,0,0,{"$f":"ED17-ED80","v":0},0,0,0,0,0,0,0,0,0,0,0,0,0,0,0,0,0,0,0,0,0,0,0,0,0,0,0,{"$f":"FF17-FF80","v":0},0,{"$f":"FH17-FH80","v":0},0,{"$f":"FJ17-FJ80","v":0},0,{"$f":"FL17-FL80","v":0},0,{"$f":"FN17-FN80","v":0},0,{"$f":"FP17-FP80","v":0},0,{"$f":"FR17-FR80","v":0},0,{"$f":"FT17-FT80","v":0},0,{"$f":"FV17-FV80","v":0},0,{"$f":"FX17-FX80","v":0},0,{"$f":"FZ17-FZ80","v":0},0,0,{"$f":"GC17-GC80","v":0},0,{"$f":"GE17-GE80","v":0},{"$f":"GF17-GF80","v":0},0,{"$f":"GH17-GH80","v":0},0,{"$f":"GJ17-GJ80","v":0},0,{"$f":"GL17-GL80","v":0},{"$f":"GM17-GM80","v":0},0,{"$f":"GO17-GO80","v":0},-7950.967741935543,{"$f":"GQ17-GQ80","v":-1975.8999999999942},-18000,{"$f":"GS17-GS80","v":13000},20000,{"$f":"GU17-GU80","v":0},-25000,{"$f":"GW17-GW80","v":-35000},-5000,{"$f":"GY17-GY80","v":-15000},-50000,{"$f":"HA17-HA80","v":-15513.050000000017},-7804.5161290323304]
["     TOTAL DEMAND",null,null,null,null,null,null,null,null,null,null,null,null,null,null,null,null,null,null,null,null,null,null,null,null,null,null,null,null,null,null,null,null,null,null,null,null,null,null,null,null,null,null,null,null,null,null,null,null,null,null,null,null,null,null,null,null,null,null,null,null,null,null,null,null,null,null,null,null,null,null,null,null,null,null,null,null,null,null,null,null,null,null,null,null,null,null,null,null,null,null,null,null,null,null,null,null,null,null,null,null,null,null,null,null,null,null,null,null,{"$f":"DF18-DF81","v":0},0,0,0,0,0,0,0,0,0,0,0,0,0,0,0,0,0,0,0,0,0,0,0,{"$f":"ED18-ED81","v":0},0,0,0,0,0,0,0,0,0,0,0,0,0,0,0,0,0,0,0,0,0,0,0,0,0,0,0,{"$f":"FF18-FF81","v":0},0,{"$f":"FH18-FH81","v":0},0,{"$f":"FJ18-FJ81","v":0},0,{"$f":"FL18-FL81","v":0},0,{"$f":"FN18-FN81","v":0},0,{"$f":"FP18-FP81","v":0},0,{"$f":"FR18-FR81","v":0},0,{"$f":"FT18-FT81","v":0},0,{"$f":"FV18-FV81","v":0},0,{"$f":"FX18-FX81","v":0},0,{"$f":"FZ18-FZ81","v":0},0,0,{"$f":"GC18-GC81","v":0},0,{"$f":"GE18-GE81","v":0},{"$f":"GF18-GF81","v":0},0,{"$f":"GH18-GH81","v":0},0,{"$f":"GJ18-GJ81","v":0},0,{"$f":"GL18-GL81","v":0},{"$f":"GM18-GM81","v":0},-19279.264489986235,{"$f":"GO18-GO81","v":-19383.319078506262},-63328.089868308802,{"$f":"GQ18-GQ81","v":27546.938082042499},-27048.504108685505,{"$f":"GS18-GS81","v":5005.0865310262307},10665.054153825506,{"$f":"GU18-GU81","v":-11485.618571830215},-24744.352995739551,{"$f":"GW18-GW81","v":-7870.7575642937445},17170.345474286005,{"$f":"GY18-GY81","v":37.990789927658625},-34165.052101944748,{"$f":"HA18-HA81","v":2096.1635754184681},8527.1329854270443]
[]
["INVENTORIES (End of Month, Thousand Barrels)",null,null,null,null,null,null,null,null,null,null,null,null,null,null,null,null,null,null,null,null,null,null,null,null,null,null,null,null,null,null,null,null,null,null,null,null,null,null,null,null,null,null,null,null,null,null,null,null,null,null,null,null,null,null,null,null,null,null,null,null,null,null,null,null,null,null,null,null,null,null,null,null,null,null,null,null,null,null,null,null,null,null,null,null,null,null,null,null,null,null,null,null,null,null,null,null,null,null,null,null,null,null,null,null,null,null,null,null,{"$f":"DF20-DF83","v":0},0,0,0,0,0,0,0,0,0,0,0,0,0,0,0,0,0,0,0,0,0,0,0,{"$f":"ED20-ED83","v":0},0,0,0,0,0,0,0,0,0,0,0,0,0,0,0,0,0,0,0,0,0,0,0,0,0,0,0,{"$f":"FF20-FF83","v":0},0,{"$f":"FH20-FH83","v":0},0,{"$f":"FJ20-FJ83","v":0},0,{"$f":"FL20-FL83","v":0},0,{"$f":"FN20-FN83","v":0},0,{"$f":"FP20-FP83","v":0},0,{"$f":"FR20-FR83","v":0},0,{"$f":"FT20-FT83","v":0},0,{"$f":"FV20-FV83","v":0},0,{"$f":"FX20-FX83","v":0},0,{"$f":"FZ20-FZ83","v":0},{"$f":"GA20-GA83","v":0},0,0,{"$f":"GD20-GD83","v":0},0,{"$f":"GF20-GF83","v":0},0,{"$f":"GH20-GH83","v":0},0,{"$f":"GJ20-GJ83","v":0},0,{"$f":"GL20-GL83","v":0},{"$f":"GM20-GM83","v":0},0,{"$f":"GO20-GO83","v":0},828.99999999999909,{"$f":"GQ20-GQ83","v":-89},996.77943866708756,{"$f":"GS20-GS83","v":751.91979428733612},7.191019360609971,{"$f":"GU20-GU83","v":-123.36349389371571},184.80435286155989,{"$f":"GW20-GW83","v":-30.275317540837932},-922.67070082388,{"$f":"GY20-GY83","v":-1233.0323474004163},-80.435571253608941,{"$f":"HA20-HA83","v":17.458685268940826},-348.25763509405351]
["Days of Forward Supply",null,null,null,null,null,null,null,null,null,null,null,null,null,null,null,null,null,null,null,null,null,null,null,null,null,null,null,null,null,null,null,null,null,null,null,null,null,null,null,null,null,null,null,null,null,null,null,null,null,null,null,null,null,null,null,null,null,null,null,null,null,null,null,null,null,null,null,null,null,null,null,null,null,null,null,null,null,null,null,null,null,null,null,null,null,null,null,null,null,null,null,null,null,null,null,null,null,null,null,null,null,null,null,null,null,null,null,null,{"$f":"DF21-DF84","v":0},{"$f":"DG21-DG84","v":0},{"$f":"DH21-DH84","v":0},{"$f":"DI21-DI84","v":0},0,0,0,0,0,0,0,0,0,0,0,0,0,0,0,0,0,0,0,0,{"$f":"ED21-ED84","v":0},0,0,0,0,0,0,0,0,0,0,0,0,0,0,0,0,0,0,0,0,0,0,0,0,0,0,0,{"$f":"FF21-FF84","v":0},0,{"$f":"FH21-FH84","v":0},0,{"$f":"FJ21-FJ84","v":0},0,{"$f":"FL21-FL84","v":0},0,{"$f":"FN21-FN84","v":0},0,{"$f":"FP21-FP84","v":0},0,{"$f":"FR21-FR84","v":0},0,{"$f":"FT21-FT84","v":0},0,{"$f":"FV21-FV84","v":0},0,{"$f":"FX21-FX84","v":0},0,{"$f":"FZ21-FZ84","v":0},0,0,0,{"$f":"GD21-GD84","v":0},0,{"$f":"GF21-GF84","v":0},0,{"$f":"GH21-GH84","v":0},0,{"$f":"GJ21-GJ84","v":0},0,{"$f":"GL21-GL84","v":0},{"$f":"GM21-GM84","v":0},0.43953143472048772,{"$f":"GO21-GO84","v":0.72887874698531974},6.2275276508797059,{"$f":"GQ21-GQ84","v":-2.1378157547135146},7.1666300908626965,{"$f":"GS21-GS84","v":2.1964408438623835},-0.79441077341978428,{"$f":"GU21-GU84","v":0.4926644717817048},2.2142614427864515,{"$f":"GW21-GW84","v":0.27343752418395795},-2.3414311493799449,{"$f":"GY21-GY84","v":-2.417711946246909},0.9941240826347304,{"$f":"HA21-HA84","v":-5.3265886654195072E-2},-1.5681051582218011]
[]
["PREVIOUS FCST VALUES"]
[null,{"$f":"B$3","v":"2005-01-15"},{"$f":"C$3","v":"2005-02-15"},"2005-03-15","2005-04-15","2005-05-15","2005-06-15","2005-07-15","2005-08-15","2005-09-15","2005-10-15","2005-11-15","2005-12-15","2006-01-15","2006-02-15","2006-03-15","2006-04-15","2006-05-15","2006-06-15","2006-07-15","2006-08-15","2006-09-15","2006-10-15","2006-11-15","2006-12-15","2007-01-15","2007-02-15","2007-03-15","2007-04-15","2007-05-15","2007-06-15","2007-07-15","2007-08-15","2007-09-15","2007-10-15","2007-11-15","2007-12-15","2008-01-15","2008-02-15","2008-03-15","2008-04-15","2008-05-15","2008-06-15","2008-07-15","2008-08-15","2008-09-15","2008-10-15","2008-11-15","2008-12-15","2009-01-15","2009-02-15","2009-03-15","2009-04-15","2009-05-15","2009-06-15","2009-07-15","2009-08-15","2009-09-15","2009-10-15","2009-11-15","2009-12-15","2010-01-15","2010-02-15","2010-03-15","2010-04-15","2010-05-15",{"$f":"BO$3","v":"2010-06-15"},"2010-07-15","2010-08-15","2010-09-15","2010-10-15","2010-11-15","2010-12-15","2011-01-15","2011-02-15","2011-03-15","2011-04-15","2011-05-15","2011-06-15","2011-07-15","2011-08-15","2011-09-15","2011-10-15","2011-11-15","2011-12-15","2012-01-15","2012-02-15","2012-03-15","2012-04-15","2012-05-15","2012-06-15","2012-07-15","2012-08-15","2012-09-15","2012-10-15","2012-11-15","2012-12-15","2013-01-15","2013-02-15","2013-03-15","2013-04-15","2013-05-15","2013-06-15","2013-07-15","2013-08-15","2013-09-15","2013-10-15","2013-11-15","2013-12-15","2014-01-15","2014-02-15","2014-03-15","2014-04-15","2014-05-15","2014-06-15","2014-07-15","2014-08-15","2014-09-15","2014-10-15","2014-11-15","2014-12-15","2015-01-15","2015-02-15","2015-03-15","2015-04-15","2015-05-15","2015-06-15","2015-07-15","2015-08-15","2015-09-15",{"$f":"EA$3","v":"2015-10-15"},"2015-11-15","2015-12-15","2016-01-15","2016-02-15","2016-03-15","2016-04-15","2016-05-15","2016-06-15","2016-07-15","2016-08-15","2016-09-15","2016-10-15","2016-11-15","2016-12-15","2017-01-15","2017-02-15","2017-03-15","2017-04-15","2017-05-15","2017-06-15","2017-07-15","2017-08-15","2017-09-15","2017-10-15","2017-11-15","2017-12-15","2018-01-15","2018-02-15","2018-03-15","2018-04-15","2018-05-15","2018-06-15","2018-07-15","2018-08-15","2018-09-15","2018-10-15","2018-11-15","2018-12-15","2019-01-15","2019-02-15","2019-03-15","2019-04-15","2019-05-15","2019-06-15","2019-07-15","2019-08-15","2019-09-15","2019-10-15","2019-11-15","2019-12-15","2020-01-15","2020-02-15","2020-03-15","2020-04-15","2020-05-15","2020-06-15","2020-07-15","2020-08-15","2020-09-15","2020-10-15","2020-11-15","2020-12-15","2021-01-15","2021-02-15","2021-03-15","2021-04-15","2021-05-15","2021-06-15","2021-07-15","2021-08-15","2021-09-15","2021-10-15",{"$f":"GV$3","v":"2021-11-15"},"2021-12-15","2022-01-15","2022-02-15","2022-03-15","2022-04-15","2022-05-15"]
[{"$f":"A4","v":"SUPPLY"}]
["Gas Processing",9967.7419354838712,7142.8571428571431,10032.258064516129,9033.3333333333339,9580.645161290322,9300,7225.8064516129034,9451.6129032258068,9566.6666666666661,9677.4193548387102,9500,9774.1935483870966,9677.4193548387102,11178.571428571429,11322.58064516129,10966.666666666666,13225.806451612903,12733.333333333334,11903.225806451614,10451.612903225807,10966.666666666666,9709.677419354839,11133.333333333334,11000,10774.193548387097,11250,11064.516129032258,11433.333333333334,10838.709677419354,10266.666666666666,9225.8064516129034,9000,10600,10387.096774193549,10733.333333333334,10935.483870967742,10354.838709677419,10413.793103448275,10193.548387096775,9400,10419.354838709678,10266.666666666666,10483.870967741936,10290.322580645161,8466.6666666666661,10774.193548387097,10833.333333333334,10774.193548387097,10322.58064516129,10535.714285714286,11000,10833.333333333334,10645.161290322581,10600,11290.322580645161,11483.870967741936,10700,11967.741935483871,11766.666666666666,11645.161290322581,13580.645161290322,13857.142857142857,15096.774193548386,14433.333333333334,14677.41935483871,15266.666666666666,15258.064516129032,15064.516129032258,12033.333333333334,13838.709677419354,17566.666666666668,15935.483870967742,15838.709677419354,17714.285714285714,17838.709677419356,17833.333333333332,18387.096774193549,19300,19967.741935483871,19516.129032258064,19866.666666666668,19967.741935483871,22066.666666666668,24161.290322580644,23612.903225806451,24142.857142857141,22580.645161290322,22566.666666666668,23451.612903225807,24200,22129.032258064515,25387.096774193549,26166.666666666668,27032.258064516129,30466.666666666668,31451.612903225807,31935.483870967742,36035.714285714283,37774.193548387098,44033.333333333336,47032.258064516129,51566.666666666664,52096.774193548386,51774.193548387098,51366.666666666664,54290.322580645159,59733.333333333336,58645.161290322583,56000,63642.857142857145,67516.129032258061,65333.333333333336,69612.903225806454,74433.333333333328,79483.870967741939,86516.129032258061,91333.333333333328,94516.129032258061,93500,98290.322580645166,103870.96774193548,102750,107419.35483870968,111333.33333333333,112225.80645161291,113800,112580.64516129032,113838.70967741935,115366.66666666667,110516.12903225806,106966.66666666667,112193.54838709677,113483.87096774194,118000,118419.35483870968,120466.66666666667,118838.70967741935,109700,122967.74193548386,127129.03225806452,125733.33333333333,120419.35483870968,125600,125451.6129032258,127516.12903225806,130214.28571428571,130387.09677419355,134700,141677.4193548387,142133.33333333331,142258.06451612903,147258.06451612903,149533.33333333334,152032.25806451612,156833.33333333334,154032.25806451612,143967.74193548388,152071.42857142858,154580.64516129033,154500,159741.93548387097,159900,161870.96774193548,167806.45161290324,174833.33333333334,178483.87096774191,177200,169161.29032258064,181838.70967741936,180285.71428571429,183516.12903225809,186400,184258.06451612903,194300,194290.32258064515,195193.54838709676,203166.66666666666,202451.61290322579,208200,210129.03225806452,212387.09677419355,217310.34482758623,215838.70967741936,206800,207483.87096774191,222666.66666666666,220709.67741935485,225870.96774193548,222400,225806.45161290324,223400,229161.29032258064,230516.12903225809,218714.28571428571,217419.35483870967,224833.33333333334,222641.01816870968,223082.22986333334,222183.30190982608,221543.35218947055,219287.38127179202,219936.45841920629,224450.59798596913,224314.71790338264,226302.93553421448,226471.55555077185,230127.0129903066,229134.3529533234,227531.12975705345]
["Refinery Production",50774.193548387098,52285.714285714283,50806.451612903227,56366.666666666664,50096.774193548386,45366.666666666664,44032.258064516129,45193.548387096773,45000,44419.354838709674,41833.333333333336,38903.225806451614,42064.516129032258,40142.857142857145,31580.645161290322,38700,43774.193548387098,46066.666666666664,47483.870967741932,48774.193548387098,49233.333333333336,48709.677419354841,50333.333333333336,50838.709677419356,51193.548387096773,46428.571428571428,52290.322580645159,53166.666666666664,53838.709677419356,53066.666666666664,49387.096774193546,47290.322580645159,51800,53258.06451612903,52633.333333333336,54322.580645161288,51967.741935483871,48241.379310344826,44709.677419354841,46800,52741.93548387097,49400,49322.580645161288,52258.06451612903,53200,51548.387096774197,47966.666666666664,44064.516129032258,42935.483870967742,39285.714285714283,27548.387096774193,39533.333333333336,44387.096774193546,48233.333333333336,48193.548387096773,45870.967741935485,48166.666666666664,49225.806451612902,43733.333333333336,41064.516129032258,34096.774193548386,43392.857142857145,35322.580645161288,42466.666666666664,39548.387096774197,39000,38225.806451612902,39870.967741935485,39366.666666666664,32161.290322580644,36066.666666666664,41322.580645161288,39290.322580645159,37785.714285714283,35290.322580645159,32466.666666666668,43129.032258064515,42133.333333333336,41387.096774193546,40258.06451612903,45833.333333333336,43677.419354838712,43833.333333333336,40709.677419354841,38548.387096774197,40250,40967.741935483871,37433.333333333336,39935.483870967742,38900,33193.548387096773,31806.451612903227,31566.666666666668,31903.225806451614,23366.666666666668,37096.774193548386,36548.387096774197,36357.142857142855,36064.516129032258,39100,39516.129032258068,37466.666666666664,34225.806451612902,33806.451612903227,35933.333333333336,19225.806451612902,22133.333333333332,37096.774193548386,31903.225806451614,33571.428571428572,33612.903225806454,39033.333333333336,38645.161290322583,38500,38258.06451612903,39322.580645161288,39233.333333333336,40225.806451612902,36800,38870.967741935485,36580.645161290326,28250,38483.870967741932,41400,41161.290322580644,39600,37677.419354838712,34225.806451612902,31800,36451.612903225803,39466.666666666664,39258.06451612903,37419.354838709674,32586.206896551725,33322.580645161288,36966.666666666664,38870.967741935485,37266.666666666664,32483.870967741936,32193.548387096773,34666.666666666664,33548.387096774197,38900,35064.516129032258,32838.709677419356,32785.714285714283,30548.387096774193,34200,39677.419354838712,37766.666666666664,35258.06451612903,37354.838709677417,36366.666666666664,38516.129032258061,40266.666666666664,38612.903225806447,32322.580645161288,24607.142857142859,22387.096774193549,37800,38258.06451612903,39766.666666666664,36387.096774193553,28580.645161290326,28233.333333333336,36774.193548387098,35666.666666666664,33516.129032258061,35354.838709677417,21178.571428571428,23354.83870967742,32133.333333333332,37709.677419354841,32833.333333333336,26322.580645161292,28096.774193548386,30500,31677.419354838708,33133.333333333336,33258.06451612903,32322.580645161288,19965.517241379308,23806.451612903224,22900,25096.774193548386,23233.333333333336,20903.225806451614,26354.83870967742,28000,28580.645161290326,30400,26677.419354838708,26709.677419354841,27500,29000,29300,30024.263505135899,29411.692328845493,26992.589393670147,25377.434591568865,25861.641723299585,27326.967433932958,27786.099820294359,28541.691796139276,24693.095358449773,25980.352678212825,26295.677180503666,29563.050820800356,29559.119643586626]
[{"$f":"A7","v":"Imports"},71451.612903225803,98071.428571428565,74258.06451612903,49433.333333333328,45000,18766.666666666668,35709.677419354841,33741.93548387097,50500,43967.741935483871,51700,96000,90451.612903225803,78678.571428571435,67354.838709677424,89266.666666666672,67290.322580645166,79700,63935.483870967742,19451.612903225807,46600,63741.93548387097,69866.666666666672,61387.096774193553,104903.22580645162,65000,91290.322580645166,34800,49935.483870967742,23766.666666666664,33612.903225806454,51612.903225806447,39200,51387.096774193546,58933.333333333336,78935.483870967742,104548.3870967742,88724.137931034493,62064.516129032258,78733.333333333343,94870.967741935485,16000,38709.677419354834,39225.806451612909,24833.333333333332,46548.387096774197,46533.333333333336,78806.451612903227,85225.806451612894,108071.42857142857,103548.3870967742,64866.666666666664,37903.225806451614,16933.333333333336,49161.290322580644,15612.903225806451,38433.333333333336,47419.354838709682,69033.333333333328,85129.032258064515,80677.419354838712,114214.28571428571,67935.483870967742,34733.333333333328,43774.193548387098,34333.333333333336,18903.225806451614,17258.06451612903,27133.333333333336,55419.354838709682,50533.333333333336,107096.77419354839,80516.129032258075,77678.571428571435,50741.935483870962,49533.333333333328,27677.419354838712,28833.333333333332,19000,23032.258064516129,46366.666666666664,26000,38800,60677.419354838712,44129.032258064515,46642.857142857145,49161.290322580644,65833.333333333328,53064.516129032258,51966.666666666664,41258.06451612903,18548.387096774193,20000,28419.354838709674,50800,59290.322580645166,64677.419354838705,64250,52193.548387096773,36466.666666666664,21774.193548387095,25300,11806.451612903225,19000,27133.333333333336,40064.516129032258,54233.333333333328,64548.387096774197,74000,99535.714285714275,43935.483870967742,24866.666666666668,19387.096774193549,22833.333333333332,18419.354838709678,17451.612903225807,19800,24451.612903225807,33966.666666666672,51806.451612903227,78193.548387096773,78607.142857142855,69709.677419354848,38066.666666666672,26935.483870967742,24400,27000,37677.419354838712,27400,47032.258064516129,41433.333333333336,52000,55806.451612903227,78793.10344827587,43387.096774193546,28266.666666666664,25580.645161290326,23933.333333333336,30838.709677419356,42548.387096774197,24900,28645.16129032258,40866.666666666664,52709.677419354834,79967.741935483878,72642.857142857145,49064.516129032258,31633.333333333336,40290.322580645166,18700,18354.83870967742,22516.129032258064,24633.333333333332,28161.290322580644,43233.333333333336,49225.806451612902,91516.129032258061,70464.28571428571,34677.419354838712,37400,20064.516129032261,13766.666666666668,13870.967741935485,22612.903225806451,16600,25774.193548387095,46066.666666666672,54709.677419354841,63451.61290322581,54928.571428571428,45419.354838709682,34100,24451.612903225807,21666.666666666668,17258.06451612903,15000,17233.333333333336,25516.129032258064,31866.666666666668,45709.677419354841,61580.645161290318,24517.241379310344,28354.83870967742,21700,25580.645161290326,8233.3333333333321,33806.451612903227,14516.129032258064,12300,22645.16129032258,37166.666666666664,48838.709677419349,38645.161290322583,53857.142857142855,45774.193548387098,25533.333333333336,37749.880779167317,60526.133303643699,45811.436527351107,25240.405393555338,31761.070162556902,39976.692638996785,46165.176569068986,53971.533118820291,56375.329750572018,53447.513603841602,45459.120395277743,26659.572173925368,22635.186396695412]
["Net Inter-PADD Transfers (+ = Receipt)",115301.92420697802,115301.92420697802,115301.92420697802,115301.92420697802,115301.92420697802,115301.92420697802,115301.92420697802,115301.92420697802,115301.92420697802,115301.92420697802,115301.92420697802,115301.92420697802,109107.46469171968,109107.46469171968,109107.46469171968,109107.46469171968,109107.46469171968,109107.46469171968,109107.46469171968,109107.46469171968,109107.46469171968,109107.46469171968,109107.46469171968,109107.46469171968,93028.332756775984,93028.332756775984,93028.332756775984,93028.332756775984,93028.332756775984,93028.332756775984,93028.332756775984,93028.332756775984,93028.332756775984,93028.332756775984,93028.332756775984,93028.332756775984,81560.341143746511,81560.341143746511,81560.341143746511,81560.341143746511,81560.341143746511,81560.341143746511,81560.341143746511,81560.341143746511,81560.341143746511,81560.341143746511,81560.341143746511,81560.341143746511,89655.412897404458,89655.412897404458,89655.412897404458,89655.412897404458,89655.412897404458,89655.412897404458,89655.412897404458,89655.412897404458,89655.412897404458,89655.412897404458,89655.412897404458,89655.412897404458,92775.798763025377,92775.798763025377,92775.798763025377,92775.798763025377,92775.798763025377,92775.798763025377,92775.798763025377,92775.798763025377,92775.798763025377,92775.798763025377,92775.798763025377,92775.798763025377,97272.537508153939,97272.537508153939,97272.537508153939,97272.537508153939,97272.537508153939,97272.537508153939,97272.537508153939,97272.537508153939,97272.537508153939,97272.537508153939,97272.537508153939,97272.537508153939,88512.506560585156,88512.506560585156,88512.506560585156,88512.506560585156,88512.506560585156,88512.506560585156,88512.506560585156,88512.506560585156,88512.506560585156,88512.506560585156,88512.506560585156,88512.506560585156,107452.05479452055,107452.05479452055,107452.05479452055,107452.05479452055,107452.05479452055,107452.05479452055,107452.05479452055,107452.05479452055,107452.05479452055,107452.05479452055,107452.05479452055,107452.05479452055,123416.43835616438,123416.43835616438,123416.43835616438,123416.43835616438,123416.43835616438,123416.43835616438,123416.43835616438,123416.43835616438,123416.43835616438,123416.43835616438,123416.43835616438,123416.43835616438,106293.1506849315,106293.1506849315,106293.1506849315,106293.1506849315,106293.1506849315,106293.1506849315,106293.1506849315,106293.1506849315,106293.1506849315,106293.1506849315,106293.1506849315,106293.1506849315,95375.34246575342,95375.34246575342,95375.34246575342,95375.34246575342,95375.34246575342,95375.34246575342,95375.34246575342,95375.34246575342,95375.34246575342,95375.34246575342,95375.34246575342,95375.34246575342,88542.465753424651,88542.465753424651,88542.465753424651,88542.465753424651,88542.465753424651,88542.465753424651,88542.465753424651,88542.465753424651,88542.465753424651,88542.465753424651,88542.465753424651,88542.465753424651,42000,42000,42000,42000,42000,42000,42000,42000,60000,60000,60000,60000,46310.66406277442,46310.66406277442,46310.66406277442,46310.66406277442,46310.66406277442,46310.66406277442,46310.66406277442,46310.66406277442,46310.66406277442,82257.46263499801,-44449.63181874872,-45837.447536715059,131599.04058181401,56460.422732069208,-32846.362556845823,-2142.1393280098055,52259.568977036972,94796.970729466877,58844.719145470961,69725.301824647671,75178.35066791912,15692.802573902416,22973.775634980382,36695.397988722216,36696.397988722209,36697.397988722209,36698.397988722209,32559.230266915627,73442.838571354034,-5068.1818181818126,3007.3313782991136,3593.8474822857243,54504.545454545449,97655.42521994136,97040.909090909059,120338.70967741931,158916.66666666666,158801.41625615762,143898.02027643329,83361.363636363589,4027.1260997067202]
["Total Stock Change (Primary+Secondary+Tertiary)",48077.383455085488,30074.117810424868,26276.065396955026,-17684.243830755971,-36236.146617879815,1608.5855331720859,-35596.83106650698,1428.7912551461213,-5219.964335493918,-35264.206003291984,-14566.600739448031,36373.591539191766,-7411.9679245301804,9539.7405552100317,27984.813417744219,-38495.650542819276,-27312.680314722391,-30427.676466025965,-24857.36391613014,-8952.2908915127155,-10533.288757971604,-18761.589919434795,-13505.529959966379,-5242.0874002363616,26416.057845826777,139658.78705290903,-14412.44729258967,38423.516444579982,7967.0780274304307,13858.230169239609,9003.2463209270027,1682.6366411335985,38152.3045924338,5066.9540201716263,25679.539002731442,40038.133955052079,49733.719289906527,46028.316769282261,47216.232665395073,6712.0378019816417,-5294.2112228790138,34121.467676680128,19356.706465123978,2930.8532137196344,33907.305956035882,31611.979634923104,39281.972212842004,38513.35233808199,62210.619482393326,15923.199884211092,2928.0777159350109,5555.4082747850807,6179.4699809780323,46356.624840738848,4344.2058450630975,33929.193059213459,4052.2416744630791,11600.33623855376,-750.32944987616429,53347.304873746834,85694.913816962478,14253.111741681474,20189.514541635668,20060.412126471161,-9429.9911431125038,-4305.050811447134,13831.48317062014,11164.167080419596,15517.505836123688,730.14912685913077,13017.346624097991,43833.509471745056,55940.800869874962,37652.542493305926,39501.808479472493,-360.35019078322148,-11733.188413565018,-4758.6746334415911,3110.2676084242321,10435.006706845488,-13599.200596525188,-1829.0050682063666,31362.480606947422,15337.862149119654,37234.977411122956,42132.298026963035,-8086.5357289573249,-38259.180274681552,-25793.389020407529,-21387.829273917836,-38532.464993168265,-10569.693063546691,-22394.864174487455,1046.1400351129469,33109.109659105416,-11402.691570193054,48655.417393481061,36290.388445402546,7688.9627445159349,-31041.320462543605,-33704.590648750258,-41954.616283314033,7283.813147561923,-25186.313638857424,-32506.187193408405,-17575.702733786151,-5656.694468497376,7743.1077714282619,-23801.350627478023,-54811.262987748356,-42135.567777294978,-47567.784886617956,-57495.880398656576,-71244.815869192389,-72321.541405624521,-73901.334435596917,-60946.808478170831,-49200.69477301836,-61992.90394686535,-51862.117652799061,-40628.977054316143,-23115.320139081392,-78626.948117743799,-79071.103442984197,-56360.750873480778,-54341.366489443171,-56087.982052920066,-77904.877450198081,-44098.212906563916,-78735.427382199996,-46841.353520607197,-23431.357299286115,-1136.6788260395988,-37961.194198542042,-51211.186917330371,-60729.557597266015,-42765.025047682895,-31781.547809486947,-60861.281734903256,-93064.598491194251,-80555.350590273883,-41450.498219628964,-80449.473837876139,-25576.277971291274,-40301.353225477564,-44984.974058646359,-9114.0924684330821,-52375.115575325035,-84623.355023934593,-68146.141086465097,-60331.984232678427,-84966.426056441182,-58604.989979410253,-35008.460649143846,-77130.723162764276,-31054.418454190949,51627.416261467151,20740.989740345452,-8684.9090928949881,310.58133868779987,-21421.350374306261,-29116.407956581039,10024.922276774567,-10473.666639647185,-42988.644938719488,33589.818076232099,-19510.757997438894,-21272.495929490891,6547.2193971760571,20158.0179910406,58469.728608575359,21720.289148619748,14792.629498683382,16150.892781713104,38674.792031443329,-18884.803882555105,47193.692243350786,-49372.262880734459,59949.283120387176,76670.876194211072,-150279.52810997015,31429.281290176092,104138.84135705471,89747.56101337669,-12976.498409786611,-36025.13033493032,8742.1925742838648,-11606.537041970645,-35305.034564634319,84136.817637835047,14921.373677281488,125475.51144334173,145675.22891505377,198303.32075864979,89555.792880857713,31252.58420738345,-22258.064516129089,-28833.333333333372,-34394.211655900348,9586.540315763501,-27386.166819715174,-40921.616341703513,-17470.885722110164,19387.55156767118,25742.650942309818,45459.604707055027,1093.3881489734631,-2222.9985926779336,27886.120899776579]
["     TOTAL SUPPLY",295572.8560491603,302876.04201740288,276674.76379748143,212451.01370955538,183743.19694393693,190343.84307348344,166672.83507595491,205117.8122363177,215148.62653815077,178102.2343327183,203768.65680086333,296352.93510100851,243889.04515428629,248647.20524692972,247350.34262559292,209545.14748223376,206085.10695764245,217179.78822569372,207572.6814207508,178832.5931550457,205374.17593374808,212507.16509486554,226935.26806508665,227091.18374309622,286315.35834453825,355365.6912382564,233261.04675450889,230851.84920135597,215608.31401001287,193986.56292601558,194257.38552931588,202614.1952043612,232780.63734920978,213127.54484146374,241007.87175950743,277260.01509892487,298165.02817558852,274967.96825785638,245744.31574462546,223205.7122790615,234298.38798538363,191348.4754870933,199433.17664112855,186265.38790585325,201967.64709978239,222043.2885206051,226175.64668992185,253718.85477215107,290349.90334753972,263471.46992447268,234680.26480688786,210444.15450552289,188770.36674935024,211778.70440480998,202644.78003279012,196552.3478921018,191007.65457186755,209868.65236176466,213438.41678086162,280841.42744857067,306825.55128966528,278493.19621899258,231320.15201433847,204469.54422282986,181345.80761991287,177070.74795157823,178994.37870783906,176133.51423054177,186826.63793248241,194925.30272859419,209959.81205379002,300964.14694444789,288858.49966835149,268103.65143003128,240645.31372956192,196745.52065070404,174732.89748168571,182780.52954137904,180737.6438262556,190513.99582790263,195740.00357829541,185088.69373027014,233335.01811510135,238158.78675404779,232037.80655235329,241680.51887326245,193135.64825098269,176086.65961923695,179170.73044340342,182191.34395333397,146560.68672870722,153684.74898090944,143850.97571943104,176913.48530537551,226254.94955302391,204948.52466781146,289268.76251058222,280385.3003827802,241173.27560355261,196010.73433197694,182070.04479093157,179830.77184453982,212864.90020014698,186846.38631695346,189379.20093444549,203456.99722202471,237895.36032602316,275485.48514659394,261518.31353513798,265355.17536841601,226345.38670790163,205081.98680287978,193565.71924783039,187938.28915363865,187256.18727312051,192805.42650121261,212836.29654466017,233409.2919702428,225690.20107596571,260522.06263884919,284309.33492093795,292784.97340299294,243279.10579299417,218022.04724194729,230254.98045661199,229751.78419548832,227463.23314814045,214130.20871860438,236761.60444503426,221557.72330273149,247318.46383099098,286313.40628887119,300948.34105906868,286793.45861203899,239293.18780648755,220345.78486848742,235900.63999871569,234493.79465626649,220804.38331149533,204181.71171649464,200119.99187547955,236537.7474719309,220292.53529454392,283024.87094607507,288563.69317310839,279200.34883763548,289428.3732849916,236700.68351143296,225564.27201981263,218996.32466695952,224081.44926268171,210705.07195504798,240470.80910734774,272243.68252363562,251745.07592399372,299359.01504116919,361433.86787437036,309883.84688320261,244960.25219742762,272010.5813386878,238643.16575472601,226316.92537675228,264153.95453483908,250526.33336035284,236678.0217279472,334622.07614074822,299422.57533589442,296114.60084470268,333503.04475027311,322861.53919667215,357070.71525199496,320664.28654472751,307522.64840016747,311261.5568444875,322856.42383615323,265716.1827608645,344404.35630612518,292530.36104458611,288699.65130163846,319930.20285104436,287609.83505248901,349682.80747052119,339292.47880020889,339005.42168536689,297444.36088983098,312905.17372786993,343006.2665584645,324860.70026654797,302573.31610328483,376861.87827625364,328861.81597892853,466848.3287869026,478242.59464571148,535072.14731880056,418447.73925667669,343478.48114096577,341599.93650823785,279118.54034430737,263600.44755324611,285341.57997264393,304028.47179247881,343973.92737037386,377971.89774413139,446554.2040634327,492030.67825221276,510160.44279603893,446873.21899149474,366495.34099173476,311638.68279681879]
["DEMAND"]
["  Residential and Commercial ",224298.47150542508,236387.72626028382,215155.6534251179,152517.93183873835,125121.70633397972,131896.32984415331,108093.20431133539,138948.91375481494,138599.06057295424,87442.480359363137,116556.28736445696,217803.07706603559,171074.70556008522,181662.10759439069,186599.02407163344,150736.58817518462,149817.23990824597,161242.5674117718,151928.21620194663,114855.13353709478,130489.25432322829,123968.04069563953,140785.61387218744,147440.19878364072,209304.02066969743,285117.47404397512,169540.03126098789,169277.97281742137,156395.21520379456,133862.75427040335,135826.11779737676,135049.45020441664,153625.15764730936,118654.39919884964,149431.03726187663,192867.09347443972,222329.28127719605,206060.06589391822,181273.04401413538,161907.86833968476,175445.10876225471,133458.35008271501,141845.21614876698,120203.40086521904,125032.35484373773,131215.48255468259,137601.32960911168,171446.34380100647,222298.30346794188,201005.83072549407,178106.07303200525,155819.62184539004,136529.38835667097,159444.52704598178,150958.3531761464,135592.88892648119,120371.82848245486,127346.57131017362,124113.07567072792,206107.20593789246,244081.88525177527,221968.92686356191,181850.9863077114,155456.2475314702,136101.31702920626,131855.56512940617,134363.78492798354,123671.83644526651,116848.1950941869,125305.48743420551,134369.19325469114,234317.45893018789,219910.90972725934,205926.52670732711,184757.32738189871,140817.74661286973,124397.28740445996,132590.86411411222,131109.20994792299,133247.39072511031,129063.04493511209,106148.6279116139,155697.46566891737,165115.86880274001,179659.93604571218,194101.65100955218,150085.18672104756,133759.33748285862,138638.82834784748,139675.11118420944,105772.4392845832,106162.45787792548,81446.08006707106,97549.913843407558,154650.9090865739,141411.17199884899,231320.4369249719,226098.39302413361,189749.03810160697,148678.40727339557,140150.70079318393,138280.85757134657,167585.19909531434,138092.04718001006,128248.33871604677,127547.89043152407,158140.16751401711,211435.42222116914,220957.61068326634,222266.44267751698,180183.72452694352,156166.0571621249,148357.01141186594,143325.13575447618,142525.10756144769,132059.49022673717,126169.50919859923,123789.90658552192,150008.83202174393,191638.74674896509,209830.89610743467,211117.22030995032,169758.1924878046,146153.55342408386,138478.79868762044,133533.45545748679,132747.18523189027,122461.54358266319,116672.85169391577,114334.17075777064,140102.2131808738,181016.22437369009,204305.72529453423,205558.17859876223,165288.19770732135,142305.10516140773,134832.43854281789,130017.31381997651,129251.74730094612,119236.94244499646,113600.67573319821,111323.57586966337,136413.10603102215,176249.78826668861,207243.65805373521,200829.24580923628,169004.4615738118,156877.43327592706,135707.71801176728,132485.01710937289,131363.01704526567,119973.42109491483,116200.94870939876,117934.69004515615,137885.955524497,178177.88452189704,275783.44199578819,222073.83799237423,178929.58353568416,168361.54256729153,141615.71040690973,129008.15584549005,126625.18691575545,121438.14667303592,120772.6829240621,146944.53630531841,173641.3588673202,182024.62108854303,221704.27532157069,213952.7319194274,221203.65701664082,132082.38311205863,125607.53980892958,123078.15933409939,122035.82484469026,111454.92644792263,103305.32751533399,104915.96769957687,128095.61393624153,165526.68776798112,176850.66664397792,177430.0832099283,155015.74594145417,129718.3389070182,120775.219469074,122970.61181257917,120783.91544793626,111435.92790715599,101648.92207753779,102724.25608492369,166737.5747665106,274959.02764772245,290766.08318741462,334992.96265265305,246172.30674070271,190345.53340108509,184053.79560942232,94939.380557556986,88319.027419025748,87740.493681826934,103748.9432494288,143667.85622166554,196660.95325499208,266252.59174616379,298701.024013891,295554.72597477352,233501.24513200615,163153.66318914425,107194.85720481872]
["  Chemical",23944.796871482078,23944.796871482078,23944.796871482078,23944.796871482078,23944.796871482078,23944.796871482078,23944.796871482078,23944.796871482078,23944.796871482078,23944.796871482078,23944.796871482078,23944.796871482078,25215.606750185587,25215.606750185587,25215.606750185587,25215.606750185587,25215.606750185587,25215.606750185587,25215.606750185587,25215.606750185587,25215.606750185587,25215.606750185587,25215.606750185587,25215.606750185587,26381.621043400315,26381.621043400315,26381.621043400315,26381.621043400315,26381.621043400315,26381.621043400315,26381.621043400315,26381.621043400315,26381.621043400315,26381.621043400315,26381.621043400315,26381.621043400315,27469.205116727553,27469.205116727553,27469.205116727553,27469.205116727553,27469.205116727553,27469.205116727553,27469.205116727553,27469.205116727553,27469.205116727553,27469.205116727553,27469.205116727553,27469.205116727553,25265.478445116521,25265.478445116521,25265.478445116521,25265.478445116521,25265.478445116521,25265.478445116521,25265.478445116521,25265.478445116521,25265.478445116521,25265.478445116521,25265.478445116521,25265.478445116521,18153.424657534248,18153.424657534248,18153.424657534248,18153.424657534248,18153.424657534248,18153.424657534248,18153.424657534248,18153.424657534248,18153.424657534248,18153.424657534248,18153.424657534248,18153.424657534248,19726.027397260274,19726.027397260274,19726.027397260274,19726.027397260274,19726.027397260274,19726.027397260274,19726.027397260274,19726.027397260274,19726.027397260274,19726.027397260274,19726.027397260274,19726.027397260274,15064.013698630137,15064.013698630137,15064.013698630137,15064.013698630137,15064.013698630137,15064.013698630137,15064.013698630137,15064.013698630137,15064.013698630137,15064.013698630137,15064.013698630137,15064.013698630137,12863.013698630137,12863.013698630137,12863.013698630137,12863.013698630137,12863.013698630137,12863.013698630137,12863.013698630137,12863.013698630137,12863.013698630137,12863.013698630137,12863.013698630137,12863.013698630137,14263.013698630137,14263.013698630137,14263.013698630137,14263.013698630137,14263.013698630137,14263.013698630137,14263.013698630137,14263.013698630137,14263.013698630137,14263.013698630137,14263.013698630137,14263.013698630137,16801.434600000001,16801.434600000001,16801.434600000001,16801.434600000001,16801.434600000001,16801.434600000001,16801.434600000001,16801.434600000001,16801.434600000001,16801.434600000001,16801.434600000001,16801.434600000001,16872.974418749996,16872.974418749996,16872.974418749996,16872.974418749996,16872.974418749996,16872.974418749996,16872.974418749996,16872.974418749996,16872.974418749996,16872.974418749996,16872.974418749996,16872.974418749996,16872.974418749996,16556.244749999998,16556.244749999998,16556.244749999998,16556.244749999998,16556.244749999998,16556.244749999998,16556.244749999998,16556.244749999998,16556.244749999998,16556.244749999998,16556.244749999998,16541.660281249995,16541.660281249995,16541.660281249995,16541.660281249995,16541.660281249995,16541.660281249995,16541.660281249995,16541.660281249995,16541.660281249995,16541.660281249995,16541.660281249995,16541.660281249995,16466.034999999996,16466.034999999996,16466.034999999996,16466.034999999996,16466.034999999996,16466.034999999996,16466.034999999996,16466.034999999996,16466.034999999996,16466.034999999996,16466.034999999996,16466.034999999996,16466.034999999996,16466.034999999996,16466.034999999996,16466.034999999996,16466.034999999996,16466.034999999996,16466.034999999996,16466.034999999996,16466.034999999996,16466.034999999996,16466.034999999996,16466.034999999996,16391.261999999995,16391.261999999995,16391.261999999995,16391.261999999995,16391.261999999995,16391.261999999995,16391.261999999995,16391.261999999995,16391.261999999995,16391.261999999995,16391.261999999995,16391.261999999995,16391.261999999995,16391.261999999995,16391.261999999995,16391.261999999995,16391.261999999995]
["  Farm",13412.140417590927,9903.4151214827689,6257.9862424093562,6470.6362603553052,6257.9862424093562,6470.6362603553052,6257.9862424093562,13412.140417590927,23102.905521127745,36666.938808680068,32337.99201478039,21462.46252554471,13094.335198248655,9668.7503389106714,6109.7011344036755,6317.312337999917,6109.7011344036755,6317.312337999917,6109.7011344036755,13094.335198248655,22555.474333563081,35798.103248666201,31571.732318314138,20953.902191534937,14390.071203707836,10625.51123988393,6714.2801086383106,6942.4352579609722,6714.2801086383106,6942.4352579609722,6714.2801086383106,14390.071203707836,24787.427294269102,39340.466461778844,34695.879493424669,23027.373285208578,13059.440432843116,9311.3072464678025,6094.4055353267868,6300.9955534734581,6094.4055353267868,6300.9955534734581,6094.4055353267868,13059.440432843116,22503.55554811949,35710.560279638798,31504.977767367287,20909.861122416605,13070.569305998075,9646.2330199822045,6099.5990094657682,6298.3328117791889,6099.5990094657682,6298.3328117791889,6099.5990094657682,13926.653377502042,22502.781308104288,34014.054626720135,38340.336630927683,20912.910889596922,14278.121899823251,9161.1909042520747,5783.7265360705351,5986.6643092659915,5783.7265360705351,5986.6643092659915,5783.7265360705351,12408.195275379392,28744.686017613712,27947.430480060128,32194.628161936485,19844.415107470082,11062.901369863013,8168.7561643835616,5161.85205479452,5337.2547945205479,5161.85205479452,5337.2547945205479,5161.85205479452,11062.901369863013,19056.254794520548,30244.443835616439,26673.745205479452,17703.147945205481,12460.950097847357,8884.5870189171565,5815.1100456620998,6012.2324200913235,5815.1100456620998,6012.2324200913235,5815.1100456620998,12460.950097847357,21472.258643183297,34074.010437051533,30061.162100456615,19951.600326157859,12273.468493150684,9061.0465753424651,5718.9753424657529,5920.6520547945192,5718.9753424657529,5920.6520547945192,5718.9753424657529,12273.468493150684,21132.838356164382,33535.956164383555,35797.616438356155,19634.668493150682,12634.321961890115,9324.6476438551181,5899.8542191058614,6101.3126558558179,5899.8542191058614,6101.3126558558179,5899.8542191058614,12634.321961890115,22980.651677834296,32636.26675349291,32175.790326635873,20217.793116692039,11169.674438190428,8247.5965274067494,5211.6714252938355,5388.7670562504218,5211.6714252938355,5388.7670562504218,5211.6714252938355,11169.674438190428,19240.175334640589,30536.346652085726,26931.185593326642,17874.009038689779,12850.956865368913,9489.0417624241582,5996.1429541698662,6199.8953846513668,5996.1429541698662,6199.8953846513668,5996.1429541698662,12850.956865368913,22136.246197311568,35132.740513024415,27984.923178222441,20564.441733597137,9850.956865368913,9688.6086519819291,6122.2496389824455,6330.2872480740825,6122.2496389824455,6330.2872480740825,6122.2496389824455,13121.229201993932,22601.800244884224,35871.627739086471,31636.576411149581,20996.938689034458,13209.931954793263,9754.1060413649011,6163.6375598808872,6373.0815546341219,6163.6375598808872,6373.0815546341219,6163.6375598808872,13209.931954793263,22754.594001404927,36114.128809593363,31850.447487831094,21138.883184737122,12631.56555772994,9327.0450097847352,5893.776908023483,6094.0508806262224,5893.776908023483,6094.0508806262224,5893.776908023483,12631.56555772994,21758.336594911936,34532.954990215265,30455.949119373778,20213.365949119372,12378.934246575342,9140.504109589041,5775.9013698630133,5972.169863013698,5775.9013698630133,5972.169863013698,5775.9013698630133,12378.934246575342,21323.169863013696,33842.295890410962,10234.40068781037,18581.181044680212,19246.446988463038,17861.793007373719,13045.36804614026,7884.6037001544382,3074.786106401004,497.48241369083127,99.742761160785477,22419.40891775741,23597.851169990387,28624.393775648743,11629.267116079729,18119.934944209359,21236.269634411052,17512.332217354691,14778.589255577859,8235.2431986797783,3455.6022784119073]
["  Other",33207.769835307336,31818.675192725615,30445.365716536871,29150.982072313,27967.094592839945,27698.746764159387,27667.176431373438,28424.864418236193,29135.196905920027,29435.115067386534,30429.580550143895,32497.437347623498,33891.4944199604,31386.454849156835,28909.881637112401,26575.64021886362,24426.430132549198,23970.968392403091,23899.802495505264,25280.420895323139,26547.173860104493,27073.801497148423,28895.648457732834,32610.50827579949,35207.387363216549,32562.513482425617,29947.69498664367,27483.153415906665,25213.97184772808,24733.085687584273,24657.947225061806,26115.633397997713,27453.098030897676,28009.122653563951,29932.667294139173,33854.895037812094,34726.456187531992,31230.838276604904,29133.467530048649,26527.643269175722,24128.37824849394,23619.924734177272,23540.478872565291,25081.728587837693,26495.864924530928,27099.653472781971,29133.467530048649,33280.541506193971,29134.906967192877,26803.927733879886,24499.436900945453,22327.388069903805,20327.513841322769,19903.699435265866,19837.47843431947,21122.165852679471,22300.899669525246,22790.935076528545,24486.192700756175,27942.928950157828,29408.893674080879,27102.510936501545,24822.337093667433,22673.207724559419,20694.436171295332,20275.093855371819,20209.571618508769,21480.703013651924,22646.998829814202,23131.863382600764,24809.232646294826,28229.493410545994,36707.048271363339,33496.626875407695,30322.68754076973,27331.158512720154,24576.762883235486,23993.049902152641,23901.844748858446,25671.224722765815,27294.676451402476,27969.594585779516,30304.446510110894,35065.355512067843,23162.83953033268,21426.375081539463,20384.496412263536,19090.04109589041,17898.195042400519,17645.618395303325,17606.153294194388,18371.776255707762,19074.255055446836,19374.189823874753,20384.496412263536,22444.574690150032,19544.627527723416,18343.327071102409,17155.677756033918,16036.284148727984,15005.622961513371,14787.204696673187,14753.07684279191,15415.157208088713,16022.633007175471,16275.179125896932,17148.852185257663,18930.326157860403,27034.228749168418,24915.711708074123,22821.268724264992,20847.196026881669,19029.604701851906,18644.419785289305,18584.234642076401,19751.826420406778,20823.121969596508,21268.492029372013,22809.231695622409,25950.89617133611,33217.007194667727,30475.864822778691,27765.871796024752,25211.625494946333,22859.849937246079,22361.460415084432,22283.587052246679,23794.330291299157,25180.476149811228,25756.739034810627,27750.297123457203,31815.286663588107,27467.07157718973,25321.539694171559,23200.388855278594,21201.14323701166,19360.37440555857,18970.277699555267,18909.325089242251,20091.805729314765,21176.762192886454,21627.811509202773,23188.198333215991,26369.924591555442,27467.07157718973,25911.963912131563,23745.417322197383,21703.384904098497,19823.220909385498,19424.775559512545,19362.518473594897,20570.305940397287,21678.482069731435,22139.18450552204,23732.965905013851,26982.785789915124,28447.220739313052,26228.528282499257,24035.048239967437,21967.630268845489,20064.092990556383,19660.694362044782,19597.663326339847,20820.465419015629,21942.417854563515,22408.84751878005,24022.442032826446,27312.662096624183,18475.362419359546,17258.584410317191,16055.633424104864,14921.81755204267,13877.877328375649,13656.644963095219,13622.077406020155,14292.688013276453,14907.990529212642,15163.790451568137,16048.71991268985,17853.146392008344,18333.554000645403,17128.94377169347,15938.022295343268,14815.544582001694,13782.043760571345,13563.023718943719,13528.801837439403,14192.706338623138,14801.855829399967,15055.097752531907,15390.472191274206,15390.472191274206,15290.415373059588,15290.415373059588,15290.415373059588,15290.415373059588,15290.415373059588,15290.415373059588,15290.415373059588,15290.415373059588,15290.415373059588,15290.415373059588,15290.415373059588,15290.415373059588,15202.122603910728,15202.122603910728,15202.122603910728,15202.122603910728,15202.122603910728]
["     US DOMESTIC CONSUMPTION",294863.17862980539,302054.61344597425,275803.80225554621,212084.34704288872,183291.58404071111,190010.50974015007,165963.16385660027,204730.71546212415,214781.95987148408,177489.33110691182,203268.65680086333,295707.7738106859,243276.14192847983,247932.91953264381,246834.21359333509,208845.14748223376,205568.97792538445,216746.45489236043,207153.32658204113,178445.49638085213,204807.50926708145,212055.55219163973,226468.60139842003,226220.2160011607,285283.10028002213,354687.11980968498,232583.62739967019,230085.18253468932,214705.08820356126,191919.89625934893,193579.96617447719,201936.7758495225,232247.30401587643,212385.60935759274,240441.20509284077,276130.98284086073,297584.38301429874,274071.41653371847,243970.12219623837,222205.7122790615,233137.09766280299,190848.4754870933,198949.30567338661,185813.7750026274,201500.98043311571,221494.90142383092,225708.98002325519,253105.95154634462,289769.25818624935,262721.46992447268,233970.58738753299,209710.82117218955,188221.97965257603,210912.03773814335,202160.90906504815,195907.18660177922,190440.98790520092,209417.03945853884,212205.0834475283,280228.52422276372,305922.32548321364,276386.0533618498,230610.47459498362,202269.54422282986,180732.90439410639,176270.74795157823,178510.50774009712,175714.15939183207,186393.30459914907,194538.20595440068,209526.47872045671,300544.79210573819,287406.88676574593,267317.93714437861,239967.89437472323,193212.18731737073,173861.92973975025,181647.1962080457,179898.93414883624,189707.54421499942,195140.00357829541,184088.69373027014,232401.68478176798,237610.39965727361,230347.73937252234,239476.62680863898,191348.80687760335,173925.62469747051,177416.1471345402,178396.97569823419,144257.71632306982,152059.19793011073,137056.60746433135,166062.12780296395,220160.58129792419,198871.36071378703,276001.54664447613,266365.7803692086,225486.70489873676,183498.35717554821,173738.3127957932,171851.7280214444,200920.26497920213,178643.68657987961,178266.82377801675,190222.03942043468,223949.64983626106,262863.43057081033,274889.175092955,270769.81572807638,223167.86116894451,197377.57954349252,187549.48403145385,182333.88189425145,181272.21012126005,178708.65230766422,184236.29654466017,191957.67906701699,219256.86774263237,252070.44973562338,271019.0123402928,266642.11626013578,219537.1703091232,193555.38057528064,183351.75465016038,178085.11752882166,177043.87830943079,174226.98291215277,177894.9377783676,187428.69104466698,211585.13049765764,247506.95467596798,261496.72815584287,257241.73447410797,211357.70393551979,186579.11820182076,177061.93032129633,172060.46132293314,171030.18976310824,169052.67945843012,173786.65854214621,184957.10231064056,204459.20196121058,240057.12901059119,261434.66091504385,252986.06312334974,215428.3732849916,201467.35017809962,178209.43331013521,174796.32466695952,173404.02990784298,170221.20098730605,177037.4757740144,192501.74703976468,209811.7425906604,242713.85375084661,333982.25497114455,274598.13259748835,225669.92961678247,213243.91467202111,184385.10123859698,171583.59204341893,168928.14808322617,172010.20432809478,182011.35506128054,222009.1729149418,246055.90866922773,247017.82665115432,269277.2382986602,257004.39633952931,259619.10234876917,169564.28654472751,161845.22904532871,159294.89017782084,158017.7141587339,154845.21501892904,156437.68963945855,171078.74814136029,191066.31796830514,220059.23510910885,224029.18989119868,220165.56609121081,193195.70460666047,166972.08835203358,156799.19959950834,158971.84039453659,156554.65365523868,154473.60349235445,154239.98276995146,168087.68472786655,208828.48264559518,325396.71588367684,341694.20754893724,384536.4330330863,290899.35215990251,229911.81447429911,218810.25908888291,127118.54034430739,120100.44755324611,141841.57997264393,159028.47179247878,203973.92737037389,239971.89774413139,316054.2040634327,351530.67825221276,344660.44279603893,279873.21899149474,202982.29099173477,142243.84408714133]
["EXPORTS",709.67741935483866,821.42857142857144,870.9677419354839,366.66666666666669,451.61290322580646,333.33333333333331,709.67741935483866,387.09677419354841,366.66666666666669,612.90322580645159,500,645.16129032258061,612.90322580645159,714.28571428571433,516.12903225806451,700,516.12903225806451,433.33333333333331,419.35483870967744,387.09677419354841,566.66666666666663,451.61290322580646,466.66666666666669,870.9677419354839,1032.258064516129,678.57142857142856,677.41935483870964,766.66666666666663,903.22580645161293,2066.6666666666665,677.41935483870964,677.41935483870964,533.33333333333337,741.93548387096769,566.66666666666663,1129.0322580645161,580.64516129032256,896.55172413793105,1774.1935483870968,1000,1161.2903225806451,500,483.87096774193549,451.61290322580646,466.66666666666669,548.38709677419354,466.66666666666669,612.90322580645159,580.64516129032256,750,709.67741935483866,733.33333333333337,548.38709677419354,866.66666666666663,483.87096774193549,645.16129032258061,566.66666666666663,451.61290322580646,1233.3333333333333,612.90322580645159,903.22580645161293,2107.1428571428573,709.67741935483866,2200,612.90322580645159,800,483.87096774193549,419.35483870967744,433.33333333333331,387.09677419354841,433.33333333333331,419.35483870967744,1451.6129032258063,785.71428571428567,677.41935483870964,3533.3333333333335,870.9677419354839,1133.3333333333333,838.70967741935488,806.45161290322585,600,1000,933.33333333333337,548.38709677419354,1129.0322580645161,1642.8571428571429,1225.8064516129032,1600,1193.5483870967741,3233.3333333333335,1741.9354838709678,1064.516129032258,6233.333333333333,10290.322580645161,5533.333333333333,5516.1290322580644,6354.8387096774195,7107.1428571428569,8774.1935483870966,5600,1419.3548387096773,1066.6666666666667,5032.2580645161288,1290.3225806451612,4200,6322.5806451612907,7033.333333333333,5709.677419354839,6580.6451612903229,2035.7142857142858,1129.0322580645161,15166.666666666666,10290.322580645161,10300,10709.677419354839,14096.774193548386,28600,41451.612903225803,6433.333333333333,8451.6129032258068,13290.322580645161,26142.857142857141,23741.935483870966,24466.666666666668,46903.225806451614,51666.666666666664,50419.354838709674,39903.225806451614,58866.666666666664,34129.032258064515,35733.333333333336,38806.451612903227,39451.612903225803,29551.724137931036,27935.483870967742,33766.666666666664,58838.709677419356,62433.333333333336,49774.193548387098,35129.032258064515,26333.333333333332,51580.645161290326,15833.333333333334,42967.741935483871,27129.032258064515,26214.285714285714,74000,35233.333333333336,47354.838709677417,44200,50677.419354838712,40483.870967741939,63433.333333333328,79741.935483870955,41933.333333333328,56645.161290322583,27451.612903225807,35285.714285714283,19290.322580645159,58766.666666666664,54258.06451612903,54733.333333333336,95225.806451612894,78516.129032258061,54666.666666666664,112612.90322580645,53366.666666666664,49096.774193548386,64225.806451612894,65857.142857142855,97451.612903225803,151100,145677.41935483873,151966.66666666666,164838.70967741936,110870.96774193548,187966.66666666666,121451.6129032258,97633.333333333343,99870.967741935485,63580.645161290318,129517.24137931035,146096.77419354839,172033.33333333334,140645.16129032261,153933.33333333334,186451.61290322579,170387.09677419355,148333.33333333334,208774.19354838709,120033.33333333333,141451.61290322579,136548.38709677421,150535.71428571429,127548.3870967742,113566.66666666666,122789.67741935491,152000,143500,143500,145000,140000,138000,130500,140500,165500,167000,163513.05000000002,169394.83870967745]
["     TOTAL DEMAND",295572.85604916024,302876.04201740283,276674.76999748166,212451.01370955538,183743.19694393693,190343.84307348341,166672.84127595511,205117.8122363177,215148.62653815074,178102.23433271828,203768.65680086333,296352.93510100851,243889.04515428629,248647.20524692952,247350.34262559316,209545.14748223376,206085.10695764251,217179.78822569377,207572.6814207508,178832.59315504567,205374.17593374811,212507.16509486554,226935.26806508668,227091.18374309619,286315.35834453825,355365.6912382564,233261.04675450889,230851.84920135597,215608.31401001287,193986.56292601558,194257.38552931588,202614.1952043612,232780.63734920978,213127.54484146371,241007.87175950743,277260.01509892527,298165.02817558905,274967.96825785638,245744.31574462546,223205.7122790615,234298.38798538363,191348.4754870933,199433.17664112855,186265.38790585322,201967.64709978236,222043.2885206051,226175.64668992185,253718.85477215107,290349.90334753966,263471.46992447268,234680.26480688783,210444.15450552289,188770.36674935021,211778.70440481001,202644.78003279009,196552.3478921018,191007.65457186758,209868.65236176466,213438.41678086165,280841.42744857015,306825.55128966528,278493.19621899264,231320.15201433847,204469.54422282986,181345.80761991284,177070.74795157823,178994.37870783906,176133.51423054174,186826.63793248241,194925.30272859422,209959.81205379005,300964.14694444789,288858.49966897175,268103.65143009287,240645.31372956192,196745.52065070407,174732.89748168574,182780.52954137904,180737.6438262556,190513.99582790263,195740.00357829541,185088.69373027014,233335.01811510132,238158.78675404779,231476.77163058685,241119.48395149611,192574.61332921626,175525.62469747051,178609.69552163698,181630.30903156754,145999.65180694079,153123.71405914301,143289.94079766469,176352.4503836091,225693.91463125753,204387.48974604509,282356.38535415352,273472.92322635144,234260.89844712385,189098.35717554821,175157.66763450287,172918.39468811106,205952.52304371825,179934.00916052476,182466.82377801675,196544.62006559598,230982.9831695944,268573.10799016518,281469.82025424531,272805.53001379065,224296.89342700902,212544.24621015918,197839.806612099,192633.88189425145,191981.8875406149,192805.42650121261,212836.29654466017,233409.2919702428,225690.20107596571,260522.06263884919,284309.33492093795,292784.97340299294,243279.10579299417,218022.04724194729,230254.98045661199,229751.78419548832,227463.23314814045,214130.20871860438,236761.60444503426,221557.72330273149,247318.46383099098,286313.40628887119,300948.34105906868,286793.45861203899,239293.18780648755,220345.78486848742,235900.63999871569,234493.79465626649,220804.38331149533,204181.71171649464,200119.99187547955,236537.7474719309,220292.53529454392,283024.87094607507,288563.69317310839,279200.34883763548,289428.3732849916,236700.68351143296,225564.27201981263,218996.32466695952,224081.44926268171,210705.07195504798,240470.80910734774,272243.68252363562,251745.07592399372,299359.01504116919,361433.86787437036,309883.84688320261,244960.25219742762,272010.5813386878,238643.16575472601,226316.92537675228,264153.95453483908,250526.33336035284,236678.0217279472,334622.07614074822,299422.57533589442,296114.60084470268,333503.04475027311,322861.53919667215,357070.71525199496,320664.28654472751,307522.64840016747,311261.5568444875,322856.42383615323,265716.1827608645,344404.35630612518,292530.36104458611,288699.65130163846,319930.20285104436,287609.83505248901,349682.80747052119,339292.47880020889,339005.42168536689,297444.36088983098,312905.17372786993,343006.2665584645,324860.70026654797,302573.31610328483,376861.87827625364,328861.81597892853,466848.3287869026,478242.59464571148,535072.14731880056,418447.73925667669,343478.48114096577,341599.93650823785,279118.54034430737,263600.44755324611,285341.57997264393,304028.47179247881,343973.92737037386,377971.89774413139,446554.2040634327,492030.67825221276,510160.44279603893,446873.21899149474,366495.34099173476,311638.68279681879]
[]
["INVENTORIES (End of Month, Thousand Barrels)",3985,3036,2103,2519,3524,3361,4346,4182.9999999999991,4225,5200,5522,4276,4210,3676,2513,3382,3933,4560,5035,5017,5047,5333,5452,5319,5262,2040,3249,2834,3349,3671,4154,4864,4457,5062,5029,4550,3802,3210,2540,3107,4065,3810,4004,4707,4458,4272,3862,3462,2275,2499,3150,3701,4251,3578,4185,3875,4471,4853,5593,4681,2561,2647,2558,2476,3305,3954,4062,4253,4307,4821,4950,4127.9999999999991,2964,2425,1771,2334,3268,3963,4437,4684,5644,6271,5882,5977,4583,3300.821428571428,3198,4114.0000000000009,4674,5084,6039,6127,6567,6295,5070,5184,3255,1888.0000000000002,1292,1919,2687,3687,3194,3710,4442,4777,4721,4114.0000000000009,2291,2211,2109,2678,3037,4271,5281,5598,5712,6479,6199,5707,4147.9999999999991,1841,2069,2987,4235,4336,4360,4805,5897,6995,7086,6723,5041,3521,3686,4241,3869,3955.0000000000005,5249,6643,7213,6745,7284,6014,5129,4207,2949,2705,3729,4482,5051,5915,5599,6592,6993,5999,3221,3194,2564,2787,3508,4685,4983,6441,7629,7169,7301,6108,5381,4271,3626,3564,4050,4941,5555,8013,8069,8381,7970,6719,7005,5399,4677,4803,6173,7559,7873,8631,9713,8432,8972,8316,6769,3899,3808,4186,4876.0000000000009,5741,6807.2205613329106,6510.0378115442436,7331.6228161356994,8600.1929227285091,9124.3194943918134,8523.3053957940065,7725.2832165824011,6452.4142847848607,6418.5192521666841,6485.2092099470228,5620.739462053949]
["Days of Forward Supply",13.48229351391187,10.023902781407701,7.6009821929883303,11.856850932440166,19.178941362793587,17.65751886549052,26.075033981117901,20.393158226457363,19.637587596920177,29.19671400801025,27.099359080510975,14.428741859912993,17.261947937582512,14.783998864372492,10.159678670038687,16.139719963148956,19.084348491074444,20.996428982890603,24.256563848081875,28.05417016824401,24.574657339723753,25.09562441162532,24.024472028897364,23.422309542484399,18.378336497296662,5.740565424005081,13.928600789566667,12.276271599315193,15.53279619748092,18.923991149841036,21.384000349233101,24.006215334982137,19.146781496752055,23.751036046351498,20.866538355304211,16.410588444845096,12.75132775719427,11.674087059441637,10.335946092195831,13.919894649091656,17.349671224599245,19.911316200985304,20.076900280262929,25.270395390791158,22.072842180497947,19.239491670578317,17.075224749084743,13.645024541471324,7.8353737120996971,9.4848979311360306,13.422517665011378,17.586613459025163,22.519424384254595,16.894994282148112,20.651901318764896,19.714849715899586,23.407438879983545,23.123987052790326,26.204279830947034,16.667768863470904,8.3467624819232622,9.5047205315512855,11.058266985063375,12.109382888346774,18.224849216955878,22.33005759416152,22.693450092252,24.146455139895945,23.053457727781378,24.732551046554264,23.575940326770006,13.715919460539423,10.261079398379161,9.045009223353718,7.3593787161392896,11.863040095045983,18.702831848493375,21.68174044546047,24.549396053128369,24.586120193663916,28.834167246463839,33.881053853774191,25.208389411564795,25.096701580750786,19.798962840703503,13.689567406487257,16.606550285695516,23.43817324160355,26.168792160746875,27.990923029902437,41.363112344853604,40.013397256243977,45.830153627274214,35.695562983711639,22.464052733913761,25.363587597466008,11.527984380156035,6.9037913433108589,5.5152183252282008,10.14815796743548,15.340464601337898,21.322196557804954,15.508428606732819,20.618670240878103,24.344151490267588,24.304913552992168,20.43873507570774,15.317989320623457,8.1394161474597588,8.1046744172973,9.4027160509305645,12.599729457517524,15.350803521328709,22.17159285792005,27.507803301927495,29.034452513009494,26.837527680817502,27.75810656598026,27.466854876492668,21.90601418625867,14.589742546277961,6.2878910027463206,8.5046350086493199,13.700449279265841,18.392653186487841,18.872541143404739,19.167932943081194,22.439617598815357,24.906910112484166,31.571907743618528,28.651318184000736,23.481261625649971,16.750383079900669,12.277127996712949,15.403698006567605,19.247021233155085,16.400972884266292,16.86611795334478,23.772173003445676,32.534745370455973,36.043375438912356,28.515533237672376,33.065124019117889,21.249015960671002,17.774238829564503,15.068032749652881,10.18904942362443,11.427934891744176,16.531873450563396,20.466096893708325,22.540910979555989,28.072413943893633,23.283491334287355,24.21360135483657,27.778100422950516,20.039483358050838,8.9117271132974647,10.307087743117636,10.467004246605381,10.24592494263975,14.699771472213337,20.701058889876791,18.863999249130284,25.709872146395782,32.233664724345459,21.424169267853642,24.383598971485984,20.627149024655292,16.134785228210703,13.228580928613818,10.154851252478178,11.114427610269219,13.169761710460719,15.874109382767825,17.205790530651214,30.156236314787897,23.428855797711911,28.650017625769131,27.606545293928342,21.001455755423894,24.355912581089523,15.439706741816709,13.784567275226971,14.167915003016368,20.753461190297667,24.15747847804516,22.952933423034324,26.568310641817465,32.101310601640833,22.374245011375319,27.281975480470106,17.813065801496997,14.153904473972181,7.2868677981792658,9.1003000918692152,12.187080792062892,14.274007336890749,20.568321949943471,25.824009877516929,22.814893686957117,24.114921779891905,25.002455821217673,24.140206054600743,19.086832725424923,15.70081614427801,12.647813792502376,14.363177248911947,17.695202324804661,18.036077587064316]
["Days per Month",31,28,31,30,31,30,31,31,30,31,30,31,31,28,31,30,31,30,31,31,30,31,30,31,31,28,31,30,31,30,31,31,30,31,30,31,31,29,31,30,31,30,31,31,30,31,30,31,31,28,31,30,31,30,31,31,30,31,30,31,31,28,31,30,31,30,31,31,30,31,30,31,31,28,31,30,31,30,31,31,30,31,30,31,31,29,31,30,31,30,31,31,30,31,30,31,31,28,31,30,31,30,31,31,30,31,30,31,31,28,31,30,31,30,31,31,30,31,30,31,31,28,31,30,31,30,31,31,30,31,30,31,31,29,31,30,31,30,31,31,30,31,30,31,31,28,31,30,31,30,31,31,30,31,30,31,31,28,31,30,31,30,31,31,30,31,30,31,31,28,31,30,31,30,31,31,30,31,30,31,31,29,31,30,31,30,31,31,30,31,30,31,31,28,31,30,31,30,31,31,30,31,30,31,31,28,31,30,31]

{"sheet":"PADD2 mthly rpt","index":2,"n_rows":85,"n_cols":211,"rows_kept":85,"cut":false,"hidden":false,"merged":[]}
[null,null,null,null,null,null,null,null,null,null,null,null,null,null,null,null,null,null,null,null,null,null,null,null,null,null,null,null,null,null,null,null,null,null,null,null,null,null,null,null,null,null,null,null,null,null,null,null,null,null,null,null,null,null,null,null,null,null,null,null,null,null,null,null,null,null,null,null,null,null,null,null,null,null,null,null,null,null,null,null,null,null,null,null,null,null,null,null,null,null,null,null,null,null,null,null,null,null,null,null,null,null,null,null,null,null,null,null,null,null,null,null,null,null,null,null,null,null,null,null,null,null,null,null,null,null,null,null,null,null,null,null,null,null,null,null,null,null,null,null,null,null,null,null,null,null,null,null,null,null,null,null,null,null,null,null,null,null,null,null,null,null,null,null,null,null,null,null,null,null,null,null,null,null,"Legend:  BLACK - Actual / RED - Estimated (Inventory from US Dept. of Energy; Supply and Demand prepared by IHS) / BLUE - Forecast"]
["PADD II (Midwest)                         (includes IL, IN, IA, KS, KY, MI, MN, MO, NB, ND, SD, OH, OK, TN, WI)",null,null,null,null,null,null,null,null,null,null,null,null,null,null,null,null,null,null,null,null,null,null,null,null,null,null,null,null,null,null,null,null,null,null,null,null,null,null,null,null,null,null,null,null,null,null,null,null,null,null,null,null,null,null,null,null,null,null,null,null,null,null,null,null,null,null,null,null,null,null,null,null,null,null,null,null,null,null,null,null,null,null,null,null,null,null,null,null,null,null,null,null,null,null,null,null,null,null,null,null,null,null,null,null,null,null,null,null,"","","","","","","","","","","","","","","","","","","","","","","","","","","","","","","","","","","","","","","","","",null,"","","","","","","","","","","","","","","",null,null,null,null,null,null,null,null,null,null,null,null,null,null,null,null,null,null,null,null,null,null,null,null,null,null,null,null,null,null,null,null,"   FCST -->"]
["(Barrels per Day)","2005-01-15","2005-02-15","2005-03-15","2005-04-15","2005-05-15","2005-06-15","2005-07-15","2005-08-15","2005-09-15","2005-10-15","2005-11-15","2005-12-15","2006-01-15","2006-02-15","2006-03-15","2006-04-15","2006-05-15","2006-06-15","2006-07-15","2006-08-15","2006-09-15","2006-10-15","2006-11-15","2006-12-15","2007-01-15","2007-02-15","2007-03-15","2007-04-15","2007-05-15","2007-06-15","2007-07-15","2007-08-15","2007-09-15","2007-10-15","2007-11-15","2007-12-15","2008-01-15","2008-02-15","2008-03-15","2008-04-15","2008-05-15","2008-06-15","2008-07-15","2008-08-15","2008-09-15","2008-10-15","2008-11-15","2008-12-15","2009-01-15","2009-02-15","2009-03-15","2009-04-15","2009-05-15","2009-06-15","2009-07-15","2009-08-15","2009-09-15","2009-10-15","2009-11-15","2009-12-15","2010-01-15","2010-02-15","2010-03-15","2010-04-15","2010-05-15","2010-06-15","2010-07-15","2010-08-15","2010-09-15","2010-10-15","2010-11-15","2010-12-15","2011-01-15","2011-02-15","2011-03-15","2011-04-15","2011-05-15","2011-06-15","2011-07-15","2011-08-15","2011-09-15","2011-10-15","2011-11-15","2011-12-15","2012-01-15","2012-02-15","2012-03-15","2012-04-15","2012-05-15","2012-06-15","2012-07-15","2012-08-15","2012-09-15","2012-10-15","2012-11-15","2012-12-15","2013-01-15","2013-02-15","2013-03-15","2013-04-15","2013-05-15","2013-06-15","2013-07-15","2013-08-15","2013-09-15","2013-10-15","2013-11-15","2013-12-15","2014-01-15","2014-02-15","2014-03-15","2014-04-15","2014-05-15","2014-06-15","2014-07-15","2014-08-15","2014-09-15","2014-10-15","2014-11-15","2014-12-15","2015-01-15","2015-02-15","2015-03-15","2015-04-15","2015-05-15","2015-06-15","2015-07-15","2015-08-15","2015-09-15","2015-10-15","2015-11-15","2015-12-15","2016-01-15","2016-02-15","2016-03-15","2016-04-15","2016-05-15","2016-06-15","2016-07-15","2016-08-15","2016-09-15","2016-10-15","2016-11-15","2016-12-15","2017-01-15","2017-02-15","2017-03-15","2017-04-15","2017-05-15","2017-06-15","2017-07-15","2017-08-15","2017-09-15","2017-10-15","2017-11-15","2017-12-15","2018-01-15","2018-02-15","2018-03-15","2018-04-15","2018-05-15","2018-06-15","2018-07-15","2018-08-15","2018-09-15","2018-10-15","2018-11-15","2018-12-15","2019-01-15","2019-02-15","2019-03-15","2019-04-15","2019-05-15","2019-06-15","2019-07-15","2019-08-15","2019-09-15","2019-10-15","2019-11-15","2019-12-15","2020-01-15","2020-02-15","2020-03-15","2020-04-15","2020-05-15","2020-06-15","2020-07-15","2020-08-15","2020-09-15","2020-10-15","2020-11-15","2020-12-15","2021-01-15","2021-02-15","2021-03-15","2021-04-15","2021-05-15","2021-06-15","2021-07-15","2021-08-15","2021-09-15","2021-10-15","2021-11-15","2021-12-15","2022-01-15","2022-02-15","2022-03-15","2022-04-15","2022-05-15","2022-06-15"]
["SUPPLY"]
["Gas Processing",101741.93548387097,106428.57142857143,103322.58064516129,100500,101741.93548387097,100666.66666666667,99161.290322580651,103451.6129032258,102033.33333333333,96483.870967741939,96900,87354.838709677424,98064.516129032258,101000,100096.77419354839,103100,100451.6129032258,94966.666666666672,94709.677419354834,95419.354838709682,95800,96903.225806451606,105766.66666666667,100967.74193548386,90709.677419354834,100107.14285714286,97548.387096774197,93866.666666666672,95709.677419354834,90866.666666666672,95516.129032258061,90741.93548387097,93000,100419.35483870968,100366.66666666667,97548.387096774197,99870.967741935485,101896.55172413793,103032.25806451614,101500,99806.451612903227,99300,100709.67741935483,95806.451612903227,102000,103322.58064516129,106633.33333333333,97290.322580645166,109096.77419354839,116321.42857142857,115774.19354838709,114666.66666666667,107870.96774193548,109066.66666666667,105000,107741.93548387097,108266.66666666667,108806.45161290323,108700,107612.90322580645,111870.96774193548,113464.28571428571,118483.87096774194,120866.66666666667,120322.58064516129,119233.33333333333,121000,121903.22580645161,125000,128064.51612903226,128533.33333333333,124935.48387096774,128451.6129032258,126321.42857142857,134677.4193548387,132300,134483.87096774194,130433.33333333333,131870.96774193548,133064.51612903227,135633.33333333334,142870.96774193548,147433.33333333334,145387.09677419355,147032.25806451612,152896.55172413794,147806.45161290321,154500,157322.5806451613,157200,151677.4193548387,157548.38709677418,160733.33333333334,156741.93548387097,162966.66666666666,163354.83870967742,165129.03225806452,164214.28571428571,162387.09677419355,168433.33333333334,177193.54838709679,175966.66666666666,175967.74193548388,185193.54838709679,196033.33333333334,188967.74193548388,198100,183548.38709677418,183935.48387096773,195000,201193.54838709679,208466.66666666666,227387.09677419355,231966.66666666666,244580.64516129033,244580.64516129033,253866.66666666666,252096.77419354839,252633.33333333334,255903.22580645161,260967.74193548388,262357.14285714284,276419.3548387097,282233.33333333331,278064.51612903224,269166.66666666669,269322.58064516127,267419.3548387097,275600,298419.3548387097,292533.33333333331,293580.6451612903,287741.93548387097,305724.13793103449,310483.87096774194,307866.66666666669,303387.09677419357,303166.66666666669,298516.12903225806,297354.83870967739,294600,282806.45161290321,303666.66666666669,277225.80645161291,279677.41935483873,297750,302064.51612903224,304400,305870.96774193546,311866.66666666669,315064.51612903224,317419.3548387097,311900,325612.90322580648,333533.33333333337,325483.87096774194,328548.38709677418,329214.28571428574,339741.93548387097,340400,350870.96774193551,346133.33333333331,346709.67741935479,347709.67741935479,359466.66666666663,360516.12903225806,361266.66666666663,361000,359677.41935483873,355035.71428571426,358290.32258064521,366600,362806.45161290321,354733.33333333337,377612.90322580648,382612.90322580648,393233.33333333337,400161.29032258067,395066.66666666669,396290.32258064521,390451.61290322582,391137.93103448272,391709.67741935479,357500,303000,320033.33333333337,345774.19354838709,359741.93548387097,364433.33333333331,358645.16129032255,370900,369677.41935483873,367903.22580645158,316750,362032.25806451618,363300,367548.38709677418,357934.07645233325,367832.11388548388,368040.94715388113,368926.1413516152,368051.28222412546,366553.76213326666,366462.89447860932,370173.95971582882,370216.78342570289,369890.49808221671,370447.38477054989,372206.39107819233,372440.87344461755]
["Refinery Production",112741.93548387097,113535.71428571429,96451.612903225803,110033.33333333333,117612.90322580645,107500,107193.54838709677,105709.67741935483,105766.66666666667,101129.03225806452,108433.33333333333,112258.06451612903,110064.51612903226,108321.42857142857,95387.096774193546,107400,111838.70967741935,112333.33333333333,100354.83870967742,104032.25806451614,110233.33333333333,99838.709677419349,106800,115096.77419354839,115451.6129032258,113714.28571428571,108677.41935483871,111533.33333333333,111354.83870967742,106000,103290.32258064517,99709.677419354834,105966.66666666667,94354.838709677424,101600,107870.96774193548,104774.19354838709,106344.8275862069,98806.451612903227,104300,113516.12903225806,105566.66666666667,100870.96774193548,99741.93548387097,98000,94322.580645161288,93000,85322.580645161288,85580.645161290318,95250,89774.193548387091,94766.666666666672,100032.25806451614,106233.33333333333,103935.48387096774,98354.838709677424,103966.66666666667,97000,105000,104290.32258064517,102419.35483870968,110107.14285714286,104838.70967741935,104266.66666666667,110419.35483870968,109400,110225.80645161291,107709.67741935483,104766.66666666667,89032.258064516136,95466.666666666672,103516.12903225806,113838.70967741935,110857.14285714286,107709.67741935483,106733.33333333333,110387.09677419355,109666.66666666667,104000,98451.612903225803,109633.33333333333,103709.67741935483,109733.33333333333,111483.87096774194,111870.96774193548,116344.8275862069,111419.35483870968,117900,114838.70967741935,111733.33333333333,103451.6129032258,102451.6129032258,100866.66666666667,101096.77419354839,100666.66666666667,106354.83870967742,105774.19354838709,108392.85714285714,105903.22580645161,98466.666666666672,99870.967741935485,103100,112903.22580645161,112387.09677419355,103700,108451.6129032258,114533.33333333333,115129.03225806452,110806.45161290323,114214.28571428571,93387.096774193546,106333.33333333333,110548.3870967742,110100,117838.70967741935,116129.03225806452,113766.66666666667,96645.161290322576,113500,127548.3870967742,108225.80645161291,109000,108677.41935483871,121700,119064.51612903226,113266.66666666667,113258.06451612903,113225.80645161291,106266.66666666667,96741.93548387097,113533.33333333333,116870.96774193548,116709.67741935483,113172.41379310345,115225.80645161291,114166.66666666667,120612.90322580645,119766.66666666667,114774.19354838709,119806.45161290323,112233.33333333333,107258.06451612903,111600,115129.03225806452,112548.3870967742,116678.57142857143,122870.96774193548,120133.33333333333,125064.51612903226,119133.33333333333,111741.93548387097,120935.48387096776,109466.66666666666,111967.74193548385,114866.66666666666,123580.64516129033,115806.45161290323,116178.57142857142,113548.3870967742,124200,126580.64516129033,120133.33333333334,119064.51612903227,118000,106266.66666666669,93483.870967741939,115966.66666666669,121903.22580645161,121838.70967741936,102785.71428571429,112935.48387096776,121933.33333333333,109354.83870967742,114800,120419.35483870967,120612.90322580644,111400.00000000001,94645.161290322576,113566.66666666666,118064.51612903224,114225.80645161291,115448.27586206896,108032.25806451612,99233.333333333328,100064.51612903227,102933.33333333334,110419.35483870967,115322.58064516127,115066.66666666666,112838.70967741936,111899.99999999999,111322.5806451613,116225.80645161289,102607.14285714286,111387.09677419355,111300,118774.19354838709,117874.19667528103,116242.41870577924,118614.15159472356,106619.50138251109,105646.96504729247,111814.1696554946,114190.38518058437,117192.60211981824,114814.7090287685,111699.98695726975,114674.86607198582,117824.80236546278,117875.48258283174]
["Imports",150000,114892.85714285714,81322.580645161288,63133.333333333336,69032.258064516136,61200,68483.870967741939,72935.483870967742,77333.333333333328,104354.83870967742,92033.333333333343,129548.3870967742,90709.677419354834,116642.85714285714,92032.258064516122,80833.333333333343,43161.290322580644,38800,48806.451612903227,65419.354838709682,106333.33333333333,110322.58064516129,106400,139741.93548387097,116903.22580645162,125321.42857142858,80516.129032258075,45433.333333333328,34451.612903225803,40666.666666666664,82935.483870967742,74483.870967741939,60866.666666666664,84387.096774193546,70733.333333333343,91032.258064516122,118290.32258064515,98344.827586206899,129483.87096774194,56266.666666666664,50645.161290322576,50233.333333333336,51032.258064516129,63645.161290322583,54800,87838.709677419363,128900,119838.70967741935,103838.70967741936,75607.142857142855,87838.709677419349,48900,62290.322580645166,47933.333333333336,45870.967741935485,40129.032258064515,49266.666666666664,81032.258064516122,121433.33333333333,108451.6129032258,87548.387096774197,87428.57142857142,59483.870967741939,34500,33225.806451612902,31366.666666666664,30774.193548387098,37709.677419354841,48333.333333333328,62161.290322580651,64633.333333333336,84193.548387096773,77225.806451612909,77857.142857142855,65032.258064516122,38966.666666666672,36354.838709677424,27466.666666666668,33032.258064516129,42161.290322580644,51633.333333333336,49387.096774193546,50566.666666666664,72967.741935483878,81483.870967741939,60482.758620689659,42870.967741935485,38200,40419.354838709682,41766.666666666664,64806.451612903227,56451.612903225803,68766.666666666672,51064.516129032258,72000,85096.774193548379,95935.483870967742,81500,71709.677419354834,66200,52096.774193548386,65166.666666666664,69580.645161290318,44161.290322580651,49000,103096.77419354839,101100,65451.612903225803,94193.548387096773,105607.14285714287,66000,46500,35548.387096774197,56500,34612.903225806454,44322.580645161288,41733.333333333328,56548.38709677419,36200,54741.93548387097,52032.258064516129,67428.571428571435,60419.354838709682,79433.333333333328,53677.419354838712,59766.666666666672,67000,57774.193548387091,48366.666666666664,53451.61290322581,63933.333333333336,61419.354838709674,59870.967741935485,88793.10344827587,58225.806451612902,59300,60000,55100,55290.322580645159,48516.129032258068,66133.333333333328,69064.516129032258,79133.333333333328,78935.483870967742,107225.80645161291,92214.28571428571,78322.580645161288,52900,52709.677419354841,50000,50000,65135.128309690102,86219.6952326553,116031.86252241051,65465.088407634321,76734.379342846689,96153.8106349718,85832.648828188787,60969.686203744917,31960.259075509755,27464.20930334607,28651.101965086178,38436.61040276783,36260.723374091933,43126.443526771742,63225.385238235263,73869.674287060378,78687.068389655979,67784.52822037712,55502.614142373648,42965.753643752687,28912.046586452543,24553.528856163586,28725.811087974616,38513.764619383604,30757.979192681702,38427.545044701794,54652.775694490541,62745.221195403035,61308.592392470891,73820.160012441076,63052.466698492193,50791.277911765857,33165.553695804629,26345.402771335925,31020.788228372992,38597.261621205958,30454.374025946203,37179.068844855989,61992.604885990448,40661.016972266698,43800.7276808065,53381.783937774198,62242.534892928605,51944.225224870999,38852.855530967223,37505.850952483786,57661.694410437776,52295.782602226522,50098.936981071311,55435.174326566033,62093.08630671924,59355.785003992831,66885.088647033641,72468.433056970011,70262.479375529627,61194.489217888593,45809.054681011999,42090.559770244115,39952.996091834677]
["Net Inter-PADD Transfers (+ = Receipt)",54020.909025589528,54020.909025589528,54020.909025589528,54020.909025589528,54020.909025589528,54020.909025589528,54020.909025589528,54020.909025589528,54020.909025589528,54020.909025589528,54020.909025589528,54020.909025589528,47223.204763550078,47223.204763550078,47223.204763550078,47223.204763550078,47223.204763550078,47223.204763550078,47223.204763550078,47223.204763550078,47223.204763550078,47223.204763550078,47223.204763550078,47223.204763550078,60376.931975092273,60376.931975092273,60376.931975092273,60376.931975092273,60376.931975092273,60376.931975092273,60376.931975092273,60376.931975092273,60376.931975092273,60376.931975092273,60376.931975092273,60376.931975092273,45678.269911652023,45678.269911652023,45678.269911652023,45678.269911652023,45678.269911652023,45678.269911652023,45678.269911652023,45678.269911652023,45678.269911652023,45678.269911652023,45678.269911652023,45678.269911652023,64106.737202468328,64106.737202468328,64106.737202468328,64106.737202468328,64106.737202468328,64106.737202468328,64106.737202468328,64106.737202468328,64106.737202468328,64106.737202468328,64106.737202468328,64106.737202468328,38696.247698465071,38696.247698465071,38696.247698465071,38696.247698465071,38696.247698465071,38696.247698465071,38696.247698465071,38696.247698465071,38696.247698465071,38696.247698465071,38696.247698465071,38696.247698465071,22319.845537276531,22319.845537276531,22319.845537276531,22319.845537276531,22319.845537276531,22319.845537276531,22319.845537276531,22319.845537276531,22319.845537276531,22319.845537276531,22319.845537276531,22319.845537276531,-51227.241593290993,-51227.241593290993,-51227.241593290993,-51227.241593290993,-51227.241593290993,-51227.241593290993,-51227.241593290993,-51227.241593290993,-51227.241593290993,-51227.241593290993,-51227.241593290993,-51227.241593290993,-86142.465753424665,-86142.465753424665,-86142.465753424665,-86142.465753424665,-86142.465753424665,-86142.465753424665,-86142.465753424665,-86142.465753424665,-86142.465753424665,-86142.465753424665,-86142.465753424665,-86142.465753424665,-93531.506849315061,-93531.506849315061,-93531.506849315061,-93531.506849315061,-93531.506849315061,-93531.506849315061,-93531.506849315061,-93531.506849315061,-93531.506849315061,-93531.506849315061,-93531.506849315061,-93531.506849315061,-225495.89041095891,-225495.89041095891,-225495.89041095891,-225495.89041095891,-225495.89041095891,-225495.89041095891,-225495.89041095891,-225495.89041095891,-225495.89041095891,-225495.89041095891,-225495.89041095891,-225495.89041095891,-257810.9589041096,-257810.9589041096,-257810.9589041096,-257810.9589041096,-257810.9589041096,-257810.9589041096,-257810.9589041096,-257810.9589041096,-257810.9589041096,-257810.9589041096,-257810.9589041096,-257810.9589041096,-264142.46575342462,-264142.46575342462,-264142.46575342462,-264142.46575342462,-264142.46575342462,-264142.46575342462,-264142.46575342462,-264142.46575342462,-264142.46575342462,-264142.46575342462,-264142.46575342462,-264142.46575342462,-190000,-190000,-190000,-190000,-190000,-190000,-190000,-190000,-190000,-190000,-190000,-190000,-220000,-220000,-254845.39645709109,-254845.39645709109,-254845.39645709109,-254845.39645709109,-254845.39645709109,-254845.39645709109,-215532.48454907004,-277549.31954222731,-384110.3976532988,-287425.04927722254,-229576.96577960765,-278820.94144316477,-273526.14522139903,-257510.57222926759,-182922.23598445972,-139784.38629591773,-150393.0133803928,-169741.80115241226,-236595.9117577163,-233073.19545255619,-151532.77198768474,-410832.69008975133,-397661.59869514883,-251670.07632711157,-87207.482480614315,-459575.56277749065,-252795.08331248927,-224024.97360112902,-279342.83551986446,-135916.42812744697,-140071.21212121207,-143913.48973607033,-125324.24242424249,-143499.99999999994,-203965.05376344078,-162829.74137931046,-305740.54326873797,-285616.66666666669,-148027.12609970669,-163748.48484848472]
["Total Stock Change (Primary+Secondary+Tertiary)",154396.69351583373,102048.57954919134,64760.68092006362,-116499.61940630182,-91587.033704794594,-107679.34835996859,-101017.02605651626,-75319.233771125088,-13703.967963067582,-34705.848701215116,8002.9200010344121,178569.77541428379,70197.154360241868,111582.49263613063,29052.02436120341,-120444.23256192503,-102411.73119615315,-103742.01877127717,-83050.621490575271,-80563.384486570067,-39318.188530484585,33950.543408408143,17469.910825871553,50761.277977471684,181488.91341935386,247247.9378650237,44990.722457398515,-48990.177883981494,-114764.66102495702,-103387.72610919175,-121112.55460200871,-58689.512375588536,-47298.250791251485,3307.604363725337,53688.98773659888,71377.106869624986,187356.03483620571,157255.06359979662,-12512.568051971128,-69050.601178611803,-128084.12985350538,-108035.53472742224,-89687.835874953016,-70283.397712681457,-72191.494753015009,53273.745012179912,31921.286480906674,99215.903700526178,146174.92528293486,16855.262019837108,-12717.706857290854,-68865.874707850191,-141148.58440850064,-160763.77394199645,-151561.9884161916,-61484.770905398196,-32969.919667936527,76345.254510012732,168088.94323738254,143546.17694417803,169135.93590643507,137683.90670384592,5253.1022618720999,-117675.88619125597,-119984.94985357158,-92240.32028703879,-78688.3030783266,-70956.720618354695,-46095.649848136236,-20825.203095726789,-2029.1273237414619,198445.37675860332,189405.2114063912,177925.09113880151,12519.737430146768,-46460.491465345309,-100622.47860134604,-112924.75452947128,-126035.0247647668,-94289.640548130294,-55001.739090197756,-27294.29541910873,2087.4676305820076,62937.396670401708,104778.61008351331,115228.01203818811,-28609.095513090491,-74665.311714357638,-88600.366987551737,-93150.789531622955,-66946.330990514543,-26474.002752458211,-33939.277753058923,16564.946295873327,33639.750341885025,127371.84502721907,184048.55327738455,119902.96757404282,34783.5322606966,-76910.61906163863,-127600.6766353924,-124407.02983735919,-108356.48024564011,-115717.57459609142,-79339.065925200688,-19730.83858746817,52258.06052721812,145360.46904473976,191430.23485997459,138701.97352761624,55018.296765917366,-40511.303730931817,-92865.075360842689,-122954.23367041232,-71878.829474124344,{"$f":"DM18-SUM(DM5:DM8)","v":-59615.031568361359},-32245.526557647274,64847.699776026013,97895.106148211053,126872.13702241232,286549.39066399093,241016.48692409741,94502.002046720823,-40196.602199228248,-46553.565130734525,-38519.192776234966,-31809.451454465685,5094.4039000459306,35106.057726266823,89523.627267719829,114541.23161089345,194560.16966352426,{"$f":"ED18-SUM(ED5:ED8)","v":287417.96408584417},211591.4846371623,94124.758619916975,4540.7260062797868,-32692.076965146989,-29716.291163288261,-5808.0938432587718,29980.633339851367,53603.062965959951,147396.07249352313,152968.77170205995,247880.11869884952,258168.82577386888,218361.41513179755,85488.523533748114,17005.566188928206,-27554.11850292873,-30426.801405118516,-26762.340822504164,-20160.138553211436,2968.8235413169605,63024.069761763094,148163.82009931753,178516.62413845351,176137.65595347981,98758.688650052471,2693.3237991469796,-17420.48699245078,-128386.46194452822,{"$f":"FG18-SUM(FG5:FG8)","v":-57439.326036664483},-113949.51973113447,{"$f":"FI18-SUM(FI5:FI8)","v":-78428.221750153316},-64799.444655837287,{"$f":"FK18-SUM(FK5:FK8)","v":19291.489317970118},{"$f":"FL18-SUM(FL5:FL8)","v":33758.786740320211},81605.502418383199,{"$f":"FN18-SUM(FN5:FN8)","v":205328.61314652616},231383.94582664326,50517.074772289838,{"$f":"FQ18-SUM(FQ5:FQ8)","v":-67992.142421218741},-53432.972492146568,{"$f":"FS18-SUM(FS5:FS8)","v":-80832.29236594704},{"$f":"FT18-SUM(FT5:FT8)","v":-102688.63941024401},-39622.572940772981,{"$f":"FV18-SUM(FV5:FV8)","v":-91791.904350604425},{"$f":"FW18-SUM(FW5:FW8)","v":46332.886844679364},164470.483982581,{"$f":"FY18-SUM(FY5:FY8)","v":124410.82165836159},85772.085243316833,{"$f":"GA18-SUM(GA5:GA8)","v":121255.63344171428},6303.5495833302266,{"$f":"GC18-SUM(GC5:GC8)","v":-32596.923855883972},-76879.753857731121,{"$f":"GE18-SUM(GE5:GE8)","v":-149716.77868930672},-167089.04259217865,{"$f":"GG18-SUM(GG5:GG8)","v":-129557.38079546159},-48959.148121331586,{"$f":"GI18-SUM(GI5:GI8)","v":7425.4900288731442},-45892.052022796997,{"$f":"GK18-SUM(GK5:GK8)","v":324241.40040026134},311319.34000312269,{"$f":"GM18-SUM(GM5:GM8)","v":244651.42641453765},-98533.582742530853,{"$f":"GO18-SUM(GO5:GO8)","v":228102.02112093486},-36806.220183931728,{"$f":"GQ18-SUM(GQ5:GQ8)","v":-132587.39872202559},-80903.22580645149,{"$f":"GS18-SUM(GS5:GS8)","v":-156797.21279154858},-127683.14832468331,{"$f":"GU18-SUM(GU5:GU8)","v":-28869.402723623032},-4318.3578245820245,{"$f":"GW18-SUM(GW5:GW8)","v":108750.18740893918},196869.52006881591,{"$f":"GY18-SUM(GY5:GY8)","v":102152.00736967498},167308.2349331163,{"$f":"HA18-SUM(HA5:HA8)","v":53877.039549051551},-148346.88530896587,{"$f":"HC18-SUM(HC5:HC8)","v":-171049.4440422575}]
["     TOTAL SUPPLY",{"$f":"SUM(B5:B9)","v":572901.47350916523},{"$f":"SUM(C5:C9)","v":490926.63143192377},399878.36413920153,211187.95628595434,250820.97209498851,215708.22733228764,227842.59264649265,260798.44944801281,325450.27439585526,321282.80225985829,359390.49569329055,561751.97476245393,416259.06880121131,484769.98311396642,363791.35815701156,218112.30553495843,200263.08647062274,189581.18599227292,208043.55101491028,231530.78801891551,320271.68289973214,388238.26430099044,383659.78225608834,453790.934353925,564930.36152347841,646767.72698297317,392109.58991636173,262220.08742444409,187128.39998239331,194522.5391992339,221006.31285695452,266622.9034704715,272912.01451717416,342845.82666139823,386765.91971169115,428205.65174794308,555969.78861882549,509519.54040800035,364488.28250484221,238694.33539970691,181561.88199363052,192742.73518422985,208603.33726250543,234588.42058606737,228286.77515863703,384435.88589157385,406132.88972589199,447345.786515404,508797.79151766124,368140.57065087685,344776.12711937097,253574.19582795151,193151.70118106448,166576.29659380519,167351.20039918,248847.77274868306,292636.81753453182,427290.70138990041,567329.01377318415,528007.75285632384,509670.89328231948,487380.15440231096,326755.80157324037,180653.69484054242,182679.03978037735,{"$f":"SUM(BO5:BO9)","v":206455.92741142621},222007.94462013847,235062.10772527166,270700.59785032884,297129.10911886732,325300.45370805694,549786.78574739094,531241.18597592576,515280.65096179233,342258.93780613295,253859.35407193122,202923.17338754341,176961.75767447194,165188.04657896137,201707.62434398496,264218.10644707875,290993.2920536517,332140.64650119189,415095.95188509766,393938.46526441589,393724.90837593161,222260.43708716688,184707.44669235137,172753.03658044763,166321.96887508605,201761.91128716216,238750.36855747661,245200.14732031676,274240.93050903396,318045.84208192735,430951.05504683126,464744.79720137926,387867.64467776101,288641.0665072719,170046.91518493669,115418.14793376352,133683.83774254943,163952.66690416104,139881.89513435488,183251.80165470799,294642.82469136524,379848.92810712673,423347.03554937954,486834.21188162727,459991.89524972969,322067.43507789262,227257.18941975309,187087.28875758417,182080.92614693922,231621.92174107669,251885.71964683969,283589.63325970428,376606.51550735609,406696.93263222935,471534.17856019404,482279.30670464493,454306.31079885276,314522.24066802004,217674.17405647947,178756.99607120978,178184.91681280619,192275.30329586571,218017.86832779672,239843.50064864129,{"$f":"SUM(EA5:EA9)","v":312640.64008256741},359045.34119993448,440935.24699450086,493929.5858268959,461470.18090546655,320249.28358677513,228063.10043550355,193496.96413074341,190506.08326593551,204961.59241392193,237847.09379058043,268758.77072851697,348714.14584747801,389557.81279795035,461359.48237538512,493477.97292367008,460861.80652123009,324604.12229645252,230296.4337688369,191948.5770339692,186430.73284145686,185901.64503697443,219187.3627127315,246412.71968721424,352494.11169203924,397886.4427535272,440173.05385690782,526646.30529812898,439984.1946210984,326953.33258353703,289139.77208305895,186529.36026204366,{"$f":"SUM(FG5:FG9)","v":247478.44259508833},200261.2842200204,{"$f":"SUM(FI5:FI9)","v":233542.17904329338},254060.33220426776,{"$f":"SUM(FK5:FK9)","v":346516.87455620535},{"$f":"SUM(FL5:FL9)","v":394861.79436071386},453195.79661449086,{"$f":"SUM(FN5:FN9)","v":534629.27039916138},524707.98854044545,309863.23841056437,{"$f":"SUM(FQ5:FQ9)","v":194607.841041476},188436.45022950656,{"$f":"SUM(FS5:FS9)","v":162581.45559826988},{"$f":"SUM(FT5:FT9)","v":179011.98681656463},239515.81624643051,{"$f":"SUM(FV5:FV9)","v":235736.48947836072},{"$f":"SUM(FW5:FW9)","v":318242.79460984585},351738.6408580186,{"$f":"SUM(FY5:FY9)","v":412649.20348328742},434692.69883098896,{"$f":"SUM(GA5:GA9)","v":412073.36559359333},283310.61775756796,{"$f":"SUM(GC5:GC9)","v":199791.39094398636},169607.92905817731,{"$f":"SUM(GE5:GE9)","v":164486.28990981527},177308.75403573122,{"$f":"SUM(GG5:GG9)","v":206219.70820710459},231124.00896580808,{"$f":"SUM(GI5:GI9)","v":307828.77043004939},326036.19296178495,{"$f":"SUM(GK5:GK9)","v":438209.43799131655},451168.5575038126,{"$f":"SUM(GM5:GM9)","v":474581.02783749753},339622.51484043547,{"$f":"SUM(GO5:GO9)","v":281979.31387441145},234227.12810122405,{"$f":"SUM(GQ5:GQ9)","v":176857.59521489739},176124.25386717371,{"$f":"SUM(GS5:GS9)","v":244040.39481068047},263226.456614797,{"$f":"SUM(GU5:GU9)","v":363008.44111844385},408081.11654392962,{"$f":"SUM(GW5:GW9)","v":512788.55571516661},552739.4611979922,{"$f":"SUM(GY5:GY9)","v":494616.23782036558},404352.66592175333,{"$f":"SUM(HA5:HA9)","v":299191.67840593256},235747.74180522666,{"$f":"SUM(HC5:HC9)","v":195471.42322854174}]
["DEMAND"]
["  Residential and Commercial ",435414.42596890416,363865.7559582562,283032.87117857649,96603.954085820907,138457.72834047474,101936.33554976174,114638.5937620014,131346.69403699023,173030.60428976759,138307.8668266513,183521.90813450277,407635.09208123735,281852.31637645292,361732.11968254577,251769.85888942936,109580.84372161649,95865.512800640514,84226.788174341593,104440.92282986885,110253.24446082251,176940.28677368889,210174.98651997713,217495.14725542389,304556.95550202276,432841.59077103663,528176.26527174003,285818.42291300278,156409.29981807066,88212.752356015,95829.603249349093,121852.43898637724,150037.24238677256,133122.87754512063,170883.38436307936,221288.87952263001,280336.85660322424,432826.09608148399,401198.39838002424,268475.74519008852,146558.4229609583,92836.479069970548,105852.58960678951,123043.04884438407,127015.74779652021,92890.158076254171,210802.80058562109,241289.77713146727,305364.62665316102,370608.23587074794,245685.07099429992,238644.1203730297,149559.9901739003,92288.286496287299,66380.649338653428,68237.204566897868,121629.02247813433,133872.21169091237,228759.95004674169,351150.46566003573,365228.14734380739,376048.66743025009,369234.98222904827,219791.39664332636,74955.282623532068,81725.543437727625,106038.66055187106,122663.41009516326,119282.13541311145,117658.94092043843,144966.29830699178,160881.17419768887,406228.56815819838,398968.13766037329,392421.9197158693,231851.75937884513,147761.56894472966,100597.28682945573,74085.853630114463,63120.658922458199,84749.438189912224,126396.67898458695,126205.84522369568,171865.39575102885,269152.63254288433,261657.12604326912,273915.46604333317,110538.29118294036,77148.352750332604,69009.599027966586,63248.201351853975,99215.665591255791,121314.32939314445,107515.03250419495,109708.04765638245,158154.08486528369,285504.73927538254,376546.16676335491,312313.70863192558,228553.85159436162,113220.51912605501,60764.909600614643,76959.484606042213,108202.93816005328,61489.125500572627,76833.599464058512,153351.36272755329,228328.2255903194,314212.17414950504,363823.10369000921,347490.14883753198,220961.42233229976,128679.3514548524,93407.009972514803,93131.525330840406,109386.83669412517,120433.95978397738,121043.5350531627,184050.1736880953,216563.37172236788,312461.79924061347,349789.13575904636,332933.08693462401,206330.30024174417,113472.76082426723,77899.976019171052,77781.763005381217,94243.490992854146,104777.7159811554,105531.27658107369,150132.10330362141,201955.49424732596,298125.39431051369,349789.13575904636,332933.08693462401,206330.30024174417,113472.76082426723,77899.976019171052,77781.763005381217,94243.490992854146,104777.7159811554,105531.27658107369,150132.10330362141,201955.49424732596,298125.39431051369,349789.13575904636,332933.08693462401,206330.30024174417,113472.76082426723,77899.976019171052,73590.744247353141,74254.373024376458,84789.814370085311,84543.461981532091,150149.4386364221,203978.81348169805,273859.81801345927,379123.34344947623,307157.20561156323,209229.72435739901,172867.49158389424,77484.453747855034,137366.87128804607,93740.791615585214,104218.82653403825,104968.36760496495,144831.29134256483,219877.29761554801,286535.17891750252,436585.26588266285,425325.80000087211,221610.09493031399,105767.57511641673,99276.969838321631,72500.117222842833,87844.037991259596,128854.09770084628,98365.344615225098,139937.6237804158,188242.03053504101,277881.66788046632,322776.89322383626,307222.54200086341,190396.57462617217,104709.89936525258,71884.200139938417,71775.116050614408,86965.59761134701,96686.323805047403,97381.691169072859,138538.24754261164,226481.41428408615,324330.99976404174,336169.05106701778,349139.97316560929,244409.9871748313,196261.67775517207,149793.53250526873,109720.84897530396,111740.96971607227,116896.30501170408,132366.07025893944,215925.51463547701,309054.63038497308,394008.67073750001,420512.80470237491,373350.74711343733,294007.35475195083,207203.53789957034,153564.68857877594,125571.46694320161]
["  Chemical",59479.881864351242,59479.881864351242,59479.881864351242,59479.881864351242,59479.881864351242,59479.881864351242,59479.881864351242,59479.881864351242,59479.881864351242,59479.881864351242,59479.881864351242,59479.881864351242,58826.741588244506,58826.741588244506,58826.741588244506,58826.741588244506,58826.741588244506,58826.741588244506,58826.741588244506,58826.741588244506,58826.741588244506,58826.741588244506,58826.741588244506,58826.741588244506,48025.389749189097,48025.389749189097,48025.389749189097,48025.389749189097,48025.389749189097,48025.389749189097,48025.389749189097,48025.389749189097,48025.389749189097,48025.389749189097,48025.389749189097,48025.389749189097,38584.045499633066,38584.045499633066,38584.045499633066,38584.045499633066,38584.045499633066,38584.045499633066,38584.045499633066,38584.045499633066,38584.045499633066,38584.045499633066,38584.045499633066,38584.045499633066,50001.931724692404,50001.931724692404,50001.931724692404,50001.931724692404,50001.931724692404,50001.931724692404,50001.931724692404,50001.931724692404,50001.931724692404,50001.931724692404,50001.931724692404,50001.931724692404,55878.473581213308,55878.473581213308,55878.473581213308,55878.473581213308,55878.473581213308,55878.473581213308,55878.473581213308,55878.473581213308,55878.473581213308,55878.473581213308,55878.473581213308,55878.473581213308,57813.763861709063,57813.763861709063,57813.763861709063,57813.763861709063,57813.763861709063,57813.763861709063,57813.763861709063,57813.763861709063,57813.763861709063,57813.763861709063,57813.763861709063,57813.763861709063,55789.34586635013,55789.34586635013,55789.34586635013,55789.34586635013,55789.34586635013,55789.34586635013,55789.34586635013,55789.34586635013,55789.34586635013,55789.34586635013,55789.34586635013,55789.34586635013,45232.488705922951,45232.488705922951,45232.488705922951,45232.488705922951,45232.488705922951,45232.488705922951,45232.488705922951,45232.488705922951,45232.488705922951,45232.488705922951,45232.488705922951,45232.488705922951,46555.460946638377,46555.460946638377,46555.460946638377,46555.460946638377,46555.460946638377,46555.460946638377,46555.460946638377,46555.460946638377,46555.460946638377,46555.460946638377,46555.460946638377,46555.460946638377,49338.787071015497,49338.787071015497,49338.787071015497,49338.787071015497,49338.787071015497,49338.787071015497,49338.787071015497,49338.787071015497,49338.787071015497,49338.787071015497,49338.787071015497,49338.787071015497,49683.657649604327,49683.657649604327,49683.657649604327,49683.657649604327,49683.657649604327,49683.657649604327,49683.657649604327,49683.657649604327,49683.657649604327,49683.657649604327,49683.657649604327,49683.657649604327,49683.657649604327,49683.657649604327,49683.657649604327,49683.657649604327,49683.657649604327,49683.657649604327,49683.657649604327,49683.657649604327,49683.657649604327,49683.657649604327,49683.657649604327,49683.657649604327,49683.657649604327,49683.657649604327,49683.657649604327,48876.967722040848,48876.967722040848,48876.967722040848,48876.967722040848,48876.967722040848,48876.967722040848,48876.967722040848,48876.967722040848,48876.967722040848,50206.390747604091,50206.390747604091,50206.390747604091,50206.390747604091,50206.390747604091,50206.390747604091,50206.390747604091,50206.390747604091,50206.390747604091,50206.390747604091,50206.390747604091,50206.390747604091,50206.390747604091,50206.390747604091,50206.390747604091,50206.390747604091,50206.390747604091,50206.390747604091,50206.390747604091,50206.390747604091,50206.390747604091,50206.390747604091,46027.628858485266,44939.798744076747,45853.778212001409,48987.781753045063,46690.238849441201,45026.888179679314,45900.060734050596,45921.730599573035,44163.377041130996,44163.377041130996,44163.377041130996,46793.458048535409,46793.458048535416,46793.458048535409,46650.313399833685,46650.313399833685,46650.313399833685,46650.313399833685,46650.313399833685,46454.554987233176]
["  Farm",30291.676045663851,22367.126593174213,14133.828460717446,14614.104185110758,14133.828460717446,14614.104185110758,14133.828460717446,30291.676045663851,52178.526914444752,82813.257048960979,73036.215516668555,48473.542754839211,28692.636411595984,21186.408765980275,13387.730692613301,13842.653580226375,13387.730692613301,13842.653580226375,13387.730692613301,28692.636411595984,49424.122289963183,78441.703621282795,69180.773409159519,45914.717156948049,30668.51089158158,22645.37837068085,14309.656271043727,14795.906726855892,14309.656271043727,14795.906726855892,14309.656271043727,30668.51089158158,52827.638806450261,83843.471452183396,73944.801458864313,49076.563861613562,36414.078393424243,25963.032165255026,16993.23658359798,17569.278501686047,16993.23658359798,17569.278501686047,16993.23658359798,36414.078393424243,62747.423220307304,99572.960126651597,87846.392508430232,58303.671280770795,44736.509436657936,33016.067198282057,20877.037737107039,21557.241974155637,20877.037737107039,21557.241974155637,20877.037737107039,47666.619996251909,77020.048995041492,116419.57134101042,131227.09434752996,71578.415098652695,31594.358934279084,20271.710504024752,12798.121030230817,13247.177908484528,12798.121030230817,13247.177908484528,12798.121030230817,27456.620556084155,63605.699255508043,61841.547233797028,71239.666185821159,43911.347594952349,25516.396020874101,18841.098760600129,11905.724983692106,12310.288454011741,11905.724983692106,12310.288454011741,11905.724983692106,25516.396020874101,43952.931311154593,69758.301239399865,61522.544879321591,40832.013111545988,25396.093933463799,18107.271493803,11851.510502283105,12253.256621004566,11851.510502283105,12253.256621004566,11851.510502283105,25396.093933463799,43761.63078930202,69444.686236138295,61266.283105022827,40662.446444879322,36635.444227005872,27046.589693411614,17070.741030658839,17672.731898238748,17070.741030658839,17672.731898238748,17070.741030658839,36635.444227005872,63080.04305283758,100102.48140900195,106853.37899543378,58608.110893672543,37800.720838111883,27898.48189418736,17651.817247865456,18254.562227060862,17651.817247865456,18254.562227060862,17651.817247865456,37800.720838111883,68755.980841075943,97644.686629655742,96266.983820066263,60489.763983538949,26127.893995151357,19292.623878639508,12191.044536809013,12605.303331749126,12191.044536809013,12605.303331749126,12191.044536809013,26127.893995151357,45006.259078850751,71430.052213245057,62996.926744821336,41810.548375027036,38536.014444815984,28454.678842604782,17980.563931216519,18591.553967714168,17980.563931216519,18591.553967714168,17980.563931216519,38536.014444815984,66379.703250923107,105352.13915038029,92914.127693106711,61666.351540798401,38536.014444815984,28454.678842604782,17980.563931216519,18591.553967714168,17980.563931216519,19104.47063974851,18476.624186799028,39599.172711028019,68211.0324954401,108258.6669585749,95477.507023531871,63367.645572686961,39947.975546192727,29497.259406701764,18639.372508529334,19272.749244256058,18639.372508529334,19272.749244256058,18639.372508529334,39947.975546192727,58811.858217167755,109212.24571745101,76318.505025871244,63925.809112990173,25472.63861709067,26192.707110241354,16551.219830397909,17113.639921722111,16551.219830397909,17113.639921722111,16551.219830397909,35472.63861709067,61102.925636007814,96977.292889758639,85528.026744944538,56764.256360078274,34763.185844748856,25668.852968036528,16220.195433789951,16771.36712328767,16220.195433789951,16771.36712328767,16220.195433789951,34763.185844748856,59880.867123287659,95037.747031963459,29645.7839340996,49322.360840310947,50629.506400120903,57234.286117212192,28683.486346329228,20433.665899833792,18339.893682393518,924.6002669608049,429.49173691082547,63190.297384785801,66906.593941666972,79499.053061371873,32942.612737361582,51196.011556071666,67374.220491872882,54413.054703183807,43492.875166058089,23635.70450261778,10580.61722270632,2243.2786941961858]
["  Other",46780.005759278145,44249.581301856393,41747.911667814442,39390.016150671443,37233.404397187005,36744.572399730525,36687.062752970945,38067.294275200984,39361.26132729165,39907.602971507709,41719.156844434641,45486.038707187472,46016.406682982422,41774.713077195898,37581.220535111497,33628.73331153769,29989.553002027656,29218.335982793746,29097.833323538449,31435.584913091247,33580.532247835567,34472.251926324781,37557.120003260432,43847.358816387044,51975.515272961406,47277.836448506016,42633.540337964907,38256.157796995118,34225.762896468063,33371.639473839808,33238.182689054142,35827.24431389603,38202.775083080851,39190.355290494772,42606.848981007774,49573.293146819444,47048.794450735782,41463.719535501819,38112.674586361441,33949.255104096126,30115.86277591281,29303.488242787869,29176.554721987097,31639.065025522072,33898.481695775816,34863.176453861677,38112.674586361441,44738.604372161732,42676.920937175848,38651.786447888197,34672.392123251535,30921.698621869858,27468.316190719655,26736.473556303717,26622.123144676225,28840.52113024953,30875.958457218861,31722.151503262285,34649.522040926036,40618.613527881025,45665.52236883506,41387.845230881816,37158.778060405311,33172.76072731251,29502.708182818533,28724.948703190668,28603.423784498817,30961.007207120776,33124.150759835771,34023.435158155487,37134.473076666938,43478.073832381699,48523.533594259614,43918.154337899541,39365.108936725373,35073.732811480761,31122.526744944553,30285.185061969994,30154.350424005217,32692.542400521852,35021.398956294848,35989.57527723418,39338.942009132414,46168.51011089368,50063.51089367253,44671.31519895629,41435.997782126549,37416.36099151989,33715.353946510106,32931.034572733202,32808.484670580554,35185.952772341814,37367.341030658834,38298.720287018914,41435.997782126549,47833.102674494454,50153.257664709723,45855.482322243974,41606.545335942603,37601.800130463147,33914.504240052192,33133.090541422047,33010.994651011089,35379.654924983697,37552.961774298761,38456.471363339864,41582.126157860403,47955.531637312466,51158.009253700242,46738.674436637637,42369.559333405283,38251.542799324219,34459.954405139826,33656.438983855711,33530.889699280073,35966.545820047526,38201.323085493961,39130.387791353714,42344.449476490154,48898.122131338685,51991.231814915613,46991.812914573784,42049.205592644925,37390.65616278095,33101.381992601309,32192.396737993706,32050.367791961267,34805.72934499057,37333.84458436798,38384.858785008022,42020.799803438436,49434.710786331729,51920.777973429234,47433.240237254133,42996.697248081022,38815.127993917849,34965.02459526762,34149.108643235784,34021.621775730811,36494.867005327316,38764.133246915866,39707.536066452674,42971.199874580023,49626.0143583397,51920.777973429234,47433.240237254133,42996.697248081022,38815.127993917849,34965.02459526762,34585.193638084209,34454.732111678495,36985.685723949355,39307.900893971062,40273.316189373349,43613.131265359625,50423.222943737906,53181.651233500925,48538.929096086227,43948.965164778521,40189.230199534526,36205.985638457147,35361.854340745384,35229.958825477916,37788.731821666697,40136.471993427542,41112.498806406766,44489.023997253811,51373.969894215392,20010.136442126302,18840.233538870762,18592.307095796739,18553.568589066421,19305.095619634551,19994.641039434176,20281.305989238514,21273.011761534603,23295.161812857095,23992.454934002781,22628.859497095662,21280.759462880666,23946.229014799737,22596.269532261686,21261.650498388844,20003.733707842024,18845.529833619039,18600.082654975755,18561.731533312741,19305.743293575189,19988.393259176817,20272.191559483115,20648.032551780638,15390.472191274206,15290.415373059588,15290.415373059588,15290.415373059588,15290.415373059588,15290.415373059588,15290.415373059588,15290.415373059588,15290.415373059588,15290.415373059588,15290.415373059588,15290.415373059588,15290.415373059588,15202.122603910728,15202.122603910728,15202.122603910728,15202.122603910728,15202.122603910728,15202.122603910728]
["     US DOMESTIC CONSUMPTION",{"$f":"SUM(B12:B15)","v":571965.98963819747},{"$f":"SUM(C12:C15)","v":489962.34571763803},398394.49317145959,210087.95628595437,249304.84306273045,212774.8939989543,224939.36684004107,259185.54622220632,324050.27439585526,320508.6087114712,357757.16235995718,561074.55540761526,415388.1010592758,483519.98311396647,361565.55170539866,215878.97220162506,198069.53808352596,186114.51932560623,205753.2284342651,229208.20737375421,318771.68289973214,381915.68365582929,383059.78225608834,453145.77306360239,563511.00668476871,646124.86984011601,390787.00927120046,257486.75409111078,184773.56127271592,192022.5391992339,217425.66769566422,264558.38734143932,272178.68118384085,341942.60085494665,385865.91971169115,427012.10336084635,554873.01442527701,507209.19558041415,362165.70185968099,236661.00206637353,178529.6239291144,191309.40185089651,207796.88564960225,233652.93671509961,228120.10849197037,383822.98266576749,405832.88972589199,446990.94780572661,508023.59796927415,367354.85636516253,344195.48195808061,252040.86249461817,190635.57214880642,164676.29659380519,165738.29717337352,248138.09532932815,291770.15086786513,426903.60461570678,567029.01377318415,527427.10769503354,509187.02231457754,486773.01154516818,325626.76931517583,177253.69484054242,179904.84623199032,{"$f":"SUM(BO12:BO15)","v":203889.26074475955},219943.4284911062,233578.23675752967,270267.26451699558,296709.75428015762,325133.78704139026,549496.46316674573,530821.83113721607,512994.93667607801,340936.35716097167,252959.35407193124,201439.30241980148,174495.09100780528,162994.49819186458,200772.14047301724,263184.77311374544,289767.4856020388,330540.64650119195,413966.91962703306,392906.07673675555,392483.39860244258,219615.14533370017,182607.31622920721,170365.80934310996,164221.83841194189,199665.00663046958,237685.72196530018,244433.35019050594,273240.8000458898,316645.71161878319,429789.63426110643,508567.35736099345,430448.26935350412,332463.62666688598,213727.53986067986,156982.64357724861,172997.79575162596,203517.16254764615,178736.71335848514,222699.09299711778,337142.80420581804,421996.21944953653,466008.30538641301,499337.29472845973,468682.76611499535,327538.25986020884,231740.91742787586,192074.24257215846,191597.98748839536,207125.00458790909,240756.68738877517,274556.29992637096,367380.70905574318,401730.26596556266,468405.14630212949,477247.04864012881,448556.31079885276,309909.33744221361,212807.50738981282,172531.18961959687,171918.25014613953,187823.6903926399,215050.12639231284,237210.16731530795,{"$f":"SUM(EA12:EA15)","v":309285.80137289001},356312.00786660117,438709.44054288795,489929.5858268959,458504.66366408725,316991.2190706461,220563.10043550355,180529.22219525953,180206.08326593551,195929.33434940581,229492.25508090301,260358.77072851697,344875.43617005867,387524.47946461703,459101.41785925609,489929.5858268959,458504.66366408725,316991.2190706461,220563.10043550355,180529.22219525953,176964.0661747902,176869.38697245831,211058.33045466698,241746.05302054758,348365.07943397469,392753.10942019388,437334.34417948849,521936.62787877419,434877.05176395556,321501.71968031122,281206.43874972564,181206.77961688236,{"$f":"SUM(FG12:FG15)","v":240878.44259508833},196487.09067163331,{"$f":"SUM(FI12:FI15)","v":230832.50162393853},252793.6655376011,{"$f":"SUM(FK12:FK15)","v":344033.00358846341},{"$f":"SUM(FL12:FL15)","v":389561.79436071386},450711.92564674892,{"$f":"SUM(FN12:FN15)","v":532274.43168948393},520565.13139758829,306960.01260411274,{"$f":"SUM(FQ12:FQ15)","v":191641.17437480934},185339.67603595817,{"$f":"SUM(FS12:FS15)","v":159814.78893160322},{"$f":"SUM(FT12:FT15)","v":174882.95455850012},235806.13882707566,{"$f":"SUM(FV12:FV15)","v":232969.82281169406},{"$f":"SUM(FW12:FW15)","v":311113.7623517813},346605.30752468528,{"$f":"SUM(FY12:FY15)","v":406133.07445102936},431692.69883098896,{"$f":"SUM(GA12:GA15)","v":405694.05524876574},278084.81130595505,{"$f":"SUM(GC12:GC15)","v":191691.39094398636},157156.31615495149,{"$f":"SUM(GE12:GE15)","v":157352.95657648193},171953.9153260538,{"$f":"SUM(GG12:GG15)","v":200961.64369097556},227457.34229914143,{"$f":"SUM(GI12:GI15)","v":304054.5768816623},322802.85962845164,{"$f":"SUM(GK12:GK15)","v":433983.63153970364},447942.75105219969,{"$f":"SUM(GM12:GM15)","v":470652.45640892611},335074.12774366129,{"$f":"SUM(GO12:GO15)","v":277012.64720774477},229323.90229477244,{"$f":"SUM(GQ12:GQ15)","v":171857.59521489739},171624.25386717371,{"$f":"SUM(GS12:GS15)","v":239540.39481068047},258726.456614797,{"$f":"SUM(GU12:GU15)","v":357508.44111844385},404081.11654392962,{"$f":"SUM(GW12:GW15)","v":507288.55571516661},549739.4611979922,{"$f":"SUM(GY12:GY15)","v":489616.23782036558},399352.66592175333,{"$f":"SUM(HA12:HA15)","v":292691.67840593256},225997.74180522666,{"$f":"SUM(HC12:HC15)","v":189471.42322854174}]
["EXPORTS",935.48387096774195,964.28571428571433,1483.8709677419354,1100,1516.1290322580646,2933.3333333333335,2903.2258064516127,1612.9032258064517,1400,774.19354838709683,1633.3333333333333,677.41935483870964,870.9677419354839,1250,2225.8064516129034,2233.3333333333335,2193.5483870967741,3466.6666666666665,2290.3225806451615,2322.5806451612902,1500,6322.5806451612907,600,645.16129032258061,1419.3548387096773,642.85714285714289,1322.5806451612902,4733.333333333333,2354.8387096774195,2500,3580.6451612903224,2064.516129032258,733.33333333333337,903.22580645161293,900,1193.5483870967741,1096.7741935483871,2310.344827586207,2322.5806451612902,2033.3333333333333,3032.2580645161293,1433.3333333333333,806.45161290322585,935.48387096774195,166.66666666666666,612.90322580645159,300,354.83870967741933,774.19354838709683,785.71428571428567,580.64516129032256,1533.3333333333333,2516.1290322580644,1900,1612.9032258064517,709.67741935483866,866.66666666666663,387.09677419354841,300,580.64516129032256,483.87096774193549,607.14285714285711,1129.0322580645161,3400,2774.1935483870966,2566.6666666666665,2064.516129032258,1483.8709677419354,433.33333333333331,419.35483870967744,166.66666666666666,290.32258064516128,419.35483870967744,2285.7142857142858,1322.5806451612902,900,1483.8709677419354,2466.6666666666665,2193.5483870967741,935.48387096774195,1033.3333333333333,1225.8064516129032,1600,1129.0322580645161,1032.258064516129,1241.3793103448277,2645.1612903225805,2100,2387.0967741935483,2100,2096.7741935483873,1064.516129032258,766.66666666666663,1000,1400,1161.2903225806451,2258.0645161290322,3500,2258.0645161290322,2400,4516.1290322580644,6766.666666666667,6516.1290322580644,7225.8064516129034,6633.333333333333,3580.6451612903224,3933.3333333333335,3419.3548387096776,4258.0645161290322,3928.5714285714284,3483.8709677419356,7566.666666666667,10354.838709677419,9266.6666666666661,9935.4838709677424,11129.032258064517,9033.3333333333339,9225.8064516129034,4966.666666666667,3129.0322580645161,5032.2580645161288,5750,4612.9032258064517,4866.666666666667,6225.8064516129034,6266.666666666667,4451.6129032258068,2967.7419354838707,2633.3333333333335,3354.8387096774195,2733.3333333333335,2225.8064516129034,4000,2965.5172413793102,3258.0645161290322,7500,12967.741935483871,10300,9032.2580645161288,8354.8387096774186,8400,3838.7096774193546,2033.3333333333333,2258.0645161290322,3548.3870967741937,2357.1428571428573,7612.9032258064517,9733.3333333333339,11419.354838709678,9466.6666666666661,9032.2580645161306,8129.0322580645161,4666.666666666667,4129.0322580645161,5133.3333333333339,2838.7096774193551,4709.677419354839,5107.1428571428569,5451.6129032258059,7933.3333333333339,5322.5806451612898,6600,3774.1935483870971,2709.6774193548385,1266.6666666666665,2483.8709677419356,5300,2483.8709677419356,2354.8387096774195,4142.8571428571431,2903.2258064516132,2966.666666666667,3096.7741935483868,2766.6666666666665,4129.0322580645161,3709.6774193548385,2766.6666666666665,7129.0322580645161,5133.3333333333339,6516.1290322580653,3000,6379.3103448275861,5225.8064516129034,8100,12451.612903225807,7133.3333333333339,5354.8387096774186,5258.0645161290322,3666.6666666666665,3774.1935483870971,3233.3333333333335,4225.8064516129034,3225.8064516129029,3928.5714285714284,4548.3870967741941,4966.666666666667,4903.2258064516127,5000,4500,4500,4500,5500,4000,5500,3000,5000,5000,6500,9750,6000]
["     TOTAL DEMAND",{"$f":"B16+B17","v":572901.47350916523},{"$f":"C16+C17","v":490926.63143192377},399878.36413920153,211187.95628595437,250820.97209498851,215708.22733228764,227842.59264649267,260798.44944801278,325450.27439585526,321282.80225985829,359390.49569329049,561751.97476245393,416259.06880121125,484769.98311396647,363791.35815701156,218112.3055349584,200263.08647062274,189581.18599227289,208043.55101491025,231530.78801891551,320271.68289973214,388238.26430099056,383659.78225608834,453790.934353925,564930.36152347841,646767.72698297317,392109.58991636173,262220.08742444409,187128.39998239334,194522.5391992339,221006.31285695455,266622.90347047156,272912.01451717416,342845.82666139829,386765.91971169115,428205.65174794313,555969.78861882538,509519.54040800035,364488.28250484227,238694.33539970688,181561.88199363052,192742.73518422985,208603.33726250546,234588.42058606734,228286.77515863703,384435.88589157391,406132.88972589199,447345.786515404,508797.79151766124,368140.57065087679,344776.12711937091,253574.19582795151,193151.70118106448,166576.29659380519,167351.20039917997,248847.772748683,292636.81753453182,427290.70138990035,567329.01377318415,528007.75285632384,509670.89328231948,487380.15440231102,326755.80157324037,180653.69484054242,182679.03978037741,{"$f":"BO16+BO17","v":206455.92741142621},222007.94462013847,235062.10772527161,270700.59785032889,297129.10911886732,325300.45370805694,549786.78574739094,531241.18597592576,515280.65096179227,342258.93780613295,253859.35407193124,202923.17338754341,176961.75767447194,165188.04657896137,201707.62434398496,264218.10644707875,290993.2920536517,332140.64650119195,415095.9518850976,393938.33480127167,393724.77791278739,222260.30662402275,184707.31622920721,172752.9061173035,166321.83841194189,201761.78082401797,238750.23809433245,245200.0168571726,274240.8000458898,318045.71161878319,430950.9245836871,510825.42187712248,433948.26935350412,334721.69118301501,216127.53986067986,161498.77260950668,179764.46241829262,210033.29157990421,185962.51981009805,229332.42633045113,340723.44936710835,425929.55278286984,469427.6602251227,503595.35924458876,472611.33754356677,331022.13082795078,239307.58409454252,202429.08128183588,200864.65415506202,217060.48845887685,251885.71964683969,283589.63325970428,376606.51550735609,406696.93263222935,471534.17856019404,482279.30670464493,454306.31079885276,314522.24066802004,217674.17405647947,178756.99607120978,178184.91681280619,192275.30329586571,218017.86832779672,239843.50064864129,{"$f":"EA16+EA17","v":312640.64008256741},359045.34119993448,440935.24699450086,493929.5858268959,461470.18090546655,320249.28358677513,228063.10043550355,193496.96413074341,190506.08326593551,204961.59241392193,237847.09379058043,268758.77072851697,348714.14584747801,389557.81279795035,461359.48237538512,493477.97292367008,460861.80652123009,324604.12229645252,230296.4337688369,191948.5770339692,186430.73284145686,185901.64503697443,219187.3627127315,246412.71968721424,352494.11169203924,397886.4427535272,440173.05385690782,526646.30529812898,439984.1946210984,326953.33258353703,289139.77208305895,186529.36026204366,{"$f":"FG16+FG17","v":247478.44259508833},200261.2842200204,{"$f":"FI16+FI17","v":233542.17904329338},254060.33220426776,{"$f":"FK16+FK17","v":346516.87455620535},{"$f":"FL16+FL17","v":394861.79436071386},453195.79661449086,{"$f":"FN16+FN17","v":534629.27039916138},524707.98854044545,309863.23841056437,{"$f":"FQ16+FQ17","v":194607.841041476},188436.45022950656,{"$f":"FS16+FS17","v":162581.45559826988},{"$f":"FT16+FT17","v":179011.98681656463},239515.81624643051,{"$f":"FV16+FV17","v":235736.48947836072},{"$f":"FW16+FW17","v":318242.79460984585},351738.6408580186,{"$f":"FY16+FY17","v":412649.20348328742},434692.69883098896,{"$f":"GA16+GA17","v":412073.36559359333},283310.61775756796,{"$f":"GC16+GC17","v":199791.39094398636},169607.92905817731,{"$f":"GE16+GE17","v":164486.28990981527},177308.75403573122,{"$f":"GG16+GG17","v":206219.70820710459},231124.00896580808,{"$f":"GI16+GI17","v":307828.77043004939},326036.19296178495,{"$f":"GK16+GK17","v":438209.43799131655},451168.5575038126,{"$f":"GM16+GM17","v":474581.02783749753},339622.51484043547,{"$f":"GO16+GO17","v":281979.31387441145},234227.12810122405,{"$f":"GQ16+GQ17","v":176857.59521489739},176124.25386717371,{"$f":"GS16+GS17","v":244040.39481068047},263226.456614797,{"$f":"GU16+GU17","v":363008.44111844385},408081.11654392962,{"$f":"GW16+GW17","v":512788.55571516661},552739.4611979922,{"$f":"GY16+GY17","v":494616.23782036558},404352.66592175333,{"$f":"HA16+HA17","v":299191.67840593256},235747.74180522666,{"$f":"HC16+HC17","v":195471.42322854174}]
[]
["INVENTORIES (End of Month, Thousand Barrels)",13537,10562,8424,11793,14502,17606,20607,22811,23096,24042,23675,18009,15650,12361,11278,14715,17707,20643,23035,25350,26353,25118,24417,22661,16991,10029,8591,10019,13533,16593,20304,22080,23457,23311,21658,19402,13444,8744,8982,10909,14730,17827,20458,22487,24508,22707,21605,18380,13730,13151,13427,15378,19635,24343,28923,30711,31584.999999999996,29100,23942,19374,14121,10258,10086,13608,17318,20077,22507,24698,26072,26708,26760,20599,14605,9513,9003,10279,13276,16546.000000000004,20331,23132,24664,25388,25207,23134,19747,16276,17024,19130,21738,24399,26336,27018,27902,27250,26107,22020,15595,11515,9551,11022,14120,17032,19537,22460,24448,20375,18829,13834,9825,8646,8440,11621,16326.999999999998,19439,22688,26466,28675,27752,27466,26733,22058,16527,16072,18639,20425,23056,25661,27305,27731,28499,29723,25352,19312,16387,15792,17220,20336,25544,28810,29030,28882,27621,26746,22134,16252,13644,11578,12385,15243,18394,21717,23802,25924,26359,24380,20283,13499,10408,9991,10486,14448,18304,21563,24686,27509,26744,24394,21041,16398,11281,9900,12133,15941,20380,23280,25555,27795,26110,22779,20307,16374,11993,11111,11770,15228,18875,23218,26348,26724,26464,26257,20369,14953,10079,9888,10476,12627,16604.62196166077,19112.621961660767,23973.335558198771,27803.830007939268,28698.781492371581,28828.33222710904,25457.076417431923,19354.121295298632,16493.865088947732,11307.309806021127,9690.9986195495821,14289.752064127524,19421.235385395252]
["Days of Forward Supply",{"$f":"B20*1000/B18","v":23.628844794345664},21.51441646013987,21.066406076092488,55.84125253824584,57.818131709129737,81.619510844520761,90.444019972914475,87.466010815172098,70.966294445054359,74.831269619450325,65.875420423484485,32.058632295178676,37.596778479975448,25.498690988658026,31.001286168904649,67.465244402001531,88.418691192984781,108.88738717375354,110.722009346731,109.48867844707101,82.283265761745056,64.697383822339305,63.642323561821613,49.937092798610237,30.076273390899804,15.506339573842132,21.909691119343673,38.208361908531771,72.319327270864832,85.3011690486166,91.870678884822993,82.813590702815802,{"$f":"AH20*1000/AH18","v":85.950778097839546},67.992660803254964,55.997694978256177,45.310004482193754,24.181170047743816,17.161265283365182,24.642767493851256,45.702802212429027,81.129363929576101,92.491164364562778,98.071297748490707,95.857246252057962,107.35619697185408,59.065765796911762,53.196873601105516,41.086784661974455,26.985180024161735,35.722767465560452,38.94411168250987,60.644971976698592,101.6558481232,146.13723859739892,172.82815976826257,123.4127983577162,107.93242034992024,68.103518062393817,42.201261382291854,36.692643043958974,27.706114251609861,21.047225471418084,30.867087750052644,75.326441631937683,{"$f":"BN20*1000/BN18","v":94.800147957971831},97.245936465609304,101.3792548663521,105.07010355265656,96.313049202851332,89.886851137548391,82.26241216378979,37.467251912934422,27.492220832181211,18.461783849720728,26.304645417615372,40.49092473893019,65.423774812773345,93.50042753551881,123.07791284571914,114.68084102042427,93.347122692138612,87.24599739336638,75.892548128431315,55.731692624175977,50.12713477088154,41.338521000081023,76.594873185331878,103.56925968358058,125.83290486146358,146.69751268362697,130.53017222806417,113.1642850522517,113.79281436286659,99.365229373018707,82.08568468702525,51.096305272513455,{"$f":"CT20*1000/CT18","v":30.529020937707617},26.535420955025447,28.534153153456142,50.997665577949952,87.431005027767142,94.746201617805653,93.018586972758186,120.77702551533392,106.60507278099537,59.799230249184298,44.206840959914885,29.46992938883416,19.509711159248678,18.294101967460705,25.496784698019788,48.560934848637842,80.655407299252673,96.776608516666272,104.52385950609501,105.07145874369959,101.11441546856599,73.689643851788148,67.534318054070837,56.693663398118616,45.73698206277934,36.378539340426293,51.099724985630139,85.627980814865879,114.26126221019892,129.39366817575078,133.45967766080628,125.24202813939119,{"$f":"DZ20*1000/DZ18","v":115.62122769640744},91.15577550146233,82.783416436111736,57.495970605217181,39.098690489798166,35.510420126922398,49.311585722005155,75.505419189325764,105.097256131932,134.08495708949121,140.562920402267,122.05320459185567,107.46439984715796,79.208143199562045,68.657331778049056,47.975604372623842,32.933587498775388,29.605404064594524,35.668062124688959,53.778514053898064,79.411893724549159,98.663990210468668,116.81983769256401,108.5920269554731,105.20560802586334,74.778554096894709,61.273764019907347,46.079603970018645,25.632003612668196,23.655395187463647,30.557877850800882,36.266197225152986,77.456975029040422,{"$f":"FG20*1000/FG18","v":73.961997691847756},107.67433198076094,{"$f":"FI20*1000/FI18","v":105.70253348292935},108.27743064542013,{"$f":"FK20*1000/FK18","v":77.179502540105304},{"$f":"FL20*1000/FL18","v":61.778577589392228},46.428056387951102,{"$f":"FN20*1000/FN18","v":30.67172133646374},21.499577377085121,31.949578952255838,{"$f":"FQ20*1000/FQ18","v":62.345894877967133},84.596159504090778,{"$f":"FS20*1000/FS18","v":125.35254974194532},{"$f":"FT20*1000/FT18","v":130.04715725464379},106.69441542727701,{"$f":"FV20*1000/FV18","v":117.90707523262505},{"$f":"FW20*1000/FW18","v":82.044277018148719},64.761153180195748,{"$f":"FY20*1000/FY18","v":49.211290918734193},37.667989464820309,{"$f":"GA20*1000/GA18","v":29.104040691210496},39.21843836261656,{"$f":"GC20*1000/GC18","v":58.91144730705561},89.783538331964635,{"$f":"GE20*1000/GE18","v":114.75120516335316},130.94672130695315,{"$f":"GG20*1000/GG18","v":127.76664378527266},115.62623943561607,{"$f":"GI20*1000/GI18","v":85.969872026674793},80.534003791038046,{"$f":"GK20*1000/GK18","v":46.482339799362393},33.14282378792241,{"$f":"GM20*1000/GM18","v":21.237679993080498},29.114677525562961,{"$f":"GO20*1000/GO18","v":37.151661432390831},53.90921240575981,{"$f":"GQ20*1000/GQ18","v":93.886959966207328},108.51783069056908,{"$f":"GS20*1000/GS18","v":98.235112169838104},105.62703447635249,{"$f":"GU20*1000/GU18","v":79.058165710828817},70.643632009386778,{"$f":"GW20*1000/GW18","v":49.644392671610838},35.014907843473026,{"$f":"GY20*1000/GY18","v":33.346792579296526},27.963979859623862,{"$f":"HA20*1000/HA18","v":32.390602142353643},60.614587247811812,{"$f":"HC20*1000/HC18","v":99.355880591754257}]
["Days per Month",31,28,31,30,31,30,31,31,30,31,30,31,31,28,31,30,31,30,31,31,30,31,30,31,31,28,31,30,31,30,31,31,30,31,30,31,31,29,31,30,31,30,31,31,30,31,30,31,31,28,31,30,31,30,31,31,30,31,30,31,31,28,31,30,31,30,31,31,30,31,30,31,31,28,31,30,31,30,31,31,30,31,30,31,31,29,31,30,31,30,31,31,30,31,30,31,31,28,31,30,31,30,31,31,30,31,30,31,31,28,31,30,31,30,31,31,30,31,30,31,31,28,31,30,31,30,31,31,30,31,30,31,31,29,31,30,31,30,31,31,30,31,30,31,31,28,31,30,31,30,31,31,30,31,30,31,31,28,31,30,31,30,31,31,30,31,30,31,31,28,31,30,31,30,31,31,30,31,30,{"$f":"DAY(EOMONTH(FY3,0))","v":31},31,29,31,30,31,{"$f":"DAY(EOMONTH(GE3,0))","v":30},31,{"$f":"DAY(EOMONTH(GG3,0))","v":31},30,{"$f":"DAY(EOMONTH(GI3,0))","v":31},30,{"$f":"DAY(EOMONTH(GK3,0))","v":31},31,{"$f":"DAY(EOMONTH(GM3,0))","v":28},31,{"$f":"DAY(EOMONTH(GO3,0))","v":30},31,{"$f":"DAY(EOMONTH(GQ3,0))","v":30},31,{"$f":"DAY(EOMONTH(GS3,0))","v":31},30,{"$f":"DAY(EOMONTH(GU3,0))","v":31},30,{"$f":"DAY(EOMONTH(GW3,0))","v":31},31,{"$f":"DAY(EOMONTH(GY3,0))","v":28},31,{"$f":"DAY(EOMONTH(HA3,0))","v":30},31,{"$f":"DAY(EOMONTH(HC3,0))","v":30}]
[]
["CHANGE FROM PREVIOUS YEAR",{"$f":"B$3","v":"2005-01-15"},{"$f":"C$3","v":"2005-02-15"},"2005-03-15","2005-04-15","2005-05-15","2005-06-15","2005-07-15","2005-08-15","2005-09-15","2005-10-15","2005-11-15","2005-12-15","2006-01-15","2006-02-15","2006-03-15","2006-04-15","2006-05-15","2006-06-15","2006-07-15","2006-08-15","2006-09-15","2006-10-15","2006-11-15","2006-12-15","2007-01-15","2007-02-15","2007-03-15","2007-04-15","2007-05-15","2007-06-15","2007-07-15","2007-08-15","2007-09-15","2007-10-15","2007-11-15","2007-12-15","2008-01-15","2008-02-15","2008-03-15","2008-04-15","2008-05-15","2008-06-15","2008-07-15","2008-08-15","2008-09-15","2008-10-15","2008-11-15","2008-12-15","2009-01-15","2009-02-15","2009-03-15","2009-04-15","2009-05-15","2009-06-15","2009-07-15","2009-08-15","2009-09-15","2009-10-15","2009-11-15","2009-12-15","2010-01-15","2010-02-15","2010-03-15","2010-04-15","2010-05-15",{"$f":"BO$3","v":"2010-06-15"},"2010-07-15","2010-08-15","2010-09-15","2010-10-15","2010-11-15","2010-12-15","2011-01-15","2011-02-15","2011-03-15","2011-04-15","2011-05-15","2011-06-15","2011-07-15","2011-08-15","2011-09-15","2011-10-15","2011-11-15","2011-12-15","2012-01-15","2012-02-15","2012-03-15","2012-04-15","2012-05-15","2012-06-15","2012-07-15","2012-08-15","2012-09-15","2012-10-15","2012-11-15","2012-12-15","2013-01-15","2013-02-15","2013-03-15","2013-04-15","2013-05-15","2013-06-15","2013-07-15","2013-08-15","2013-09-15","2013-10-15","2013-11-15","2013-12-15","2014-01-15","2014-02-15","2014-03-15","2014-04-15","2014-05-15","2014-06-15","2014-07-15","2014-08-15","2014-09-15","2014-10-15","2014-11-15","2014-12-15","2015-01-15","2015-02-15","2015-03-15","2015-04-15","2015-05-15","2015-06-15","2015-07-15","2015-08-15","2015-09-15",{"$f":"EA$3","v":"2015-10-15"},"2015-11-15","2015-12-15","2016-01-15","2016-02-15","2016-03-15","2016-04-15","2016-05-15","2016-06-15","2016-07-15","2016-08-15","2016-09-15","2016-10-15","2016-11-15","2016-12-15","2017-01-15","2017-02-15","2017-03-15","2017-04-15","2017-05-15","2017-06-15","2017-07-15","2017-08-15","2017-09-15","2017-10-15","2017-11-15","2017-12-15","2018-01-15","2018-02-15","2018-03-15","2018-04-15","2018-05-15","2018-06-15","2018-07-15","2018-08-15","2018-09-15","2018-10-15","2018-11-15","2018-12-15","2019-01-15","2019-02-15","2019-03-15","2019-04-15","2019-05-15","2019-06-15","2019-07-15","2019-08-15","2019-09-15","2019-10-15","2019-11-15","2019-12-15","2020-01-15","2020-02-15","2020-03-15","2020-04-15","2020-05-15","2020-06-15","2020-07-15","2020-08-15","2020-09-15","2020-10-15","2020-11-15","2020-12-15","2021-01-15","2021-02-15","2021-03-15","2021-04-15","2021-05-15","2021-06-15","2021-07-15","2021-08-15","2021-09-15","2021-10-15","2021-11-15",{"$f":"GW$3","v":"2021-12-15"},"2022-01-15","2022-02-15","2022-03-15","2022-04-15","2022-05-15","2022-06-15"]
[{"$f":"A4","v":"SUPPLY"}]
["Gas Processing",null,null,null,null,null,null,null,null,null,null,null,null,{"$f":"N5-B5","v":-3677.419354838712},-5428.5714285714348,-3225.8064516128943,2600,-1290.3225806451665,-5700,-4451.6129032258177,-8032.2580645161215,-6233.3333333333285,419.35483870966709,{"$f":"X5-L5","v":8866.6666666666715},13612.90322580644,-7354.838709677424,-892.85714285714494,-2548.3870967741968,-9233.3333333333285,-4741.9354838709696,-4100,806.45161290322721,-4677.419354838712,{"$f":"AH5-V5","v":-2800},3516.1290322580753,-5400,-3419.3548387096671,9161.2903225806513,1789.4088669950725,5483.8709677419392,7633.3333333333285,4096.7741935483937,8433.3333333333285,{"$f":"AR5-AF5","v":5193.5483870967728},5064.5161290322576,9000,2903.2258064516063,6266.666666666657,-258.06451612903038,{"$f":"AX5-AL5","v":9225.8064516129089},14424.876847290638,12741.935483870955,13166.666666666672,8064.5161290322576,9766.6666666666715,4290.3225806451665,11935.483870967742,6266.6666666666715,5483.8709677419392,2066.6666666666715,10322.580645161288,2774.1935483870911,-2857.1428571428551,2709.6774193548481,6200,12451.612903225803,10166.666666666657,16000,14161.290322580637,16733.333333333328,19258.06451612903,19833.333333333328,17322.580645161288,16580.645161290318,12857.142857142855,16193.548387096758,11433.333333333328,14161.290322580651,11200,10870.967741935485,11161.290322580666,{"$f":"CD5-BR5","v":10633.333333333343},14806.451612903227,18900.000000000015,20451.612903225803,18580.645161290318,26575.123152709377,13129.032258064515,22200,22838.709677419363,26766.666666666672,19806.451612903213,24483.87096774191,25100,13870.967741935485,15533.333333333314,17967.741935483878,18096.774193548394,11317.733990147768,14580.645161290333,13933.333333333343,19870.967741935485,18766.666666666657,24290.322580645181,27645.161290322605,35300,32225.806451612909,35133.333333333343,20193.548387096758,18806.451612903213,30785.71428571429,38806.451612903242,40033.333333333314,{"$f":"DJ5-CX5","v":50193.548387096758},56000,68612.903225806454,59387.096774193546,57833.333333333314,63129.032258064515,54533.333333333343,72354.838709677424,77032.258064516151,67357.142857142841,75225.806451612909,73766.666666666657,50677.419354838697,37200.000000000029,24741.935483870941,22838.709677419363,21733.333333333343,46322.580645161303,39899.999999999971,37677.419354838697,{"$f":"ED5-DR5","v":26774.193548387091},{"$f":"EE5-DS5","v":43366.995073891652},34064.516129032243,{"$f":"EG5-DU5","v":25633.333333333372},25322.580645161332,34000,29193.548387096787,29935.483870967699,19000,-15612.903225806484,11133.333333333372,-16354.838709677395,-8064.516129032243,-7974.1379310344928,-8419.3548387096962,-3466.6666666666861,2483.870967741881,8700,16548.387096774182,20064.516129032301,17300,42806.451612903271,29866.666666666686,48258.06451612903,48870.967741935456,31464.285714285739,37677.419354838727,36000,45000.000000000058,34266.666666666628,31645.161290322547,30290.322580645094,47566.666666666628,34903.225806451577,27733.333333333256,35516.129032258061,{"$f":"FN5-FB5","v":31129.032258064544},{"$f":"FO5-FC5","v":25821.428571428522},{"$f":"FP5-FD5","v":18548.38709677424},26200,11935.483870967699,8600.0000000000582,{"$f":"FT5-FH5","v":30903.225806451694},{"$f":"FU5-FI5","v":34903.225806451694},33766.666666666744,39645.161290322605,33800.000000000058,35290.32258064521,30774.193548387091,36102.216748768464,33419.35483870958,-9100,-59806.451612903213,-34700,-31838.709677419392,-22870.967741935514,-28800.000000000058,-41516.129032258119,-24166.666666666686,-26612.903225806484,-22548.38709677424,-74387.931034482724,-29677.41935483861,5800,64548.387096774182,37900.743118999875,22057.920337096788,8299.0116700101644,4492.8080182818812,9406.1209338029148,{"$f":"GV5-GJ5","v":-4346.2378667333396},{"$f":"GW5-GK5","v":-3214.5248762294068},2270.7339093772462,53466.783425702888,7858.2400177005329,7147.384770549892,4658.0039814181509,14506.796992284304]
["Refinery Production",null,null,null,null,null,null,null,null,null,null,null,null,-2677.419354838712,-5214.2857142857247,-1064.5161290322576,-2633.3333333333285,-5774.1935483871057,4833.3333333333285,-6838.7096774193487,-1677.4193548386975,4466.666666666657,-1290.3225806451665,-1633.3333333333285,2838.7096774193633,5387.0967741935456,5392.8571428571449,13290.322580645166,4133.3333333333285,-483.87096774192469,-6333.3333333333285,2935.4838709677424,-4322.5806451613025,-4266.666666666657,-5483.8709677419247,-5200,-7225.8064516129089,-10677.419354838712,-7369.4581280788116,-9870.9677419354848,-7233.3333333333285,2161.2903225806367,-433.33333333332848,-2419.3548387096816,32.258064516136074,-7966.6666666666715,-32.258064516136074,-8600,-22548.387096774197,{"$f":"AX6-AL6","v":-19193.548387096773},-11094.827586206899,-9032.2580645161361,-9533.3333333333285,-13483.870967741925,666.66666666665697,3064.5161290322576,-1387.0967741935456,5966.6666666666715,2677.419354838712,12000,18967.741935483878,16838.709677419363,14857.142857142855,15064.516129032258,9500,10387.096774193546,3166.6666666666715,6290.3225806451665,9354.8387096774095,800,-7967.7419354838639,-9533.3333333333285,-774.19354838710569,11419.354838709667,750,2870.9677419354848,2466.666666666657,-32.258064516136074,266.66666666667152,-6225.8064516129089,-9258.0645161290304,{"$f":"CD6-BR6","v":4866.666666666657},14677.419354838697,14266.666666666657,7967.7419354838785,-1967.7419354838639,5487.6847290640435,3709.6774193548481,11166.666666666672,4451.6129032258032,2066.666666666657,-548.38709677419683,4000,-8766.666666666657,-2612.9032258064399,-9066.666666666657,-5129.0322580645152,-6096.7741935483937,-7951.9704433497536,-5516.1290322580753,-19433.333333333328,-14967.741935483864,-8633.3333333333285,9451.6129032258032,9935.4838709677424,2833.3333333333285,7354.8387096774095,13866.666666666657,8774.1935483870911,5032.2580645161361,5821.4285714285652,-12516.129032258061,7866.666666666657,{"$f":"DJ6-CX6","v":10677.419354838712},7000,4935.4838709677424,3741.9354838709696,10066.666666666672,-11806.451612903227,-1033.3333333333285,12419.354838709682,-2580.6451612903184,-5214.2857142857101,15290.322580645166,15366.666666666672,8516.1290322580608,3166.6666666666715,-4580.6451612903184,-2903.2258064516063,-7500,96.774193548393669,33.333333333328483,-10677.419354838712,8483.8709677419247,4172.4137931034493,6548.3870967741968,-7533.3333333333285,1548.3870967741968,6500,1516.1290322580608,6580.6451612903184,5966.666666666657,10516.129032258061,-1933.3333333333285,-1741.9354838709696,-4161.2903225806367,3506.1576354679855,7645.161290322576,5966.666666666657,4451.6129032258032,-633.33333333334303,-3032.2580645161215,1129.0322580645297,-2766.6666666666715,4709.677419354819,3266.666666666657,8451.6129032258177,3258.0645161290304,-500.00000000001455,-9322.580645161288,4066.6666666666715,1516.1290322580753,1000.0000000000146,7322.5806451613025,-2935.483870967757,-3199.9999999999709,-18483.87096774191,1100.0000000000291,-1677.4193548387266,6032.2580645161361,-13392.85714285713,-612.90322580643988,-2266.6666666666715,-17225.806451612909,-5333.333333333343,1354.8387096773949,2612.9032258064399,5133.3333333333285,1161.2903225806367,-2400.0000000000291,-3838.7096774193633,-7612.9032258064544,12662.561576354667,-4903.2258064516354,-22700,-9290.3225806451519,-11866.666666666657,-10000,-5290.3225806451665,3666.6666666666424,18193.548387096787,-1666.6666666666715,-6741.9354838709405,1999.9999999999854,-12841.133004926101,3354.838709677424,12066.666666666672,18709.677419354819,14940.863341947683,5823.0638670695771,3291.5709495622868,-8447.1652841555624,-7191.7446301268938,-85.830344505389803,2867.8045354230708,966.79566820534819,12207.566171625644,312.89018307620427,3374.8660719858162,-949.39118292431522,1.28590755071491]
[{"$f":"A7","v":"Imports"},null,null,null,null,null,null,null,null,null,null,null,null,{"$f":"N7-B7","v":-59290.322580645166},1750,10709.677419354834,17700.000000000007,-25870.967741935492,-22400,-19677.419354838712,-7516.1290322580608,29000,5967.7419354838639,14366.666666666657,10193.548387096773,26193.548387096787,8678.5714285714348,-11516.129032258046,-35400.000000000015,-8709.6774193548408,1866.6666666666642,34129.032258064515,9064.5161290322576,-45466.666666666664,-25935.483870967742,-35666.666666666657,-48709.677419354848,1387.096774193531,-26976.600985221681,48967.741935483864,10833.333333333336,16193.548387096773,9566.6666666666715,-31903.225806451614,-10838.709677419356,-6066.6666666666642,3451.6129032258177,58166.666666666657,28806.451612903227,{"$f":"AX7-AL7","v":-14451.612903225789},-22737.684729064043,-41645.161290322591,-7366.6666666666642,11645.161290322591,-2300,-5161.290322580644,-23516.129032258068,-5533.3333333333358,-6806.4516129032418,-7466.6666666666715,-11387.096774193546,-16290.322580645166,11821.428571428565,-28354.838709677409,-14400,-29064.516129032265,-16566.666666666672,-15096.774193548386,-2419.3548387096744,-933.33333333333576,-18870.96774193547,-56799.999999999993,-24258.06451612903,-10322.580645161288,-9571.4285714285652,5548.3870967741823,4466.6666666666715,3129.0322580645225,-3899.9999999999964,2258.0645161290304,4451.6129032258032,3300.0000000000073,-12774.193548387106,-14066.666666666672,-11225.806451612894,4258.0645161290304,-17374.384236453196,-22161.290322580637,-766.66666666667152,4064.5161290322576,14299.999999999996,31774.193548387098,14290.322580645159,17133.333333333336,1677.419354838712,21433.333333333336,12129.032258064501,14451.612903225803,21017.241379310341,28838.709677419349,28000,11677.419354838705,23400,4774.1935483870911,-12290.322580645152,-19766.666666666672,52032.258064516136,29100,-19645.161290322576,-1741.9354838709696,24107.14285714287,-5709.6774193548335,-19700,{"$f":"DJ7-CX7","v":-16548.38709677419},-8666.6666666666642,-34967.741935483864,161.29032258063671,-7266.6666666666715,-46548.387096774204,-64900,-10709.677419354834,-42161.290322580644,-38178.571428571435,-5580.6451612903184,32933.333333333328,18129.032258064515,3266.6666666666715,32387.096774193546,13451.612903225803,6633.3333333333358,-3096.7741935483791,27733.333333333336,6677.4193548387047,7838.709677419356,21364.532019704435,-2193.5483870967801,-20133.333333333328,6322.580645161288,-4666.6666666666715,-11709.677419354841,-9258.0645161290231,17766.666666666664,15612.903225806447,15199.999999999993,17516.129032258068,47354.838709677424,3421.1822660098405,20096.774193548386,-6400,-7290.3225806451592,-5100,-5290.3225806451592,16618.999277432034,20086.361899321972,46967.346393378248,-13668.244925699008,-2201.1045281210536,-11071.995816641109,-6381.6368860969233,-17352.894441416371,-20939.740924490245,-25245.468116008771,-21348.898034913822,-11563.38959723217,-28874.40493559817,-43093.251705883558,-52806.477284175242,8404.5858794260566,1952.6890468092897,-28369.28241459468,-30330.034685815139,-18003.93255999223,-3048.2124890572122,-2910.6804471824835,74.709122888438287,77.154216615774203,-5502.7441814102312,-4698.8984820699479,-8572.609543744722,-11124.453091657342,-17378.475997185087,6035.6317920639558,7549.8525561185452,7825.5242680131705,4253.5071093520855,1791.8739151723385,2294.9771403983759,83.497001822353923,-303.60516673549864,-1248.4761998458052,7339.8291914999063,-22084.204223136338,-17507.864711664392,-20438.376074666878,-809.93180556358857,1152.9473131051418,5687.3018351625942,11160.448181147862,26640.906182064784,13698.520981020563,19644.562955125108,18256.105481710045,100.48142072879273,18694.768031726133,23084.360966227141,19086.649119195812,8019.9444826010222,9250.2639930175937,6956.1991500447766,4584.7088177603291,-17708.698318603099]
["Net Inter-PADD Transfers (+ = Receipt)",null,null,null,null,null,null,null,null,null,null,null,null,-6797.7042620394495,-6797.7042620394495,-6797.7042620394495,-6797.7042620394495,-6797.7042620394495,-6797.7042620394495,-6797.7042620394495,-6797.7042620394495,-6797.7042620394495,-6797.7042620394495,-6797.7042620394495,-6797.7042620394495,13153.727211542195,13153.727211542195,13153.727211542195,13153.727211542195,13153.727211542195,13153.727211542195,13153.727211542195,13153.727211542195,13153.727211542195,13153.727211542195,13153.727211542195,13153.727211542195,-14698.66206344025,-14698.66206344025,-14698.66206344025,-14698.66206344025,-14698.66206344025,-14698.66206344025,-14698.66206344025,-14698.66206344025,-14698.66206344025,-14698.66206344025,-14698.66206344025,-14698.66206344025,18428.467290816305,18428.467290816305,18428.467290816305,18428.467290816305,18428.467290816305,18428.467290816305,18428.467290816305,18428.467290816305,18428.467290816305,18428.467290816305,18428.467290816305,18428.467290816305,-25410.489504003257,-25410.489504003257,-25410.489504003257,-25410.489504003257,-25410.489504003257,-25410.489504003257,-25410.489504003257,-25410.489504003257,-25410.489504003257,-25410.489504003257,-25410.489504003257,-25410.489504003257,-16376.40216118854,-16376.40216118854,-16376.40216118854,-16376.40216118854,-16376.40216118854,-16376.40216118854,-16376.40216118854,-16376.40216118854,-16376.40216118854,-16376.40216118854,-16376.40216118854,-16376.40216118854,-73547.087130567525,-73547.087130567525,-73547.087130567525,-73547.087130567525,-73547.087130567525,-73547.087130567525,-73547.087130567525,-73547.087130567525,-73547.087130567525,-73547.087130567525,-73547.087130567525,-73547.087130567525,-34915.224160133672,-34915.224160133672,-34915.224160133672,-34915.224160133672,-34915.224160133672,-34915.224160133672,-34915.224160133672,-34915.224160133672,-34915.224160133672,-34915.224160133672,-34915.224160133672,-34915.224160133672,-7389.0410958903958,-7389.0410958903958,-7389.0410958903958,-7389.0410958903958,-7389.0410958903958,-7389.0410958903958,-7389.0410958903958,-7389.0410958903958,-7389.0410958903958,-7389.0410958903958,-7389.0410958903958,-7389.0410958903958,-131964.38356164383,-131964.38356164383,-131964.38356164383,-131964.38356164383,-131964.38356164383,-131964.38356164383,-131964.38356164383,-131964.38356164383,-131964.38356164383,-131964.38356164383,-131964.38356164383,-131964.38356164383,-32315.068493150698,-32315.068493150698,-32315.068493150698,-32315.068493150698,-32315.068493150698,-32315.068493150698,-32315.068493150698,-32315.068493150698,-32315.068493150698,-32315.068493150698,-32315.068493150698,-32315.068493150698,-6331.5068493150175,-6331.5068493150175,-6331.5068493150175,-6331.5068493150175,-6331.5068493150175,-6331.5068493150175,-6331.5068493150175,-6331.5068493150175,-6331.5068493150175,-6331.5068493150175,-6331.5068493150175,-6331.5068493150175,74142.465753424622,74142.465753424622,74142.465753424622,74142.465753424622,74142.465753424622,74142.465753424622,74142.465753424622,74142.465753424622,74142.465753424622,74142.465753424622,74142.465753424622,74142.465753424622,-30000,-30000,-64845.39645709109,-64845.39645709109,-64845.39645709109,-64845.39645709109,-64845.39645709109,-64845.39645709109,-25532.484549070039,-87549.319542227313,-194110.3976532988,-97425.049277222541,-9576.9657796076499,-58820.941443164775,-18680.748764307937,-2665.1757721765025,71923.160472631367,115061.01016117336,104452.38307669829,85103.595304678835,-21063.427208646259,44476.124089671124,232577.62566561406,-123407.64081252879,-168084.63291554118,27150.865116053203,186318.6627407847,-202064.99054822305,-69872.847328029544,-84240.587305211287,-128949.82213947165,33825.373024965287,96524.699636504229,89159.705716485856,26208.529563442251,267332.69008975138,193696.54493170805,88840.334947801108,-218533.06078812364,173958.89611082396,104767.95721278258,60276.488752644305]
["Total Stock Change (Primary+Secondary+Tertiary)",null,null,null,null,null,null,null,null,null,null,null,null,-84199.539155591861,9533.9130869392829,-35708.65655886021,-3944.613155623214,-10824.697491358558,3937.3295886914129,17966.404565940989,-5244.1507154449791,-25614.220567417004,68656.392109623266,9466.9908248371412,-127808.49743681212,111291.759059112,135665.44522889308,15938.698096195105,71454.054677943539,-12352.92982880387,354.29266208542685,-38061.933111433435,21873.872110981531,-7980.0622607668993,-30642.939044682804,36219.076910727323,20615.828892153302,5867.1214168518491,-89992.874265227088,-57503.290509369646,-20060.423294630309,-13319.468828548357,-4647.8086182304978,31424.71872705569,-11593.885337092921,-24893.243961763525,49966.140648454573,-21767.701255692205,27838.796830901192,-41181.109553270857,-140399.80157995952,-205.13880531972609,184.72647076161229,-13064.45455499526,-52728.239214574205,-61874.152541238582,8798.6268072832609,39221.575085078483,23071.50949783282,136167.65675647586,44330.273243651856,22961.010623500217,120828.64468400882,17970.809119162954,-48810.011483405775,21163.634554929056,68523.453654957659,72873.685337864998,-9471.9497129564988,-13125.730180199709,-97170.457605739517,-170118.07056112401,54899.199814425287,20269.275499956129,40241.18443495559,7266.6351682746681,71215.39472591065,19362.471252225543,-20684.434242432486,-47346.7216864402,-23332.919929775599,-8906.0892420615201,-6469.0923233819412,4116.5949543234692,-135507.98008820161,-84626.60132287789,-62697.079100613395,-41128.832943237256,-28204.820249012329,12022.111613794303,19773.964997848321,59088.693774252257,67815.637795672083,21062.461337138833,43859.241714982054,31552.282711303018,64434.44835681736,79269.943193871237,4674.9555358547077,63392.627773787091,-2245.307347280992,-39000.309647840666,-31256.240305736239,-41410.149255125565,-89243.57184363321,-45399.788172141765,-36295.784883341497,18618.310185333095,17988.624017520691,7381.6815825900412,18799.005953573418,20234.764505220766,36399.315330706813,34735.601274549714,1452.7961669468787,36477.650771515764,56102.543027730062,47093.539367553414,84578.538363494183,45637.045620992933,-18488.332022327435,95119.155804016336,102314.51339648117,39483.705280803457,314.70153170356934,46311.510230108164,84435.040894177349,40069.378019658659,64709.43546840729,67351.584283914097,24675.927491693816,16646.125462682394,67688.032641111931,868.57342185324524,-29425.002286935109,-377.24342680384871,44737.328205508034,13861.488165587536,8802.9016129467054,26001.357611206913,24886.229439805436,18497.005239693128,57872.445225803298,38427.540091166506,53319.949035325262,-29249.138311975286,6769.9304946352495,-8636.235086168861,12464.840182648419,5137.9584622182592,-710.51024183025584,-20954.246979245392,-50140.771893062803,-50634.23942464299,-84372.002731760032,-4804.9516027424252,-69363.494560396008,-82031.16982038907,-119602.72648174508,-82795.199734601134,-34426.053181378986,-100832.34344159949,-27012.524631545966,-87187.178908630303,-58268.08319694188,-67768.268197154248,-43732.580443792976,-114405.03335899732,-96911.12172007031,29190.957193046343,132625.25717659079,47823.750973142858,-50571.655428767961,74953.489452381647,-23392.966329282557,11260.880320890457,38805.648809380335,-26992.459694767138,27041.397526709246,130711.69724226079,42805.319239978387,-119556.52790320932,-110128.31238492898,-44213.525188959611,35395.21856533477,-23446.781365584553,-68884.486323359684,-64400.403181934642,-89934.80785468861,42832.75622927284,-38907.39681580622,-210362.536005378,199830.57874189975,225547.25475980586,123395.79297282337,-104837.13232586108,260698.94497681884,40073.533673799393,17129.379967281129,86185.816785727162,-27239.831996086985,-78724.000203351723,-36294.892752496176,41573.694198214973,-215491.21299132216,-114449.81993430678,-142499.41904486268,265841.81767564715,-174224.98157188331,-111540.66512503414,-38462.045320231904]
["     TOTAL SUPPLY",null,null,null,null,null,null,null,null,null,null,null,null,-156642.40470795392,-6156.6483179573552,-36087.005982189963,6924.3492490040953,-50557.885624365765,-26127.041340014723,-19799.041631582368,-29267.661429097294,-5178.5914961231174,66955.462041132152,24269.286562797788,-107961.04040852893,148671.2927222671,161997.74386900675,28318.231759350165,44107.781889485661,-13134.686488229432,4941.3532069609792,12962.761842044245,35092.11545155599,-47359.668382557982,-45392.437639592215,3106.1374556028168,-25585.28260598192,-8960.5729046529159,-137248.18657497282,-27621.30741151952,-23525.752024737187,-5566.5179887627892,-1779.804015004047,-12402.97559444909,-32034.482884404133,-44625.239358537132,41590.059230175626,19366.970014200837,19140.134767460928,-47171.997101164248,-141378.9697571235,-19712.15538547124,14879.860428244603,11589.819187433954,-26166.438590424659,-41252.136863325431,14259.352162615687,64350.042375894787,42854.815498326556,161196.12404729216,80661.96634091984,873.10176465823315,119239.58375143411,-18020.325546130596,-72920.50098740909,-10472.661400687124,39879.630817621015,54656.74422095847,-13785.665023411391,-21936.219684202981,-130161.59227103309,-242028.56006512721,21779.032891067094,21570.292693606287,27900.496559481369,15503.136232892575,73205.659231388796,20244.133607166063,-29494.169736954267,-56819.898041177104,-33354.4833812867,-6482.4914032500819,-6135.8170652156114,6840.1927931349492,-134690.83386229328,-137302.72071150987,-121555.74258586072,-119998.50071896607,-69151.907379579847,-30170.136807095783,-10639.788799385889,36573.864708200796,37042.744213491649,-19017.959126761998,-16752.361544617743,-14094.804419264547,15855.103161733598,70806.331936963368,-5857.2636981706019,66380.629420105019,-14660.531507414678,-57334.888646684107,-32638.131132536626,-37809.244383001118,-98868.47342312173,-61948.345665608766,20401.894182331278,61803.086025199387,-7604.0194974517217,22089.41468024801,72124.250571968674,33426.368570620718,{"$f":"DI10-CW10","v":57210.274234816403},71669.14082382065,48397.088404389797,67669.254836915643,112003.8245124848,100337.83160499629,81963.690815990849,26848.004525102617,48187.1430108145,-4554.9051769823418,-5685.5844508769223,-7545.1944098725799,-9583.0153632736183,-8330.2926863743924,-3896.0093341330357,-39346.618445210974,-33867.851319042966,-43746.132611062989,-63965.875424788683,-47651.591432294867,-30598.931565693172,11650.27912225097,7163.8701066137874,5727.0429187550908,10388.92637902408,14739.968059533625,12321.166453129321,12686.289118056215,19829.22546278371,28915.270079875685,36073.505764910602,30512.471598015865,20424.23538088426,-451.61290322581772,-608.37438423646381,4354.8387096773949,2233.333333333343,-1548.3870967742114,-4075.3504244786454,-19059.947376947501,-18659.731077848934,-22346.051041302737,3779.9658445612295,8328.6299555768492,-21186.428518477303,33168.3323744589,-20877.611900131684,2349.2102870845119,58843.338314222055,-5419.2167719255376,61047.709753631469,14359.639183045976,14354.81633056188,7647.6125170535233,-5977.237135833886,-3024.6483928133384,13022.742757583037,7982.9651010324014,84723.793919347052,-17090.094172972662,-94531.931041582953,1907.0899674629036,-84896.98699681845,-21249.29740345577,5973.6372031371284,-18323.842725907045,-28274.079946359503,-43123.153502695262,-40546.593131203437,-99936.571568172425,-112634.62294685212,-26552.620652996411,5183.5499025103636,-18828.521171329252,1904.8343115453899,-1703.2327808334085,-33296.108039325918,-4612.4805125526327,-10414.024179796455,-25702.447896233643,25560.234508029127,16475.858672823641,62507.662243904197,56311.897082867508,82187.922930425091,64619.199043046741,12371.305305082118,-1184.5001685575116,37820.686603575887,32102.44764898892,55179.670688394457,82044.923582144664,74579.117723850068,101570.90369417961,20035.209982868051,64730.151081317861,17212.364531521103,1520.6137040026078,18613.82801364435]
["DEMAND"]
["  Residential and Commercial ",null,null,null,null,null,null,null,null,null,null,null,null,-153562.10959245125,-2133.6362757104216,-31263.012289147126,12976.889635795582,-42592.215539834229,-17709.547375420152,-10197.670932132547,-21093.449576167724,3909.6824839212932,71867.119693325832,33973.23912092112,-103078.1365792146,150989.27439458371,166444.14558919426,34048.564023573417,46828.456096454174,-7652.7604446255136,11602.8150750075,17411.516156508384,39783.997925950054,-43817.409228568256,-39291.602156897774,3793.7322672061273,-24220.098898798518,-15.494689552637283,-126977.86689171579,-17342.677722914261,-9850.8768571123655,4623.7267139555479,10022.986357440415,1190.6098580068356,-23021.494590252347,-40232.71946886646,39919.416222541739,20000.897608837258,25027.770049936778,{"$f":"AX12-AL12","v":-62217.860210736049},-155513.32738572432,-29831.624817058822,3001.5672129419982,-548.19257368324907,-39471.940268136081,-54805.844277486205,-5386.7253183858847,40982.053614658202,17957.1494611206,109860.68852856845,59863.520690646372,5440.4315595021471,123549.91123474835,-18852.723729703343,-74604.707550368228,-10562.743058559674,39658.011213217629,54426.205528265389,-2346.8870650228782,-16213.270770473944,-83793.651739749912,-190269.29146234685,41000.420814390993,22919.470230123203,23186.937486821029,12060.362735518778,72806.286321197593,18871.743391728101,-31952.806921756594,-59542.751172705059,-34532.697223199226,8737.7380641485215,-18760.453083296103,10984.221553339972,-137075.93561531405,-137311.01161710417,-118506.45367253612,-121313.46819590477,-70613.216194397057,-31587.687801489141,-10837.652278260488,36095.006668797592,36564.891203232226,-18881.646480391995,-16497.797567313231,-13711.310885745159,16352.106732498214,114889.04072008579,38398.242588592402,118015.56041142126,36072.166375722401,-8244.6894273519429,13711.283254188238,8987.2725687974889,-59825.203892571823,-30681.433040136442,43643.315071170844,70174.140725035715,28707.434874122497,-12723.063073345693,35176.440205606399,-7592.4292620618653,15458.832328797391,{"$f":"DJ12-CX12","v":32642.10037190016},16172.040724798193,1183.8985340718937,58944.834283404751,44209.935589104192,30698.810960542003,-11764.853867951519,-1750.3749088915647,-14033.967930962855,-14557.061902907968,-14631.122090555582,-15206.590630585168,-15507.033953343751,-15349.762325459189,-15143.345701271028,-15656.243802821977,-15512.258472089015,-33918.070384473889,-14607.877475041925,-14336.404930099787,{"$f":"ED12-DR12","v":0},{"$f":"EE12-DS12","v":0},0,{"$f":"EG12-DU12","v":0},0,0,0,0,0,0,0,0,0,0,0,0,0,-4191.0187580280763,-19989.117968477687,-19987.90161107009,-20987.814599541598,17.335332800692413,2023.3192343720875,-24265.576297054417,29334.207690429874,-25775.881323060778,2899.4241156548378,59394.730759627011,-415.5222713160183,63776.127040692925,19486.418591208756,19429.012163952939,20424.90562343286,-5318.1472938572697,15898.484133849968,12675.360904043249,{"$f":"FN12-FB12","v":57461.922433186613},{"$f":"FO12-FC12","v":118168.59438930888},{"$f":"FP12-FD12","v":12380.370572914981},-67099.916467477509,21792.516090466597,-64866.754065203233,{"$f":"FT12-FH12","v":-5896.7536243256181},{"$f":"FU12-FI12","v":24635.27116680803},-6603.0229897398531,-4893.6675621490285,-31635.267080507008,-8653.5110370361945,-113808.37265882659,-118103.2580000087,-31213.520304141828,-1057.6757511641481,-27392.769698383214,-725.00117222842528,-878.44037991258665,-32167.773895798877,-983.65344615223876,-1399.3762378041574,38239.383749045141,46449.331883575418,13392.157843181514,41917.431164745882,54013.412548659137,91551.778389919491,77909.332365330309,37945.732924689553,24775.372104725262,20209.981206656681,34984.379089866576,77387.267092865368,{"$f":"GV12-GJ12","v":82573.21610088693},{"$f":"GW12-GK12","v":69677.670973458269},84343.753635357134,24210.773947828042,49597.367577119527,10941.860144398262,3771.1560735072126,15850.617967897648]
["  Chemical",null,null,null,null,null,null,null,null,null,null,null,null,-653.14027610673656,-653.14027610673656,-653.14027610673656,-653.14027610673656,-653.14027610673656,-653.14027610673656,-653.14027610673656,-653.14027610673656,-653.14027610673656,-653.14027610673656,-653.14027610673656,-653.14027610673656,-10801.351839055409,-10801.351839055409,-10801.351839055409,-10801.351839055409,-10801.351839055409,-10801.351839055409,-10801.351839055409,-10801.351839055409,-10801.351839055409,-10801.351839055409,-10801.351839055409,-10801.351839055409,-9441.3442495560303,-9441.3442495560303,-9441.3442495560303,-9441.3442495560303,-9441.3442495560303,-9441.3442495560303,-9441.3442495560303,-9441.3442495560303,-9441.3442495560303,-9441.3442495560303,-9441.3442495560303,-9441.3442495560303,11417.886225059337,11417.886225059337,11417.886225059337,11417.886225059337,11417.886225059337,11417.886225059337,11417.886225059337,11417.886225059337,11417.886225059337,11417.886225059337,11417.886225059337,11417.886225059337,5876.5418565209038,5876.5418565209038,5876.5418565209038,5876.5418565209038,5876.5418565209038,5876.5418565209038,5876.5418565209038,5876.5418565209038,5876.5418565209038,5876.5418565209038,5876.5418565209038,5876.5418565209038,1935.2902804957557,1935.2902804957557,1935.2902804957557,1935.2902804957557,1935.2902804957557,1935.2902804957557,1935.2902804957557,1935.2902804957557,1935.2902804957557,1935.2902804957557,1935.2902804957557,1935.2902804957557,-2024.4179953589337,-2024.4179953589337,-2024.4179953589337,-2024.4179953589337,-2024.4179953589337,-2024.4179953589337,-2024.4179953589337,-2024.4179953589337,-2024.4179953589337,-2024.4179953589337,-2024.4179953589337,-2024.4179953589337,-10556.857160427178,-10556.857160427178,-10556.857160427178,-10556.857160427178,-10556.857160427178,-10556.857160427178,-10556.857160427178,-10556.857160427178,-10556.857160427178,-10556.857160427178,-10556.857160427178,-10556.857160427178,1322.9722407154259,1322.9722407154259,1322.9722407154259,1322.9722407154259,1322.9722407154259,1322.9722407154259,1322.9722407154259,1322.9722407154259,1322.9722407154259,1322.9722407154259,1322.9722407154259,1322.9722407154259,2783.3261243771194,2783.3261243771194,2783.3261243771194,2783.3261243771194,2783.3261243771194,2783.3261243771194,2783.3261243771194,2783.3261243771194,2783.3261243771194,2783.3261243771194,2783.3261243771194,2783.3261243771194,{"$f":"ED13-DR13","v":344.87057858883054},344.87057858883054,344.87057858883054,344.87057858883054,344.87057858883054,344.87057858883054,344.87057858883054,344.87057858883054,344.87057858883054,344.87057858883054,344.87057858883054,344.87057858883054,0,0,0,0,0,0,0,0,0,0,0,0,0,0,0,-806.6899275634787,-806.6899275634787,-806.6899275634787,-806.6899275634787,-806.6899275634787,-806.6899275634787,-806.6899275634787,-806.6899275634787,-806.6899275634787,522.73309799976414,522.73309799976414,522.73309799976414,1329.4230255632428,1329.4230255632428,1329.4230255632428,1329.4230255632428,1329.4230255632428,1329.4230255632428,1329.4230255632428,1329.4230255632428,1329.4230255632428,0,0,0,0,0,0,0,0,0,0,-4178.7618891188249,-5266.5920035273448,-4352.6125356026823,-1218.6089945590284,-3516.1518981628906,-5179.5025679247774,-4306.3300135534955,-4284.6601480310565,-6043.0137064730952,-6043.0137064730952,-6043.0137064730952,-3412.9326990686823,765.82919005014992,1853.6593044586625,796.53518783227628,-2337.4683532113777,-39.925449607515475,1623.4252201543713,750.25266578308947,532.82438766014093]
["  Farm",null,null,null,null,null,null,null,null,null,null,null,null,-1599.0396340678672,-1180.7178271939374,-746.09776810414587,{"$f":"Q14-E14","v":-771.45060488438321},-746.09776810414587,-771.45060488438321,-746.09776810414587,-1599.0396340678672,-2754.404624481569,-4371.5534276781837,-3855.4421075090358,-2558.825597891162,1975.8744799855958,1458.9696047005746,921.92557843042596,953.25314662951678,921.92557843042596,953.25314662951678,921.92557843042596,1975.8744799855958,3403.5165164870778,5401.7678309006005,4764.0280497047934,3161.8467046655132,5745.5675018426628,3317.6537945741766,2683.5803125542534,2773.3717748301551,2683.5803125542534,2773.3717748301551,2683.5803125542534,5745.5675018426628,9919.7844138570435,15729.488674468201,13901.591049565919,9227.1074191572334,8322.4310432336933,7053.0350330270303,3883.8011535090591,3987.9634724695898,3883.8011535090591,3987.9634724695898,3883.8011535090591,11252.541602827667,14272.625774734188,16846.611214358825,43380.701839099725,13274.743817881899,-13142.150502378852,-12744.356694257305,-8078.9167068762217,-8310.0640656711093,-8078.9167068762217,-8310.0640656711093,-8078.9167068762217,-20209.999440167754,-13414.349739533449,-54578.024107213394,-59987.428161708798,-27667.067503700346,-6077.9629134049828,-1430.6117434246225,-892.39604653871174,-936.88945447278638,-892.39604653871174,-936.88945447278638,-892.39604653871174,-1940.2245352100545,-19652.767944353451,7916.7540056028374,-9717.1213064995682,-3079.334483406361,-120.30208741030219,-733.82726679712869,-54.214481409000655,-57.03183300717501,-54.214481409000655,-57.03183300717501,-54.214481409000655,-120.30208741030219,-191.30052185257227,-313.61500326156965,-256.26177429876407,-169.5666666666657,11239.350293542073,8939.3181996086132,5219.2305283757341,5419.4752772341817,5219.2305283757341,5419.4752772341817,5219.2305283757341,11239.350293542073,19318.41226353556,30657.795172863654,45587.095890410958,17945.664448793221,1165.2766111060118,851.89220077574646,581.076217206617,581.8303288221141,581.076217206617,581.8303288221141,581.076217206617,1165.2766111060118,5675.9377882383633,-2457.7947793462081,-10586.395175367521,1881.6530898664059,-11672.826842960527,-8605.8580155478521,-5460.7727110564429,-5649.2588953117356,-5460.7727110564429,-5649.2588953117356,-5460.7727110564429,-11672.826842960527,-23749.721762225192,-26214.634416410685,-33270.057075244928,-18679.215608511913,{"$f":"ED14-DR14","v":12408.120449664628},9162.0549639652745,5789.5193944075054,5986.2506359650415,5789.5193944075054,5986.2506359650415,5789.5193944075054,12408.120449664628,21373.444172072355,33922.086937135231,29917.200948285375,19855.803165771365,0,0,0,0,0,512.9166720343419,496.06025558250985,1063.1582662120345,1831.3292445169936,2906.5278081946162,2563.3793304251594,1701.2940318885594,1411.9611013767426,1042.5805640969811,658.80857731281503,681.19527654189005,658.80857731281503,168.27860450754815,162.74832173030518,348.80283516470809,-9399.174278272345,953.57875887610135,-19159.001997660627,558.16354030321236,-14475.336929102057,-3304.5522964604097,-2088.1526781314242,-2159.1093225339464,-2088.1526781314242,-2159.1093225339464,-2088.1526781314242,-4475.3369291020572,2291.067418840059,-12234.952827692367,9209.5217190732947,-7161.552752911899,9290.5472276581859,-523.85414220482562,-331.0243966079579,-342.27279843444194,-331.0243966079579,-342.27279843444194,-331.0243966079579,-709.45277234181412,-1222.0585127201557,-1939.5458577951795,-55882.242810844939,-7441.8955197673276,15866.320555372047,31565.433149175664,12463.290912539276,3662.2987765461221,2119.6982486035668,-15846.766856326865,-15790.703696879125,28427.111540036945,7025.726818379313,-15538.693970591587,3296.8288032619821,1873.6507157607193,16744.714091751979,-2821.2314140283852,14809.388819728862,3202.0386027839886,-7759.2764596871984,1318.6784272353809]
["  Other",null,null,null,null,null,null,null,null,null,null,null,null,{"$f":"N15-B15","v":-763.59907629572263},-2474.8682246604949,-4166.6911327029447,-5761.2828391337534,-7243.8513951593486,-7526.2364169367793,-7589.2294294324965,-6631.7093621097374,-5780.7290794560831,-5435.3510451829279,-4162.0368411742093,-1638.6798908004275,5959.1085899789832,5503.1233713101174,5052.3198028534098,4627.4244854574281,4236.2098944404061,4153.3034910460628,4140.3493655156926,4391.6594008047832,4622.2428352452844,4718.1033641699905,5049.7289777473416,5725.9343304323993,-4926.7208222256231,-5814.1169130041962,-4520.8657516034655,-4306.9026928989915,-4109.9001205552522,-4068.1512310519392,-4061.6279670670447,-4188.1792883739581,-4304.2933873050351,-4327.1788366330948,-4494.1743946463321,-4834.6887746577122,-4371.8735135599345,-2811.9330876136228,-3440.2824631099065,-3027.5564822262677,-2647.5465851931549,-2567.0146864841518,-2554.4315773108719,-2798.5438952725417,-3022.5232385569543,-3141.0249505993925,-3463.152545435405,-4119.9908442807064,2988.6014316592118,2736.0587829936194,2486.3859371537765,2251.062105442652,2034.3919920988774,1988.4751468869508,1981.3006398225916,2120.486076871246,2248.1923026169097,2301.2836548932028,2484.9510357409017,2859.4603045006734,2858.0112254245541,2530.3091070177252,2206.3308763200621,1900.9720841682501,1619.81856212602,1560.2363587793261,1550.9266395064005,1731.535193401076,1897.248196459077,1966.1401190786928,2204.4689324654755,2690.4362785119811,1539.9772994129162,753.16086105674913,2070.8888454011758,2342.6281800391298,2592.827201565553,2645.8495107632079,2654.1342465753369,2493.4103718199622,2345.9420743639857,2309.1450097847337,2097.0557729941356,1664.5925636007742,89.746771037192957,1184.1671232876834,170.54755381605355,185.43913894325669,199.15029354208673,202.05596868884459,202.50998043053551,193.702152641883,185.62074363992724,157.75107632095023,146.12837573385332,122.42896281801222,1004.7515889905189,883.19211439366336,763.01399746267998,{"$f":"DI15-CW15","v":649.74266886107216},545.45016508763365,523.34844243366388,519.89504826898337,586.89089506382879,648.36131119519996,673.91642801385024,762.32331862975116,942.59049402621895,833.22256121537066,253.13847793614696,-320.35374076035805,-860.88663654326956,-1358.5724125385168,-1464.0422458620051,-1480.5219073188055,-1160.8164750569558,-867.47850112598098,-745.52900634569232,-323.6496730517174,536.58865499304375,{"$f":"ED15-DR15","v":-70.453841486378224},441.42732268034888,947.49165543609706,1424.4718311368997,1863.6426026663103,1956.7119052420785,1971.253983769544,1689.1376603367462,1430.2886625478859,1322.6772814446522,950.40007114158652,191.30357200797152,0,0,0,0,0,436.08499484842469,433.11033594768378,490.81871862203843,543.76764705519599,565.78012292067433,641.93139077960222,797.2085853982062,1260.8732600716903,1105.6888588320944,952.26791669749946,1374.1022056166767,1240.9610431895271,776.66070266117458,775.22671379942039,803.04609771734249,828.57109945647971,839.18261703341705,875.892731894186,950.74695047748537,-33171.514791374619,-29698.695557215466,-25356.658068981782,-21635.661610468105,-16900.890018822596,-15367.213301311207,-14948.652836239402,-16515.720060132095,-16841.310180570446,-17120.043872403985,-21860.164500158149,-30093.210431334726,3936.0925726734349,3756.035993390924,2669.3434025921051,1450.1651187756033,-459.56578601551155,-1394.5583844584216,-1719.5744559257728,-1967.2684679594131,-3306.7685536802783,-3720.2633745196654,-1980.8269453150242,-5890.2872716064594,-8655.8136417401493,-7305.8541592020974,-5971.2351253292563,-4713.3183347824361,-3555.1144605594509,-3309.6672819161668,-3271.3161602531527,-4015.3279205156014,-4697.977886117229,-4981.7761864235272,-5357.6171787210496,-100.05681821461803,-88.292769148860316,-88.292769148860316,-88.292769148860316,-88.292769148860316,-88.292769148860316,-88.292769148860316]
["     US DOMESTIC CONSUMPTION",null,null,null,null,null,null,null,null,null,null,null,null,-156577.88857892167,-6442.3626036715577,-36828.941466060933,5791.0159156706941,-51235.304979204491,-26660.374673348066,-19186.138405775971,-29977.338848452113,-5278.5914961231174,61407.074944358086,25302.61989613116,-107928.78234401287,148122.90562549292,162604.88672614953,29221.4575658018,41607.781889485719,-13295.97681081004,5908.0198736276652,11672.439261399122,35350.179967685108,-46593.001715891296,-39973.082800882636,2806.1374556028168,-26133.669702756044,-8637.9922594917007,-138915.67425970186,-28621.307411519461,-20825.752024737245,-6243.9373436015157,-713.13734833738999,-9628.7820460619696,-30905.450626339705,-44058.572691870475,41880.381810820836,19966.970014200837,19978.844444880262,{"$f":"AX16-AL16","v":-46849.416456002858},-139854.33921525162,-17970.219901600387,15379.860428244632,12105.948219692014,-26633.105257091316,-42058.588476228731,14485.158614228538,63650.042375894758,43080.62194993929,161196.12404729216,80436.159889306931,1163.4243453033851,119418.15518000565,-18568.712642904778,-74787.167654075747,-10730.725916816096,39212.964150954358,54205.131317732681,-14559.858571798482,-21502.88635086955,-130193.85033554916,-241895.2267317939,22069.355471712188,21634.80882263853,26221.925130909833,15309.587845795846,75705.659231388825,21534.456187811156,-29394.169736954267,-56948.93029924162,-32806.09628451243,-7082.4914032501401,-6942.268678118824,5406.8594598016934,-135529.54353971267,-137915.75440046052,-120511.53807363543,-121321.2118272715,-70352.037842724036,-31073.49307669152,-10273.252595863392,36670.508438605,36913.581492282945,-18751.422923239501,-16526.685556148994,-13894.934882408765,15822.714634073374,115661.2806242379,37964.870751061535,112848.4813331858,31120.223631472647,-13383.16576586134,8775.9573396840715,3852.1559171765693,-58949.008606815041,-21734.257193388155,63902.004159928241,105350.50783075334,36218.671125306573,-9230.0626325337216,38234.496761491231,-4925.3668066771352,18013.377567196003,35091.598994909844,18600.191736769397,3607.8420402629417,62019.974030290032,51857.206929253181,30237.904849925137,-20265.953483973863,2396.8409157164861,-22090.246088330925,-20126.455316142587,-17628.922417995229,-18933.410038063041,-19543.052952561586,-19679.73734225583,-19301.314195269195,-25706.560996462329,-37346.132611063018,-58094.907682853169,-45418.258098961494,-29695.705759241537,{"$f":"ED16-DR16","v":12682.537186767091},9948.352865234483,7081.8816284324857,7755.5930456907372,7998.0325756626553,8287.8331197959778,8105.6439567659108,14442.128688590165,23148.603413209028,35589.634797168663,31212.471598015865,20391.977316368138,0,0,0,0,0,-3242.0170911453024,-19059.947376947501,-18433.924626236025,-18612.717707969394,3489.6432639160194,5228.6299555768492,-21767.073679767607,32007.042051878292,-23627.611900131684,4510.5006096651196,60643.338314222085,677.55742162282695,63914.376420298126,19617.703699175006,19774.171169271547,11047.612517053523,-4332.0758455112809,-3191.3150594800245,13377.581467260432,10337.803810709738,85688.079633632733,-14541.70707619848,-89565.264374916296,4132.8964190758124,-81063.653663485107,-21604.136113133194,4973.6372031371284,-19823.842725907045,-32919.241236682108,-42956.486836028576,-44578.851195719559,-100581.73285849497,-114871.07614882255,-28875.201298157685,50.216569177020574,-28183.359881006676,-2461.8323551212961,-2929.0392324463173,-34844.4951361001,-5512.4805125526327,-7059.1854701190023,-23802.447896233643,27850.557088674279,16250.052221210732,64958.401160160371,56989.316437706235,85321.256263758405,72167.586139820953,14504.638638415461,-329.66145888008759,38578.751119704917,31269.114315655577,53453.864236781548,81278.256915477978,73304.924175462977,101796.71014579252,18963.781411439471,64278.538178092043,15679.031198187789,-3326.1604895457858,17613.82801364435]
["EXPORTS"]
["     TOTAL DEMAND",null,null,null,null,null,null,null,null,null,null,null,null,-156642.40470795397,-6156.648317957297,-36087.005982189963,6924.3492490040371,-50557.885624365765,-26127.041340014752,-19799.041631582426,-29267.661429097265,-5178.5914961231174,66955.462041132268,24269.286562797846,-107961.04040852893,148671.29272226716,161997.74386900669,28318.231759350165,44107.78188948569,-13134.686488229403,4941.3532069610083,12962.761842044303,35092.115451556048,-47359.668382557982,-45392.437639592274,3106.1374556028168,-25585.282605981862,-8960.5729046530323,-137248.18657497282,-27621.307411519461,-23525.752024737216,-5566.5179887628183,-1779.804015004047,-12402.97559444909,-32034.48288440422,-44625.239358537132,41590.059230175626,19366.970014200837,19140.13476746087,{"$f":"AX18-AL18","v":-47171.997101164132},-141378.96975712356,-19712.155385471357,14879.860428244632,11589.819187433954,-26166.438590424659,-41252.13686332549,14259.352162615658,64350.042375894787,42854.815498326439,161196.12404729216,80661.96634091984,873.10176465823315,119239.58375143423,-18020.325546130538,-72920.50098740909,-10472.661400687066,39879.630817621015,54656.744220958499,-13785.665023411391,-21936.219684202923,-130161.59227103303,-242028.56006512721,21779.032891067094,21570.292693606287,27900.496559481253,15503.136232892575,73205.659231388825,20244.133607166004,-29494.169736954267,-56819.898041177104,-33354.483381286642,-6482.4914032501401,-6135.8170652156114,6840.1927931350074,-134690.83386229334,-137302.85117465409,-121555.87304900488,-119998.6311821102,-69152.037842724036,-30170.267270239914,-10639.919262530049,36573.734245056607,37042.613750347489,-19018.089589906158,-16752.492007761903,-14094.934882408765,15854.972698589496,116887.08707585081,40223.491440716723,112461.38455899226,31420.223631472647,-11254.133507796825,13442.624006350728,8271.5107558862364,-52787.718284234405,-15867.590526721469,66482.649321218545,107883.84116408665,38476.735641435604,-7230.0626325337216,38663.068190062651,-3699.5603550642263,23180.04423386266,{"$f":"DJ18-CX18","v":40930.308672329207},21100.191736769397,7027.1968789726379,65923.199836741638,54257.206929253152,35883.066140247742,-19232.62015064049,2106.5183350713341,-21316.052539943834,-18305.026744714007,-16499.890159930743,-21633.410038063041,-23672.085210626101,-22679.73734225583,-24785.185163011134,-33867.851319042966,-43746.132611062989,-63965.875424788683,-47651.591432294867,-30598.931565693172,{"$f":"ED18-DR18","v":11650.27912225097},{"$f":"EE18-DS18","v":7163.8701066137874},{"$f":"EF18-DT18","v":5727.0429187550908},{"$f":"EG18-DU18","v":10388.92637902408},14739.968059533625,12321.166453129321,12686.289118056215,19829.22546278371,28915.270079875685,36073.505764910602,30512.471598015865,20424.23538088426,-451.61290322581772,-608.37438423646381,4354.8387096773949,2233.333333333343,-1548.3870967742114,-4075.3504244786454,-19059.947376947501,-18659.731077848934,-22346.051041302737,3779.9658445612295,8328.6299555768492,-21186.428518477303,33168.3323744589,-20877.611900131684,2349.2102870845119,58843.338314222055,-5419.2167719255376,61047.709753631469,14359.639183045976,14354.81633056188,7647.6125170535233,-5977.237135833886,-3024.6483928133384,13022.742757583037,{"$f":"FN18-FB18","v":7982.9651010324014},{"$f":"FO18-FC18","v":84723.793919347052},{"$f":"FP18-FD18","v":-17090.094172972662},-94531.931041582953,1907.0899674629036,-84896.98699681845,{"$f":"FT18-FH18","v":-21249.29740345577},{"$f":"FU18-FI18","v":5973.6372031371284},-18323.842725907045,-28274.079946359503,-43123.153502695262,-40546.593131203437,-99936.571568172425,-112634.62294685212,-26552.620652996411,5183.5499025103636,-18828.521171329252,1904.8343115453899,-1703.2327808334085,-33296.108039325918,-4612.4805125526327,-10414.024179796455,-25702.447896233643,25560.234508029127,16475.858672823641,62507.662243904197,56311.897082867508,82187.922930425091,64619.199043046741,12371.305305082118,-1184.5001685575116,37820.686603575887,32102.44764898892,55179.670688394457,{"$f":"GV18-GJ18","v":82044.923582144664},{"$f":"GW18-GK18","v":74579.117723850068},101570.90369417961,20035.209982868051,64730.151081317861,17212.364531521103,1520.6137040026078,18613.82801364435]
[]
["INVENTORIES (End of Month, Thousand Barrels)",null,null,null,null,null,null,null,null,null,null,null,null,2113,1799,2854,2922,3205,3037,2428,2539,3257,1076,742,4652,1341,-2332,-2687,-4696,-4174,-4050,-2731,-3270,-2896,-1807,-2759,-3259,-3547,-1285,391,890,1197,1234,154,407,1051,-604,-53,-1022,{"$f":"AX20-AL20","v":286},4407,4445,4469,4905,6516,8465,8224,7076.9999999999964,6393,2337,994,391,-2893,-3341,-1770,-2317,-4266,-6416,-6013,-5512.9999999999964,-2392,2818,1225,484,-745,-1083,-3329,-4042,-3530.9999999999964,-2176,-1566,-1408,-1320,-1553,2535,5142,6763,8021,8851,8462,7852.9999999999964,6005,3886,3238,1862,900,-1114,-4152,-4761,-7473,-8108,-7618,-7367,-6799,-4558,-3454,-6875,-7278,-8186,-5770,-2869,-1111,599,{"$f":"DJ20-CX20","v":2206.9999999999982},2407,3151,4006,4227,7377,8637,12899,12233,7881,7632,7018,4098.0000000000018,3617,2973,839,-944,747,2257,-1381,{"$f":"ED20-DR20","v":-2746},-140,-280,{"$f":"EG20-DU20","v":-1419},-89,2488,3149,1725,1151,-878,-2977,-3218,-3060,-2743,-4214,-4835,-5093,-7150,-7093,-5228,-2958,-1262,-2366,-1851,-2753,-3236,-1587,-1899,-795,-90,-154,884,1585,385,14,758,{"$f":"FN20-FB20","v":2899},{"$f":"FO20-FC20","v":873},{"$f":"FP20-FD20","v":-91},1647,1493,2076,{"$f":"FT20-FH20","v":1717},{"$f":"FU20-FI20","v":869},286,-634,-1615,-734,-24,712,1211,-363,-713,-1505,-62,793,-1071,354,3478,62,-1421,-1914,-1223,-1294,-2601,-2270.3780383392295,-4105.3780383392332,-2374.6644418012293,1079.8300079392684,2234.7814923715814,{"$f":"GV20-GJ20","v":2571.3322271090401},{"$f":"GW20-GK20","v":5088.0764174319229},4401.1212952986316,6414.8650889477321,1419.3098060211269,-785.00138045041786,1662.7520641275241,2816.6134237344813]
["Days of Forward Supply",null,null,null,null,null,null,null,null,null,null,null,null,13.967933685629784,3.9842745285181564,9.9348800928121612,11.623991863755691,30.600559483855044,27.267876329232777,20.277989373816524,22.022667631898912,11.316971316690697,-10.13388579711102,-2.2330968616628724,17.878460503431562,-7.5205050890756446,-9.9923514148158947,-9.0915950495609756,-29.25688249346976,-16.099363922119949,-23.586218125136938,-18.851330461908006,-26.675087744255208,3.6675123360944895,3.2952769809156592,-7.6446285835654351,-4.6270883164164829,-5.8951033431559878,1.6549257095230505,2.7330763745075828,7.4944403038972567,8.8100366587112688,7.1899953159461774,6.2006188636677138,13.04365554924216,21.405418874014529,-8.9268950063432015,-2.8008213771506618,-4.223219820219299,2.8040099764179196,18.561502182195269,14.301344188658614,14.942169764269565,20.526484193623901,53.646074232836142,74.756862019771859,27.555552105658236,0.57622337806616031,9.0377522654820552,-10.995612218813662,-4.3941416180154818,0.72093422744812585,-14.675541994142367,-8.0770239324572266,14.681469655239091,-6.8557001652281713,-48.891302131789615,-71.448904901910467,-18.342694805059637,-11.619371147068904,21.783333075154573,40.061150781497936,0.77460886897544867,-0.21389341942865059,-2.5854416216973561,-4.5624423324372714,-34.835516893007494,-29.376373145198485,-3.7455089300904945,21.698657979367042,9.6107374677677058,-2.9659265107127197,-2.6408537441820101,-6.369864035358475,18.264440711241555,22.634913938700329,22.876737150360295,50.290227767716502,63.078334944650393,60.40913004869023,53.197085148108158,7.4522593823450336,-1.5165559681725682,20.445691670727982,12.119231979652326,6.1931365585939346,-4.6353873516625228,-19.598113833173922,-14.803100045055576,-48.060720031875732,-52.571594105630631,-38.401899833696433,-51.951311065821315,-37.511585255305988,7.6127404630822184,-7.1877415818712223,-39.565999123834409,-37.878843727110365,-21.626375883679295,-11.01930977845894,-8.2413189875647426,-3.0373684554363543,-2.4367307293121101,-6.7755977285144695,2.030406898860619,11.505272533336822,-15.705566771634324,-5.4906573124293772,13.89041360260385,23.327477094155952,27.223734009284456,26.227270903530663,18.084437372965589,25.602940287610352,37.067045966228036,33.605854910946249,32.617059659084504,28.935818154711271,20.170569395691601,14.506812227841451,17.466131649674182,15.249098382040899,0.80230720709856485,-6.6382915729811742,-0.86811921350389554,-1.7881392636249842,-10.122561625540115,-9.1640060782669224,4.6912889137404363,7.1032427414607184,-3.1888235475355202,-8.1568278492494812,-11.947632301900285,-14.12608465806268,-9.5203662325933394,-6.1651029910227777,-5.9050160623278742,-13.643523597316197,-21.7269051354277,-25.68536240738284,-35.420966879022544,-23.743082709702989,-13.461177636382573,-2.2587918212946221,-4.429589102667336,-7.3835677581417087,-1.8960004026051962,-7.301583886107192,-5.9500088771308768,-5.1101842738880769,-17.512316828745078,-1.9549186955087379,-24.701992518620912,-9.145505711803068,-2.889493472543748,3.0718226195567837,2.400948443210595,0.50481356948488099,0.34845241793245663,5.0397177237955439,-2.1558178103785259,1.3917011014549558,26.079697652814147,7.1391844750503566,51.390552050097568,22.372825273882853,0.99188194434765364,9.6296445872049219,4.8647744780434152,2.9825755908035205,2.7832345307830906,6.9962681283565686,7.6044633141253755,7.2688594103607223,{"$f":"GC21-FQ21","v":-3.434447570911523},5.1873788278738573,-10.601344578592162,0.89956405230935843,21.072228357995655,-2.2808357970089759,3.9255950085260736,15.772850610842298,-2.7289511193717999,-4.5251656768978989,-7.8663606981299985,-10.103760837053599,-21.759785874664779,-35.874325926204826,-20.864245197145834,-22.428890616384066,-29.53153161543456,-9.9992049592635794,-6.9117063158459757,-9.8903717816512682,3.1620528722484451,1.8720840555506157,12.109112586216028,-1.1506976659390986,-4.7610592900371884,6.7053748420520023,5.4689206255469287]
[]
["CHANGE FROM PREVIOUS FCST"]
[null,{"$f":"B$3","v":"2005-01-15"},{"$f":"C$3","v":"2005-02-15"},"2005-03-15","2005-04-15","2005-05-15","2005-06-15","2005-07-15","2005-08-15","2005-09-15","2005-10-15","2005-11-15","2005-12-15","2006-01-15","2006-02-15","2006-03-15","2006-04-15","2006-05-15","2006-06-15","2006-07-15","2006-08-15","2006-09-15","2006-10-15","2006-11-15","2006-12-15","2007-01-15","2007-02-15","2007-03-15","2007-04-15","2007-05-15","2007-06-15","2007-07-15","2007-08-15","2007-09-15","2007-10-15","2007-11-15","2007-12-15","2008-01-15","2008-02-15","2008-03-15","2008-04-15","2008-05-15","2008-06-15","2008-07-15","2008-08-15","2008-09-15","2008-10-15","2008-11-15","2008-12-15","2009-01-15","2009-02-15","2009-03-15","2009-04-15","2009-05-15","2009-06-15","2009-07-15","2009-08-15","2009-09-15","2009-10-15","2009-11-15","2009-12-15","2010-01-15","2010-02-15","2010-03-15","2010-04-15","2010-05-15",{"$f":"BO$3","v":"2010-06-15"},"2010-07-15","2010-08-15","2010-09-15","2010-10-15","2010-11-15","2010-12-15","2011-01-15","2011-02-15","2011-03-15","2011-04-15","2011-05-15","2011-06-15","2011-07-15","2011-08-15","2011-09-15","2011-10-15","2011-11-15","2011-12-15","2012-01-15","2012-02-15","2012-03-15","2012-04-15","2012-05-15","2012-06-15","2012-07-15","2012-08-15","2012-09-15","2012-10-15","2012-11-15","2012-12-15","2013-01-15","2013-02-15","2013-03-15","2013-04-15","2013-05-15","2013-06-15","2013-07-15","2013-08-15","2013-09-15","2013-10-15","2013-11-15","2013-12-15","2014-01-15","2014-02-15","2014-03-15","2014-04-15","2014-05-15","2014-06-15","2014-07-15","2014-08-15","2014-09-15","2014-10-15","2014-11-15","2014-12-15","2015-01-15","2015-02-15","2015-03-15","2015-04-15","2015-05-15","2015-06-15","2015-07-15","2015-08-15","2015-09-15",{"$f":"EA$3","v":"2015-10-15"},"2015-11-15","2015-12-15","2016-01-15","2016-02-15","2016-03-15","2016-04-15","2016-05-15","2016-06-15","2016-07-15","2016-08-15","2016-09-15","2016-10-15","2016-11-15","2016-12-15","2017-01-15","2017-02-15","2017-03-15","2017-04-15","2017-05-15","2017-06-15","2017-07-15","2017-08-15","2017-09-15","2017-10-15","2017-11-15","2017-12-15","2018-01-15","2018-02-15","2018-03-15","2018-04-15","2018-05-15","2018-06-15","2018-07-15","2018-08-15","2018-09-15","2018-10-15","2018-11-15","2018-12-15","2019-01-15","2019-02-15","2019-03-15","2019-04-15","2019-05-15","2019-06-15","2019-07-15","2019-08-15","2019-09-15","2019-10-15","2019-11-15","2019-12-15","2020-01-15","2020-02-15","2020-03-15","2020-04-15","2020-05-15","2020-06-15","2020-07-15","2020-08-15","2020-09-15","2020-10-15","2020-11-15","2020-12-15","2021-01-15","2021-02-15","2021-03-15","2021-04-15","2021-05-15","2021-06-15","2021-07-15","2021-08-15","2021-09-15","2021-10-15",{"$f":"GV$3","v":"2021-11-15"},"2021-12-15","2022-01-15","2022-02-15","2022-03-15","2022-04-15","2022-05-15"]
[{"$f":"A4","v":"SUPPLY"}]
["Gas Processing",null,null,null,null,null,null,null,null,null,null,null,null,null,null,null,null,null,null,null,null,null,null,null,null,null,null,null,null,null,null,null,null,null,null,null,null,null,null,null,null,null,null,null,null,null,null,null,null,null,null,null,null,null,null,null,null,null,null,null,null,null,null,null,null,null,null,null,null,null,null,null,null,null,null,null,null,null,null,null,null,null,null,null,null,null,null,null,null,null,null,null,null,null,null,null,null,null,null,null,null,null,null,null,null,null,null,null,null,{"$f":"DF5-DF68","v":0},0,0,0,0,0,0,0,0,0,0,0,0,0,0,0,0,0,0,0,0,0,0,0,{"$f":"ED5-ED68","v":0},0,0,0,0,0,0,0,0,0,0,0,0,0,0,0,0,0,0,0,0,0,0,0,0,0,0,0,{"$f":"FF5-FF68","v":0},0,{"$f":"FH5-FH68","v":0},0,{"$f":"FJ5-FJ68","v":0},0,{"$f":"FL5-FL68","v":0},0,{"$f":"FN5-FN68","v":0},0,{"$f":"FP5-FP68","v":0},0,{"$f":"FR5-FR68","v":0},0,{"$f":"FT5-FT68","v":0},0,{"$f":"FV5-FV68","v":0},0,{"$f":"FX5-FX68","v":0},0,{"$f":"FZ5-FZ68","v":0},0,{"$f":"GB5-GB68","v":0},0,{"$f":"GD5-GD68","v":0},0,{"$f":"GF5-GF68","v":0},0,{"$f":"GH5-GH68","v":0},0,{"$f":"GJ5-GJ68","v":0},0,{"$f":"GL5-GL68","v":0},0,{"$f":"GN5-GN68","v":0},0,{"$f":"GP5-GP68","v":3591.0181616129121},4771.5129036665312,{"$f":"GR5-GR68","v":7372.3276938171475},5386.6511349080247,{"$f":"GT5-GT68","v":5388.9151688499842},5375.0253098345711,{"$f":"GV5-GV68","v":5360.2585390079767},5350.6174193885527,{"$f":"GX5-GX68","v":5414.0331733862404},5410.5495363043738,{"$f":"GZ5-GZ68","v":5417.3035756481113},5423.773475202499,{"$f":"HB5-HB68","v":5446.287086793629}]
["Refinery Production",null,null,null,null,null,null,null,null,null,null,null,null,null,null,null,null,null,null,null,null,null,null,null,null,null,null,null,null,null,null,null,null,null,null,null,null,null,null,null,null,null,null,null,null,null,null,null,null,null,null,null,null,null,null,null,null,null,null,null,null,null,null,null,null,null,null,null,null,null,null,null,null,null,null,null,null,null,null,null,null,null,null,null,null,null,null,null,null,null,null,null,null,null,null,null,null,null,null,null,null,null,null,null,null,null,null,null,null,{"$f":"DF6-DF69","v":0},0,0,0,0,0,0,0,0,0,0,0,0,0,0,0,0,0,0,0,0,0,0,0,{"$f":"ED6-ED69","v":0},0,0,0,0,0,0,0,0,0,0,0,0,0,0,0,0,0,0,0,0,0,0,0,0,0,0,0,{"$f":"FF6-FF69","v":0},0,{"$f":"FH6-FH69","v":0},0,{"$f":"FJ6-FJ69","v":0},0,{"$f":"FL6-FL69","v":0},0,{"$f":"FN6-FN69","v":0},0,{"$f":"FP6-FP69","v":0},0,{"$f":"FR6-FR69","v":0},0,{"$f":"FT6-FT69","v":0},0,{"$f":"FV6-FV69","v":0},0,{"$f":"FX6-FX69","v":0},0,{"$f":"FZ6-FZ69","v":0},0,{"$f":"GB6-GB69","v":0},0,{"$f":"GD6-GD69","v":0},0,{"$f":"GF6-GF69","v":0},0,{"$f":"GH6-GH69","v":0},0,{"$f":"GJ6-GJ69","v":0},0,{"$f":"GL6-GL69","v":0},0,{"$f":"GN6-GN69","v":0},0,{"$f":"GP6-GP69","v":-138.72098568730871},688.44261766565614,{"$f":"GR6-GR69","v":2603.906553842593},5248.3701318928506,{"$f":"GT6-GT69","v":93.425719011065667},4325.2755149358127,{"$f":"GV6-GV69","v":2684.8150355772523},-1509.8752602636232,{"$f":"GX6-GX69","v":-1986.3597710137401},-1981.9784578465769,{"$f":"GZ6-GZ69","v":-1938.6972456095536},-1650.9880696425244,{"$f":"HB6-HB69","v":-2017.1863752854551}]
[{"$f":"A7","v":"Imports"},null,null,null,null,null,null,null,null,null,null,null,null,null,null,null,null,null,null,null,null,null,null,null,null,null,null,null,null,null,null,null,null,null,null,null,null,null,null,null,null,null,null,null,null,null,null,null,null,null,null,null,null,null,null,null,null,null,null,null,null,null,null,null,null,null,null,null,null,null,null,null,null,null,null,null,null,null,null,null,null,null,null,null,null,null,null,null,null,null,null,null,null,null,null,null,null,null,null,null,null,null,null,null,null,null,null,null,null,{"$f":"DF7-DF70","v":0},0,0,0,0,0,0,0,0,0,0,0,0,0,0,0,0,0,0,0,0,0,0,0,{"$f":"ED7-ED70","v":0},0,0,0,0,0,0,0,0,0,0,0,0,0,0,0,0,0,0,0,0,0,0,0,0,0,0,0,{"$f":"FF7-FF70","v":0},0,{"$f":"FH7-FH70","v":0},0,{"$f":"FJ7-FJ70","v":0},0,{"$f":"FL7-FL70","v":0},0,{"$f":"FN7-FN70","v":0},0,{"$f":"FP7-FP70","v":0},0,{"$f":"FR7-FR70","v":0},0,{"$f":"FT7-FT70","v":0},0,{"$f":"FV7-FV70","v":0},0,{"$f":"FX7-FX70","v":0},0,{"$f":"FZ7-FZ70","v":0},0,{"$f":"GB7-GB70","v":0},0,{"$f":"GD7-GD70","v":0},0,{"$f":"GF7-GF70","v":0},0,{"$f":"GH7-GH70","v":0},0,{"$f":"GJ7-GJ70","v":0},0,{"$f":"GL7-GL70","v":-1.5218686774169328},3496.0511492141959,{"$f":"GN7-GN70","v":-5963.4508724961706},-10895.693528465396,{"$f":"GP7-GP70","v":-11949.577726030671},39936.430387135391,{"$f":"GR7-GR70","v":34484.346074875415},34858.531587515972,{"$f":"GT7-GT70","v":33674.104164009128},32116.393667722459,{"$f":"GV7-GV70","v":23190.608434923844},22913.55552821335,{"$f":"GX7-GX70","v":26093.103306397992},26814.965771688025,{"$f":"GZ7-GZ70","v":25735.36882261085},29149.482507086632,{"$f":"HB7-HB70","v":29455.373373548704}]
["Net Inter-PADD Transfers (+ = Receipt)",null,null,null,null,null,null,null,null,null,null,null,null,null,null,null,null,null,null,null,null,null,null,null,null,null,null,null,null,null,null,null,null,null,null,null,null,null,null,null,null,null,null,null,null,null,null,null,null,null,null,null,null,null,null,null,null,null,null,null,null,null,null,null,null,null,null,null,null,null,null,null,null,null,null,null,null,null,null,null,null,null,null,null,null,null,null,null,null,null,null,null,null,null,null,null,null,null,null,null,null,null,null,null,null,null,null,null,null,{"$f":"DF8-DF71","v":0},0,0,0,0,0,0,0,0,0,0,0,0,0,0,0,0,0,0,0,0,0,0,0,{"$f":"ED8-ED71","v":0},0,0,0,0,0,0,0,0,0,0,0,0,0,0,0,0,0,0,0,0,0,0,0,0,0,0,0,{"$f":"FF8-FF71","v":0},0,{"$f":"FH8-FH71","v":0},0,{"$f":"FJ8-FJ71","v":0},0,{"$f":"FL8-FL71","v":0},0,{"$f":"FN8-FN71","v":0},0,{"$f":"FP8-FP71","v":0},0,{"$f":"FR8-FR71","v":0},0,{"$f":"FT8-FT71","v":0},0,{"$f":"FV8-FV71","v":0},0,{"$f":"FX8-FX71","v":0},0,{"$f":"FZ8-FZ71","v":0},0,{"$f":"GB8-GB71","v":0},0,{"$f":"GD8-GD71","v":0},0,{"$f":"GF8-GF71","v":0},0,{"$f":"GH8-GH71","v":0},0,{"$f":"GJ8-GJ71","v":0},0,{"$f":"GL8-GL71","v":0},0,{"$f":"GN8-GN71","v":4596.9932151867251},-191917.14408739744,{"$f":"GP8-GP71","v":-23000},-122458.24199279529,{"$f":"GR8-GR71","v":-142952.06170980231},50000,{"$f":"GT8-GT71","v":40000},40000,{"$f":"GV8-GV71","v":40000},39822.580645161332,{"$f":"GX8-GX71","v":50000},80000.000000000029,{"$f":"GZ8-GZ71","v":35419.354838709696},-70146.969696969783,{"$f":"HB8-HB71","v":5000}]
["Total Stock Change (Primary+Secondary+Tertiary)",null,null,null,null,null,null,null,null,null,null,null,null,null,null,null,null,null,null,null,null,null,null,null,null,null,null,null,null,null,null,null,null,null,null,null,null,null,null,null,null,null,null,null,null,null,null,null,null,null,null,null,null,null,null,null,null,null,null,null,null,null,null,null,null,null,null,null,null,null,null,null,null,null,null,null,null,null,null,null,null,null,null,null,null,null,null,null,null,null,null,null,null,null,null,null,null,null,null,null,null,null,null,null,null,null,null,null,null,{"$f":"DF9-DF72","v":0},0,0,0,0,0,0,0,0,0,0,0,0,0,0,0,0,0,0,0,0,0,0,0,{"$f":"ED9-ED72","v":0},0,0,0,0,0,0,0,0,0,0,0,0,0,0,0,0,0,0,0,0,0,0,0,0,0,0,0,{"$f":"FF9-FF72","v":0},0,{"$f":"FH9-FH72","v":0},0,{"$f":"FJ9-FJ72","v":0},0,{"$f":"FL9-FL72","v":0},0,{"$f":"FN9-FN72","v":0},0,{"$f":"FP9-FP72","v":0},0,{"$f":"FR9-FR72","v":0},0,{"$f":"FT9-FT72","v":0},0,{"$f":"FV9-FV72","v":0},0,{"$f":"FX9-FX72","v":0},0,{"$f":"FZ9-FZ72","v":0},0,{"$f":"GB9-GB72","v":0},0,{"$f":"GD9-GD72","v":0},0,{"$f":"GF9-GF72","v":0},0,{"$f":"GH9-GH72","v":0},0,{"$f":"GJ9-GJ72","v":0},0,{"$f":"GL9-GL72","v":1.5218686773441732},-3496.0511492142105,{"$f":"GN9-GN72","v":-3563.4032136143069},221755.87764045864,{"$f":"GP9-GP72","v":16161.521751552238},84012.601277974143,{"$f":"GR9-GR72","v":103402.6643620691},-91898.751102262962,{"$f":"GT9-GT72","v":-75193.963467340131},-75866.750134982867,{"$f":"GV9-GV72","v":-26472.955034147017},-2379.8655790884513,{"$f":"GX9-GX72","v":-24498.12816704053},-66808.898524910153,{"$f":"GZ9-GZ72","v":-5078.7301702588447},87954.755325557839,{"$f":"HB9-HB72","v":11073.201085538603}]
["     TOTAL SUPPLY",null,null,null,null,null,null,null,null,null,null,null,null,null,null,null,null,null,null,null,null,null,null,null,null,null,null,null,null,null,null,null,null,null,null,null,null,null,null,null,null,null,null,null,null,null,null,null,null,null,null,null,null,null,null,null,null,null,null,null,null,null,null,null,null,null,null,null,null,null,null,null,null,null,null,null,null,null,null,null,null,null,null,null,null,null,null,null,null,null,null,null,null,null,null,null,null,null,null,null,null,null,null,null,null,null,null,null,null,{"$f":"DF10-DF73","v":0},0,0,0,0,0,0,0,0,0,0,0,0,0,0,0,0,0,0,0,0,0,0,0,{"$f":"ED10-ED73","v":0},0,0,0,0,0,0,0,0,0,0,0,0,0,0,0,0,0,0,0,0,0,0,0,0,0,0,0,{"$f":"FF10-FF73","v":0},0,{"$f":"FH10-FH73","v":0},0,{"$f":"FJ10-FJ73","v":0},0,{"$f":"FL10-FL73","v":0},0,{"$f":"FN10-FN73","v":0},0,{"$f":"FP10-FP73","v":0},0,{"$f":"FR10-FR73","v":0},0,{"$f":"FT10-FT73","v":0},0,{"$f":"FV10-FV73","v":0},0,{"$f":"FX10-FX73","v":0},0,{"$f":"FZ10-FZ73","v":0},0,{"$f":"GB10-GB73","v":0},0,{"$f":"GD10-GD73","v":0},0,{"$f":"GF10-GF73","v":0},0,{"$f":"GH10-GH73","v":0},0,{"$f":"GJ10-GJ73","v":0},0,{"$f":"GL10-GL73","v":0},0,{"$f":"GN10-GN73","v":-4929.860870923847},18943.040024595859,{"$f":"GP10-GP73","v":-15335.758798552793},6950.745193646464,{"$f":"GR10-GR73","v":4911.1829748019809},3594.8017520538706,{"$f":"GT10-GT73","v":3962.4815845301782},5949.944357510074,{"$f":"GV10-GV73","v":44762.726975362108},64197.012753411196,{"$f":"GX10-GX73","v":55022.648541730014},43434.638325235748,{"$f":"GZ10-GZ73","v":59554.599821100186},50730.053541234694,{"$f":"HB10-HB73","v":48957.675170595467}]
["DEMAND"]
["  Residential and Commercial ",null,null,null,null,null,null,null,null,null,null,null,null,null,null,null,null,null,null,null,null,null,null,null,null,null,null,null,null,null,null,null,null,null,null,null,null,null,null,null,null,null,null,null,null,null,null,null,null,null,null,null,null,null,null,null,null,null,null,null,null,null,null,null,null,null,null,null,null,null,null,null,null,null,null,null,null,null,null,null,null,null,null,null,null,null,null,null,null,null,null,null,null,null,null,null,null,null,null,null,null,null,null,null,null,null,null,null,null,{"$f":"DF12-DF75","v":0},0,0,0,0,0,0,0,0,0,0,0,0,0,0,0,0,0,0,0,0,0,0,0,{"$f":"ED12-ED75","v":0},0,0,0,0,0,0,0,0,0,0,0,0,0,0,0,0,0,0,0,0,0,0,0,0,0,0,0,{"$f":"FF12-FF75","v":0},0,{"$f":"FH12-FH75","v":0},0,{"$f":"FJ12-FJ75","v":0},0,{"$f":"FL12-FL75","v":0},0,{"$f":"FN12-FN75","v":0},0,{"$f":"FP12-FP75","v":0},0,{"$f":"FR12-FR75","v":0},0,{"$f":"FT12-FT75","v":0},0,{"$f":"FV12-FV75","v":0},0,{"$f":"FX12-FX75","v":0},0,{"$f":"FZ12-FZ75","v":0},0,{"$f":"GB12-GB75","v":0},0,{"$f":"GD12-GD75","v":0},0,{"$f":"GF12-GF75","v":0},0,{"$f":"GH12-GH75","v":0},0,{"$f":"GJ12-GJ75","v":0},0,{"$f":"GL12-GL75","v":0},0,{"$f":"GN12-GN75","v":-3810.1174694432411},19740.727665600687,{"$f":"GP12-GP75","v":-25647.913677346311},7215.7160459830629,{"$f":"GR12-GR75","v":9571.3517408573389},8236.4834731443261,{"$f":"GT12-GT75","v":8650.0712734188128},11818.65726427664,{"$f":"GV12-GV75","v":51356.887872730644},71441.767913242569,{"$f":"GX12-GX75","v":54328.792747967876},43913.236936645,{"$f":"GZ12-GZ75","v":60961.766608927777},54008.62464685904,{"$f":"HB12-HB75","v":53034.190125642257}]
["  Chemical",null,null,null,null,null,null,null,null,null,null,null,null,null,null,null,null,null,null,null,null,null,null,null,null,null,null,null,null,null,null,null,null,null,null,null,null,null,null,null,null,null,null,null,null,null,null,null,null,null,null,null,null,null,null,null,null,null,null,null,null,null,null,null,null,null,null,null,null,null,null,null,null,null,null,null,null,null,null,null,null,null,null,null,null,null,null,null,null,null,null,null,null,null,null,null,null,null,null,null,null,null,null,null,null,null,null,null,null,{"$f":"DF13-DF76","v":0},0,0,0,0,0,0,0,0,0,0,0,0,0,0,0,0,0,0,0,0,0,0,0,{"$f":"ED13-ED76","v":0},0,0,0,0,0,0,0,0,0,0,0,0,0,0,0,0,0,0,0,0,0,0,0,0,0,0,0,{"$f":"FF13-FF76","v":0},0,{"$f":"FH13-FH76","v":0},0,{"$f":"FJ13-FJ76","v":0},0,{"$f":"FL13-FL76","v":0},0,{"$f":"FN13-FN76","v":0},0,{"$f":"FP13-FP76","v":0},0,{"$f":"FR13-FR76","v":0},0,{"$f":"FT13-FT76","v":0},0,{"$f":"FV13-FV76","v":0},0,{"$f":"FX13-FX76","v":0},0,{"$f":"FZ13-FZ76","v":0},0,{"$f":"GB13-GB76","v":0},0,{"$f":"GD13-GD76","v":0},0,{"$f":"GF13-GF76","v":0},0,{"$f":"GH13-GH76","v":0},0,{"$f":"GJ13-GJ76","v":0},0,{"$f":"GL13-GL76","v":0},0,{"$f":"GN13-GN76","v":0},0,{"$f":"GP13-GP76","v":629.57407915013027},651.24394467256934,{"$f":"GR13-GR76","v":-4606.2141225296291},-4606.2141225296291,{"$f":"GT13-GT76","v":-4606.2141225296291},-5512.6851038780369,{"$f":"GV13-GV76","v":-5512.6851038780296},-5512.6851038780369,{"$f":"GX13-GX76","v":-5062.6699933573691},-5062.6699933573691,{"$f":"GZ13-GZ76","v":-5062.6699933573691},-5062.6699933573691,{"$f":"HB13-HB76","v":-5062.6699933573691}]
["  Farm",null,null,null,null,null,null,null,null,null,null,null,null,null,null,null,null,null,null,null,null,null,null,null,null,null,null,null,null,null,null,null,null,null,null,null,null,null,null,null,null,null,null,null,null,null,null,null,null,null,null,null,null,null,null,null,null,null,null,null,null,null,null,null,null,null,null,null,null,null,null,null,null,null,null,null,null,null,null,null,null,null,null,null,null,null,null,null,null,null,null,null,null,null,null,null,null,null,null,null,null,null,null,null,null,null,null,null,null,{"$f":"DF14-DF77","v":0},0,0,0,0,0,0,0,0,0,0,0,0,0,0,0,0,0,0,0,0,0,0,0,{"$f":"ED14-ED77","v":0},0,0,0,0,0,0,0,0,0,0,0,0,0,0,0,0,0,0,0,0,0,0,0,0,0,0,0,{"$f":"FF14-FF77","v":0},0,{"$f":"FH14-FH77","v":0},0,{"$f":"FJ14-FJ77","v":0},0,{"$f":"FL14-FL77","v":0},0,{"$f":"FN14-FN77","v":0},0,{"$f":"FP14-FP77","v":0},0,{"$f":"FR14-FR77","v":0},0,{"$f":"FT14-FT77","v":0},0,{"$f":"FV14-FV77","v":0},0,{"$f":"FX14-FX77","v":0},0,{"$f":"FZ14-FZ77","v":0},0,{"$f":"GB14-GB77","v":0},0,{"$f":"GD14-GD77","v":0},0,{"$f":"GF14-GF77","v":0},0,{"$f":"GH14-GH77","v":0},0,{"$f":"GJ14-GJ77","v":0},0,{"$f":"GL14-GL77","v":0},0,{"$f":"GN14-GN77","v":-1119.7434014806131},-797.68764100484987,{"$f":"GP14-GP77","v":10279.35499319175},-916.21479700914915,{"$f":"GR14-GR77","v":-53.954643525728045},-35.46759856081917,{"$f":"GT14-GT77","v":-81.375566358983633},-356.02780288850772,{"$f":"GV14-GV77","v":-1081.4757934904774},-1732.0700559533143,{"$f":"GX14-GX77","v":5756.5257871195645},4584.0713819481171,{"$f":"GZ14-GZ77","v":3655.5032055297997},2034.098887732991,{"$f":"HB14-HB77","v":986.15503831058049}]
["  Other",null,null,null,null,null,null,null,null,null,null,null,null,null,null,null,null,null,null,null,null,null,null,null,null,null,null,null,null,null,null,null,null,null,null,null,null,null,null,null,null,null,null,null,null,null,null,null,null,null,null,null,null,null,null,null,null,null,null,null,null,null,null,null,null,null,null,null,null,null,null,null,null,null,null,null,null,null,null,null,null,null,null,null,null,null,null,null,null,null,null,null,null,null,null,null,null,null,null,null,null,null,null,null,null,null,null,null,null,{"$f":"DF15-DF78","v":0},0,0,0,0,0,0,0,0,0,0,0,0,0,0,0,0,0,0,0,0,0,0,0,{"$f":"ED15-ED78","v":0},0,0,0,0,0,0,0,0,0,0,0,0,0,0,0,0,0,0,0,0,0,0,0,0,0,0,0,{"$f":"FF15-FF78","v":0},0,{"$f":"FH15-FH78","v":0},0,{"$f":"FJ15-FJ78","v":0},0,{"$f":"FL15-FL78","v":0},0,{"$f":"FN15-FN78","v":0},0,{"$f":"FP15-FP78","v":0},0,{"$f":"FR15-FR78","v":0},0,{"$f":"FT15-FT78","v":0},0,{"$f":"FV15-FV78","v":0},0,{"$f":"FX15-FX78","v":0},0,{"$f":"FZ15-FZ78","v":0},0,{"$f":"GB15-GB78","v":0},0,{"$f":"GD15-GD78","v":0},0,{"$f":"GF15-GF78","v":0},0,{"$f":"GH15-GH78","v":0},0,{"$f":"GJ15-GJ78","v":0},0,{"$f":"GL15-GL78","v":0},0,{"$f":"GN15-GN78","v":0},0,{"$f":"GP15-GP78","v":0},0,{"$f":"GR15-GR78","v":0},0,{"$f":"GT15-GT78","v":0},0,{"$f":"GV15-GV78","v":0},0,{"$f":"GX15-GX78","v":0},0,{"$f":"GZ15-GZ78","v":0},0,{"$f":"HB15-HB78","v":0}]
["     US DOMESTIC CONSUMPTION",null,null,null,null,null,null,null,null,null,null,null,null,null,null,null,null,null,null,null,null,null,null,null,null,null,null,null,null,null,null,null,null,null,null,null,null,null,null,null,null,null,null,null,null,null,null,null,null,null,null,null,null,null,null,null,null,null,null,null,null,null,null,null,null,null,null,null,null,null,null,null,null,null,null,null,null,null,null,null,null,null,null,null,null,null,null,null,null,null,null,null,null,null,null,null,null,null,null,null,null,null,null,null,null,null,null,null,null,{"$f":"DF16-DF79","v":0},0,0,0,0,0,0,0,0,0,0,0,0,0,0,0,0,0,0,0,0,0,0,0,{"$f":"ED16-ED79","v":0},0,0,0,0,0,0,0,0,0,0,0,0,0,0,0,0,0,0,0,0,0,0,0,0,0,0,0,{"$f":"FF16-FF79","v":0},0,{"$f":"FH16-FH79","v":0},0,{"$f":"FJ16-FJ79","v":0},0,{"$f":"FL16-FL79","v":0},0,{"$f":"FN16-FN79","v":0},0,{"$f":"FP16-FP79","v":0},0,{"$f":"FR16-FR79","v":0},0,{"$f":"FT16-FT79","v":0},0,{"$f":"FV16-FV79","v":0},0,{"$f":"FX16-FX79","v":0},0,{"$f":"FZ16-FZ79","v":0},0,{"$f":"GB16-GB79","v":0},0,{"$f":"GD16-GD79","v":0},0,{"$f":"GF16-GF79","v":0},0,{"$f":"GH16-GH79","v":0},0,{"$f":"GJ16-GJ79","v":0},0,{"$f":"GL16-GL79","v":0},0,{"$f":"GN16-GN79","v":-4929.860870923847},18943.04002459583,{"$f":"GP16-GP79","v":-14738.9846050044},6950.745193646464,{"$f":"GR16-GR79","v":4911.1829748019809},3594.8017520538706,{"$f":"GT16-GT79","v":3962.4815845301782},5949.944357510074,{"$f":"GV16-GV79","v":44762.726975362108},64197.012753411196,{"$f":"GX16-GX79","v":55022.648541730014},43434.638325235748,{"$f":"GZ16-GZ79","v":59554.599821100186},50980.053541234694,{"$f":"HB16-HB79","v":48957.675170595467}]
["EXPORTS",null,null,null,null,null,null,null,null,null,null,null,null,null,null,null,null,null,null,null,null,null,null,null,null,null,null,null,null,null,null,null,null,null,null,null,null,null,null,null,null,null,null,null,null,null,null,null,null,null,null,null,null,null,null,null,null,null,null,null,null,null,null,null,null,null,null,null,null,null,null,null,null,null,null,null,null,null,null,null,null,null,null,null,null,null,null,null,null,null,null,null,null,null,null,null,null,null,null,null,null,null,null,null,null,null,null,null,null,{"$f":"DF17-DF80","v":0},0,0,0,0,0,0,0,0,0,0,0,0,0,0,0,0,0,0,0,0,0,0,0,{"$f":"ED17-ED80","v":0},0,0,0,0,0,0,0,0,0,0,0,0,0,0,0,0,0,0,0,0,0,0,0,0,0,0,0,{"$f":"FF17-FF80","v":0},0,{"$f":"FH17-FH80","v":0},0,{"$f":"FJ17-FJ80","v":0},0,{"$f":"FL17-FL80","v":0},0,{"$f":"FN17-FN80","v":0},0,{"$f":"FP17-FP80","v":0},0,{"$f":"FR17-FR80","v":0},0,{"$f":"FT17-FT80","v":0},0,{"$f":"FV17-FV80","v":0},0,{"$f":"FX17-FX80","v":0},0,{"$f":"FZ17-FZ80","v":0},0,{"$f":"GB17-GB80","v":0},0,{"$f":"GD17-GD80","v":0},0,{"$f":"GF17-GF80","v":0},0,{"$f":"GH17-GH80","v":0},0,{"$f":"GJ17-GJ80","v":0},0,{"$f":"GL17-GL80","v":0},0,{"$f":"GN17-GN80","v":0},0,{"$f":"GP17-GP80","v":-596.7741935483873},0,{"$f":"GR17-GR80","v":0},0,{"$f":"GT17-GT80","v":0},0,{"$f":"GV17-GV80","v":0},0,{"$f":"GX17-GX80","v":0},0,{"$f":"GZ17-GZ80","v":0},-250,{"$f":"HB17-HB80","v":0}]
["     TOTAL DEMAND",null,null,null,null,null,null,null,null,null,null,null,null,null,null,null,null,null,null,null,null,null,null,null,null,null,null,null,null,null,null,null,null,null,null,null,null,null,null,null,null,null,null,null,null,null,null,null,null,null,null,null,null,null,null,null,null,null,null,null,null,null,null,null,null,null,null,null,null,null,null,null,null,null,null,null,null,null,null,null,null,null,null,null,null,null,null,null,null,null,null,null,null,null,null,null,null,null,null,null,null,null,null,null,null,null,null,null,null,{"$f":"DF18-DF81","v":0},0,0,0,0,0,0,0,0,0,0,0,0,0,0,0,0,0,0,0,0,0,0,0,{"$f":"ED18-ED81","v":0},0,0,0,0,0,0,0,0,0,0,0,0,0,0,0,0,0,0,0,0,0,0,0,0,0,0,0,{"$f":"FF18-FF81","v":0},0,{"$f":"FH18-FH81","v":0},0,{"$f":"FJ18-FJ81","v":0},0,{"$f":"FL18-FL81","v":0},0,{"$f":"FN18-FN81","v":0},0,{"$f":"FP18-FP81","v":0},0,{"$f":"FR18-FR81","v":0},0,{"$f":"FT18-FT81","v":0},0,{"$f":"FV18-FV81","v":0},0,{"$f":"FX18-FX81","v":0},0,{"$f":"FZ18-FZ81","v":0},0,{"$f":"GB18-GB81","v":0},0,{"$f":"GD18-GD81","v":0},0,{"$f":"GF18-GF81","v":0},0,{"$f":"GH18-GH81","v":0},0,{"$f":"GJ18-GJ81","v":0},0,{"$f":"GL18-GL81","v":0},0,{"$f":"GN18-GN81","v":-4929.860870923847},18943.040024595859,{"$f":"GP18-GP81","v":-15335.758798552793},6950.745193646464,{"$f":"GR18-GR81","v":4911.1829748019809},3594.8017520538706,{"$f":"GT18-GT81","v":3962.4815845301782},5949.944357510074,{"$f":"GV18-GV81","v":44762.726975362108},64197.012753411196,{"$f":"GX18-GX81","v":55022.648541730014},43434.638325235748,{"$f":"GZ18-GZ81","v":59554.599821100186},50730.053541234694,{"$f":"HB18-HB81","v":48957.675170595467}]
[]
["INVENTORIES (End of Month, Thousand Barrels)",null,null,null,null,null,null,null,null,null,null,null,null,null,null,null,null,null,null,null,null,null,null,null,null,null,null,null,null,null,null,null,null,null,null,null,null,null,null,null,null,null,null,null,null,null,null,null,null,null,null,null,null,null,null,null,null,null,null,null,null,null,null,null,null,null,null,null,null,null,null,null,null,null,null,null,null,null,null,null,null,null,null,null,null,null,null,null,null,null,null,null,null,null,null,null,null,null,null,null,null,null,null,null,null,null,null,null,null,{"$f":"DF20-DF83","v":0},0,0,0,0,0,0,0,0,0,0,0,0,0,0,0,0,0,0,0,0,0,0,0,{"$f":"ED20-ED83","v":0},0,0,0,0,0,0,0,0,0,0,0,0,0,0,0,0,0,0,0,0,0,0,0,0,0,0,0,{"$f":"FF20-FF83","v":0},0,{"$f":"FH20-FH83","v":0},0,{"$f":"FJ20-FJ83","v":0},0,{"$f":"FL20-FL83","v":0},0,{"$f":"FN20-FN83","v":0},0,{"$f":"FP20-FP83","v":0},0,{"$f":"FR20-FR83","v":0},0,{"$f":"FT20-FT83","v":0},0,{"$f":"FV20-FV83","v":0},0,{"$f":"FX20-FX83","v":0},0,{"$f":"FZ20-FZ83","v":0},0,{"$f":"GB20-GB83","v":0},0,{"$f":"GD20-GD83","v":0},0,{"$f":"GF20-GF83","v":0},0,{"$f":"GH20-GH83","v":0},0,{"$f":"GJ20-GJ83","v":0},0,{"$f":"GL20-GL83","v":0},0,{"$f":"GN20-GN83","v":0},0,{"$f":"GP20-GP83","v":508.99999999999818},-2011.3780383392259,{"$f":"GR20-GR83","v":-5216.8606335633704},-2367.9993493932197,{"$f":"GT20-GT83","v":-112.1804453730183},2239.6888088114501,{"$f":"GV20-GV83","v":3033.8774598358577},3107.653292787596,{"$f":"GX20-GX83","v":3867.0952659658524},5737.7444246633349,{"$f":"GZ20-GZ83","v":5895.1850599413592},3256.542400174626,{"$f":"HB20-HB83","v":2913.2731665229294}]
["Days of Forward Supply",null,null,null,null,null,null,null,null,null,null,null,null,null,null,null,null,null,null,null,null,null,null,null,null,null,null,null,null,null,null,null,null,null,null,null,null,null,null,null,null,null,null,null,null,null,null,null,null,null,null,null,null,null,null,null,null,null,null,null,null,null,null,null,null,null,null,null,null,null,null,null,null,null,null,null,null,null,null,null,null,null,null,null,null,null,null,null,null,null,null,null,null,null,null,null,null,null,null,null,null,null,null,null,null,null,null,null,null,{"$f":"DF21-DF84","v":0},{"$f":"DG21-DG84","v":0},{"$f":"DH21-DH84","v":0},{"$f":"DI21-DI84","v":0},0,0,0,0,0,0,0,0,0,0,0,0,0,0,0,0,0,0,0,0,{"$f":"ED21-ED84","v":0},0,0,0,0,0,0,0,0,0,0,0,0,0,0,0,0,0,0,0,0,0,0,0,0,0,0,0,{"$f":"FF21-FF84","v":0},0,{"$f":"FH21-FH84","v":0},0,{"$f":"FJ21-FJ84","v":0},0,{"$f":"FL21-FL84","v":0},0,{"$f":"FN21-FN84","v":0},0,{"$f":"FP21-FP84","v":0},0,{"$f":"FR21-FR84","v":0},0,{"$f":"FT21-FT84","v":0},0,{"$f":"FV21-FV84","v":0},0,{"$f":"FX21-FX84","v":0},0,{"$f":"FZ21-FZ84","v":0},0,{"$f":"GB21-GB84","v":0},0,{"$f":"GD21-GD84","v":0},0,{"$f":"GF21-GF84","v":0},0,{"$f":"GH21-GH84","v":0},0,{"$f":"GJ21-GJ84","v":0},0,{"$f":"GL21-GL84","v":0},0,{"$f":"GN21-GN84","v":0.41657326903204606},-2.6755450843096966,{"$f":"GP21-GP84","v":5.3523129783760908},-15.678958051056952,{"$f":"GR21-GR84","v":-33.582783873596881},-11.317051263530871,{"$f":"GT21-GT84","v":-2.0470473163583307},4.9552024048592358,{"$f":"GV21-GV84","v":-0.35320026740362209},-0.17692802713832378,{"$f":"GX21-GX84","v":3.8987678306811056},9.5069004464603317,{"$f":"GZ21-GZ84","v":12.267474344712229},6.4934189339652235,{"$f":"HB21-HB84","v":-0.29057276724102366}]
[]
["PREVIOUS FCST VALUES"]
[null,{"$f":"B$3","v":"2005-01-15"},{"$f":"C$3","v":"2005-02-15"},"2005-03-15","2005-04-15","2005-05-15","2005-06-15","2005-07-15","2005-08-15","2005-09-15","2005-10-15","2005-11-15","2005-12-15","2006-01-15","2006-02-15","2006-03-15","2006-04-15","2006-05-15","2006-06-15","2006-07-15","2006-08-15","2006-09-15","2006-10-15","2006-11-15","2006-12-15","2007-01-15","2007-02-15","2007-03-15","2007-04-15","2007-05-15","2007-06-15","2007-07-15","2007-08-15","2007-09-15","2007-10-15","2007-11-15","2007-12-15","2008-01-15","2008-02-15","2008-03-15","2008-04-15","2008-05-15","2008-06-15","2008-07-15","2008-08-15","2008-09-15","2008-10-15","2008-11-15","2008-12-15","2009-01-15","2009-02-15","2009-03-15","2009-04-15","2009-05-15","2009-06-15","2009-07-15","2009-08-15","2009-09-15","2009-10-15","2009-11-15","2009-12-15","2010-01-15","2010-02-15","2010-03-15","2010-04-15","2010-05-15",{"$f":"BO$3","v":"2010-06-15"},"2010-07-15","2010-08-15","2010-09-15","2010-10-15","2010-11-15","2010-12-15","2011-01-15","2011-02-15","2011-03-15","2011-04-15","2011-05-15","2011-06-15","2011-07-15","2011-08-15","2011-09-15","2011-10-15","2011-11-15","2011-12-15","2012-01-15","2012-02-15","2012-03-15","2012-04-15","2012-05-15","2012-06-15","2012-07-15","2012-08-15","2012-09-15","2012-10-15","2012-11-15","2012-12-15","2013-01-15","2013-02-15","2013-03-15","2013-04-15","2013-05-15","2013-06-15","2013-07-15","2013-08-15","2013-09-15","2013-10-15","2013-11-15","2013-12-15","2014-01-15","2014-02-15","2014-03-15","2014-04-15","2014-05-15","2014-06-15","2014-07-15","2014-08-15","2014-09-15","2014-10-15","2014-11-15","2014-12-15","2015-01-15","2015-02-15","2015-03-15","2015-04-15","2015-05-15","2015-06-15","2015-07-15","2015-08-15","2015-09-15",{"$f":"EA$3","v":"2015-10-15"},"2015-11-15","2015-12-15","2016-01-15","2016-02-15","2016-03-15","2016-04-15","2016-05-15","2016-06-15","2016-07-15","2016-08-15","2016-09-15","2016-10-15","2016-11-15","2016-12-15","2017-01-15","2017-02-15","2017-03-15","2017-04-15","2017-05-15","2017-06-15","2017-07-15","2017-08-15","2017-09-15","2017-10-15","2017-11-15","2017-12-15","2018-01-15","2018-02-15","2018-03-15","2018-04-15","2018-05-15","2018-06-15","2018-07-15","2018-08-15","2018-09-15","2018-10-15","2018-11-15","2018-12-15","2019-01-15","2019-02-15","2019-03-15","2019-04-15","2019-05-15","2019-06-15","2019-07-15","2019-08-15","2019-09-15","2019-10-15","2019-11-15","2019-12-15","2020-01-15","2020-02-15","2020-03-15","2020-04-15","2020-05-15","2020-06-15","2020-07-15","2020-08-15","2020-09-15","2020-10-15","2020-11-15","2020-12-15","2021-01-15","2021-02-15","2021-03-15","2021-04-15","2021-05-15","2021-06-15","2021-07-15","2021-08-15","2021-09-15","2021-10-15",{"$f":"GV$3","v":"2021-11-15"},"2021-12-15","2022-01-15","2022-02-15","2022-03-15","2022-04-15","2022-05-15"]
[{"$f":"A4","v":"SUPPLY"}]
["Gas Processing",101741.93548387097,106428.57142857143,103322.58064516129,100500,101741.93548387097,100666.66666666667,99161.290322580651,103451.6129032258,102033.33333333333,96483.870967741939,96900,87354.838709677424,98064.516129032258,101000,100096.77419354839,103100,100451.6129032258,94966.666666666672,94709.677419354834,95419.354838709682,95800,96903.225806451606,105766.66666666667,100967.74193548386,90709.677419354834,100107.14285714286,97548.387096774197,93866.666666666672,95709.677419354834,90866.666666666672,95516.129032258061,90741.93548387097,93000,100419.35483870968,100366.66666666667,97548.387096774197,99870.967741935485,101896.55172413793,103032.25806451614,101500,99806.451612903227,99300,100709.67741935483,95806.451612903227,102000,103322.58064516129,106633.33333333333,97290.322580645166,109096.77419354839,116321.42857142857,115774.19354838709,114666.66666666667,107870.96774193548,109066.66666666667,105000,107741.93548387097,108266.66666666667,108806.45161290323,108700,107612.90322580645,111870.96774193548,113464.28571428571,118483.87096774194,120866.66666666667,120322.58064516129,119233.33333333333,121000,121903.22580645161,125000,128064.51612903226,128533.33333333333,124935.48387096774,128451.6129032258,126321.42857142857,134677.4193548387,132300,134483.87096774194,130433.33333333333,131870.96774193548,133064.51612903227,135633.33333333334,142870.96774193548,147433.33333333334,145387.09677419355,147032.25806451612,152896.55172413794,147806.45161290321,154500,157322.5806451613,157200,151677.4193548387,157548.38709677418,160733.33333333334,156741.93548387097,162966.66666666666,163354.83870967742,165129.03225806452,164214.28571428571,162387.09677419355,168433.33333333334,177193.54838709679,175966.66666666666,175967.74193548388,185193.54838709679,196033.33333333334,188967.74193548388,198100,183548.38709677418,183935.48387096773,195000,201193.54838709679,208466.66666666666,227387.09677419355,231966.66666666666,244580.64516129033,244580.64516129033,253866.66666666666,252096.77419354839,252633.33333333334,255903.22580645161,260967.74193548388,262357.14285714284,276419.3548387097,282233.33333333331,278064.51612903224,269166.66666666669,269322.58064516127,267419.3548387097,275600,298419.3548387097,292533.33333333331,293580.6451612903,287741.93548387097,305724.13793103449,310483.87096774194,307866.66666666669,303387.09677419357,303166.66666666669,298516.12903225806,297354.83870967739,294600,282806.45161290321,303666.66666666669,277225.80645161291,279677.41935483873,297750,302064.51612903224,304400,305870.96774193546,311866.66666666669,315064.51612903224,317419.3548387097,311900,325612.90322580648,333533.33333333337,325483.87096774194,328548.38709677418,329214.28571428574,339741.93548387097,340400,350870.96774193551,346133.33333333331,346709.67741935479,347709.67741935479,359466.66666666663,360516.12903225806,361266.66666666663,361000,359677.41935483873,355035.71428571426,358290.32258064521,366600,362806.45161290321,354733.33333333337,377612.90322580648,382612.90322580648,393233.33333333337,400161.29032258067,395066.66666666669,396290.32258064521,390451.61290322582,391137.93103448272,391709.67741935479,357500,303000,320033.33333333337,345774.19354838709,359741.93548387097,364433.33333333331,358645.16129032255,370900,369677.41935483873,367903.22580645158,316750,362032.25806451618,363300,363957.36893516127,353162.56354866672,360459.78619166673,362654.29601897311,363537.22618276521,362676.25691429089,361193.50359425868,361112.27705922077,364759.92654244258,364806.23388939851,364473.1945065686,365023.61129534739,366760.1039913987]
["Refinery Production",112741.93548387097,113535.71428571429,96451.612903225803,110033.33333333333,117612.90322580645,107500,107193.54838709677,105709.67741935483,105766.66666666667,101129.03225806452,108433.33333333333,112258.06451612903,110064.51612903226,108321.42857142857,95387.096774193546,107400,111838.70967741935,112333.33333333333,100354.83870967742,104032.25806451614,110233.33333333333,99838.709677419349,106800,115096.77419354839,115451.6129032258,113714.28571428571,108677.41935483871,111533.33333333333,111354.83870967742,106000,103290.32258064517,99709.677419354834,105966.66666666667,94354.838709677424,101600,107870.96774193548,104774.19354838709,106344.8275862069,98806.451612903227,104300,113516.12903225806,105566.66666666667,100870.96774193548,99741.93548387097,98000,94322.580645161288,93000,85322.580645161288,85580.645161290318,95250,89774.193548387091,94766.666666666672,100032.25806451614,106233.33333333333,103935.48387096774,98354.838709677424,103966.66666666667,97000,105000,104290.32258064517,102419.35483870968,110107.14285714286,104838.70967741935,104266.66666666667,110419.35483870968,109400,110225.80645161291,107709.67741935483,104766.66666666667,89032.258064516136,95466.666666666672,103516.12903225806,113838.70967741935,110857.14285714286,107709.67741935483,106733.33333333333,110387.09677419355,109666.66666666667,104000,98451.612903225803,109633.33333333333,103709.67741935483,109733.33333333333,111483.87096774194,111870.96774193548,116344.8275862069,111419.35483870968,117900,114838.70967741935,111733.33333333333,103451.6129032258,102451.6129032258,100866.66666666667,101096.77419354839,100666.66666666667,106354.83870967742,105774.19354838709,108392.85714285714,105903.22580645161,98466.666666666672,99870.967741935485,103100,112903.22580645161,112387.09677419355,103700,108451.6129032258,114533.33333333333,115129.03225806452,110806.45161290323,114214.28571428571,93387.096774193546,106333.33333333333,110548.3870967742,110100,117838.70967741935,116129.03225806452,113766.66666666667,96645.161290322576,113500,127548.3870967742,108225.80645161291,109000,108677.41935483871,121700,119064.51612903226,113266.66666666667,113258.06451612903,113225.80645161291,106266.66666666667,96741.93548387097,113533.33333333333,116870.96774193548,116709.67741935483,113172.41379310345,115225.80645161291,114166.66666666667,120612.90322580645,119766.66666666667,114774.19354838709,119806.45161290323,112233.33333333333,107258.06451612903,111600,115129.03225806452,112548.3870967742,116678.57142857143,122870.96774193548,120133.33333333333,125064.51612903226,119133.33333333333,111741.93548387097,120935.48387096776,109466.66666666666,111967.74193548385,114866.66666666666,123580.64516129033,115806.45161290323,116178.57142857142,113548.3870967742,124200,126580.64516129033,120133.33333333334,119064.51612903227,118000,106266.66666666669,93483.870967741939,115966.66666666669,121903.22580645161,121838.70967741936,102785.71428571429,112935.48387096776,121933.33333333333,109354.83870967742,114800,120419.35483870967,120612.90322580644,111400.00000000001,94645.161290322576,113566.66666666666,118064.51612903224,114225.80645161291,115448.27586206896,108032.25806451612,99233.333333333328,100064.51612903227,102933.33333333334,110419.35483870967,115322.58064516127,115066.66666666666,112838.70967741936,111899.99999999999,111322.5806451613,116225.80645161289,102607.14285714286,111387.09677419355,111300,118912.9145340744,117185.75405761537,113638.51215193665,113365.78146283071,106526.07566350003,101321.68953235666,109129.35461991734,115700.260440848,119178.96189083198,116796.68748661508,113638.6842028793,116325.85414162834,119841.98874074823]
[{"$f":"A7","v":"Imports"},150000,114892.85714285714,81322.580645161288,63133.333333333336,69032.258064516136,61200,68483.870967741939,72935.483870967742,77333.333333333328,104354.83870967742,92033.333333333343,129548.3870967742,90709.677419354834,116642.85714285714,92032.258064516122,80833.333333333343,43161.290322580644,38800,48806.451612903227,65419.354838709682,106333.33333333333,110322.58064516129,106400,139741.93548387097,116903.22580645162,125321.42857142858,80516.129032258075,45433.333333333328,34451.612903225803,40666.666666666664,82935.483870967742,74483.870967741939,60866.666666666664,84387.096774193546,70733.333333333343,91032.258064516122,118290.32258064515,98344.827586206899,129483.87096774194,56266.666666666664,50645.161290322576,50233.333333333336,51032.258064516129,63645.161290322583,54800,87838.709677419363,128900,119838.70967741935,103838.70967741936,75607.142857142855,87838.709677419349,48900,62290.322580645166,47933.333333333336,45870.967741935485,40129.032258064515,49266.666666666664,81032.258064516122,121433.33333333333,108451.6129032258,87548.387096774197,87428.57142857142,59483.870967741939,34500,33225.806451612902,31366.666666666664,30774.193548387098,37709.677419354841,48333.333333333328,62161.290322580651,64633.333333333336,84193.548387096773,77225.806451612909,77857.142857142855,65032.258064516122,38966.666666666672,36354.838709677424,27466.666666666668,33032.258064516129,42161.290322580644,51633.333333333336,49387.096774193546,50566.666666666664,72967.741935483878,81483.870967741939,60482.758620689659,42870.967741935485,38200,40419.354838709682,41766.666666666664,64806.451612903227,56451.612903225803,68766.666666666672,51064.516129032258,72000,85096.774193548379,95935.483870967742,81500,71709.677419354834,66200,52096.774193548386,65166.666666666664,69580.645161290318,44161.290322580651,49000,103096.77419354839,101100,65451.612903225803,94193.548387096773,105607.14285714287,66000,46500,35548.387096774197,56500,34612.903225806454,44322.580645161288,41733.333333333328,56548.38709677419,36200,54741.93548387097,52032.258064516129,67428.571428571435,60419.354838709682,79433.333333333328,53677.419354838712,59766.666666666672,67000,57774.193548387091,48366.666666666664,53451.61290322581,63933.333333333336,61419.354838709674,59870.967741935485,88793.10344827587,58225.806451612902,59300,60000,55100,55290.322580645159,48516.129032258068,66133.333333333328,69064.516129032258,79133.333333333328,78935.483870967742,107225.80645161291,92214.28571428571,78322.580645161288,52900,52709.677419354841,50000,50000,65135.128309690102,86219.6952326553,116031.86252241051,65465.088407634321,76734.379342846689,96153.8106349718,85832.648828188787,60969.686203744917,31960.259075509755,27464.20930334607,28651.101965086178,38436.61040276783,36260.723374091933,43126.443526771742,63225.385238235263,73869.674287060378,78687.068389655979,67784.52822037712,55502.614142373648,42965.753643752687,28912.046586452543,24553.528856163586,28725.811087974616,38513.764619383604,30757.979192681702,38427.545044701794,54652.775694490541,62745.221195403035,61308.592392470891,73820.160012441076,63052.466698492193,50791.277911765857,33165.553695804629,26345.402771335925,31020.788228372992,38597.261621205958,30454.374025946203,37179.068844855989,61992.604885990448,40661.016972266676,43800.727680806456,53383.305806451615,58746.483743714409,57907.67609736717,49748.549059432618,49455.428678514458,17725.264023302381,17811.43652735111,15240.40539355534,21761.070162556902,29976.692638996781,36165.176569068986,43971.533118820291,46375.329750572018,43447.513603841602,35459.120395277743,16659.572173925368,12635.18639669541]
["Net Inter-PADD Transfers (+ = Receipt)",54020.909025589528,54020.909025589528,54020.909025589528,54020.909025589528,54020.909025589528,54020.909025589528,54020.909025589528,54020.909025589528,54020.909025589528,54020.909025589528,54020.909025589528,54020.909025589528,47223.204763550078,47223.204763550078,47223.204763550078,47223.204763550078,47223.204763550078,47223.204763550078,47223.204763550078,47223.204763550078,47223.204763550078,47223.204763550078,47223.204763550078,47223.204763550078,60376.931975092273,60376.931975092273,60376.931975092273,60376.931975092273,60376.931975092273,60376.931975092273,60376.931975092273,60376.931975092273,60376.931975092273,60376.931975092273,60376.931975092273,60376.931975092273,45678.269911652023,45678.269911652023,45678.269911652023,45678.269911652023,45678.269911652023,45678.269911652023,45678.269911652023,45678.269911652023,45678.269911652023,45678.269911652023,45678.269911652023,45678.269911652023,64106.737202468328,64106.737202468328,64106.737202468328,64106.737202468328,64106.737202468328,64106.737202468328,64106.737202468328,64106.737202468328,64106.737202468328,64106.737202468328,64106.737202468328,64106.737202468328,38696.247698465071,38696.247698465071,38696.247698465071,38696.247698465071,38696.247698465071,38696.247698465071,38696.247698465071,38696.247698465071,38696.247698465071,38696.247698465071,38696.247698465071,38696.247698465071,22319.845537276531,22319.845537276531,22319.845537276531,22319.845537276531,22319.845537276531,22319.845537276531,22319.845537276531,22319.845537276531,22319.845537276531,22319.845537276531,22319.845537276531,22319.845537276531,-51227.241593290993,-51227.241593290993,-51227.241593290993,-51227.241593290993,-51227.241593290993,-51227.241593290993,-51227.241593290993,-51227.241593290993,-51227.241593290993,-51227.241593290993,-51227.241593290993,-51227.241593290993,-86142.465753424665,-86142.465753424665,-86142.465753424665,-86142.465753424665,-86142.465753424665,-86142.465753424665,-86142.465753424665,-86142.465753424665,-86142.465753424665,-86142.465753424665,-86142.465753424665,-86142.465753424665,-93531.506849315061,-93531.506849315061,-93531.506849315061,-93531.506849315061,-93531.506849315061,-93531.506849315061,-93531.506849315061,-93531.506849315061,-93531.506849315061,-93531.506849315061,-93531.506849315061,-93531.506849315061,-225495.89041095891,-225495.89041095891,-225495.89041095891,-225495.89041095891,-225495.89041095891,-225495.89041095891,-225495.89041095891,-225495.89041095891,-225495.89041095891,-225495.89041095891,-225495.89041095891,-225495.89041095891,-257810.9589041096,-257810.9589041096,-257810.9589041096,-257810.9589041096,-257810.9589041096,-257810.9589041096,-257810.9589041096,-257810.9589041096,-257810.9589041096,-257810.9589041096,-257810.9589041096,-257810.9589041096,-264142.46575342462,-264142.46575342462,-264142.46575342462,-264142.46575342462,-264142.46575342462,-264142.46575342462,-264142.46575342462,-264142.46575342462,-264142.46575342462,-264142.46575342462,-264142.46575342462,-264142.46575342462,-190000,-190000,-190000,-190000,-190000,-190000,-190000,-190000,-190000,-190000,-190000,-190000,-220000,-220000,-254845.39645709109,-254845.39645709109,-254845.39645709109,-254845.39645709109,-254845.39645709109,-254845.39645709109,-215532.48454907004,-277549.31954222731,-384110.3976532988,-287425.04927722254,-229576.96577960765,-278820.94144316477,-273526.14522139903,-257510.57222926759,-182922.23598445972,-139784.38629591773,-150393.0133803928,-169741.80115241226,-236595.9117577163,-233073.19545255619,-151532.77198768474,-410832.69008975133,-397661.59869514883,-251670.07632711157,-91804.47569580104,-267658.41869009321,-229795.08331248927,-101566.73160833374,-136390.77381006215,-185916.42812744697,-180071.21212121207,-183913.48973607033,-165324.24242424249,-183322.58064516127,-253965.05376344078,-242829.74137931049,-341159.89810744766,-215469.6969696969,-153027.12609970669]
["Total Stock Change (Primary+Secondary+Tertiary)",154396.69351583373,102048.57954919134,64760.68092006362,-116499.61940630182,-91587.033704794594,-107679.34835996859,-101017.02605651626,-75319.233771125088,-13703.967963067582,-34705.848701215116,8002.9200010344121,178569.77541428379,70197.154360241868,111582.49263613063,29052.02436120341,-120444.23256192503,-102411.73119615315,-103742.01877127717,-83050.621490575271,-80563.384486570067,-39318.188530484585,33950.543408408143,17469.910825871553,50761.277977471684,181488.91341935386,247247.9378650237,44990.722457398515,-48990.177883981494,-114764.66102495702,-103387.72610919175,-121112.55460200871,-58689.512375588536,-47298.250791251485,3307.604363725337,53688.98773659888,71377.106869624986,187356.03483620571,157255.06359979662,-12512.568051971128,-69050.601178611803,-128084.12985350538,-108035.53472742224,-89687.835874953016,-70283.397712681457,-72191.494753015009,53273.745012179912,31921.286480906674,99215.903700526178,146174.92528293486,16855.262019837108,-12717.706857290854,-68865.874707850191,-141148.58440850064,-160763.77394199645,-151561.9884161916,-61484.770905398196,-32969.919667936527,76345.254510012732,168088.94323738254,143546.17694417803,169135.93590643507,137683.90670384592,5253.1022618720999,-117675.88619125597,-119984.94985357158,-92240.32028703879,-78688.3030783266,-70956.720618354695,-46095.649848136236,-20825.203095726789,-2029.1273237414619,198445.37675860332,189405.2114063912,177925.09113880151,12519.737430146768,-46460.491465345309,-100622.47860134604,-112924.75452947128,-126035.0247647668,-94289.640548130294,-55001.739090197756,-27294.29541910873,2087.4676305820076,62937.396670401708,104778.61008351331,115228.01203818811,-28609.095513090491,-74665.311714357638,-88600.366987551737,-93150.789531622955,-66946.330990514543,-26474.002752458211,-33939.277753058923,16564.946295873327,33639.750341885025,127371.84502721907,184048.55327738455,119902.96757404282,34783.5322606966,-76910.61906163863,-127600.6766353924,-124407.02983735919,-108356.48024564011,-115717.57459609142,-79339.065925200688,-19730.83858746817,52258.06052721812,145360.46904473976,191430.23485997459,138701.97352761624,55018.296765917366,-40511.303730931817,-92865.075360842689,-122954.23367041232,-71878.829474124344,-59615.031568361359,-32245.526557647274,64847.699776026013,97895.106148211053,126872.13702241232,286549.39066399093,241016.48692409741,94502.002046720823,-40196.602199228248,-46553.565130734525,-38519.192776234966,-31809.451454465685,5094.4039000459306,35106.057726266823,89523.627267719829,114541.23161089345,194560.16966352426,287417.96408584417,211591.4846371623,94124.758619916975,4540.7260062797868,-32692.076965146989,-29716.291163288261,-5808.0938432587718,29980.633339851367,53603.062965959951,147396.07249352313,152968.77170205995,247880.11869884952,258168.82577386888,218361.41513179755,85488.523533748114,17005.566188928206,-27554.11850292873,-30426.801405118516,-26762.340822504164,-20160.138553211436,2968.8235413169605,63024.069761763094,148163.82009931753,178516.62413845351,176137.65595347981,98758.688650052471,2693.3237991469796,-17420.48699245078,-128386.46194452822,-57439.326036664483,-113949.51973113447,-78428.221750153316,-64799.444655837287,19291.489317970118,33758.786740320211,81605.502418383199,205328.61314652616,231383.94582664326,50517.074772289838,-67992.142421218741,-53432.972492146568,-80832.29236594704,-102688.63941024401,-39622.572940772981,-91791.904350604425,46332.886844679364,164470.483982581,124410.82165836159,85772.085243316833,121255.63344171428,6303.5495833302266,-32596.923855883972,-76879.753857731121,-149716.77868930672,-167089.04259217865,-129557.38079546159,-48959.148121331586,7425.4900288731442,-45892.052022796997,324241.40040026145,311317.81813444535,248147.47756375186,-94970.179528916546,6346.1434804762248,-52967.741935483966,-216599.99999999974,-184305.89016852059,-64898.461689285614,-52489.184857343178,46997.347411359835,22154.597209564992,111130.05298802763,221367.64823585644,168960.90589458513,172386.96510337514,-34077.715776506288,-159420.08639450447]
["     TOTAL SUPPLY",572901.47350916523,490926.63143192377,399878.36413920153,211187.95628595434,250820.97209498851,215708.22733228764,227842.59264649265,260798.44944801281,325450.27439585526,321282.80225985829,359390.49569329055,561751.97476245393,416259.06880121131,484769.98311396642,363791.35815701156,218112.30553495843,200263.08647062274,189581.18599227292,208043.55101491028,231530.78801891551,320271.68289973214,388238.26430099044,383659.78225608834,453790.934353925,564930.36152347841,646767.72698297317,392109.58991636173,262220.08742444409,187128.39998239331,194522.5391992339,221006.31285695452,266622.9034704715,272912.01451717416,342845.82666139823,386765.91971169115,428205.65174794308,555969.78861882549,509519.54040800035,364488.28250484221,238694.33539970691,181561.88199363052,192742.73518422985,208603.33726250543,234588.42058606737,228286.77515863703,384435.88589157385,406132.88972589199,447345.786515404,508797.79151766124,368140.57065087685,344776.12711937097,253574.19582795151,193151.70118106448,166576.29659380519,167351.20039918,248847.77274868306,292636.81753453182,427290.70138990041,567329.01377318415,528007.75285632384,509670.89328231948,487380.15440231096,326755.80157324037,180653.69484054242,182679.03978037735,206455.92741142621,222007.94462013847,235062.10772527166,270700.59785032884,297129.10911886732,325300.45370805694,549786.78574739094,531241.18597592576,515280.65096179233,342258.93780613295,253859.35407193122,202923.17338754341,176961.75767447194,165188.04657896137,201707.62434398496,264218.10644707875,290993.2920536517,332140.64650119189,415095.95188509766,393938.46526441589,393724.90837593161,222260.43708716688,184707.44669235137,172753.03658044763,166321.96887508605,201761.91128716216,238750.36855747661,245200.14732031676,274240.93050903396,318045.84208192735,430951.05504683126,464744.79720137926,387867.64467776101,288641.0665072719,170046.91518493669,115418.14793376352,133683.83774254943,163952.66690416104,139881.89513435488,183251.80165470799,294642.82469136524,379848.92810712673,423347.03554937954,486834.21188162727,459991.89524972969,322067.43507789262,227257.18941975309,187087.28875758417,182080.92614693922,231621.92174107669,251885.71964683969,283589.63325970428,376606.51550735609,406696.93263222935,471534.17856019404,482279.30670464493,454306.31079885276,314522.24066802004,217674.17405647947,178756.99607120978,178184.91681280619,192275.30329586571,218017.86832779672,239843.50064864129,312640.64008256741,359045.34119993448,440935.24699450086,493929.5858268959,461470.18090546655,320249.28358677513,228063.10043550355,193496.96413074341,190506.08326593551,204961.59241392193,237847.09379058043,268758.77072851697,348714.14584747801,389557.81279795035,461359.48237538512,493477.97292367008,460861.80652123009,324604.12229645252,230296.4337688369,191948.5770339692,186430.73284145686,185901.64503697443,219187.3627127315,246412.71968721424,352494.11169203924,397886.4427535272,440173.05385690782,526646.30529812898,439984.1946210984,326953.33258353703,289139.77208305895,186529.36026204366,247478.44259508833,200261.2842200204,233542.17904329338,254060.33220426776,346516.87455620535,394861.79436071386,453195.79661449086,534629.27039916138,524707.98854044545,309863.23841056437,194607.841041476,188436.45022950656,162581.45559826988,179011.98681656463,239515.81624643051,235736.48947836072,318242.79460984585,351738.6408580186,412649.20348328742,434692.69883098896,412073.36559359333,283310.61775756796,199791.39094398636,169607.92905817731,164486.28990981527,177308.75403573122,206219.70820710459,231124.00896580808,307828.77043004939,326036.19296178495,438209.43799131655,451168.5575038126,474581.02783749753,344552.37571135932,263036.2738498156,249562.88689977684,169906.85002125092,171213.07089237173,240445.5930586266,259263.97503026683,357058.49676093378,363318.38956856751,448591.54296175542,497716.81265626219,451181.59949512983,344798.06610065314,248461.62486469786,186790.06663463119]
["DEMAND"]
["  Residential and Commercial ",435414.42596890416,363865.7559582562,283032.87117857649,96603.954085820907,138457.72834047474,101936.33554976174,114638.5937620014,131346.69403699023,173030.60428976759,138307.8668266513,183521.90813450277,407635.09208123735,281852.31637645292,361732.11968254577,251769.85888942936,109580.84372161649,95865.512800640514,84226.788174341593,104440.92282986885,110253.24446082251,176940.28677368889,210174.98651997713,217495.14725542389,304556.95550202276,432841.59077103663,528176.26527174003,285818.42291300278,156409.29981807066,88212.752356015,95829.603249349093,121852.43898637724,150037.24238677256,133122.87754512063,170883.38436307936,221288.87952263001,280336.85660322424,432826.09608148399,401198.39838002424,268475.74519008852,146558.4229609583,92836.479069970548,105852.58960678951,123043.04884438407,127015.74779652021,92890.158076254171,210802.80058562109,241289.77713146727,305364.62665316102,370608.23587074794,245685.07099429992,238644.1203730297,149559.9901739003,92288.286496287299,66380.649338653428,68237.204566897868,121629.02247813433,133872.21169091237,228759.95004674169,351150.46566003573,365228.14734380739,376048.66743025009,369234.98222904827,219791.39664332636,74955.282623532068,81725.543437727625,106038.66055187106,122663.41009516326,119282.13541311145,117658.94092043843,144966.29830699178,160881.17419768887,406228.56815819838,398968.13766037329,392421.9197158693,231851.75937884513,147761.56894472966,100597.28682945573,74085.853630114463,63120.658922458199,84749.438189912224,126396.67898458695,126205.84522369568,171865.39575102885,269152.63254288433,261657.12604326912,273915.46604333317,110538.29118294036,77148.352750332604,69009.599027966586,63248.201351853975,99215.665591255791,121314.32939314445,107515.03250419495,109708.04765638245,158154.08486528369,285504.73927538254,376546.16676335491,312313.70863192558,228553.85159436162,113220.51912605501,60764.909600614643,76959.484606042213,108202.93816005328,61489.125500572627,76833.599464058512,153351.36272755329,228328.2255903194,314212.17414950504,363823.10369000921,347490.14883753198,220961.42233229976,128679.3514548524,93407.009972514803,93131.525330840406,109386.83669412517,120433.95978397738,121043.5350531627,184050.1736880953,216563.37172236788,312461.79924061347,349789.13575904636,332933.08693462401,206330.30024174417,113472.76082426723,77899.976019171052,77781.763005381217,94243.490992854146,104777.7159811554,105531.27658107369,150132.10330362141,201955.49424732596,298125.39431051369,349789.13575904636,332933.08693462401,206330.30024174417,113472.76082426723,77899.976019171052,77781.763005381217,94243.490992854146,104777.7159811554,105531.27658107369,150132.10330362141,201955.49424732596,298125.39431051369,349789.13575904636,332933.08693462401,206330.30024174417,113472.76082426723,77899.976019171052,73590.744247353141,74254.373024376458,84789.814370085311,84543.461981532091,150149.4386364221,203978.81348169805,273859.81801345927,379123.34344947623,307157.20561156323,209229.72435739901,172867.49158389424,77484.453747855034,137366.87128804607,93740.791615585214,104218.82653403825,104968.36760496495,144831.29134256483,219877.29761554801,286535.17891750252,436585.26588266285,425325.80000087211,221610.09493031399,105767.57511641673,99276.969838321631,72500.117222842833,87844.037991259596,128854.09770084628,98365.344615225098,139937.6237804158,188242.03053504101,277881.66788046632,322776.89322383626,307222.54200086341,190396.57462617217,104709.89936525258,71884.200139938417,71775.116050614408,86965.59761134701,96686.323805047403,97381.691169072859,138538.24754261164,226481.41428408615,324330.99976404174,336169.05106701778,349139.97316560929,248220.10464427454,176520.95008957139,175441.44618261504,102505.1329293209,102169.61797521493,108659.82153855976,123715.99898552062,204106.85737120037,257697.74251224243,322566.90282425744,366184.01195440703,329437.51017679233,233045.58814302305,153194.9132527113,100530.49845313368]
["  Chemical",59479.881864351242,59479.881864351242,59479.881864351242,59479.881864351242,59479.881864351242,59479.881864351242,59479.881864351242,59479.881864351242,59479.881864351242,59479.881864351242,59479.881864351242,59479.881864351242,58826.741588244506,58826.741588244506,58826.741588244506,58826.741588244506,58826.741588244506,58826.741588244506,58826.741588244506,58826.741588244506,58826.741588244506,58826.741588244506,58826.741588244506,58826.741588244506,48025.389749189097,48025.389749189097,48025.389749189097,48025.389749189097,48025.389749189097,48025.389749189097,48025.389749189097,48025.389749189097,48025.389749189097,48025.389749189097,48025.389749189097,48025.389749189097,38584.045499633066,38584.045499633066,38584.045499633066,38584.045499633066,38584.045499633066,38584.045499633066,38584.045499633066,38584.045499633066,38584.045499633066,38584.045499633066,38584.045499633066,38584.045499633066,50001.931724692404,50001.931724692404,50001.931724692404,50001.931724692404,50001.931724692404,50001.931724692404,50001.931724692404,50001.931724692404,50001.931724692404,50001.931724692404,50001.931724692404,50001.931724692404,55878.473581213308,55878.473581213308,55878.473581213308,55878.473581213308,55878.473581213308,55878.473581213308,55878.473581213308,55878.473581213308,55878.473581213308,55878.473581213308,55878.473581213308,55878.473581213308,57813.763861709063,57813.763861709063,57813.763861709063,57813.763861709063,57813.763861709063,57813.763861709063,57813.763861709063,57813.763861709063,57813.763861709063,57813.763861709063,57813.763861709063,57813.763861709063,55789.34586635013,55789.34586635013,55789.34586635013,55789.34586635013,55789.34586635013,55789.34586635013,55789.34586635013,55789.34586635013,55789.34586635013,55789.34586635013,55789.34586635013,55789.34586635013,45232.488705922951,45232.488705922951,45232.488705922951,45232.488705922951,45232.488705922951,45232.488705922951,45232.488705922951,45232.488705922951,45232.488705922951,45232.488705922951,45232.488705922951,45232.488705922951,46555.460946638377,46555.460946638377,46555.460946638377,46555.460946638377,46555.460946638377,46555.460946638377,46555.460946638377,46555.460946638377,46555.460946638377,46555.460946638377,46555.460946638377,46555.460946638377,49338.787071015497,49338.787071015497,49338.787071015497,49338.787071015497,49338.787071015497,49338.787071015497,49338.787071015497,49338.787071015497,49338.787071015497,49338.787071015497,49338.787071015497,49338.787071015497,49683.657649604327,49683.657649604327,49683.657649604327,49683.657649604327,49683.657649604327,49683.657649604327,49683.657649604327,49683.657649604327,49683.657649604327,49683.657649604327,49683.657649604327,49683.657649604327,49683.657649604327,49683.657649604327,49683.657649604327,49683.657649604327,49683.657649604327,49683.657649604327,49683.657649604327,49683.657649604327,49683.657649604327,49683.657649604327,49683.657649604327,49683.657649604327,49683.657649604327,49683.657649604327,49683.657649604327,48876.967722040848,48876.967722040848,48876.967722040848,48876.967722040848,48876.967722040848,48876.967722040848,48876.967722040848,48876.967722040848,48876.967722040848,50206.390747604091,50206.390747604091,50206.390747604091,50206.390747604091,50206.390747604091,50206.390747604091,50206.390747604091,50206.390747604091,50206.390747604091,50206.390747604091,50206.390747604091,50206.390747604091,50206.390747604091,50206.390747604091,50206.390747604091,50206.390747604091,50206.390747604091,50206.390747604091,50206.390747604091,50206.390747604091,50206.390747604091,50206.390747604091,46027.628858485266,44939.798744076747,45853.778212001409,48987.781753045063,46690.238849441201,45026.888179679314,45270.486654900466,45270.486654900466,48769.591163660625,48769.591163660625,48769.591163660625,52306.143152413446,52306.143152413446,52306.143152413446,51712.983393191054,51712.983393191054,51712.983393191054,51712.983393191054,51712.983393191054]
["  Farm",30291.676045663851,22367.126593174213,14133.828460717446,14614.104185110758,14133.828460717446,14614.104185110758,14133.828460717446,30291.676045663851,52178.526914444752,82813.257048960979,73036.215516668555,48473.542754839211,28692.636411595984,21186.408765980275,13387.730692613301,13842.653580226375,13387.730692613301,13842.653580226375,13387.730692613301,28692.636411595984,49424.122289963183,78441.703621282795,69180.773409159519,45914.717156948049,30668.51089158158,22645.37837068085,14309.656271043727,14795.906726855892,14309.656271043727,14795.906726855892,14309.656271043727,30668.51089158158,52827.638806450261,83843.471452183396,73944.801458864313,49076.563861613562,36414.078393424243,25963.032165255026,16993.23658359798,17569.278501686047,16993.23658359798,17569.278501686047,16993.23658359798,36414.078393424243,62747.423220307304,99572.960126651597,87846.392508430232,58303.671280770795,44736.509436657936,33016.067198282057,20877.037737107039,21557.241974155637,20877.037737107039,21557.241974155637,20877.037737107039,47666.619996251909,77020.048995041492,116419.57134101042,131227.09434752996,71578.415098652695,31594.358934279084,20271.710504024752,12798.121030230817,13247.177908484528,12798.121030230817,13247.177908484528,12798.121030230817,27456.620556084155,63605.699255508043,61841.547233797028,71239.666185821159,43911.347594952349,25516.396020874101,18841.098760600129,11905.724983692106,12310.288454011741,11905.724983692106,12310.288454011741,11905.724983692106,25516.396020874101,43952.931311154593,69758.301239399865,61522.544879321591,40832.013111545988,25396.093933463799,18107.271493803,11851.510502283105,12253.256621004566,11851.510502283105,12253.256621004566,11851.510502283105,25396.093933463799,43761.63078930202,69444.686236138295,61266.283105022827,40662.446444879322,36635.444227005872,27046.589693411614,17070.741030658839,17672.731898238748,17070.741030658839,17672.731898238748,17070.741030658839,36635.444227005872,63080.04305283758,100102.48140900195,106853.37899543378,58608.110893672543,37800.720838111883,27898.48189418736,17651.817247865456,18254.562227060862,17651.817247865456,18254.562227060862,17651.817247865456,37800.720838111883,68755.980841075943,97644.686629655742,96266.983820066263,60489.763983538949,26127.893995151357,19292.623878639508,12191.044536809013,12605.303331749126,12191.044536809013,12605.303331749126,12191.044536809013,26127.893995151357,45006.259078850751,71430.052213245057,62996.926744821336,41810.548375027036,38536.014444815984,28454.678842604782,17980.563931216519,18591.553967714168,17980.563931216519,18591.553967714168,17980.563931216519,38536.014444815984,66379.703250923107,105352.13915038029,92914.127693106711,61666.351540798401,38536.014444815984,28454.678842604782,17980.563931216519,18591.553967714168,17980.563931216519,19104.47063974851,18476.624186799028,39599.172711028019,68211.0324954401,108258.6669585749,95477.507023531871,63367.645572686961,39947.975546192727,29497.259406701764,18639.372508529334,19272.749244256058,18639.372508529334,19272.749244256058,18639.372508529334,39947.975546192727,58811.858217167755,109212.24571745101,76318.505025871244,63925.809112990173,25472.63861709067,26192.707110241354,16551.219830397909,17113.639921722111,16551.219830397909,17113.639921722111,16551.219830397909,35472.63861709067,61102.925636007814,96977.292889758639,85528.026744944538,56764.256360078274,34763.185844748856,25668.852968036528,16220.195433789951,16771.36712328767,16220.195433789951,16771.36712328767,16220.195433789951,34763.185844748856,59880.867123287659,95037.747031963459,29645.7839340996,49322.360840310947,50629.506400120903,57234.286117212192,29803.229747809841,21231.353540838641,8060.5386892017686,1840.8150639699541,483.44638043655351,63225.76498334662,66987.969508025955,79855.080864260381,34024.088530852059,52928.08161202498,61617.694704753318,49828.98332123569,39837.371960528289,21601.605614884789,9594.4621843957393]
["  Other",46780.005759278145,44249.581301856393,41747.911667814442,39390.016150671443,37233.404397187005,36744.572399730525,36687.062752970945,38067.294275200984,39361.26132729165,39907.602971507709,41719.156844434641,45486.038707187472,46016.406682982422,41774.713077195898,37581.220535111497,33628.73331153769,29989.553002027656,29218.335982793746,29097.833323538449,31435.584913091247,33580.532247835567,34472.251926324781,37557.120003260432,43847.358816387044,51975.515272961406,47277.836448506016,42633.540337964907,38256.157796995118,34225.762896468063,33371.639473839808,33238.182689054142,35827.24431389603,38202.775083080851,39190.355290494772,42606.848981007774,49573.293146819444,47048.794450735782,41463.719535501819,38112.674586361441,33949.255104096126,30115.86277591281,29303.488242787869,29176.554721987097,31639.065025522072,33898.481695775816,34863.176453861677,38112.674586361441,44738.604372161732,42676.920937175848,38651.786447888197,34672.392123251535,30921.698621869858,27468.316190719655,26736.473556303717,26622.123144676225,28840.52113024953,30875.958457218861,31722.151503262285,34649.522040926036,40618.613527881025,45665.52236883506,41387.845230881816,37158.778060405311,33172.76072731251,29502.708182818533,28724.948703190668,28603.423784498817,30961.007207120776,33124.150759835771,34023.435158155487,37134.473076666938,43478.073832381699,48523.533594259614,43918.154337899541,39365.108936725373,35073.732811480761,31122.526744944553,30285.185061969994,30154.350424005217,32692.542400521852,35021.398956294848,35989.57527723418,39338.942009132414,46168.51011089368,50063.51089367253,44671.31519895629,41435.997782126549,37416.36099151989,33715.353946510106,32931.034572733202,32808.484670580554,35185.952772341814,37367.341030658834,38298.720287018914,41435.997782126549,47833.102674494454,50153.257664709723,45855.482322243974,41606.545335942603,37601.800130463147,33914.504240052192,33133.090541422047,33010.994651011089,35379.654924983697,37552.961774298761,38456.471363339864,41582.126157860403,47955.531637312466,51158.009253700242,46738.674436637637,42369.559333405283,38251.542799324219,34459.954405139826,33656.438983855711,33530.889699280073,35966.545820047526,38201.323085493961,39130.387791353714,42344.449476490154,48898.122131338685,51991.231814915613,46991.812914573784,42049.205592644925,37390.65616278095,33101.381992601309,32192.396737993706,32050.367791961267,34805.72934499057,37333.84458436798,38384.858785008022,42020.799803438436,49434.710786331729,51920.777973429234,47433.240237254133,42996.697248081022,38815.127993917849,34965.02459526762,34149.108643235784,34021.621775730811,36494.867005327316,38764.133246915866,39707.536066452674,42971.199874580023,49626.0143583397,51920.777973429234,47433.240237254133,42996.697248081022,38815.127993917849,34965.02459526762,34585.193638084209,34454.732111678495,36985.685723949355,39307.900893971062,40273.316189373349,43613.131265359625,50423.222943737906,53181.651233500925,48538.929096086227,43948.965164778521,40189.230199534526,36205.985638457147,35361.854340745384,35229.958825477916,37788.731821666697,40136.471993427542,41112.498806406766,44489.023997253811,51373.969894215392,20010.136442126302,18840.233538870762,18592.307095796739,18553.568589066421,19305.095619634551,19994.641039434176,20281.305989238514,21273.011761534603,23295.161812857095,23992.454934002781,22628.859497095662,21280.759462880666,23946.229014799737,22596.269532261686,21261.650498388844,20003.733707842024,18845.529833619039,18600.082654975755,18561.731533312741,19305.743293575189,19988.393259176817,20272.191559483115,20648.032551780638,15390.472191274206,15290.415373059588,15290.415373059588,15290.415373059588,15290.415373059588,15290.415373059588,15290.415373059588,15290.415373059588,15290.415373059588,15290.415373059588,15290.415373059588,15290.415373059588,15290.415373059588,15202.122603910728,15202.122603910728,15202.122603910728,15202.122603910728,15202.122603910728]
["     US DOMESTIC CONSUMPTION",571965.98963819747,489962.34571763803,398394.49317145959,210087.95628595437,249304.84306273045,212774.8939989543,224939.36684004107,259185.54622220632,324050.27439585526,320508.6087114712,357757.16235995718,561074.55540761526,415388.1010592758,483519.98311396647,361565.55170539866,215878.97220162506,198069.53808352596,186114.51932560623,205753.2284342651,229208.20737375421,318771.68289973214,381915.68365582929,383059.78225608834,453145.77306360239,563511.00668476871,646124.86984011601,390787.00927120046,257486.75409111078,184773.56127271592,192022.5391992339,217425.66769566422,264558.38734143932,272178.68118384085,341942.60085494665,385865.91971169115,427012.10336084635,554873.01442527701,507209.19558041415,362165.70185968099,236661.00206637353,178529.6239291144,191309.40185089651,207796.88564960225,233652.93671509961,228120.10849197037,383822.98266576749,405832.88972589199,446990.94780572661,508023.59796927415,367354.85636516253,344195.48195808061,252040.86249461817,190635.57214880642,164676.29659380519,165738.29717337352,248138.09532932815,291770.15086786513,426903.60461570678,567029.01377318415,527427.10769503354,509187.02231457754,486773.01154516818,325626.76931517583,177253.69484054242,179904.84623199032,203889.26074475955,219943.4284911062,233578.23675752967,270267.26451699558,296709.75428015762,325133.78704139026,549496.46316674573,530821.83113721607,512994.93667607801,340936.35716097167,252959.35407193124,201439.30241980148,174495.09100780528,162994.49819186458,200772.14047301724,263184.77311374544,289767.4856020388,330540.64650119195,413966.91962703306,392906.07673675555,392483.39860244258,219615.14533370017,182607.31622920721,170365.80934310996,164221.83841194189,199665.00663046958,237685.72196530018,244433.35019050594,273240.8000458898,316645.71161878319,429789.63426110643,508567.35736099345,430448.26935350412,332463.62666688598,213727.53986067986,156982.64357724861,172997.79575162596,203517.16254764615,178736.71335848514,222699.09299711778,337142.80420581804,421996.21944953653,466008.30538641301,499337.29472845973,468682.76611499535,327538.25986020884,231740.91742787586,192074.24257215846,191597.98748839536,207125.00458790909,240756.68738877517,274556.29992637096,367380.70905574318,401730.26596556266,468405.14630212949,477247.04864012881,448556.31079885276,309909.33744221361,212807.50738981282,172531.18961959687,171918.25014613953,187823.6903926399,215050.12639231284,237210.16731530795,309285.80137289001,356312.00786660117,438709.44054288795,489929.5858268959,458504.66366408725,316991.2190706461,220563.10043550355,180529.22219525953,180206.08326593551,195929.33434940581,229492.25508090301,260358.77072851697,344875.43617005867,387524.47946461703,459101.41785925609,489929.5858268959,458504.66366408725,316991.2190706461,220563.10043550355,180529.22219525953,176964.0661747902,176869.38697245831,211058.33045466698,241746.05302054758,348365.07943397469,392753.10942019388,437334.34417948849,521936.62787877419,434877.05176395556,321501.71968031122,281206.43874972564,181206.77961688236,240878.44259508833,196487.09067163331,230832.50162393853,252793.6655376011,344033.00358846341,389561.79436071386,450711.92564674892,532274.43168948393,520565.13139758829,306960.01260411274,191641.17437480934,185339.67603595817,159814.78893160322,174882.95455850012,235806.13882707566,232969.82281169406,311113.7623517813,346605.30752468528,406133.07445102936,431692.69883098896,405694.05524876574,278084.81130595505,191691.39094398636,157156.31615495149,157352.95657648193,171953.9153260538,200961.64369097556,227457.34229914143,304054.5768816623,322802.85962845164,433983.63153970364,447942.75105219969,470652.45640892611,340003.98861458513,258069.60718314894,244062.88689977684,164906.85002125092,166713.07089237173,235945.5930586266,254763.97503026683,351558.49676093378,359318.38956856751,443091.54296175542,494716.81265626219,446181.59949512983,339798.06610065314,241711.62486469786,177040.06663463119]
["EXPORTS",935.48387096774195,964.28571428571433,1483.8709677419354,1100,1516.1290322580646,2933.3333333333335,2903.2258064516127,1612.9032258064517,1400,774.19354838709683,1633.3333333333333,677.41935483870964,870.9677419354839,1250,2225.8064516129034,2233.3333333333335,2193.5483870967741,3466.6666666666665,2290.3225806451615,2322.5806451612902,1500,6322.5806451612907,600,645.16129032258061,1419.3548387096773,642.85714285714289,1322.5806451612902,4733.333333333333,2354.8387096774195,2500,3580.6451612903224,2064.516129032258,733.33333333333337,903.22580645161293,900,1193.5483870967741,1096.7741935483871,2310.344827586207,2322.5806451612902,2033.3333333333333,3032.2580645161293,1433.3333333333333,806.45161290322585,935.48387096774195,166.66666666666666,612.90322580645159,300,354.83870967741933,774.19354838709683,785.71428571428567,580.64516129032256,1533.3333333333333,2516.1290322580644,1900,1612.9032258064517,709.67741935483866,866.66666666666663,387.09677419354841,300,580.64516129032256,483.87096774193549,607.14285714285711,1129.0322580645161,3400,2774.1935483870966,2566.6666666666665,2064.516129032258,1483.8709677419354,433.33333333333331,419.35483870967744,166.66666666666666,290.32258064516128,419.35483870967744,2285.7142857142858,1322.5806451612902,900,1483.8709677419354,2466.6666666666665,2193.5483870967741,935.48387096774195,1033.3333333333333,1225.8064516129032,1600,1129.0322580645161,1032.258064516129,1241.3793103448277,2645.1612903225805,2100,2387.0967741935483,2100,2096.7741935483873,1064.516129032258,766.66666666666663,1000,1400,1161.2903225806451,2258.0645161290322,3500,2258.0645161290322,2400,4516.1290322580644,6766.666666666667,6516.1290322580644,7225.8064516129034,6633.333333333333,3580.6451612903224,3933.3333333333335,3419.3548387096776,4258.0645161290322,3928.5714285714284,3483.8709677419356,7566.666666666667,10354.838709677419,9266.6666666666661,9935.4838709677424,11129.032258064517,9033.3333333333339,9225.8064516129034,4966.666666666667,3129.0322580645161,5032.2580645161288,5750,4612.9032258064517,4866.666666666667,6225.8064516129034,6266.666666666667,4451.6129032258068,2967.7419354838707,2633.3333333333335,3354.8387096774195,2733.3333333333335,2225.8064516129034,4000,2965.5172413793102,3258.0645161290322,7500,12967.741935483871,10300,9032.2580645161288,8354.8387096774186,8400,3838.7096774193546,2033.3333333333333,2258.0645161290322,3548.3870967741937,2357.1428571428573,7612.9032258064517,9733.3333333333339,11419.354838709678,9466.6666666666661,9032.2580645161306,8129.0322580645161,4666.666666666667,4129.0322580645161,5133.3333333333339,2838.7096774193551,4709.677419354839,5107.1428571428569,5451.6129032258059,7933.3333333333339,5322.5806451612898,6600,3774.1935483870971,2709.6774193548385,1266.6666666666665,2483.8709677419356,5300,2483.8709677419356,2354.8387096774195,4142.8571428571431,2903.2258064516132,2966.666666666667,3096.7741935483868,2766.6666666666665,4129.0322580645161,3709.6774193548385,2766.6666666666665,7129.0322580645161,5133.3333333333339,6516.1290322580653,3000,6379.3103448275861,5225.8064516129034,8100,12451.612903225807,7133.3333333333339,5354.8387096774186,5258.0645161290322,3666.6666666666665,3774.1935483870971,3233.3333333333335,4225.8064516129034,3225.8064516129029,3928.5714285714284,4548.3870967741941,4966.666666666667,5500,5000,4500,4500,4500,5500,4000,5500,3000,5000,5000,6750,9750]
["     TOTAL DEMAND",572901.47350916523,490926.63143192377,399878.36413920153,211187.95628595437,250820.97209498851,215708.22733228764,227842.59264649267,260798.44944801278,325450.27439585526,321282.80225985829,359390.49569329049,561751.97476245393,416259.06880121125,484769.98311396647,363791.35815701156,218112.3055349584,200263.08647062274,189581.18599227289,208043.55101491025,231530.78801891551,320271.68289973214,388238.26430099056,383659.78225608834,453790.934353925,564930.36152347841,646767.72698297317,392109.58991636173,262220.08742444409,187128.39998239334,194522.5391992339,221006.31285695455,266622.90347047156,272912.01451717416,342845.82666139829,386765.91971169115,428205.65174794313,555969.78861882538,509519.54040800035,364488.28250484227,238694.33539970688,181561.88199363052,192742.73518422985,208603.33726250546,234588.42058606734,228286.77515863703,384435.88589157391,406132.88972589199,447345.786515404,508797.79151766124,368140.57065087679,344776.12711937091,253574.19582795151,193151.70118106448,166576.29659380519,167351.20039917997,248847.772748683,292636.81753453182,427290.70138990035,567329.01377318415,528007.75285632384,509670.89328231948,487380.15440231102,326755.80157324037,180653.69484054242,182679.03978037741,206455.92741142621,222007.94462013847,235062.10772527161,270700.59785032889,297129.10911886732,325300.45370805694,549786.78574739094,531241.18597592576,515280.65096179227,342258.93780613295,253859.35407193124,202923.17338754341,176961.75767447194,165188.04657896137,201707.62434398496,264218.10644707875,290993.2920536517,332140.64650119195,415095.9518850976,393938.33480127167,393724.77791278739,222260.30662402275,184707.31622920721,172752.9061173035,166321.83841194189,201761.78082401797,238750.23809433245,245200.0168571726,274240.8000458898,318045.71161878319,430950.9245836871,510825.42187712248,433948.26935350412,334721.69118301501,216127.53986067986,161498.77260950668,179764.46241829262,210033.29157990421,185962.51981009805,229332.42633045113,340723.44936710835,425929.55278286984,469427.6602251227,503595.35924458876,472611.33754356677,331022.13082795078,239307.58409454252,202429.08128183588,200864.65415506202,217060.48845887685,251885.71964683969,283589.63325970428,376606.51550735609,406696.93263222935,471534.17856019404,482279.30670464493,454306.31079885276,314522.24066802004,217674.17405647947,178756.99607120978,178184.91681280619,192275.30329586571,218017.86832779672,239843.50064864129,312640.64008256741,359045.34119993448,440935.24699450086,493929.5858268959,461470.18090546655,320249.28358677513,228063.10043550355,193496.96413074341,190506.08326593551,204961.59241392193,237847.09379058043,268758.77072851697,348714.14584747801,389557.81279795035,461359.48237538512,493477.97292367008,460861.80652123009,324604.12229645252,230296.4337688369,191948.5770339692,186430.73284145686,185901.64503697443,219187.3627127315,246412.71968721424,352494.11169203924,397886.4427535272,440173.05385690782,526646.30529812898,439984.1946210984,326953.33258353703,289139.77208305895,186529.36026204366,247478.44259508833,200261.2842200204,233542.17904329338,254060.33220426776,346516.87455620535,394861.79436071386,453195.79661449086,534629.27039916138,524707.98854044545,309863.23841056437,194607.841041476,188436.45022950656,162581.45559826988,179011.98681656463,239515.81624643051,235736.48947836072,318242.79460984585,351738.6408580186,412649.20348328742,434692.69883098896,412073.36559359333,283310.61775756796,199791.39094398636,169607.92905817731,164486.28990981527,177308.75403573122,206219.70820710459,231124.00896580808,307828.77043004939,326036.19296178495,438209.43799131655,451168.5575038126,474581.02783749753,344552.37571135932,263036.2738498156,249562.88689977684,169906.85002125092,171213.07089237173,240445.5930586266,259263.97503026683,357058.49676093378,363318.38956856751,448591.54296175542,497716.81265626219,451181.59949512983,344798.06610065314,248461.62486469786,186790.06663463119]
[]
["INVENTORIES (End of Month, Thousand Barrels)",13537,10562,8424,11793,14502,17606,20607,22811,23096,24042,23675,18009,15650,12361,11278,14715,17707,20643,23035,25350,26353,25118,24417,22661,16991,10029,8591,10019,13533,16593,20304,22080,23457,23311,21658,19402,13444,8744,8982,10909,14730,17827,20458,22487,24508,22707,21605,18380,13730,13151,13427,15378,19635,24343,28923,30711,31584.999999999996,29100,23942,19374,14121,10258,10086,13608,17318,20077,22507,24698,26072,26708,26760,20599,14605,9513,9003,10279,13276,16546.000000000004,20331,23132,24664,25388,25207,23134,19747,16276,17024,19130,21738,24399,26336,27018,27902,27250,26107,22020,15595,11515,9551,11022,14120,17032,19537,22460,24448,20375,18829,13834,9825,8646,8440,11621,16326.999999999998,19439,22688,26466,28675,27752,27466,26733,22058,16527,16072,18639,20425,23056,25661,27305,27731,28499,29723,25352,19312,16387,15792,17220,20336,25544,28810,29030,28882,27621,26746,22134,16252,13644,11578,12385,15243,18394,21717,23802,25924,26359,24380,20283,13499,10408,9991,10486,14448,18304,21563,24686,27509,26744,24394,21041,16398,11281,9900,12133,15941,20380,23280,25555,27795,26110,22779,20307,16374,11993,11111,11770,15228,18875,23218,26348,26724,26464,26257,20369,14953,10079,9888,10476,12118.000000000002,18615.999999999996,24329.482595224137,26341.33490759199,27916.010453312287,26459.092683560131,25794.454767273182,22349.423124644327,15487.026029332779,10756.120664284397,5412.1247460797676,6434.4562193749562,11376.478897604595]
["Days of Forward Supply",23.628844794345664,21.51441646013987,21.066406076092488,55.84125253824584,57.818131709129737,81.619510844520761,90.444019972914475,87.466010815172098,70.966294445054359,74.831269619450325,65.875420423484485,32.058632295178676,37.596778479975448,25.498690988658026,31.001286168904649,67.465244402001531,88.418691192984781,108.88738717375354,110.722009346731,109.48867844707101,82.283265761745056,64.697383822339305,63.642323561821613,49.937092798610237,30.076273390899804,15.506339573842132,21.909691119343673,38.208361908531771,72.319327270864832,85.3011690486166,91.870678884822993,82.813590702815802,85.950778097839546,67.992660803254964,55.997694978256177,45.310004482193754,24.181170047743816,17.161265283365182,24.642767493851256,45.702802212429027,81.129363929576101,92.491164364562778,98.071297748490707,95.857246252057962,107.35619697185408,59.065765796911762,53.196873601105516,41.086784661974455,26.985180024161735,35.722767465560452,38.94411168250987,60.644971976698592,101.6558481232,146.13723859739892,172.82815976826257,123.4127983577162,107.93242034992024,68.103518062393817,42.201261382291854,36.692643043958974,27.706114251609861,21.047225471418084,30.867087750052644,75.326441631937683,94.800147957971831,97.245936465609304,101.3792548663521,105.07010355265656,96.313049202851332,89.886851137548391,82.26241216378979,37.467251912934422,27.492220832181211,18.461783849720728,26.304645417615372,40.49092473893019,65.423774812773345,93.50042753551881,123.07791284571914,114.68084102042427,93.347122692138612,87.24599739336638,75.892548128431315,55.731692624175977,50.12713477088154,41.338521000081023,76.594873185331878,103.56925968358058,125.83290486146358,146.69751268362697,130.53017222806417,113.1642850522517,113.79281436286659,99.365229373018707,82.08568468702525,51.096305272513455,30.529020937707617,26.535420955025447,28.534153153456142,50.997665577949952,87.431005027767142,94.746201617805653,93.018586972758186,120.77702551533392,106.60507278099537,59.799230249184298,44.206840959914885,29.46992938883416,19.509711159248678,18.294101967460705,25.496784698019788,48.560934848637842,80.655407299252673,96.776608516666272,104.52385950609501,105.07145874369959,101.11441546856599,73.689643851788148,67.534318054070837,56.693663398118616,45.73698206277934,36.378539340426293,51.099724985630139,85.627980814865879,114.26126221019892,129.39366817575078,133.45967766080628,125.24202813939119,115.62122769640744,91.15577550146233,82.783416436111736,57.495970605217181,39.098690489798166,35.510420126922398,49.311585722005155,75.505419189325764,105.097256131932,134.08495708949121,140.562920402267,122.05320459185567,107.46439984715796,79.208143199562045,68.657331778049056,47.975604372623842,32.933587498775388,29.605404064594524,35.668062124688959,53.778514053898064,79.411893724549159,98.663990210468668,116.81983769256401,108.5920269554731,105.20560802586334,74.778554096894709,61.273764019907347,46.079603970018645,25.632003612668196,23.655395187463647,30.557877850800882,36.266197225152986,77.456975029040422,73.961997691847756,107.67433198076094,105.70253348292935,108.27743064542013,77.179502540105304,61.778577589392228,46.428056387951102,30.67172133646374,21.499577377085121,31.949578952255838,62.345894877967133,84.596159504090778,125.35254974194532,130.04715725464379,106.69441542727701,117.90707523262505,82.044277018148719,64.761153180195748,49.211290918734193,37.667989464820309,29.104040691210496,39.21843836261656,58.91144730705561,89.783538331964635,114.75120516335316,130.94672130695315,127.76664378527266,115.62623943561607,85.969872026674793,80.534003791038046,46.482339799362393,33.14282378792241,21.237679993080498,28.698104256530915,39.827206516700528,48.556899427383719,109.56591801726428,142.10061456416597,109.55216343336897,107.67408179271082,74.102963305969581,70.9968322767904,49.821320698749162,31.11614001279192,23.839892132836194,15.696505514911633,25.897183208388419,60.905160015052836]
["Days per Month",31,28,31,30,31,30,31,31,30,31,30,31,31,28,31,30,31,30,31,31,30,31,30,31,31,28,31,30,31,30,31,31,30,31,30,31,31,29,31,30,31,30,31,31,30,31,30,31,31,28,31,30,31,30,31,31,30,31,30,31,31,28,31,30,31,30,31,31,30,31,30,31,31,28,31,30,31,30,31,31,30,31,30,31,31,29,31,30,31,30,31,31,30,31,30,31,31,28,31,30,31,30,31,31,30,31,30,31,31,28,31,30,31,30,31,31,30,31,30,31,31,28,31,30,31,30,31,31,30,31,30,31,31,29,31,30,31,30,31,31,30,31,30,31,31,28,31,30,31,30,31,31,30,31,30,31,31,28,31,30,31,30,31,31,30,31,30,31,31,28,31,30,31,30,31,31,30,31,30,31,31,29,31,30,31,30,31,31,30,31,30,31,31,28,31,30,31,30,31,31,30,31,30,31,31,28,31,30,31]

{"sheet":"PADD3 mthly rpt","index":3,"n_rows":85,"n_cols":211,"rows_kept":85,"cut":false,"hidden":false,"merged":[]}
[null,null,null,null,null,null,null,null,null,null,null,null,null,null,null,null,null,null,null,null,null,null,null,null,null,null,null,null,null,null,null,null,null,null,null,null,null,null,null,null,null,null,null,null,null,null,null,null,null,null,null,null,null,null,null,null,null,null,null,null,null,null,null,null,null,null,null,null,null,null,null,null,null,null,null,null,null,null,null,null,null,null,null,null,null,null,null,null,null,null,null,null,null,null,null,null,null,null,null,null,null,null,null,null,null,null,null,null,null,null,null,null,null,null,null,null,null,null,null,null,null,null,null,null,null,null,null,null,null,null,null,null,null,null,null,null,null,null,null,null,null,null,null,null,null,null,null,null,null,null,null,null,null,null,null,null,null,null,null,null,null,null,null,null,null,null,null,null,null,null,null,null,null,null,"Legend:  BLACK - Actual / RED - Estimated (Inventory from US Dept. of Energy; Supply and Demand prepared by IHS) / BLUE - Forecast"]
["PADD III (Gulf Coast)                          (includes AL, AK, LA, MS, NM, TX)",null,null,null,null,null,null,null,null,null,null,null,null,null,null,null,null,null,null,null,null,null,null,null,null,null,null,null,null,null,null,null,null,null,null,null,null,null,null,null,null,null,null,null,null,null,null,null,null,null,null,null,null,null,null,null,null,null,null,null,null,null,null,null,null,null,null,null,null,null,null,null,null,null,null,null,null,null,null,null,null,null,null,null,null,null,null,null,null,null,null,null,null,null,null,null,null,null,null,null,null,null,null,null,null,null,null,null,null,"","","","","","","","","","","","","","","","","","","","","","","","","","","","","","","","","","","","","","","","","",null,"","","","","","","","","","","","","","","",null,null,null,null,null,null,null,null,null,null,null,null,null,null,null,null,null,null,null,null,null,null,null,null,null,null,null,null,null,null,null,null,"   FCST -->"]
["(Barrels per Day)","2005-01-15","2005-02-15","2005-03-15","2005-04-15","2005-05-15","2005-06-15","2005-07-15","2005-08-15","2005-09-15","2005-10-15","2005-11-15","2005-12-15","2006-01-15","2006-02-15","2006-03-15","2006-04-15","2006-05-15","2006-06-15","2006-07-15","2006-08-15","2006-09-15","2006-10-15","2006-11-15","2006-12-15","2007-01-15","2007-02-15","2007-03-15","2007-04-15","2007-05-15","2007-06-15","2007-07-15","2007-08-15","2007-09-15","2007-10-15","2007-11-15","2007-12-15","2008-01-15","2008-02-15","2008-03-15","2008-04-15","2008-05-15","2008-06-15","2008-07-15","2008-08-15","2008-09-15","2008-10-15","2008-11-15","2008-12-15","2009-01-15","2009-02-15","2009-03-15","2009-04-15","2009-05-15","2009-06-15","2009-07-15","2009-08-15","2009-09-15","2009-10-15","2009-11-15","2009-12-15","2010-01-15","2010-02-15","2010-03-15","2010-04-15","2010-05-15","2010-06-15","2010-07-15","2010-08-15","2010-09-15","2010-10-15","2010-11-15","2010-12-15","2011-01-15","2011-02-15","2011-03-15","2011-04-15","2011-05-15","2011-06-15","2011-07-15","2011-08-15","2011-09-15","2011-10-15","2011-11-15","2011-12-15","2012-01-15","2012-02-15","2012-03-15","2012-04-15","2012-05-15","2012-06-15","2012-07-15","2012-08-15","2012-09-15","2012-10-15","2012-11-15","2012-12-15","2013-01-15","2013-02-15","2013-03-15","2013-04-15","2013-05-15","2013-06-15","2013-07-15","2013-08-15","2013-09-15","2013-10-15","2013-11-15","2013-12-15","2014-01-15","2014-02-15","2014-03-15","2014-04-15","2014-05-15","2014-06-15","2014-07-15","2014-08-15","2014-09-15","2014-10-15","2014-11-15","2014-12-15","2015-01-15","2015-02-15","2015-03-15","2015-04-15","2015-05-15","2015-06-15","2015-07-15","2015-08-15","2015-09-15","2015-10-15","2015-11-15","2015-12-15","2016-01-15","2016-02-15","2016-03-15","2016-04-15","2016-05-15","2016-06-15","2016-07-15","2016-08-15","2016-09-15","2016-10-15","2016-11-15","2016-12-15","2017-01-15","2017-02-15","2017-03-15","2017-04-15","2017-05-15","2017-06-15","2017-07-15","2017-08-15","2017-09-15","2017-10-15","2017-11-15","2017-12-15","2018-01-15","2018-02-15","2018-03-15","2018-04-15","2018-05-15","2018-06-15","2018-07-15","2018-08-15","2018-09-15","2018-10-15","2018-11-15","2018-12-15","2019-01-15","2019-02-15","2019-03-15","2019-04-15","2019-05-15","2019-06-15","2019-07-15","2019-08-15","2019-09-15","2019-10-15","2019-11-15","2019-12-15","2020-01-15","2020-02-15","2020-03-15","2020-04-15","2020-05-15","2020-06-15","2020-07-15","2020-08-15","2020-09-15","2020-10-15","2020-11-15","2020-12-15","2021-01-15","2021-02-15","2021-03-15","2021-04-15","2021-05-15","2021-06-15","2021-07-15","2021-08-15","2021-09-15","2021-10-15","2021-11-15","2021-12-15","2022-01-15","2022-02-15","2022-03-15","2022-04-15","2022-05-15","2022-06-15"]
["SUPPLY"]
["Gas Processing",342677.41935483873,352785.71428571426,352387.09677419357,351166.66666666669,349967.74193548388,339733.33333333331,332258.06451612903,321387.09677419357,256200,270806.45161290321,292233.33333333331,284322.58064516127,313483.87096774194,315321.42857142858,317258.06451612903,320533.33333333331,321032.25806451612,326000,329774.19354838709,326741.93548387097,331000,327193.54838709679,327933.33333333331,319483.87096774194,313387.09677419357,323678.57142857142,328709.67741935485,325533.33333333331,332548.38709677418,329900,330548.38709677418,330548.38709677418,329966.66666666669,336032.25806451612,338766.66666666669,336741.93548387097,326225.80645161291,333241.37931034481,335387.09677419357,339900,340032.25806451612,329766.66666666669,338096.77419354836,329225.80645161291,238133.33333333334,297419.3548387097,306933.33333333331,297225.80645161291,314483.87096774194,324000,326838.70967741933,331200,338903.22580645164,334966.66666666669,331870.96774193546,339806.45161290321,347433.33333333331,344741.93548387097,340833.33333333331,336774.19354838709,338096.77419354836,346000,348419.3548387097,345666.66666666669,351032.25806451612,344433.33333333331,341129.03225806454,355225.80645161291,358033.33333333331,359419.3548387097,357366.66666666669,360580.6451612903,359451.61290322582,326357.14285714284,363677.41935483873,362800,370032.25806451612,363533.33333333331,369677.41935483873,373258.06451612903,365366.66666666669,385580.6451612903,391733.33333333331,392129.03225806454,398387.09677419357,417071.42857142858,402193.54838709679,401966.66666666669,407354.83870967739,401433.33333333331,417354.83870967739,418354.83870967739,426100,447580.6451612903,457700,450774.19354838709,440451.61290322582,461750,456129.03225806454,469800,474096.77419354836,480800,494516.12903225806,501387.09677419357,513300,509806.45161290321,490400,486483.87096774194,495096.77419354836,501464.28571428574,515838.70967741933,541000,540870.96774193551,560500,566258.06451612909,575258.06451612909,575700,576419.3548387097,574766.66666666663,589225.80645161285,565774.19354838715,598107.14285714284,600935.48387096776,621766.66666666663,620354.83870967745,620800,629645.16129032255,638483.87096774194,641033.33333333337,633451.61290322582,625400,595645.16129032255,579548.38709677418,579827.58620689658,598193.54838709673,597433.33333333337,596451.61290322582,598800,603225.80645161285,605870.96774193551,597566.66666666663,607483.87096774194,596400,569774.19354838715,577258.06451612909,579965.51724137936,605193.54838709673,609366.66666666663,616774.19354838715,628666.66666666663,646548.38709677418,625225.80645161297,633233.33333333337,652935.48387096764,668633.33333333337,656548.38709677418,621870.96774193551,674071.42857142852,698935.48387096764,708033.33333333326,714870.96774193551,728200,750806.45161290315,782774.19354838703,774733.33333333337,768677.41935483867,771833.33333333337,781677.41935483867,780677.41935483867,805892.85714285716,813935.48387096764,829400,845451.61290322582,836033.33333333326,836645.16129032255,862645.16129032255,891500,887096.77419354836,893800,894225.80645161297,948483.87096774194,878448.27586206899,959032.25806451612,937200,844419.35483870958,886900,915870.96774193551,896483.87096774194,915800,910064.51612903236,938266.66666666663,918483.87096774194,918935.48387096764,719928.57142857148,927548.38709677418,958133.33333333337,958677.41935483867,963239.6114694085,1003066.239063348,1014740.214295566,1018247.0606496749,1021931.5782713359,1025128.18273225,1028176.149165076,1027679.642315735,1032573.2508466969,1038987.633501843,1047939.3979291219,1055979.4258963568,1062997.6377101098]
["Refinery Production",328161.29032258067,345964.28571428574,339806.45161290321,355900,355032.25806451612,355866.66666666669,339290.32258064515,326709.67741935485,248300,236677.4193548387,298566.66666666669,321225.80645161291,314322.58064516127,298142.85714285716,294677.41935483873,329266.66666666669,346580.6451612903,316700,336870.96774193546,357387.09677419357,343233.33333333331,331258.06451612903,336533.33333333331,351870.96774193546,349354.83870967739,316000,344225.80645161291,341766.66666666669,345774.19354838709,344433.33333333331,347161.29032258067,331032.25806451612,342133.33333333331,331806.45161290321,353300,366709.67741935485,348483.87096774194,324448.27586206899,328000,318300,316645.16129032261,324033.33333333331,322451.61290322582,311193.54838709679,206433.33333333334,297870.96774193546,309833.33333333331,307838.70967741933,297709.67741935485,291035.71428571426,342322.58064516127,351133.33333333331,349419.3548387097,351000,346580.6451612903,352645.16129032261,344633.33333333331,321967.74193548388,345733.33333333331,355064.51612903224,343741.93548387097,349428.57142857142,375354.83870967739,376133.33333333331,365387.09677419357,365400,369451.61290322582,351387.09677419357,346966.66666666669,347322.58064516127,358466.66666666669,372161.29032258067,350774.19354838709,305000,323451.61290322582,347233.33333333331,354870.96774193546,356533.33333333331,353483.87096774194,356354.83870967739,357200,339935.48387096776,357200,355161.29032258067,328290.32258064515,347964.28571428574,339064.51612903224,354033.33333333331,360000,376533.33333333331,374161.29032258067,350548.38709677418,333033.33333333331,346967.74193548388,371200,382258.06451612903,351322.58064516127,348500,366903.22580645164,373000,382322.58064516127,369466.66666666669,370354.83870967739,376645.16129032261,375066.66666666669,355645.16129032261,366600,392838.70967741933,381838.70967741933,369500,380290.32258064515,396166.66666666669,382129.03225806454,383833.33333333331,391322.58064516127,380612.90322580643,332900,333967.74193548388,395066.66666666669,404741.93548387097,364774.19354838709,342285.71428571426,337354.83870967739,369233.33333333331,369129.03225806454,364966.66666666669,378645.16129032261,376129.03225806454,338166.66666666669,338096.77419354836,362700,383677.41935483873,374548.38709677418,371068.96551724139,384709.67741935485,382466.66666666669,393967.74193548388,376666.66666666669,379000,359193.54838709679,370400,358419.3548387097,383900,390000,363548.38709677418,328172.41379310342,374645.16129032261,390100,402129.03225806454,399933.33333333331,403064.5161290323,371580.6451612903,310333.33333333337,387838.70967741939,405533.33333333331,424677.41935483873,396774.19354838709,374428.57142857148,378387.09677419357,376666.66666666669,376032.25806451612,388900,390032.25806451618,400387.09677419357,397433.33333333337,393225.80645161297,411533.33333333337,412870.96774193546,382806.45161290315,379142.85714285716,363483.87096774194,374833.33333333331,386161.29032258061,393166.66666666663,382548.38709677418,379258.06451612903,361233.33333333337,358870.96774193551,383233.33333333337,391677.41935483867,371967.74193548388,332758.62068965519,349387.09677419352,333333.33333333331,330548.38709677418,336866.66666666663,347322.58064516127,341096.77419354836,339633.33333333331,355451.61290322582,378833.33333333337,379967.74193548388,372838.70967741939,293821.42857142858,349225.80645161285,389333.33333333331,432967.74193548388,388570.40463269112,401345.46066740499,387798.23830077541,372749.76593670028,369129.94560832187,388171.22439821472,406897.26782507007,424504.66158965172,403710.66450823937,434537.55253440182,448125.00777375151,451994.74312696123,454537.18654204381]
["Imports",33903.225806451614,19000,709.67741935483866,57166.666666666664,57322.580645161288,67866.666666666672,113225.80645161291,58903.225806451614,116933.33333333333,218838.70967741936,137500,53387.096774193546,8870.967741935483,0,6419.3548387096771,63500,57709.677419354841,118066.66666666667,110129.03225806452,174548.38709677418,119600,78903.225806451606,21266.666666666668,0,0,0,0,32300,57580.645161290326,81400,9064.5161290322576,31451.612903225807,120166.66666666667,45645.161290322583,54566.666666666664,0,6580.6451612903229,0,0,0,0,26366.666666666668,32903.225806451614,72096.774193548394,93966.666666666672,27451.612903225807,3433.3333333333335,8903.2258064516136,0,0,0,0,0,0,0,0,0,1290.3225806451612,0,1258.0645161290322,1258.0645161290322,0,0,1666.6666666666667,0,0,0,32.258064516129032,0,1741.9354838709678,0,2290.3225806451615,0,0,4387.0967741935483,0,5096.7741935483873,0,1290.3225806451612,1290.3225806451612,1233.3333333333333,4741.9354838709678,1366.6666666666667,0,32.258064516129032,0,0,0,5193.5483870967746,0,0,354.83870967741933,0,32.258064516129032,0,0,0,0,3645.1612903225805,0,0,0,0,0,0,0,0,0,0,0,0,0,0,0,0,0,0,774.19354838709683,1333.3333333333333,0,1516.1290322580646,0,0,0,0,0,0,0,0,0,0,0,0,0,0,0,0,0,0,0,173.43499648851224,173.43499648851224,173.43499648851224,173.43499648851224,173.43499648851224,0,173.43499648851224,173.43499648851224,173.43499648851224,0,0,0,0,0,0,0,0,0,0,0,0,0,0,0,0,0,0,0,0,0,0,0,0,0,0,0,0,0,0,0,0,0,0,0,0,0,0,0,0,0,0,0,0,0,12154.354814620849,-34582.052188945272,-62792.628787328031,0,7000,7000,7000,7000,0,0,0,10000,20000,20000,20000,20000]
["Net Inter-PADD Transfers (+ = Receipt)",-142304.6041054083,-142304.6041054083,-142304.6041054083,-142304.6041054083,-142304.6041054083,-142304.6041054083,-142304.6041054083,-142304.6041054083,-142304.6041054083,-142304.6041054083,-142304.6041054083,-142304.6041054083,-124203.55819141187,-124203.55819141187,-124203.55819141187,-124203.55819141187,-124203.55819141187,-124203.55819141187,-124203.55819141187,-124203.55819141187,-124203.55819141187,-124203.55819141187,-124203.55819141187,-124203.55819141187,-120917.33011712228,-120917.33011712228,-120917.33011712228,-120917.33011712228,-120917.33011712228,-120917.33011712228,-120917.33011712228,-120917.33011712228,-120917.33011712228,-120917.33011712228,-120917.33011712228,-120917.33011712228,-80441.748390015855,-80441.748390015855,-80441.748390015855,-80441.748390015855,-80441.748390015855,-80441.748390015855,-80441.748390015855,-80441.748390015855,-80441.748390015855,-80441.748390015855,-80441.748390015855,-80441.748390015855,-91319.510049955017,-91319.510049955017,-91319.510049955017,-91319.510049955017,-91319.510049955017,-91319.510049955017,-91319.510049955017,-91319.510049955017,-91319.510049955017,-91319.510049955017,-91319.510049955017,-91319.510049955017,-62958.258396864985,-62958.258396864985,-62958.258396864985,-62958.258396864985,-62958.258396864985,-62958.258396864985,-62958.258396864985,-62958.258396864985,-62958.258396864985,-62958.258396864985,-62958.258396864985,-62958.258396864985,-53234.622314836874,-53234.622314836874,-53234.622314836874,-53234.622314836874,-53234.622314836874,-53234.622314836874,-53234.622314836874,-53234.622314836874,-53234.622314836874,-53234.622314836874,-53234.622314836874,-53234.622314836874,45516.704812308693,45516.704812308693,45516.704812308693,45516.704812308693,45516.704812308693,45516.704812308693,45516.704812308693,45516.704812308693,45516.704812308693,45516.704812308693,45516.704812308693,45516.704812308693,50884.931506849316,50884.931506849316,50884.931506849316,50884.931506849316,50884.931506849316,50884.931506849316,50884.931506849316,50884.931506849316,50884.931506849316,50884.931506849316,50884.931506849316,50884.931506849316,54312.32876712329,54312.32876712329,54312.32876712329,54312.32876712329,54312.32876712329,54312.32876712329,54312.32876712329,54312.32876712329,54312.32876712329,54312.32876712329,54312.32876712329,54312.32876712329,222454.79452054796,222454.79452054796,222454.79452054796,222454.79452054796,222454.79452054796,222454.79452054796,222454.79452054796,222454.79452054796,222454.79452054796,222454.79452054796,222454.79452054796,222454.79452054796,273690.41095890413,273690.41095890413,273690.41095890413,273690.41095890413,273690.41095890413,273690.41095890413,273690.41095890413,273690.41095890413,273690.41095890413,273690.41095890413,273690.41095890413,273690.41095890413,290139.72602739726,290139.72602739726,290139.72602739726,290139.72602739726,290139.72602739726,290139.72602739726,290139.72602739726,290139.72602739726,290139.72602739726,290139.72602739726,290139.72602739726,290139.72602739726,339304.23494890117,339304.23494890117,339304.23494890117,331304.23494890117,333304.23494890117,335304.23494890117,337304.23494890117,339304.23494890117,341304.23494890117,343304.23494890117,345304.23494890117,347304.23494890117,366432.40825048112,366432.40825048112,366432.40825048112,366432.40825048112,366432.40825048112,366432.40825048112,366432.40825048112,366432.40825048112,366432.40825048112,366432.40825048112,366432.40825048112,366432.40825048112,345490.72698352864,-46394.076851950726,280305.37806931802,93535.677495876764,222008.56244988577,183981.94006022756,283796.67673370952,321811.19219741225,251229.54569049762,325162.62347730814,341814.21242566122,153343.10228481359,501547.01570267434,-39503.417923606292,228173.97226578405,745604.44874056894,791913.46281838918,470584.3054777428,351304.64278737974,360532.25806451618,317850,334709.67741935479,316416.66666666674,345564.51612903213,332596.77419354836,254576.97044334977,404423.16815359489,430766.66666666674,429443.54838709673,453625.00000000006]
["Total Stock Change (Primary+Secondary+Tertiary)",33344.110512247804,9760.3921246243699,8709.1493186860826,-79234.413879398577,-26485.374195282318,-108832.54485769314,-108177.20182067741,-3009.5133812769927,28480.170552635565,-62387.25737696069,14428.303303932036,100966.34109699473,69595.64921987438,181341.33024119324,141270.71749643557,25560.483471582062,56192.569916335997,-25270.675263865662,-81029.145787833986,-132457.70900829008,-115411.15436974485,-38766.070770010207,36077.756456880321,70055.449927699607,158197.24205701842,66715.35781704908,32743.482298968986,914.59215595290152,-1420.2533610462997,-16414.829824526343,92775.795194696489,85050.104498988629,-1826.9403077114112,19033.152968947063,91680.27083493695,85064.426966758067,-3435.1524605299928,24425.933570848079,14497.813243539145,35239.791499785861,-14077.834295735112,30033.445523428301,-13443.073402583337,-58775.92058349734,-88152.773782461285,-81905.129859215973,-149870.2290003387,-194631.77759012292,-84355.256142124039,10382.242067083076,-54801.877989699809,-73119.782342316917,-84265.371885774075,-11506.475621388265,28864.460010716946,92081.216033296543,4126.5931993855193,31916.449011871489,-2020.9984646117082,11582.667813875742,36737.037185340538,-3257.8915996100986,-78078.898396036995,-53093.178963554092,-16926.859774523997,-7382.3777198339812,11600.5606855066,16059.389363566086,47057.787039223011,12808.153680176198,3890.904491381797,19019.735855209583,54419.512833382614,88511.275791546315,96265.788431920388,60917.447976994212,36043.19328444844,52287.337329506947,-30622.862907718547,-33690.279556424539,4683.6283216205193,-74919.339184752782,-24890.963167364902,-30489.374708371739,-48312.026088307568,-85655.817131352975,-53944.720480317337,-49508.069831081979,-111803.59329670055,-63705.789477551079,-41604.755901625744,-62772.182526419754,-44858.71893982558,-73461.402018572655,-65604.926543518901,-25322.258102488453,-3760.599086764254,-8455.8452091489016,59830.221060026932,21227.286654175303,30084.581080635282,4834.4841894517886,13361.019273233032,13693.470506763078,61076.211841011151,172354.24283510866,148175.44682745845,78373.925747187051,30485.599117716367,-15360.450272917566,-78181.609281871613,-64533.412870405751,-15934.598364932288,-65378.342155456048,-45434.709248704778,{"$f":"DM18-SUM(DM5:DM8)","v":-110943.62423805217},-14953.689724762109,47071.759375696653,-66329.201918905368,66079.972392909345,-71045.619711953914,42893.862834161613,-131244.58055095025,-22089.008009932935,-78399.149307213258,-89512.399544786196,-163319.99912442965,-157508.14557391498,955.4157618265599,-153658.64489547245,-63454.013657030649,27542.301224502735,{"$f":"ED18-SUM(ED5:ED8)","v":116510.70591155184},145835.96542041446,-148676.87079485646,-132736.69037237088,-8300.2160872297827,-137285.98062640894,-47065.170241919812,14191.228553874418,-93140.869430615101,121409.68243783386,98758.389876530739,346927.78202865506,364001.21683392627,202017.5671243784,259023.26993973553,139253.48447498912,39080.192908353172,-65468.427718326449,-46080.110115410062,-78737.4434360296,99375.713935258333,141508.85822733305,46219.513742828276,102095.16669961251,-8850.5900758299977,-65271.475289501948,-10728.055354841752,-84091.827290806687,1005.5598481134512,{"$f":"FG18-SUM(FG5:FG8)","v":-133856.00422350201},20402.31700275559,{"$f":"FI18-SUM(FI5:FI8)","v":-51925.027125765104},-224703.40977061912,{"$f":"FK18-SUM(FK5:FK8)","v":-174554.03702949267},{"$f":"FL18-SUM(FL5:FL8)","v":-23200.74925074866},82481.445754208136,{"$f":"FN18-SUM(FN5:FN8)","v":-50817.308087761514},-222339.84580633999,-218883.54835037142,{"$f":"FQ18-SUM(FQ5:FQ8)","v":-46916.432890488766},-161057.47013561218,{"$f":"FS18-SUM(FS5:FS8)","v":-83381.682075094199},{"$f":"FT18-SUM(FT5:FT8)","v":-66903.09105600859},-184019.2438872694,{"$f":"FV18-SUM(FV5:FV8)","v":-172654.57248605322},{"$f":"FW18-SUM(FW5:FW8)","v":-51642.74913735874},-66392.881031389115,{"$f":"FY18-SUM(FY5:FY8)","v":1518.4760588621721},39021.765645861626,{"$f":"GA18-SUM(GA5:GA8)","v":409914.11784031312},100403.70749864914,{"$f":"GC18-SUM(GC5:GC8)","v":176532.41397407465},-4846.1755783392582,{"$f":"GE18-SUM(GE5:GE8)","v":159029.22138363123},-17607.261024968233,{"$f":"GG18-SUM(GG5:GG8)","v":-80344.099880502559},64576.411389369052,{"$f":"GI18-SUM(GI5:GI8)","v":83437.226155848475},148481.61135349981,{"$f":"GK18-SUM(GK5:GK8)","v":609781.50709075807},182019.27136000548,{"$f":"GM18-SUM(GM5:GM8)","v":533266.00045449263},-8885.7054437841289,{"$f":"GO18-SUM(GO5:GO8)","v":-209886.08941314532},-430016.65038825246,{"$f":"GQ18-SUM(GQ5:GQ8)","v":-125233.33333333349},-92789.994639976183,{"$f":"GS18-SUM(GS5:GS8)","v":-41335.09549973812},-10053.485264624469,{"$f":"GU18-SUM(GU5:GU8)","v":-3280.7921553573105},6962.8200700744055,{"$f":"GW18-SUM(GW5:GW8)","v":30781.534458096139},-33439.890271909535,{"$f":"GY18-SUM(GY5:GY8)","v":45116.242610218003},-182924.00462041073,{"$f":"HA18-SUM(HA5:HA8)","v":-232334.96547232475},-76893.160635423847,{"$f":"HC18-SUM(HC5:HC8)","v":-70890.945098463446}]
["     TOTAL SUPPLY",{"$f":"SUM(B5:B9)","v":595781.4418907105},{"$f":"SUM(C5:C9)","v":585205.78801921604},559307.77101972932,542694.31534852646,593532.60234447068,512329.51770356519,534292.38762230147,561685.88251331472,507608.89978056063,521630.71916279232,600423.69919852377,617597.22086255415,582069.5103833013,670602.05776406708,635421.99801470106,614656.92528017017,657311.5923700853,611292.43321138911,571541.48956914118,602016.15215513669,554218.62077217654,574385.20974825532,597607.53159880172,617206.73044596508,700021.84742376721,585476.59912849823,584761.63605281443,579597.26203883067,613565.64232828293,618401.17339168466,658632.6586259614,657165.03244638245,669522.39624183299,611599.69381956675,717396.2740511481,667598.70975286164,597413.42173009948,601673.84035324608,597443.16162771697,612998.04310976993,562157.83666908776,629758.3638000791,599566.79111062665,573298.46005874488,369938.81116085622,460395.05723463913,389888.02260964538,338894.21595534508,436518.78219501767,534098.44630284235,523039.90228292579,517894.04094106134,512737.69870943227,583140.68099532346,615996.56286398764,693213.31888656737,604873.7498160972,608596.9389619166,593226.15815209993,613359.93195746921,656875.55298202403,629212.42143209628,582737.03675548523,607415.22930624755,636534.23666732071,{"$f":"SUM(BO5:BO9)","v":639492.69721663429},659222.94744993199,659746.29225702374,689099.52864235803,658333.7662510532,656765.97942785022,691093.73552286089,711410.69697015861,666633.79633385234,734547.29514934157,717716.15899549064,712808.57096961164,719119.38168133679,640594.12768067047,643978.32393519022,675249.00600678381,602104.10301653936,672174.41451779811,663566.32555743668,723914.35614335595,724896.60196667002,732830.04884812026,752008.63498122664,706261.49861238222,759777.58200142416,795428.07794294099,752002.58680201799,759791.31920581637,766635.94795502629,808811.77826878976,853226.70477433631,838898.52596847224,852679.08629770041,937392.57192171493,914912.21816102462,937388.86742619425,905986.08236296789,929116.91852201789,942610.66007812857,1000327.8100145273,1088690.7872451837,1056060.3783343078,1008581.4378991977,961733.41175580746,909916.16420849145,872259.75174331618,926945.58256338432,961377.73040219094,933267.31994500046,966458.26467970898,899239.67227100662,947958.63904236117,1012545.3784654007,959149.79351488454,1114360.0430955165,1083473.6909376264,1205741.5144975665,1029500.5365502427,1191365.7865106151,1133539.5161810769,1118709.0616424284,1067425.1179767633,1079559.5521724396,1202610.2102823746,{"$f":"SUM(EA5:EA9)","v":1040344.5367218497},1147100.7808635174,1229319.676390212,1344297.8910640043,1370422.9281034565,1107916.7659704993,1120853.7205865332,1255809.5497103841,1111871.0969991619,1208851.0471685971,1252946.1556418107,1148689.6431914442,1361176.7541996781,1352922.2358319233,1580565.8215324348,1595120.8294707153,1400295.2241862584,1529175.1406410406,1429033.3121655416,1348296.5797386905,1253271.2983090708,1293672.5191377937,1208208.7342042709,1333082.1066293223,1472422.7778031174,1410525.9064368922,1473460.6991786226,1349098.8061633939,1322532.7596593993,1405898.7602392207,1331912.4076580945,1425213.0206034663,{"$f":"SUM(FG5:FG9)","v":1318548.2307253992},1498545.2616290762,{"$f":"SUM(FI5:FI9)","v":1470540.4981457167},1288767.4918449488,{"$f":"SUM(FK5:FK9)","v":1330653.4237258602},{"$f":"SUM(FL5:FL9)","v":1505470.1523648193},1624334.0677998834,{"$f":"SUM(FN5:FN9)","v":1479098.9711304614},1329128.2767298555,1324968.2147388193,{"$f":"SUM(FQ5:FQ9)","v":1523749.3086933256},1436987.8413406755,{"$f":"SUM(FS5:FS9)","v":1512250.7261753869},{"$f":"SUM(FT5:FT9)","v":1518722.8655815693},1424316.3901696634,{"$f":"SUM(FV5:FV9)","v":1446511.1690977614},{"$f":"SUM(FW5:FW9)","v":1560757.4010486063},1577072.8605524255,{"$f":"SUM(FY5:FY9)","v":1653854.1101157949},1704964.1055326159,{"$f":"SUM(GA5:GA9)","v":1574726.9375400865},1689128.4404066768,{"$f":"SUM(GC5:GC9)","v":1540601.4248032847},1392130.1288070302,{"$f":"SUM(GE5:GE9)","v":1566777.8281105254},1529382.9640958379,{"$f":"SUM(GG5:GG9)","v":1479047.7374781999},1571239.2904131999,{"$f":"SUM(GI5:GI9)","v":1674115.9786654147},1807395.8237791611,{"$f":"SUM(GK5:GK9)","v":2061576.2222787973},1975340.4806110668,{"$f":"SUM(GM5:GM9)","v":1507512.5825308864},1508216.8151850076,{"$f":"SUM(GO5:GO9)","v":1848602.9738051451},1690749.3449331312,{"$f":"SUM(GQ5:GQ9)","v":1697160.9882465089},1669926.3478781565,{"$f":"SUM(GS5:GS9)","v":1728735.6151611193},1705793.3413217505,{"$f":"SUM(GU5:GU9)","v":1729490.4091436553},1736678.8938672058,{"$f":"SUM(GW5:GW9)","v":1811419.4675772744},1751341.1878270255,{"$f":"SUM(GY5:GY9)","v":1745977.1284085042},1715024.3495694289,{"$f":"SUM(HA5:HA9)","v":1714496.1068972154},1880524.5567749909,{"$f":"SUM(HC5:HC9)","v":1920268.8791536903}]
["DEMAND"]
["  Residential and Commercial ",42896.216568819305,42896.216568819305,42896.216568819305,42896.216568819305,42896.216568819305,42896.216568819305,42896.216568819305,42896.216568819305,42896.216568819305,42896.216568819305,42896.216568819305,42896.216568819305,37747.619047619046,37747.619047619046,37747.619047619046,37747.619047619046,37747.619047619046,37747.619047619046,37747.619047619046,37747.619047619046,37747.619047619046,37747.619047619046,37747.619047619046,37747.619047619046,32978.799739073715,32978.799739073715,32978.799739073715,32978.799739073715,32978.799739073715,32978.799739073715,32978.799739073715,32978.799739073715,32978.799739073715,32978.799739073715,32978.799739073715,32978.799739073715,31056.531355711682,31056.531355711682,31056.531355711682,31056.531355711682,31056.531355711682,31056.531355711682,31056.531355711682,31056.531355711682,31056.531355711682,31056.531355711682,31056.531355711682,31056.531355711682,27015.981735159821,27015.981735159821,27015.981735159821,27015.981735159821,27015.981735159821,27015.981735159821,27015.981735159821,27015.981735159821,27015.981735159821,27015.981735159821,27015.981735159821,27015.981735159821,28299.412915851273,28299.412915851273,28299.412915851273,28299.412915851273,28299.412915851273,28299.412915851273,28299.412915851273,28299.412915851273,28299.412915851273,28299.412915851273,28299.412915851273,28299.412915851273,21385.97521200261,21385.97521200261,21385.97521200261,21385.97521200261,21385.97521200261,21385.97521200261,21385.97521200261,21385.97521200261,21385.97521200261,21385.97521200261,21385.97521200261,21385.97521200261,13582.974559686887,13582.974559686887,13582.974559686887,13582.974559686887,13582.974559686887,13582.974559686887,13582.974559686887,13582.974559686887,13582.974559686887,13582.974559686887,13582.974559686887,13582.974559686887,18733.463796477496,18733.463796477496,18733.463796477496,18733.463796477496,18733.463796477496,18733.463796477496,18733.463796477496,18733.463796477496,18733.463796477496,18733.463796477496,18733.463796477496,18733.463796477496,18423.367527732327,18423.367527732327,18423.367527732327,18423.367527732327,18423.367527732327,18423.367527732327,18423.367527732327,18423.367527732327,18423.367527732327,18423.367527732327,18423.367527732327,18423.367527732327,17984.347032981168,17984.347032981168,17984.347032981168,17984.347032981168,17984.347032981168,17984.347032981168,17984.347032981168,17984.347032981168,17984.347032981168,17984.347032981168,17984.347032981168,17984.347032981168,17984.347032981168,17984.347032981168,17984.347032981168,17984.347032981168,17984.347032981168,17984.347032981168,17984.347032981168,17984.347032981168,17984.347032981168,17984.347032981168,17984.347032981168,17984.347032981168,17984.347032981168,17984.347032981168,17984.347032981168,17984.347032981168,17984.347032981168,17984.347032981168,17984.347032981168,17984.347032981168,17984.347032981168,17984.347032981168,17984.347032981168,17984.347032981168,17984.347032981168,17984.347032981168,17984.347032981168,17984.347032981168,17984.347032981168,17984.347032981168,17984.347032981168,17984.347032981168,17984.347032981168,17284.40905667088,17284.40905667088,17284.40905667088,30378.358997585383,30378.358997585383,30378.358997585383,30378.358997585383,30378.358997585383,30378.358997585383,30378.358997585383,30378.358997585383,30378.358997585383,30378.358997585383,30378.358997585383,30378.358997585383,30074.575407609529,30074.575407609529,30074.575407609529,30074.575407609529,30074.575407609529,30074.575407609529,30074.575407609529,30074.575407609529,30074.575407609529,30074.575407609529,40016.336134377372,55295.477033258736,59413.871732860105,73145.449117073193,47935.416467192466,45649.033716715538,35062.373711555992,27877.255896935996,24506.411811064248,25534.197511193142,25454.037378226258,35757.13172188637,49329.484905760633,62868.797912033886,68414.977875689496,61386.526246440349,51003.337002009772,42236.87571221136,34958.764969565651,29442.183792305121]
["  Chemical",520604.63218386378,510021.62129186752,488855.59950787498,466364.89154839696,517019.92471396463,436984.9723123677,458317.69271135854,478015.47634612361,427207.76624303847,421566.97341242933,515869.51032765413,527877.03945106117,494203.32103393489,534403.14810338151,539095.74038188788,526750.43906357069,589705.42837933172,546364.50216441648,505486.57467285189,529705.04281159025,481543.11228707497,482192.19761646987,500644.29047216248,522394.53212359396,583909.59971395216,495307.02187065437,500791.69516493811,523515.17410955264,550607.26951908483,561767.12700980483,588650.75981433049,595789.2885067272,605880.62293864973,543429.14472407568,583342.17102331831,583062.16992375208,465442.54808627506,463082.88894204044,489625.96329310985,537342.18789072754,476632.35421410622,576292.5653332246,548303.12105850526,517344.6081975025,308665.95305995818,358101.15205658571,325883.79252401442,267298.18574955658,327704.67550093925,383994.28494179057,408911.10794841475,416747.81451302016,444034.93562301749,510235.50682232069,533971.79853246955,554127.67288231966,493901.1425697814,453201.53839803243,453201.53839803231,457554.1111327394,491778.10141846573,506187.06002844172,460659.77458763856,489229.03444029728,488753.89905540226,522399.58509577165,527156.64695687173,535095.95633623109,547713.01861862978,500759.82340341725,497820.20292465104,519377.46787602559,559297.63515487628,540721.54145415907,559616.20803683472,527278.00809492334,549859.42398083431,581616.20736263518,522270.71395578654,510539.74107746524,521924.14238605998,517959.15896528703,527358.7022995532,522122.84897456807,549728.21242907271,566615.29395890597,570345.90819660516,554480.69197965728,550413.81310890056,591060.86378785211,618214.80248091312,581544.16213745798,596066.10947862512,565415.88629680872,559752.61925900879,637872.37457557709,624463.8629104814,614888.04850329459,605054.79310081468,585047.02810516034,581653.09778588754,590122.55109681236,608838.85543881729,598191.93989592162,616524.95028510352,626857.14865050814,591147.37013082905,556889.03691123798,556800.66968284687,528226.18266464584,503240.20475996536,485290.98158536799,486150.11133479502,519931.00950126094,502788.48906542087,501747.06834760157,499707.03821026778,486125.93346233468,517989.43461712752,577189.27940372005,573409.8909288065,558730.8949359305,573279.67392857117,585462.65721963404,602570.81151021086,632408.33809183817,512425.0999592077,518761.41753662133,508141.15564476745,468514.89353932394,479953.68146062153,516355.44930417801,518492.15557131346,520571.17553689436,472166.12416774372,457083.92462888535,428794.93682617613,443255.8210006078,509934.15319576371,609441.11171035981,573102.66772436933,540943.14176901197,531137.38487570442,566908.91378017573,566543.66855335981,532627.46222095774,606929.1694161623,582856.04385937401,557921.5762557477,552077.60085015825,555991.3442323514,537240.59661859623,478196.75461383886,489786.36162237969,513947.56266762316,519366.41976456519,520132.89976507146,527937.32145265408,538397.12344523368,525104.22384621273,481066.22251915641,508040.04691351729,520882.33451250859,519058.46271513624,512130.41742837091,506141.59757975664,506141.59757975664,506141.59757975664,494756.18126782123,494756.18126782123,494756.18126782123,494756.18126782123,494756.18126782123,494756.18126782123,494756.18126782123,494756.18126782123,494756.18126782123,494756.18126782123,494756.18126782123,494756.18126782123,494756.18126782123,494756.18126782123,494756.18126782123,494756.18126782123,494756.18126782123,494756.18126782123,494756.18126782123,494756.18126782123,494756.18126782123,494756.18126782123,565142.00879764732,580360.77273016958,589480.54135865683,399630.09756772569,435978.11630924162,542191.08783910738,539696.41905903455,540192.4902073032,553057.91094922624,566142.23042627634,558469.4032513547,566231.41779783682,565020.32256727898,566847.75378422916,566104.95572102279,552629.21418639307,518343.92629523174,527286.49796592433,536177.04175140895,576478.24405657907]
["  Farm",7426.5451644025979,5483.7003931942172,3465.1603711595358,3582.9085391115591,3465.1603711595358,3582.9085391115591,3465.1603711595358,7426.5451644025979,12792.497389644792,20303.148388298836,17906.132112132651,11884.154379729185,6325.7975119955599,4670.9173021756569,2951.561240025108,3051.8570103172233,2951.561240025108,3051.8570103172233,2951.561240025108,6325.7975119955599,10896.419043879101,17293.856391797603,15252.121067993823,10122.708815911354,6048.3205226107266,4466.0305557669235,2822.0929278772583,2917.9892895041557,2822.0929278772583,2917.9892895041557,2822.0929278772583,6048.3205226107266,10418.454716750752,16535.272640523548,14583.096707404571,9678.6827842004041,5661.5659977022242,4036.664570113111,2642.0641322610377,2731.6256282698864,2642.0641322610377,2731.6256282698864,2642.0641322610377,5661.5659977022242,9755.8058152495942,15481.344310100996,13658.128141349431,9064.9028460384761,4490.1375094723589,3313.7739982187818,2095.3975044204344,2163.6686010556864,2095.3975044204344,2163.6686010556864,2095.3975044204344,4784.2283872857533,7730.3887882377921,11684.860770264326,13171.070027785587,7184.2200151557745,5232.9592255975112,3357.5941427184034,2119.746935038992,2194.1240204789565,2119.746935038992,2194.1240204789565,2119.746935038992,4547.6275097578373,10534.982887674991,10242.787194875129,11799.393340154389,7273.0164262365415,4296.2298760600133,3172.3011089367255,2004.5829093281147,2072.6998043052836,2004.5829093281147,2072.6998043052836,2004.5829093281147,4296.2298760600133,7400.4140900195689,11745.298891063276,10358.633529028049,6874.9409001956947,4437.415770466152,3163.8523741967701,2070.7940262175375,2140.9904338859287,2070.7940262175375,2140.9904338859287,2070.7940262175375,4437.415770466152,7646.3944067354587,12133.950468393319,10704.952169429642,7104.8792618650141,3828.3311154598828,2826.3148727984349,1783.8585127201568,1846.7653620352251,1783.8585127201568,1846.7653620352251,1783.8585127201568,3828.3311154598828,6591.7391389432496,10460.510371819961,11165.965753424658,6124.4311154598827,6033.5688767608735,4453.0212211173648,2817.4979948427767,2913.7052434471643,2817.4979948427767,2913.7052434471643,2817.4979948427767,6033.5688767608735,10974.49828722906,15585.574273910775,15365.671991386464,9655.0845920831744,4629.7919473684597,3418.6006225189535,2160.2200252727125,2233.6255601120765,2160.2200252727125,2233.6255601120765,2160.2200252727125,4629.7919473684597,7974.9870350480478,11657.211507301769,10662.884548071857,7408.7157662872405,4629.7919473684597,3418.6006225189535,2851.2895289374915,2233.6255601120765,2851.2895289374915,2948.1780080761441,2851.2895289374915,6110.8947913878765,10526.241197849331,16706.342045764817,14733.96943472796,9778.8157873511536,6110.8947913878765,4512.2348856001081,2851.2895289374915,2948.1780080761441,2851.2895289374915,3031.2738274878479,2931.6544998239278,6283.133309088661,10822.928384058723,17177.218355764471,15149.253471177532,10054.4364277942,6313.1601862527041,4661.5860038921437,2945.6647754655874,3045.7601804571368,2945.6647754655874,3045.7601804571368,2945.6647754655874,6313.1601862527041,10874.650785153297,17259.307689257108,15221.651230500573,10102.486232361349,5003.090671885192,3694.2413568166994,2334.3979125896931,2413.7221135029354,2334.3979125896931,2413.7221135029354,2334.3979125896931,5003.090671885192,8618.0078277886496,13677.758643183301,12062.94455316373,8006.0782778864968,4903.0288584474883,3620.3565296803654,2287.7099543378995,2365.4476712328765,2287.7099543378995,2365.4476712328765,2287.7099543378995,4903.0288584474883,8445.6476712328767,13404.203470319635,4387.5473402869175,9689.3958472293689,8790.7969531400086,8517.5770417822769,3938.3344228088181,2605.431145278003,1044.9590154858299,30.187704891812871,4.6442622910481344,8749.5321417629602,8900.4706662220233,10412.17804195819,4646.5844221936577,8250.5319600470102,11429.716488839511,8436.4337624478649,5836.4509730244299,2458.8751784501069,588.44876065472647,57.043502308366342]
["  Other",9918.5641026570374,9518.5354796206921,9123.0526363915778,8750.2986921986212,8409.3652066562827,8332.086949933353,8322.9953903188907,8541.1928210659862,8745.7529123913901,8832.1227287287838,9118.5068565843467,9714.0040113316318,10954.063112332429,10173.230453747852,9401.2708935562805,8673.6768253297414,8003.7578966577457,7861.7883223696408,7839.6055763871245,8269.9508484479429,8664.8037269367342,8828.9560472073572,9396.8343443597769,10554.773684647134,9665.7726094208992,9010.4612487175327,8362.5966080221588,7751.9655673667476,7189.7382067632916,7070.5906866354062,7051.9738866154239,7413.1398070030755,7744.518847358755,7882.2831675066218,8358.8732480181607,9330.6702090612234,9252.7762904104511,8463.2727267600858,7989.5705885698671,7401.0315683941408,6859.1450315250258,6744.3081495395181,6726.3648867292823,7074.4641852478526,7393.8542632700464,7530.2230606278354,7989.5705885698671,8926.2089072641647,8533.7939010591363,7917.2627705304203,7307.7376755758942,6733.2427584923171,6204.2870726409747,6092.1905034539359,6074.6754145184605,6414.4681398666735,6726.2367229181273,6855.8483810406415,7304.2346577887984,8218.5223002205876,8146.1363833173909,7511.6232878597057,6884.320568486768,6293.0697295375612,5748.6863351392058,5633.3203177832629,5615.2943775713975,5964.9976176815981,6285.8593534528145,6419.2513110206228,6880.7153804443933,7821.6694595038025,8850.6046966731901,8175.8002609262885,7508.6640574037838,6879.8690150032617,6300.9174820613171,6178.2257664709723,6159.0551859099805,6530.9644487932164,6872.2007827788657,7014.0630789302022,7504.8299412915849,8505.534246575342,10600.11598173516,9705.018786692759,9167.9604696673196,8500.7061969993483,7886.344031311155,7756.1480756686242,7735.8049575994792,8130.4614481409008,8492.5689497716903,8647.1766470971961,9167.9604696673196,10229.871232876712,9565.4891996768401,8922.7281050206584,8287.2711137128408,7688.3346391468522,7136.8748363452414,7020.0091827713895,7001.7489244004755,7355.9979367962114,7681.0305357984871,7816.1564477432521,8283.6190620386569,9236.8045490003824,9751.7564143274831,9092.9997620540853,8441.7289808292462,7827.8875548472151,7262.7042906808329,7142.9303539038519,7124.2156762824479,7487.2804221376737,7820.4016837986546,7958.8902981970386,8437.986045304966,9414.8922171422237,9772.2416736316227,9000.5290489930976,8237.5858859981909,7518.4900312213831,6856.3956771281028,6716.0842908301884,6694.1606367211389,7119.4795264366903,7509.7205695777629,7671.9556099847268,8233.2011551763808,9377.6158996687409,9772.2416736316227,9000.5290489930976,8237.5858859981909,7518.4900312213831,6856.3956771281028,6716.0842908301884,6694.1606367211389,7119.4795264366903,7509.7205695777629,7671.9556099847268,8233.2011551763808,9377.6158996687409,9772.2416736316227,9378.0765984436002,9378.0765984436002,9378.0765984436002,9378.0765984436002,9378.0765984436002,9378.0765984436002,9378.0765984436002,9378.0765984436002,9378.0765984436002,9378.0765984436002,9378.0765984436002,9378.0765984436002,9378.0765984436002,9378.0765984436002,9378.0765984436002,9378.0765984436002,9378.0765984436002,9378.0765984436002,9378.0765984436002,9378.0765984436002,8290.6900453369817,8789.1611645579287,9805.5749310943902,10671.017612524462,9870.9236790606665,9079.9217221135041,8334.3796477495107,7647.93542074364,7502.4637964774956,7479.7338551859102,7920.6947162426613,8325.2876712328762,8493.4892367906068,9075.3757338551859,10261.878669275931,10585.15870841487,9793.0657142857126,9009.9737769080239,8271.88712328767,7592.3073385518583,7448.2904305283755,7425.7877886497063,7862.3390410958891,8262.8860665362026,8429.4056164383546,8649.9315068493142,8649.9315068493142,8590.7544373776909,6112.3159471624267,8590.7544373776909,8590.7544373776909,8590.7544373776909,8590.7544373776909,8590.7544373776909,8590.7544373776909,8590.7544373776909,8590.7544373776909,8590.7544373776909,8590.7544373776909,8538.551325146771,8538.551325146771,8538.551325146771,8538.551325146771,8538.551325146771,8538.551325146771]
["     US DOMESTIC CONSUMPTION",{"$f":"SUM(B12:B15)","v":580845.95801974263},{"$f":"SUM(C12:C15)","v":567920.07373350172},544340.02908424544,521594.31534852646,571790.66686059977,491796.18437023193,513002.06504165631,536879.43090041156,491642.23311389395,493598.46109827625,585790.3658651904,592371.4144109413,549230.80070588191,586994.91490692412,589196.19156308833,576223.59194683679,638408.36656363367,595025.76654472249,554025.36053688312,582048.41021965281,538851.95410550979,546062.62910309387,563040.8649321351,580819.6336717715,632602.49258505751,541762.31341421243,544955.18443991116,567163.9287054973,593597.90039279906,604734.50672501815,631503.62636789691,642229.54857541469,657022.39624183299,600825.50027117948,639262.94071781484,635050.32265608746,511413.42173009942,506639.35759462533,531314.12936965248,578531.37644310319,517190.094733604,616825.03046674561,588728.08143320726,561137.16973616427,356872.14449418953,412169.25078302622,378588.02260964538,316345.82885857089,367744.58864663058,422241.30344569957,445330.22486357088,452660.70760772796,479350.60193523869,545507.34766199009,569157.85318656836,592342.35114463198,535373.74981609709,498758.22928449721,500692.82481876656,499972.83518327557,533456.60994323192,545355.69037487102,497963.2550070156,526015.64110616513,524921.74524143175,{"$f":"SUM(BO12:BO15)","v":558526.44234988512},563191.10118533333,573907.99437952181,592833.27377560874,545721.27482516423,544799.72456110117,562771.56667761714,593830.44493961218,573455.61803602474,590515.43021556933,557616.55212623451,579550.89958422643,611253.10814541415,551820.32726302731,542752.91061432112,557582.73247086105,558104.49614728324,566608.14098187548,558889.29933334177,578348.71874096093,593067.13967948232,595167.63725217688,578705.36317022936,573953.92572611605,614540.97685709351,641604.376024417,607695.01391575194,625788.04739481909,599779.98797198606,593208.5064577926,668790.09963000566,656591.14702209563,645370.55527759122,633859.38652372523,613315.59190281993,609307.29493143049,617722.78943809657,636357.92667241546,628109.73274465522,649531.18375632283,663867.27926654893,629330.41874276986,590983.73637217574,591009.36250166758,560195.57117554953,532922.79926336976,514455.94191139471,514653.68114805094,548411.01262634434,531153.57026427845,533691.28517423244,536925.3057090278,528093.76556217484,560216.46018155117,614682.62374067772,605796.27158278774,589134.37164042366,601661.82687282329,613199.11984394863,629571.77424559288,659342.39497576165,539263.82765418279,548495.03604340751,541610.21028237452,{"$f":"SUM(EA12:EA15)","v":505828.40768959164},516834.11419685092,551126.12800311518,550878.53622529458,550974.65224138752,501239.34661566059,484820.38725319994,456486.96906522289,470904.43033249531,537463.95039440366,640655.83306116553,609122.97652477759,583305.78645774268,572088.90249858983,604049.69250017672,600411.15205136046,564502.12073798268,637142.88257652451,613166.64549887495,588135.28941610991,582471.29830907076,586285.4223636,570886.15355910966,516382.10662932234,534326.00360956893,556459.23977022548,556783.27982378402,553808.48358274892,559961.33108797087,568705.21185212396,555512.40765809466,511374.3109260468,{"$f":"SUM(FG12:FG15)","v":538448.2307253991},551190.42291939887,{"$f":"SUM(FI12:FI15)","v":552734.04653281358},550367.49184494885,{"$f":"SUM(FK12:FK15)","v":548976.00437102164},{"$f":"SUM(FL12:FL15)","v":547436.81903148605},543334.06779988331,{"$f":"SUM(FN12:FN15)","v":540808.64854981622},538699.70530128398,536548.85990010982,{"$f":"SUM(FQ12:FQ15)","v":535882.64202665898},535116.87359873997,{"$f":"SUM(FS12:FS15)","v":535050.72617538704},{"$f":"SUM(FT12:FT15)","v":534948.67203318223},538058.32565353438,{"$f":"SUM(FV12:FV15)","v":542077.83576442814},{"$f":"SUM(FW12:FW15)","v":547305.78814538044},546272.8605524255,{"$f":"SUM(FY12:FY15)","v":543402.497212569},540318.94424229313,{"$f":"SUM(GA12:GA15)","v":538244.17891939683},536128.44040667673,{"$f":"SUM(GC12:GC15)","v":535468.09146995132},534710.77396832057,{"$f":"SUM(GE12:GE15)","v":534644.49477719201},534544.25441841839,{"$f":"SUM(GG12:GG15)","v":537596.12457497418},541539.29041319992,{"$f":"SUM(GI12:GI15)","v":546664.3657621888},618195.82377916097,{"$f":"SUM(GK12:GK15)","v":653995.57711750711},666275.96448203467,{"$f":"SUM(GM12:GM15)","v":487405.43967374362},496442.62163662061,{"$f":"SUM(GO12:GO15)","v":599036.30713847862},584394.50622345402,{"$f":"SUM(GQ12:GQ15)","v":576690.68824650871},586159.72145995917,{"$f":"SUM(GS12:GS15)","v":609016.71451661014},601414.66573318071,{"$f":"SUM(GU12:GU15)","v":620991.48199905897},627587.14633261098,{"$f":"SUM(GW12:GW15)","v":646557.83809368766},654488.20141069859,{"$f":"SUM(GY12:GY15)","v":630990.72552042815},583722.26559541281,{"$f":"SUM(HA12:HA15)","v":580520.80018173263},580262.80680677621,{"$f":"SUM(HC12:HC15)","v":614516.02267633926}]
["EXPORTS",14935.483870967742,17285.714285714286,14967.741935483871,21100,21741.935483870966,20533.333333333332,21290.322580645163,24806.451612903227,15966.666666666666,28032.258064516129,14633.333333333334,25225.806451612902,32838.709677419356,83607.142857142855,46225.806451612902,38433.333333333336,18903.225806451614,16266.666666666666,17516.129032258064,19967.741935483871,15366.666666666666,28322.580645161292,34566.666666666664,36387.096774193546,67419.354838709682,43714.285714285717,39806.451612903227,12433.333333333334,19967.741935483871,13666.666666666666,27129.032258064515,14935.483870967742,12500,10774.193548387097,78133.333333333328,32548.387096774193,86000,95034.482758620696,66129.032258064515,34466.666666666664,44967.741935483871,12933.333333333334,10838.709677419354,12161.290322580646,13066.666666666666,48225.806451612902,11300,22548.387096774193,68774.193548387091,111857.14285714286,77709.677419354834,65233.333333333336,33387.096774193546,37633.333333333336,46838.709677419356,100870.96774193548,69500,109838.70967741935,92533.333333333328,113387.09677419355,123419.35483870968,83857.142857142855,84774.193548387091,81400,111612.90322580645,80966.666666666672,96032.258064516136,85838.709677419349,96266.666666666672,112612.90322580645,111966.66666666667,128322.58064516129,117580.64516129032,93178.571428571435,144032.25806451612,160100,133258.06451612903,107866.66666666667,88774.193548387091,101225.80645161291,117666.66666666667,44000,105566.66666666667,104677.41935483871,146129.03225806452,132392.85714285713,138225.80645161291,173866.66666666666,132870.96774193548,145800,154387.09677419355,144870.96774193548,134566.66666666666,167419.35483870967,216166.66666666666,185000,144677.4193548387,169678.57142857142,265903.22580645164,263966.66666666669,290451.61290322582,250633.33333333334,255129.03225806452,276870.96774193546,313166.66666666669,387193.54838709679,389100,379967.74193548388,334258.06451612903,324892.85714285716,312967.74193548388,369933.33333333331,416483.87096774194,351800,402838.70967741933,365548.38709677418,411033.33333333331,484451.61290322582,398933.33333333331,499677.41935483873,477677.41935483873,616607.14285714284,427838.70967741933,578166.66666666663,503967.74193548388,459366.66666666669,528161.29032258061,531064.51612903224,661000,534516.12903225806,630266.66666666663,678193.54838709673,793419.3548387097,819448.27586206899,606677.41935483867,636033.33333333337,799322.58064516133,640966.66666666663,671387.09677419357,612290.32258064521,539566.66666666663,777870.96774193551,780833.33333333337,976516.12903225806,994709.67741935479,835793.10344827583,892032.25806451612,815866.66666666663,760161.29032258061,670800,707387.09677419357,637322.58064516133,816700,938096.77419354836,854066.66666666674,916677.41935483867,795290.32258064509,762571.42857142852,837193.54838709685,776400,913838.70967741939,780100,947354.83870967745,917806.45161290315,738400,781677.41935483867,958033.33333333326,1081000,938290.32258064509,790428.57142857148,788419.35483870958,987866.66666666663,901870.96774193551,977200,983774.19354838703,886258.06451612897,904433.33333333326,1013451.6129032258,1030800,1110451.6129032259,1164645.1612903227,1036482.7586206897,1153000,1005133.3333333334,857419.35483870958,1032133.3333333335,994838.70967741939,941451.61290322582,1029700,1127451.6129032259,1189200,1407580.6451612902,1309064.5161290322,1020107.1428571428,1011774.193548387,1249566.6666666665,1106354.8387096773,1120470.3,1083766.6264181973,1119718.9006445091,1104378.6755885698,1108498.9271445964,1109091.747534595,1164861.6294835866,1096852.9864163268,1114986.4028880759,1131302.0839740161,1133975.3067154828,1300261.7499682147,1305752.8564773509]
["     TOTAL DEMAND",{"$f":"B16+B17","v":595781.44189071038},{"$f":"C16+C17","v":585205.78801921604},559307.77101972932,542694.31534852646,593532.60234447068,512329.51770356525,534292.38762230147,561685.88251331483,507608.89978056063,521630.71916279237,600423.69919852377,617597.22086255415,582069.5103833013,670602.05776406697,635421.99801470118,614656.92528017017,657311.5923700853,611292.43321138911,571541.48956914118,602016.15215513669,554218.62077217642,574385.20974825521,597607.53159880172,617206.73044596508,700021.84742376721,585476.59912849811,584761.63605281443,579597.26203883067,613565.64232828293,618401.17339168477,658632.6586259614,657165.03244638245,669522.39624183299,611599.69381956663,717396.27405114821,667598.70975286164,597413.42173009948,601673.84035324608,597443.16162771697,612998.04310976982,562157.83666908788,629758.36380007898,599566.79111062665,573298.46005874488,369938.81116085622,460395.05723463913,389888.02260964538,338894.21595534508,436518.78219501767,534098.44630284247,523039.90228292573,517894.04094106128,512737.69870943227,583140.68099532346,615996.56286398775,693213.31888656749,604873.74981609709,608596.9389619166,593226.15815209993,613359.93195746909,656875.96478194161,629212.83323201386,582737.44855540269,607415.64110616513,636534.64846723818,{"$f":"BO16+BO17","v":639493.10901655175},659223.35924984945,659746.70405694121,689099.94044227537,658334.17805097066,656766.3912277678,691094.14732277847,711411.09010090248,666634.18946459622,734547.68828008545,717716.55212623451,712808.96410035552,719119.77481208078,640594.52081141435,643978.71706593409,675249.39913752768,602104.49614728324,672174.8076485421,663566.71868818044,724477.75099902542,725459.99682233948,733393.44370378973,752572.02983689599,706824.89346805157,760340.97685709351,795991.47279861057,752565.98165768746,760354.71406148572,767199.34281069576,809375.17312445922,853790.09963000566,801268.56637693429,815049.1267061627,899762.61233017687,877282.25856948667,899758.9078346563,868356.12277142995,891486.95893047994,904980.70048659062,962697.85042298958,1051060.8276536458,1018430.4187427699,970951.47830765962,925267.42701779655,885088.42831840669,845890.54119885364,884389.27524472796,931137.55211579287,900211.01262634434,933992.27994169784,899239.67227100662,947958.63904236117,1012545.3784654007,959149.79351488454,1114360.0430955165,1083473.6909376264,1205741.5144975665,1029500.5365502427,1191365.7865106151,1133539.5161810769,1118709.0616424284,1067425.1179767633,1079559.5521724396,1202610.2102823746,{"$f":"EA16+EA17","v":1040344.5367218497},1147100.7808635174,1229319.676390212,1344297.8910640043,1370422.9281034565,1107916.7659704993,1120853.7205865332,1255809.5497103841,1111871.0969991619,1208851.0471685971,1252946.1556418107,1148689.6431914442,1361176.7541996781,1352922.2358319233,1580565.8215324348,1595120.8294707153,1400295.2241862584,1529175.1406410406,1429033.3121655416,1348296.5797386905,1253271.2983090708,1293672.5191377937,1208208.7342042709,1333082.1066293223,1472422.7778031174,1410525.9064368922,1473460.6991786226,1349098.8061633939,1322532.7596593993,1405898.7602392207,1331912.4076580945,1425213.0206034663,{"$f":"FG16+FG17","v":1318548.2307253992},1498545.2616290762,{"$f":"FI16+FI17","v":1470540.4981457167},1288767.4918449488,{"$f":"FK16+FK17","v":1330653.4237258602},{"$f":"FL16+FL17","v":1505470.1523648193},1624334.0677998834,{"$f":"FN16+FN17","v":1479098.9711304614},1329128.2767298555,1324968.2147388193,{"$f":"FQ16+FQ17","v":1523749.3086933256},1436987.8413406755,{"$f":"FS16+FS17","v":1512250.7261753869},{"$f":"FT16+FT17","v":1518722.8655815693},1424316.3901696634,{"$f":"FV16+FV17","v":1446511.1690977614},{"$f":"FW16+FW17","v":1560757.4010486063},1577072.8605524255,{"$f":"FY16+FY17","v":1653854.1101157949},1704964.1055326159,{"$f":"GA16+GA17","v":1574726.9375400865},1689128.4404066768,{"$f":"GC16+GC17","v":1540601.4248032847},1392130.1288070302,{"$f":"GE16+GE17","v":1566777.8281105254},1529382.9640958379,{"$f":"GG16+GG17","v":1479047.7374781999},1571239.2904131999,{"$f":"GI16+GI17","v":1674115.9786654147},1807395.8237791611,{"$f":"GK16+GK17","v":2061576.2222787973},1975340.4806110668,{"$f":"GM16+GM17","v":1507512.5825308864},1508216.8151850076,{"$f":"GO16+GO17","v":1848602.9738051451},1690749.3449331312,{"$f":"GQ16+GQ17","v":1697160.9882465089},1669926.3478781565,{"$f":"GS16+GS17","v":1728735.6151611193},1705793.3413217505,{"$f":"GU16+GU17","v":1729490.4091436553},1736678.8938672058,{"$f":"GW16+GW17","v":1811419.4675772744},1751341.1878270255,{"$f":"GY16+GY17","v":1745977.1284085042},1715024.3495694289,{"$f":"HA16+HA17","v":1714496.1068972154},1880524.5567749909,{"$f":"HC16+HC17","v":1920268.8791536903}]
[]
["INVENTORIES (End of Month, Thousand Barrels)",22921,17724,15898,20366,24456,30390,34781,35682,38676,39293,40447,33020,27010,19185,15552,16389,19224,22502,27650,31155,36566,38826,35750,31198,23376,16931,14244,15778.999999999998,18413,21735,23196,25285,27471,29689,30249,25679,20632,16128,13235,15472,18277,19523,21224,24505,27537,29892,32406.999999999996,31310,28764,22889,22576,24705,30324,34594,34684,34250,36250,35024,30356,24385,17334,13701,14483,18101,20472,23694,26261,27793,28654,27296,27112,22936,15894,13888,12859,14587,16001,18256,20523,22035,24585,25359,25492,23931,22019,23642.25,23877,25684,28293,30478,33920,37376,38725,38119,38992,38509,35872,32741,28940,26835,28513,32562.999999999996,34917,36747,36362,34457,29609,25012,17966,16197,17006,19102,26007,31989.999999999996,37159,41839,43223,43366,43088,41948,39535,35327,38934,43482,51087,54443,57769,61727,62151,64833,63651,61178,51774,42827,44995,50346,50114,53226,53596,59547,63831,63852,63237,53020,36001,29970.620689655174,28104,26197,29185,35440,38282,45207,40542,40816,39558,37502,30723,26920,23440,24203,27390,34612,34638,36486,40654,45382,42874,38067,31414,32576,37981,40385,45589,48177,50275,58408,60556,60438,57757,53426,52636,48560,46675,47050,46490,49364,53619,58400,62145,57889,53187,40553,31659,24849,23914,25599,28113,31870.000000000004,34746.489833839267,36027.877794331151,36329.482352269886,36431.186909085962,36222.302306983729,35268.074738782743,36304.711337211942,35041.456544125838,40712.100687358579,47682.149651528322,50065.837631226459,52192.565984180364]
["Days of Forward Supply",{"$f":"B20*1000/B18","v":38.472161749886475},30.286781783193859,28.424421800925067,37.527572012470131,41.204139256037671,59.317292777153057,65.097315263617716,63.526609998345748,76.192517540018784,75.327235449370264,67.364096477188895,53.465266495019705,46.403392581435021,28.608620832400902,24.475073334870896,26.663654676191339,29.246403415286697,36.810532533156113,48.377940192660489,51.75110316968955,65.977573884207771,67.595751668147727,59.821869889016781,50.547083272176515,33.393243490940705,28.918320604448361,24.358643115078625,27.224076153318457,30.009828989329694,35.147087255336466,35.218417574967305,38.475875543580422,{"$f":"AH20*1000/AH18","v":41.030740949369843},48.543189769416088,42.164980630835196,38.464723830137579,34.535548164033656,26.80522056689578,22.152734937900398,25.239884815145196,32.512221315450041,31.000779222993707,35.398891857711213,42.743878986678276,74.436634300655754,64.926848214979032,83.11873697245062,92.388711656635678,65.894071854964281,42.855395214951749,43.163054867251908,47.7028080012443,59.14135058983554,59.323592277859667,56.305508976773687,49.407590804821837,59.929861414917205,57.548761352202021,51.171040897048385,39.756428044098058,26.388543544524794,21.774826062627266,24.853388152594512,29.800022875664272,{"$f":"BN20*1000/BN18","v":32.161642809698009},37.051220202259813,39.836270410507296,42.126773546717487,41.581776921369929,41.462225280192946,41.281040507137504,33.187952884352299,22.341512834366533,20.833014897051822,17.506011121087106,20.324179450489233,22.447809730051652,25.386591551832417,32.037426692323834,34.216969312891024,36.408769902500552,42.117273932126281,37.924658451836713,36.064195695814455,30.392927829235187,32.589322779419682,32.556876810100967,34.128294677077569,40.028301580013384,40.084647451176835,42.613521826736843,49.664748222702507,50.930176776504503,49.685913259972324,48.175433710769532,45.103591640015587,{"$f":"CT20*1000/CT18","v":44.76900942489366},40.170584725751894,32.164039273705875,30.588786833279482,31.689600127014998,37.499591637671081,39.167146137381579,40.605285814649804,37.770937147125949,32.783069346158292,29.073169315338856,25.760298592464366,19.417089022473977,18.299866410831889,20.104256013902152,21.599085984748175,27.930352439234309,35.536112701698606,39.785125421293159,46.527084258122954,45.595871190819437,42.828697777204702,44.923118673779229,37.643130027773672,36.489118592059988,29.298982887489604,37.818338716426602,36.497606773948242,45.068565560125677,48.665914907375218,54.119955608218667,57.177948058339496,{"$f":"DZ20*1000/DZ18","v":51.680086755131455},62.318777781339939,55.488585712656075,49.76573724065311,38.513785035414408,31.250936569828674,40.612256608090803,44.917547290340764,39.905732530507777,47.870657078551723,44.336314325519233,47.525585781854744,55.568534441257889,46.909411142230852,46.74104566040711,33.544949079434446,22.569450122437225,21.403072846350486,18.378535756354641,18.331972933717935,21.645831072015522,28.27799539318908,29.591723897415839,37.416547919406852,30.412230273279885,27.720299234230975,28.044858885241503,25.451645925069741,22.772979903059106,20.354883312631809,16.672608770215835,18.171615386147057,19.2181797415817,{"$f":"FG20*1000/FG18","v":26.250082623794665},23.114416952841886,{"$f":"FI20*1000/FI18","v":24.81128540560913},31.544867679585348,{"$f":"FK20*1000/FK18","v":34.105048836029262},{"$f":"FL20*1000/FL18","v":28.478811042950774},23.435450105137992,{"$f":"FN20*1000/FN18","v":21.238605808771929},24.509297236643661,28.665593315751277,{"$f":"FQ20*1000/FQ18","v":26.503703574856228},31.725390214482641,{"$f":"FS20*1000/FS18","v":31.857812442149594},{"$f":"FT20*1000/FT18","v":33.103472094461445},41.007742663863112,{"$f":"FV20*1000/FV18","v":41.863485947205547},{"$f":"FW20*1000/FW18","v":38.723506907219715},36.622911626142987,{"$f":"FY20*1000/FY18","v":32.303937616516471},30.872204188461183,{"$f":"GA20*1000/GA18","v":30.837092350662765},27.632593758685672,{"$f":"GC20*1000/GC18","v":30.540021086899674},33.394866642128541,{"$f":"GE20*1000/GE18","v":31.506700640212092},35.059237129464975,{"$f":"GG20*1000/GG18","v":39.484864835784769},39.551582231410016,{"$f":"GI20*1000/GI18","v":34.578846828848988},29.427422206160148,{"$f":"GK20*1000/GK18","v":19.670871036324854},16.027110420076223,{"$f":"GM20*1000/GM18","v":16.483444508491115},15.855810490394616,{"$f":"GO20*1000/GO18","v":13.847754419277647},16.627538602483895,{"$f":"GQ20*1000/GQ18","v":18.778418912944609},20.807198998919258,{"$f":"GS20*1000/GS18","v":20.840594408054308},21.297704400768524,{"$f":"GU20*1000/GU18","v":21.064694384240383},20.857224922175767,{"$f":"GW20*1000/GW18","v":19.469855199222771},20.729662266583802,{"$f":"GY20*1000/GY18","v":20.069825643172589},23.738497180859088,{"$f":"HA20*1000/HA18","v":27.811174058493727},26.623336265859223,{"$f":"HC20*1000/HC18","v":27.179821821193556}]
["Days per Month",31,28,31,30,31,30,31,31,30,31,30,31,31,28,31,30,31,30,31,31,30,31,30,31,31,28,31,30,31,30,31,31,30,31,30,31,31,29,31,30,31,30,31,31,30,31,30,31,31,28,31,30,31,30,31,31,30,31,30,31,31,28,31,30,31,30,31,31,30,31,30,31,31,28,31,30,31,30,31,31,30,31,30,31,31,29,31,30,31,30,31,31,30,31,30,31,31,28,31,30,31,30,31,31,30,31,30,31,31,28,31,30,31,30,31,31,30,31,30,31,31,28,31,30,31,30,31,31,30,31,30,31,31,29,31,30,31,30,31,31,30,31,30,31,31,28,31,30,31,30,31,31,30,31,30,31,31,28,31,30,31,30,31,31,30,31,30,31,31,28,31,30,31,30,31,31,30,31,30,{"$f":"DAY(EOMONTH(FY3,0))","v":31},31,29,31,30,31,{"$f":"DAY(EOMONTH(GE3,0))","v":30},31,{"$f":"DAY(EOMONTH(GG3,0))","v":31},30,{"$f":"DAY(EOMONTH(GI3,0))","v":31},30,{"$f":"DAY(EOMONTH(GK3,0))","v":31},31,{"$f":"DAY(EOMONTH(GM3,0))","v":28},31,{"$f":"DAY(EOMONTH(GO3,0))","v":30},31,{"$f":"DAY(EOMONTH(GQ3,0))","v":30},31,{"$f":"DAY(EOMONTH(GS3,0))","v":31},30,{"$f":"DAY(EOMONTH(GU3,0))","v":31},30,{"$f":"DAY(EOMONTH(GW3,0))","v":31},31,{"$f":"DAY(EOMONTH(GY3,0))","v":28},31,{"$f":"DAY(EOMONTH(HA3,0))","v":30},31,{"$f":"DAY(EOMONTH(HC3,0))","v":30}]
[]
["CHANGE FROM PREVIOUS YEAR",{"$f":"B$3","v":"2005-01-15"},{"$f":"C$3","v":"2005-02-15"},"2005-03-15","2005-04-15","2005-05-15","2005-06-15","2005-07-15","2005-08-15","2005-09-15","2005-10-15","2005-11-15","2005-12-15","2006-01-15","2006-02-15","2006-03-15","2006-04-15","2006-05-15","2006-06-15","2006-07-15","2006-08-15","2006-09-15","2006-10-15","2006-11-15","2006-12-15","2007-01-15","2007-02-15","2007-03-15","2007-04-15","2007-05-15","2007-06-15","2007-07-15","2007-08-15","2007-09-15","2007-10-15","2007-11-15","2007-12-15","2008-01-15","2008-02-15","2008-03-15","2008-04-15","2008-05-15","2008-06-15","2008-07-15","2008-08-15","2008-09-15","2008-10-15","2008-11-15","2008-12-15","2009-01-15","2009-02-15","2009-03-15","2009-04-15","2009-05-15","2009-06-15","2009-07-15","2009-08-15","2009-09-15","2009-10-15","2009-11-15","2009-12-15","2010-01-15","2010-02-15","2010-03-15","2010-04-15","2010-05-15",{"$f":"BO$3","v":"2010-06-15"},"2010-07-15","2010-08-15","2010-09-15","2010-10-15","2010-11-15","2010-12-15","2011-01-15","2011-02-15","2011-03-15","2011-04-15","2011-05-15","2011-06-15","2011-07-15","2011-08-15","2011-09-15","2011-10-15","2011-11-15","2011-12-15","2012-01-15","2012-02-15","2012-03-15","2012-04-15","2012-05-15","2012-06-15","2012-07-15","2012-08-15","2012-09-15","2012-10-15","2012-11-15","2012-12-15","2013-01-15","2013-02-15","2013-03-15","2013-04-15","2013-05-15","2013-06-15","2013-07-15","2013-08-15","2013-09-15","2013-10-15","2013-11-15","2013-12-15","2014-01-15","2014-02-15","2014-03-15","2014-04-15","2014-05-15","2014-06-15","2014-07-15","2014-08-15","2014-09-15","2014-10-15","2014-11-15","2014-12-15","2015-01-15","2015-02-15","2015-03-15","2015-04-15","2015-05-15","2015-06-15","2015-07-15","2015-08-15","2015-09-15",{"$f":"EA$3","v":"2015-10-15"},"2015-11-15","2015-12-15","2016-01-15","2016-02-15","2016-03-15","2016-04-15","2016-05-15","2016-06-15","2016-07-15","2016-08-15","2016-09-15","2016-10-15","2016-11-15","2016-12-15","2017-01-15","2017-02-15","2017-03-15","2017-04-15","2017-05-15","2017-06-15","2017-07-15","2017-08-15","2017-09-15","2017-10-15","2017-11-15","2017-12-15","2018-01-15","2018-02-15","2018-03-15","2018-04-15","2018-05-15","2018-06-15","2018-07-15","2018-08-15","2018-09-15","2018-10-15","2018-11-15","2018-12-15","2019-01-15","2019-02-15","2019-03-15","2019-04-15","2019-05-15","2019-06-15","2019-07-15","2019-08-15","2019-09-15","2019-10-15","2019-11-15","2019-12-15","2020-01-15","2020-02-15","2020-03-15","2020-04-15","2020-05-15","2020-06-15","2020-07-15","2020-08-15","2020-09-15","2020-10-15","2020-11-15","2020-12-15","2021-01-15","2021-02-15","2021-03-15","2021-04-15","2021-05-15","2021-06-15","2021-07-15","2021-08-15","2021-09-15","2021-10-15","2021-11-15",{"$f":"GW$3","v":"2021-12-15"},"2022-01-15","2022-02-15","2022-03-15","2022-04-15","2022-05-15","2022-06-15"]
[{"$f":"A4","v":"SUPPLY"}]
["Gas Processing",null,null,null,null,null,null,null,null,null,null,null,null,{"$f":"N5-B5","v":-29193.548387096787},-37464.285714285681,-35129.032258064544,-30633.333333333372,-28935.483870967757,-13733.333333333314,-2483.8709677419392,5354.8387096773949,74800,56387.096774193575,{"$f":"X5-L5","v":35700},35161.290322580666,-96.774193548364565,8357.1428571428405,11451.612903225818,5000,11516.129032258061,3900,774.19354838709114,3806.4516129032127,{"$f":"AH5-V5","v":-1033.3333333333139},8838.7096774193342,10833.333333333372,17258.06451612903,12838.709677419334,9562.8078817733913,6677.4193548387266,14366.666666666686,7483.8709677419392,-133.33333333331393,{"$f":"AR5-AF5","v":7548.3870967741823},-1322.5806451612734,-91833.333333333343,-38612.903225806425,-31833.333333333372,-39516.129032258061,{"$f":"AX5-AL5","v":-11741.93548387097},-9241.3793103448115,-8548.3870967742405,-8700,-1129.0322580644861,5200,-6225.8064516129089,10580.645161290304,109299.99999999997,47322.580645161273,33900,39548.387096774182,23612.903225806425,22000,21580.645161290362,14466.666666666686,12129.032258064486,9466.6666666666279,9258.0645161290886,15419.354838709696,10600,14677.419354838727,16533.333333333372,23806.451612903213,21354.838709677453,-19642.857142857159,15258.06451612903,17133.333333333314,19000,19100,28548.387096774182,18032.258064516122,{"$f":"CD5-BR5","v":7333.3333333333721},26161.290322580608,34366.666666666628,31548.38709677424,38935.483870967757,90714.285714285739,38516.129032258061,39166.666666666686,37322.580645161273,37900,47677.419354838668,45096.774193548365,60733.333333333314,62000,65966.666666666686,58645.161290322547,42064.516129032243,44678.57142857142,53935.483870967757,67833.333333333314,66741.93548387097,79366.666666666686,77161.290322580666,83032.25806451618,87200,62225.806451612909,32700,35709.677419354848,54645.161290322547,39714.285714285739,59709.67741935479,71200,{"$f":"DJ5-CX5","v":66774.193548387149},79700,71741.935483871028,73870.967741935514,62400,66612.903225806484,84366.666666666628,102741.93548387091,70677.419354838785,96642.857142857101,85096.774193548423,80766.666666666628,79483.870967741939,60300,63387.096774193458,63225.806451612851,65333.333333333372,57032.258064516122,50633.333333333372,6419.3548387096962,{"$f":"ED5-DR5","v":13774.193548387033},{"$f":"EE5-DS5","v":-18279.556650246261},-2741.9354838710278,{"$f":"EG5-DU5","v":-24333.333333333256},-23903.225806451635,-22000,-26419.354838709696,-32612.903225806425,-43466.666666666744,-25967.741935483878,-29000,-25870.967741935397,-2290.3225806450937,{"$f":"EQ5-EE5","v":137.93103448278271},{"$f":"ER5-EF5","v":7000},11933.333333333256,20322.580645161332,29866.666666666628,43322.580645161332,19354.838709677453,35666.666666666744,45451.612903225701,72233.333333333372,86774.193548387033,44612.903225806425,94105.911330049159,93741.935483870911,98666.666666666628,98096.774193548365,99533.333333333372,104258.06451612897,157548.38709677407,141500,115741.93548387103,103200,125129.03225806449,{"$f":"FN5-FB5","v":158806.45161290315},{"$f":"FO5-FC5","v":131821.42857142864},{"$f":"FP5-FD5","v":115000},121366.66666666674,130580.6451612903,107833.33333333326,{"$f":"FT5-FH5","v":85838.709677419392},{"$f":"FU5-FI5","v":79870.967741935514},116766.66666666663,118419.3548387097,121966.66666666663,112548.3870967743,167806.45161290327,72555.418719211826,145096.77419354848,107800,-1032.2580645162379,50866.666666666744,79225.806451612967,33838.709677419392,24300,22967.741935483995,44466.666666666628,24258.064516128972,-29548.387096774299,-158519.70443349751,-31483.870967741939,20933.333333333372,114258.06451612909,76339.611469408497,87195.271321412525,118256.34332782403,102447.06064967485,111867.06214230356,{"$f":"GV5-GJ5","v":86861.516065583332},{"$f":"GW5-GK5","v":109692.27819733403},108744.15844476735,312644.67941812542,111439.24640506878,89806.064595788484,97302.006541518145,99758.026240701322]
["Refinery Production",null,null,null,null,null,null,null,null,null,null,null,null,-13838.709677419392,-47821.42857142858,-45129.032258064486,-26633.333333333314,-8451.6129032258177,-39166.666666666686,-2419.3548387096962,30677.419354838727,94933.333333333314,94580.645161290333,37966.666666666628,30645.161290322547,35032.258064516122,17857.142857142841,49548.387096774182,12500,-806.45161290321266,27733.333333333314,10290.32258064521,-26354.838709677453,-1100,548.38709677418228,16766.666666666686,14838.709677419392,-870.96774193545571,8448.2758620689856,-16225.806451612909,-23466.666666666686,-29129.032258064486,-20400,-24709.677419354848,-19838.709677419334,-135699.99999999997,-33935.483870967757,-43466.666666666686,-58870.967741935514,{"$f":"AX6-AL6","v":-50774.193548387091},-33412.561576354725,14322.580645161273,32833.333333333314,32774.193548387091,26966.666666666686,24129.032258064486,41451.612903225818,138199.99999999997,24096.774193548423,35900,47225.806451612909,46032.258064516122,58392.857142857159,33032.258064516122,25000,15967.741935483878,14400,22870.967741935514,-1258.0645161290304,2333.3333333333721,25354.838709677395,12733.333333333372,17096.774193548423,7032.2580645161215,-44428.57142857142,-51903.225806451577,-28900,-10516.129032258119,-8866.6666666666861,-15967.741935483878,4967.7419354838203,{"$f":"CD6-BR6","v":10233.333333333314},-7387.0967741935165,-1266.6666666666861,-17000,-22483.870967741939,42964.285714285739,15612.903225806425,6800,5129.0322580645443,20000,20677.419354838727,-5806.4516129032127,-24166.666666666686,7032.2580645161215,14000,27096.774193548365,23032.258064516122,535.71428571426077,27838.709677419392,18966.666666666686,22322.580645161273,-7066.6666666666279,-3806.4516129032709,26096.774193548423,42033.333333333372,8677.4193548387266,-4600,10580.645161290304,30516.129032258061,21000,13387.096774193516,23166.666666666686,{"$f":"DJ6-CX6","v":-193.54838709672913},14366.666666666628,20967.741935483878,3967.7419354838203,-42166.666666666686,-21677.419354838727,28466.666666666686,11903.225806451635,-17064.516129032243,-27214.285714285739,-42935.483870967757,-26933.333333333372,-13000,-18866.666666666628,-12677.419354838668,-4483.870967741881,5266.6666666666861,4129.0322580644861,-32366.666666666686,-21064.516129032243,9774.1935483870911,28783.251231527131,47354.838709677453,13233.333333333372,24838.709677419334,11700,354.83870967739495,-16935.483870967757,32233.333333333314,20322.580645161332,21200,6322.5806451612734,-11000,-42896.551724137971,-10064.516129032243,7633.3333333333139,8161.2903225806658,23266.666666666628,24064.516129032301,12387.096774193516,-60066.666666666628,29419.354838709696,21633.333333333314,34677.419354838727,33225.806451612909,46256.157635468058,3741.9354838709696,-13433.333333333314,-26096.774193548423,-11033.333333333314,-13032.258064516122,28806.451612903271,87100,5387.0967741935747,6000.0000000000582,-11806.451612903271,-13967.741935483937,4714.285714285681,-14903.225806451635,-1833.3333333333721,10129.032258064486,4266.6666666666279,-7483.8709677419974,-21129.032258064544,-36200,-34354.838709677453,-28300,-21193.548387096787,-10838.709677419276,-46384.236453201971,-14096.774193548423,-41500,-55612.903225806425,-56300,-35225.806451612909,-38161.290322580666,-21600.000000000058,-3419.3548387096962,-4400,-11709.67741935479,870.96774193551391,-38937.192118226609,-161.29032258066582,56000,102419.3548387097,51703.737966024491,54022.880022243713,46701.464107227046,33116.432603366964,13678.332705096051,9337.8910648813471,26929.525889586192,51665.951912232325,109889.23593681079,85311.746082788974,58791.674440418195,19027.001191477349,65966.781909352692]
[{"$f":"A7","v":"Imports"},null,null,null,null,null,null,null,null,null,null,null,null,{"$f":"N7-B7","v":-25032.258064516129},-19000,5709.6774193548381,6333.3333333333358,387.09677419355285,50200,-3096.7741935483937,115645.16129032258,2666.6666666666715,-139935.48387096776,-116233.33333333333,-53387.096774193546,-8870.967741935483,0,-6419.3548387096771,-31200,-129.03225806451519,-36666.666666666672,-101064.51612903226,-143096.77419354836,566.66666666667152,-33258.064516129023,33300,0,6580.6451612903229,0,0,-32300,-57580.645161290326,-55033.333333333328,23838.709677419356,40645.161290322591,-26200,-18193.548387096776,-51133.333333333328,8903.2258064516136,{"$f":"AX7-AL7","v":-6580.6451612903229},0,0,0,0,-26366.666666666668,-32903.225806451614,-72096.774193548394,-93966.666666666672,-26161.290322580644,-3433.3333333333335,-7645.1612903225814,1258.0645161290322,0,0,1666.6666666666667,0,0,0,32.258064516129032,0,451.61290322580658,0,1032.2580645161293,-1258.0645161290322,0,4387.0967741935483,-1666.6666666666667,5096.7741935483873,0,1290.3225806451612,1258.0645161290322,1233.3333333333333,3000,1366.6666666666667,-2290.3225806451615,32.258064516129032,0,-4387.0967741935483,0,96.774193548387302,0,-1290.3225806451612,-935.48387096774195,-1233.3333333333333,-4709.677419354839,-1366.6666666666667,0,-32.258064516129032,0,3645.1612903225805,0,-5193.5483870967746,0,0,-354.83870967741933,0,-32.258064516129032,0,0,0,0,-3645.1612903225805,0,{"$f":"DJ7-CX7","v":0},0,0,0,0,774.19354838709683,1333.3333333333333,0,1516.1290322580646,0,0,0,0,0,0,0,0,-774.19354838709683,-1333.3333333333333,0,-1516.1290322580646,0,0,0,0,0,0,0,173.43499648851224,173.43499648851224,173.43499648851224,173.43499648851224,173.43499648851224,0,173.43499648851224,173.43499648851224,173.43499648851224,0,0,0,-173.43499648851224,-173.43499648851224,-173.43499648851224,-173.43499648851224,-173.43499648851224,0,-173.43499648851224,-173.43499648851224,-173.43499648851224,0,0,0,0,0,0,0,0,0,0,0,0,0,0,0,0,0,0,0,0,0,0,0,0,0,0,0,0,0,0,0,0,0,12154.354814620849,-34582.052188945272,-62792.628787328031,0,7000,7000,7000,7000,0,0,0,10000,7845.6451853791514,54582.052188945272,82792.628787328023,20000]
["Net Inter-PADD Transfers (+ = Receipt)",null,null,null,null,null,null,null,null,null,null,null,null,18101.045913996437,18101.045913996437,18101.045913996437,18101.045913996437,18101.045913996437,18101.045913996437,18101.045913996437,18101.045913996437,18101.045913996437,18101.045913996437,18101.045913996437,18101.045913996437,3286.2280742895819,3286.2280742895819,3286.2280742895819,3286.2280742895819,3286.2280742895819,3286.2280742895819,3286.2280742895819,3286.2280742895819,3286.2280742895819,3286.2280742895819,3286.2280742895819,3286.2280742895819,40475.58172710643,40475.58172710643,40475.58172710643,40475.58172710643,40475.58172710643,40475.58172710643,40475.58172710643,40475.58172710643,40475.58172710643,40475.58172710643,40475.58172710643,40475.58172710643,-10877.761659939162,-10877.761659939162,-10877.761659939162,-10877.761659939162,-10877.761659939162,-10877.761659939162,-10877.761659939162,-10877.761659939162,-10877.761659939162,-10877.761659939162,-10877.761659939162,-10877.761659939162,28361.251653090032,28361.251653090032,28361.251653090032,28361.251653090032,28361.251653090032,28361.251653090032,28361.251653090032,28361.251653090032,28361.251653090032,28361.251653090032,28361.251653090032,28361.251653090032,9723.6360820281116,9723.6360820281116,9723.6360820281116,9723.6360820281116,9723.6360820281116,9723.6360820281116,9723.6360820281116,9723.6360820281116,9723.6360820281116,9723.6360820281116,9723.6360820281116,9723.6360820281116,98751.327127145574,98751.327127145574,98751.327127145574,98751.327127145574,98751.327127145574,98751.327127145574,98751.327127145574,98751.327127145574,98751.327127145574,98751.327127145574,98751.327127145574,98751.327127145574,5368.2266945406227,5368.2266945406227,5368.2266945406227,5368.2266945406227,5368.2266945406227,5368.2266945406227,5368.2266945406227,5368.2266945406227,5368.2266945406227,5368.2266945406227,5368.2266945406227,5368.2266945406227,3427.3972602739741,3427.3972602739741,3427.3972602739741,3427.3972602739741,3427.3972602739741,3427.3972602739741,3427.3972602739741,3427.3972602739741,3427.3972602739741,3427.3972602739741,3427.3972602739741,3427.3972602739741,168142.46575342468,168142.46575342468,168142.46575342468,168142.46575342468,168142.46575342468,168142.46575342468,168142.46575342468,168142.46575342468,168142.46575342468,168142.46575342468,168142.46575342468,168142.46575342468,51235.61643835617,51235.61643835617,51235.61643835617,51235.61643835617,51235.61643835617,51235.61643835617,51235.61643835617,51235.61643835617,51235.61643835617,51235.61643835617,51235.61643835617,51235.61643835617,16449.315068493132,16449.315068493132,16449.315068493132,16449.315068493132,16449.315068493132,16449.315068493132,16449.315068493132,16449.315068493132,16449.315068493132,16449.315068493132,16449.315068493132,16449.315068493132,49164.508921503904,49164.508921503904,49164.508921503904,41164.508921503904,43164.508921503904,45164.508921503904,47164.508921503904,49164.508921503904,51164.508921503904,53164.508921503904,55164.508921503904,57164.508921503904,27128.173301579955,27128.173301579955,27128.173301579955,35128.173301579955,33128.173301579955,31128.173301579955,29128.173301579955,27128.173301579955,25128.173301579955,23128.173301579955,21128.173301579955,19128.173301579955,-20941.681266952481,-412826.48510243185,-86127.030181163107,-272896.73075460433,-144423.84580059536,-182450.46819025357,-82635.731516771601,-44621.216053068871,-115202.86255998351,-41269.784773172985,-24618.195824819908,-213089.30596566753,156056.2887191457,6890.6589283444337,-52131.405803533969,652068.77124469215,569904.90036850341,286602.36541751528,67507.966053670214,38721.065867103927,66620.454309502384,9547.0539420466521,-25397.545758994471,192221.41384421854,-168950.24150912598,294080.38836695603,176249.19588781084,-314837.7820739022,-362469.91443129245,-16959.305477742746]
["Total Stock Change (Primary+Secondary+Tertiary)",null,null,null,null,null,null,null,null,null,null,null,null,36251.538707626576,171580.93811656887,132561.56817774949,104794.89735098064,82677.944111618315,83561.869593827476,27148.056032843422,-129448.19562701309,-143891.32492238042,23621.186606950483,21649.453152948285,-30910.891169295122,88601.592837144039,-114625.97242414416,-108527.23519746658,-24645.89131562916,-57612.823277382297,8855.8454393393185,173804.94098253048,217507.81350727871,113584.21406203344,57799.223738957269,55602.514378056629,15008.97703905846,-161632.39451754841,-42289.424246201001,-18245.66905542984,34325.199343832959,-12657.580934688813,46448.275347954645,-106218.86859727983,-143826.02508248598,-86325.833474749874,-100938.28282816304,-241550.49983527564,-279696.20455688098,-80920.103681594046,-14043.691503765003,-69299.691233238962,-108359.57384210278,-70187.537590038963,-41539.921144816566,42307.533413300283,150857.13661679387,92279.366981846804,113821.57887108746,147849.23053572699,206214.44540399866,121092.29332746458,-13640.133666693175,-23277.020406337186,20026.603378762826,67338.512111250078,4124.0979015542835,-17263.899325210346,-76021.82666973045,42931.193839837491,-19108.295331695292,5911.9029559935052,7437.0680413338414,17682.475648042077,91769.167391156414,174344.6868279574,114010.6269405483,52970.053058972437,59669.715049340928,-42223.423593225147,-49749.668919990625,-42374.158717602491,-87727.49286492898,-28781.867658746698,-49509.110563581322,-102731.53892169018,-174167.09292289929,-150210.50891223771,-110425.5178080762,-147846.78658114898,-115993.12680705803,-10981.892993907197,-29081.902969995215,-49542.347261446099,1457.937166180127,-40713.963376154003,5167.116605883286,44551.427001543314,77199.971922204073,113774.94154034427,70735.356485257274,141888.17437733582,68540.273667002868,54965.775174858776,76465.65303318284,105934.93078083673,245815.64485368133,213780.37337097735,103696.18384967551,34246.198204480621,-6904.605063768664,-138011.83034189855,-85760.699524581054,-46019.17944556757,-70212.826344907837,-58795.72852193781,-124637.09474481526,-76029.901565773267,-125282.483459412,-214504.64874636382,-12293.953354277706,-101531.21882967028,58254.313107079179,-53062.97126907864,42444.404860472816,-62464.55094228097,-24134.057389330148,-117885.28987572488,-46564.52133586281,15909.105486588669,-200730.4042711691,2875.1882618747186,-38537.67116840661,187556.32562350575,102942.10258625285,-17432.290243906202,-110647.68236243795,70098.933219983475,-47773.581081622746,116254.82888250984,171699.3741277894,-94096.285192441661,275068.32733330631,162212.40353356139,319385.48080415232,247490.51092237444,56181.601703963941,407700.14073459199,271990.17484736,47380.408995582955,71817.552908082493,985.06012650975026,-92928.671989904018,192516.58336587343,20099.17578949919,-52538.876133702463,-244832.61532904254,-372851.80690975627,-267289.04241388035,-269751.32529457728,-223345.31176579581,-38074.633060239721,-68387.576505175559,66482.427118165651,26812.416310264496,-324079.12370587746,-316062.89525682572,-69420.262993576936,-19613.720945404377,-41966.718011931516,-157068.37051683804,-208155.49299552967,37175.39440031792,-162063.02998372563,50474.322148407809,-87305.40805876418,-132094.2167615043,52048.837284565903,122911.28789213393,-43192.131780640455,-80962.969695345964,89839.07373362314,632253.96364665311,319287.25584902056,223448.84686456341,156211.29455727292,242410.90345872543,49295.830031040357,103675.14400676684,237230.98387542227,135079.97529320722,214874.49238488893,608263.03103189589,142997.50571414386,123351.88261417951,-109289.41294243326,-386418.50338721997,-425170.4748099132,-284262.55471696472,-75182.73361500795,39009.00438076444,-74629.896653993521,-86718.018311205786,-141518.79128342541,-578999.97263266193,-215459.16163191502,-488149.75784427463,-174038.29917662661,-22448.876059179427,353123.48975282861,54342.388234870043]
["     TOTAL SUPPLY",null,null,null,null,null,null,null,null,null,null,null,null,-13711.931507409201,85396.269744851044,76114.226994971745,71962.609931643703,63778.990025614621,98962.915507823927,37249.101946839713,40330.269641821971,46609.720991615904,52754.490585463005,-2816.1675997220445,-390.49041658907663,117952.33704046591,-85125.458635568852,-50660.361961886636,-35059.663241339498,-43745.950041802367,7108.7401802955428,87091.169056820218,55148.880291245761,115303.77546965645,37214.484071311424,119788.74245234637,50391.979306896566,-102608.42569366773,16197.24122474785,12681.525574902538,33400.781070939265,-51407.805659195175,11357.190408394439,-59065.867515334743,-83866.572387637571,-299583.58508097677,-151204.63658492762,-327508.25144150271,-328704.49379751657,-160894.63953508181,-67575.394050403731,-74403.259344791179,-95104.002168708597,-49420.137959655491,-46617.682804755634,16429.771753360983,119914.85882782249,234934.93865524099,148201.88172727748,203338.13554245455,274465.71600212413,220356.77078700636,95113.975129253929,59697.134472559439,89521.188365186215,123796.53795788845,56352.016221310827,43226.384585944354,-33467.02662954363,84225.778826260823,49736.827289136592,63539.821275750292,77733.803565391689,54535.143988134572,37421.374901756062,151810.25839385635,110300.92968924309,76274.334302290925,79626.684464702499,-18628.819769261521,-15767.968321833527,-13850.52263557422,-56229.663234513835,15408.435089947889,-27527.409965424216,12503.659173197346,58262.805632817675,-1717.246301221312,34292.475985736004,-6547.0723572294228,40658.200320087373,154833.95026227052,108024.26286682778,84542.313199032564,164531.84493848693,136637.36375099164,189660.37921689963,114984.16982511629,127782.4843310304,204562.52307359467,162903.58317979798,231127.36881381203,146208.50036154373,133688.8405790769,190608.07327611058,240536.49080871092,322054.83929015743,247248.60006551805,155354.73312486138,122834.88578733522,57237.077910791035,-65132.820178398746,{"$f":"DI10-CW10","v":12033.364402359701},23988.862975996686,27281.237582032569,37341.346157691092,-43370.987807121943,-52369.170972166117,-76145.408779783058,-96910.584819423268,105778.60519631882,121740.27918181894,295825.35028907505,157240.7848069265,264420.20394723082,172161.78577888594,185441.74169742793,100966.8532970543,180319.87990143301,254651.57124001347,27799.158256449038,187950.98734863289,114959.63329469552,260824.20012637787,164681.41360589,78416.229420256568,-70512.065924081951,122270.03352930723,-6837.9646432665177,141425.92919183383,173386.6034693711,-53920.567090930417,320832.21747782838,205821.45496840589,351246.14514222275,250822.93840671098,29872.296082801884,421258.37467054138,308179.59157900838,92487.030028306413,141400.20130990888,84821.471969196573,-44737.421437539859,184392.46343787806,111246.02360343933,57603.670604968909,-107105.12235381221,-246022.02330732136,-77762.464526859112,-123276.38040181994,-97120.904507447034,76916.440864775795,65276.932416328462,204872.74249128252,262331.76394144585,-44314.614784373436,-141769.35407725722,94944.245927927084,150873.36862126086,130000.16496706754,6595.5170704561751,-80930.545500401407,191836.90103523107,11774.820737209171,193702.49544998771,20177.603952493053,-46224.107976053376,157743.67725281254,230103.97732274607,71602.708187606186,29520.042315911502,225865.13440215448,245598.660810231,364160.22566785756,16852.116109959083,-44857.712533645332,54527.10193513846,10660.09851426864,54731.347308536526,124728.12131543853,113358.57761680847,230322.96322673559,407722.11216300237,270376.37507845089,-67214.355009200051,-180911.62522166921,308001.54900186043,298619.21612610109,130383.16013598349,140543.38378231856,249687.87768291938,134554.05090855062,55374.430478240596,-70716.92991195526,-250156.75470152288,-223999.29278404126,238464.54587761778,206807.53438442131,-134106.86690792977,189775.21184185962,223107.89090718143]
["DEMAND"]
["  Residential and Commercial ",null,null,null,null,null,null,null,null,null,null,null,null,-5148.5975212002595,-5148.5975212002595,-5148.5975212002595,-5148.5975212002595,-5148.5975212002595,-5148.5975212002595,-5148.5975212002595,-5148.5975212002595,-5148.5975212002595,-5148.5975212002595,-5148.5975212002595,-5148.5975212002595,-4768.8193085453313,-4768.8193085453313,-4768.8193085453313,-4768.8193085453313,-4768.8193085453313,-4768.8193085453313,-4768.8193085453313,-4768.8193085453313,-4768.8193085453313,-4768.8193085453313,-4768.8193085453313,-4768.8193085453313,-1922.2683833620322,-1922.2683833620322,-1922.2683833620322,-1922.2683833620322,-1922.2683833620322,-1922.2683833620322,-1922.2683833620322,-1922.2683833620322,-1922.2683833620322,-1922.2683833620322,-1922.2683833620322,-1922.2683833620322,{"$f":"AX12-AL12","v":-4040.5496205518612},-4040.5496205518612,-4040.5496205518612,-4040.5496205518612,-4040.5496205518612,-4040.5496205518612,-4040.5496205518612,-4040.5496205518612,-4040.5496205518612,-4040.5496205518612,-4040.5496205518612,-4040.5496205518612,1283.431180691452,1283.431180691452,1283.431180691452,1283.431180691452,1283.431180691452,1283.431180691452,1283.431180691452,1283.431180691452,1283.431180691452,1283.431180691452,1283.431180691452,1283.431180691452,-6913.4377038486637,-6913.4377038486637,-6913.4377038486637,-6913.4377038486637,-6913.4377038486637,-6913.4377038486637,-6913.4377038486637,-6913.4377038486637,-6913.4377038486637,-6913.4377038486637,-6913.4377038486637,-6913.4377038486637,-7803.0006523157226,-7803.0006523157226,-7803.0006523157226,-7803.0006523157226,-7803.0006523157226,-7803.0006523157226,-7803.0006523157226,-7803.0006523157226,-7803.0006523157226,-7803.0006523157226,-7803.0006523157226,-7803.0006523157226,5150.4892367906086,5150.4892367906086,5150.4892367906086,5150.4892367906086,5150.4892367906086,5150.4892367906086,5150.4892367906086,5150.4892367906086,5150.4892367906086,5150.4892367906086,5150.4892367906086,5150.4892367906086,-310.09626874516835,-310.09626874516835,-310.09626874516835,-310.09626874516835,{"$f":"DJ12-CX12","v":-310.09626874516835},-310.09626874516835,-310.09626874516835,-310.09626874516835,-310.09626874516835,-310.09626874516835,-310.09626874516835,-310.09626874516835,-439.02049475115928,-439.02049475115928,-439.02049475115928,-439.02049475115928,-439.02049475115928,-439.02049475115928,-439.02049475115928,-439.02049475115928,-439.02049475115928,-439.02049475115928,-439.02049475115928,-439.02049475115928,{"$f":"ED12-DR12","v":0},{"$f":"EE12-DS12","v":0},0,{"$f":"EG12-DU12","v":0},0,0,0,0,0,0,0,0,0,{"$f":"EQ12-EE12","v":0},{"$f":"ER12-EF12","v":0},0,0,0,0,0,0,0,0,0,0,0,0,0,0,0,0,0,0,-699.93797631028792,-699.93797631028792,-699.93797631028792,{"$f":"FN12-FB12","v":12394.011964604215},{"$f":"FO12-FC12","v":12394.011964604215},{"$f":"FP12-FD12","v":12394.011964604215},12394.011964604215,12394.011964604215,12394.011964604215,{"$f":"FT12-FH12","v":12394.011964604215},{"$f":"FU12-FI12","v":12394.011964604215},12394.011964604215,13093.949940914503,13093.949940914503,13093.949940914503,-303.78358997585383,-303.78358997585383,-303.78358997585383,-303.78358997585383,-303.78358997585383,-303.78358997585383,-303.78358997585383,-303.78358997585383,-303.78358997585383,-303.78358997585383,9637.9771367919893,24917.118035673353,29339.296325250576,43070.87370946366,17860.841059582937,15574.458309106009,4987.7983039464634,-2197.3195106735329,-5568.1635965452806,-4540.3778964163866,-4620.5380293832714,5682.5563142768406,{"$f":"GV12-GJ12","v":9313.1487713832612},{"$f":"GW12-GK12","v":7573.32087877515},9001.1061428293906,-11758.922870632843,3067.9205348173055,-3412.1580045041774,-103.60874199034151,1564.9278953691246]
["  Chemical",null,null,null,null,null,null,null,null,null,null,null,null,-26401.311149928893,24381.526811513992,50240.140874012897,60385.547515173734,72685.503665367083,109379.52985204878,47168.881961493345,51689.566465466633,54335.346044036502,60625.22420404054,-15225.219855491654,-5482.5073274672031,89706.278680017276,-39096.12623272714,-38304.045216949773,-3235.2649540180573,-39098.158860246884,15402.624845388345,83164.185141478607,66084.245695136953,124337.51065157476,61236.947107605811,82697.880551155831,60667.637800158118,-118467.05162767711,-32224.132928613923,-11165.731871828262,13827.013781174901,-73974.915304978611,14525.438323419774,-40347.638755825232,-78444.680309224699,-297214.66987869155,-185327.99266748998,-257458.37849930389,-315763.9841741955,-137737.8725853358,-79088.604000249878,-80714.855344695097,-120594.37337770738,-32597.418591088732,-66057.058510903909,-14331.322526035714,36783.06468481716,185235.18950982322,95100.38634144672,127317.74587401788,190255.92538318282,164073.42591752647,122192.77508665115,51748.666639223811,72481.219927277125,44718.963432384771,12164.078273450956,-6815.151575597818,-19031.716546088574,53811.876048848382,47558.285005384823,44618.664526618726,61823.356743286189,67519.533736410551,34534.481425717357,98956.433449196164,38048.973654626054,61105.524925432052,59216.622266863531,-4885.9330010851845,-24556.215258765849,-25788.876232569804,17199.335561869782,29538.499374902167,2745.3810985424789,-9569.422725803568,25893.752504746895,10729.700159770437,27202.683884733939,554.38912806625012,9444.6564252169337,95944.088525126572,71004.421059992746,74141.967092565144,47456.727331521688,32393.916959455586,115749.52560100902,74735.650481408695,48272.754544388619,34708.884904209524,30566.336125503061,31239.284676986979,-938.31269103975501,-9375.9470420958241,16647.777758463635,20458.840806478402,61441.262353699422,31394.750871820259,-80983.337664339109,-67663.193227634532,-86661.865838648751,-101814.58834084932,-99756.046519792348,-95502.986451092525,-70191.541595551418,-106050.36637339642,-96444.87154832005,-116817.91207483574,-140731.21518817346,-73157.935513701523,20300.242492482066,16609.221245959634,30504.712271284661,70039.469168605807,100171.67563426605,116420.70017541584,112477.32859057724,9636.6108937868266,17014.349189019762,8434.1174344996689,-17611.039923010743,-38035.753156505991,-60833.830099542043,{"$f":"ED13-DR13","v":-54917.735357493046},-38159.719399036141,-101113.54976082745,-128378.7325907487,-173775.87468403473,-189152.51709123037,-2490.9467634439934,90679.694173738477,64961.512079601875,72428.248229688033,51183.703415082884,50553.464475997724,48051.512982046348,{"$f":"EQ13-EE13","v":12056.28668406338},134763.04524841858,125772.11923048866,129126.63942957157,108821.77984955045,46057.191036587697,-72200.515091763576,-94905.91311053047,-51156.780146632285,-17189.822208081256,-47542.494015610544,-46410.768788288347,-4690.1407683036523,-68532.045970928622,-57751.820013161283,-76855.353736591293,-44037.553936640965,-35109.009719842812,-18182.133903459995,33933.662814532057,16355.23595737695,-7805.965087866527,-13224.822184808552,-25376.718497250229,-33181.140184832853,-43640.942177412449,-30348.042578391498,13689.958748664823,-13283.86564569606,-26126.153244687361,-24302.281447315007,-17374.236160549684,-11385.416311935405,-11385.416311935405,-11385.416311935405,0,0,0,0,0,0,0,0,0,0,70385.827529826085,85604.591462348355,94724.360090835602,-95126.083700095536,-58778.064958579605,47434.906571286148,44940.237791213323,45436.308939481969,58301.729681405006,71386.049158455105,63713.221983533469,71475.236530015594,-121.68623036833014,-13513.018945940421,-23375.585637634038,152999.11661866738,82365.809985990112,-14904.589873183053,-3519.3773076256039,36285.753849275876]
["  Farm",null,null,null,null,null,null,null,null,null,null,null,null,-1100.747652407038,-812.7830910185603,-513.59913113442781,{"$f":"Q14-E14","v":-531.05152879433581},-513.59913113442781,-531.05152879433581,-513.59913113442781,-1100.747652407038,-1896.0783457656908,-3009.2919965012334,-2654.0110441388279,-1761.4455638178315,-277.47698938483336,-204.88674640873342,-129.4683121478497,-133.86772081306754,-129.4683121478497,-133.86772081306754,-129.4683121478497,-277.47698938483336,-477.9643271283494,-758.58375127405452,-669.02436058925196,-444.02603171094961,-386.75452490850239,-429.36598565381246,-180.02879561622058,-186.36366123426933,-180.02879561622058,-186.36366123426933,-180.02879561622058,-386.75452490850239,-662.64890150115752,-1053.9283304225519,-924.9685660551404,-613.77993816192793,-1171.4284882298653,-722.89057189432924,-546.66662784060327,-567.95702721420002,-546.66662784060327,-567.95702721420002,-546.66662784060327,-877.33761041647085,-2025.417027011802,-3796.4835398366704,-487.05811356384402,-1880.6828308827016,742.82171612515231,43.82014449962162,24.349430618557562,30.455419423270087,24.349430618557562,30.455419423270087,24.349430618557562,-236.60087752791605,2804.5940994371986,-1442.0735753891968,-1371.6766876311976,88.796411080767029,-936.72934953749791,-185.29303378167788,-115.16402571087724,-121.4242161736729,-115.16402571087724,-121.4242161736729,-115.16402571087724,-251.39763369782395,-3134.5687976554218,1502.5116961881467,-1440.7598111263396,-398.07552604084685,141.18589440613869,-8.4487347399553983,66.211116889422783,68.290629580645145,66.211116889422783,68.290629580645145,66.211116889422783,141.18589440613869,245.98031671588978,388.65157733004344,346.31864040159235,229.93836166931942,-609.08465500626926,-337.53750139833528,-286.93551349738073,-294.22507185070367,-286.93551349738073,-294.22507185070367,-286.93551349738073,-609.08465500626926,-1054.6552677922091,-1673.4400965733585,461.01358399501623,-980.44814640513141,2205.2377613009908,1626.7063483189299,1033.6394821226199,1066.9398814119393,1033.6394821226199,1066.9398814119393,1033.6394821226199,2205.2377613009908,4382.7591482858106,5125.0639020908147,4199.7062379618055,3530.6534766232917,-1403.7769293924139,-1034.4205985984113,-657.27796957006422,-680.07968333508779,-657.27796957006422,-680.07968333508779,-657.27796957006422,-1403.7769293924139,-2999.5112521810124,-3928.3627666090069,-4702.7874433146062,-2246.3688257959338,{"$f":"ED14-DR14","v":0},0,691.06950366477895,0,691.06950366477895,714.5524479640676,691.06950366477895,1481.1028440194168,2551.2541628012832,5049.1305384630487,4071.0848866561028,2370.1000210639131,1481.1028440194168,{"$f":"EQ14-EE14","v":1093.6342630811546},0,714.5524479640676,0,83.095819411703815,80.364970886436367,172.23851770078454,296.68718620939217,470.87630999965404,415.28403644957143,275.6206404430468,202.26539486482761,149.35111829203561,94.375246528095886,97.582172380992688,94.375246528095886,14.486352969288873,14.010275641659518,30.026877164043071,51.722401094573797,82.089333492636797,72.3977593230411,48.049804567148385,-1310.0695143675121,-967.3446470754443,-611.26686287589428,-632.03806695420144,-611.26686287589428,-632.03806695420144,-611.26686287589428,-1310.0695143675121,-2256.6429573646474,-3581.5490460738074,-3158.7066773368424,-2096.407954474852,-100.06181343770368,-73.884827136334025,-46.687958251793589,-48.274442270058898,-46.687958251793589,-48.274442270058898,-46.687958251793589,-100.06181343770368,-172.36015655577285,-273.55517286366558,-7675.3972128768128,1683.317569342872,3887.7680946925202,4897.2205121019115,1650.6244684709186,239.98347404512651,-1242.7509388520696,-2335.2599663410638,-2283.0656920468514,3846.5032833154719,454.82299498914654,-2992.0254283614449,259.03708190674024,-1438.8638871823587,2638.9195356995024,-81.143279334412,1898.1165502156118,-146.5559668278961,-456.51025483110345,26.855797416553472]
["  Other",null,null,null,null,null,null,null,null,null,null,null,null,{"$f":"N15-B15","v":1035.4990096753918},654.69497412716009,278.21825716470266,-76.621866868879806,-405.60730999853695,-470.29862756371222,-483.38981393176618,-271.24197261804329,-80.94918545465589,-3.1666815214266535,278.3274877754302,840.76967331550259,-1288.29050291153,-1162.7692050303194,-1038.6742855341217,-921.71125796299384,-814.01968989445413,-791.19763573423461,-787.63168977170062,-856.81104144486744,-920.28487957797915,-946.67287970073539,-1037.9610963416162,-1224.1034755859109,-412.99631901044813,-547.18852195744694,-373.02601945229162,-350.93399897260679,-330.59317523826576,-326.28253709588807,-325.60899988614165,-338.67562175522289,-350.66458408870858,-352.06010687878643,-369.30265944829353,-404.4613017970587,-718.98238935131485,-546.00995622966548,-681.83291299397297,-667.7888099018237,-654.85795888405119,-652.11764608558224,-651.6894722108218,-659.9960453811791,-667.61754035191916,-674.3746795871939,-685.33593078106878,-707.68660704357717,-387.65751774174532,-405.63948267071464,-423.41710708912615,-440.17302895475586,-455.60073750176889,-458.87018567067298,-459.38103694706297,-449.47052218507542,-440.37736946531277,-436.59707002001869,-423.51927734440505,-396.85284071678507,704.46831335579918,664.17697306658283,624.34348891701575,586.79928546570045,552.23114692211129,544.9054486877094,543.76080833858305,565.96683111161838,586.34142932605118,594.81176790957943,624.11456084719157,683.86478707153947,1749.5112850619698,1529.2185257664705,1659.2964122635358,1620.8371819960867,1585.426549249838,1577.9223091976519,1576.7497716894986,1599.4969993476843,1620.3681669928246,1633.1135681669939,1663.1305283757347,1724.3369863013704,-1034.6267820583198,-782.29068167210062,-880.68935595447874,-812.37155785249615,-749.46919496591363,-736.13889289723465,-734.05603319900365,-774.46351134468932,-811.53841397320321,-831.02019935394401,-884.34140762866264,-993.06668387632999,186.26721465064293,170.27165703342689,154.4578671164054,{"$f":"DI15-CW15","v":139.55291570036297},125.82945433559144,122.9211711324624,122.46675188197241,131.28248534146223,139.37114800016752,142.73385045378654,154.36698326630903,178.08766814184128,20.485259304139618,-92.470713060987691,-204.14309483105535,-309.39752362583204,-406.30861355273009,-426.84606307366357,-430.05503956130906,-367.80089570098335,-310.68111422089169,-286.93468821231181,-204.78489012858518,-37.276317473482777,{"$f":"ED15-DR15","v":0},0,0,0,0,0,0,0,0,0,0,0,0,{"$f":"EQ15-EE15","v":377.54754945050263},1140.4907124454094,1859.5865672222171,2521.6809213154975,2661.9923076134119,2683.9159617224614,2258.5970720069099,1868.3560288658373,1706.1209884588734,1144.8754432672195,0.4606987748593383,-394.16507518802246,0,0,0,0,0,0,0,0,-1087.3865531066185,-588.91543388567152,427.49833265078996,1292.9410140808614,492.84708061706624,-298.15487633009616,-1043.6969506940895,-1730.1411776999603,-1875.6128019661046,-1898.34274325769,-1457.3818822009389,-1052.7889272107241,202.7991914536251,286.21456929725719,456.30373818154112,-85.858904109591094,-77.857964774953871,-69.94794520548021,-62.492524461840731,-55.628082191781687,-54.173365949120125,-53.946066536203944,-58.355675146772228,-62.40160469667353,-64.083620352252183,-425.44422700587165,-1611.9471624266171,-1994.4042710371796,-3680.7497671232859,-419.21933953033295,318.86731409002095,998.44709882583265,1142.4640068493154,1164.9666487279846,728.4153962818018,327.86837084148829,161.34882093933629,-59.177069471623327,-59.177069471623327,-52.203112230919942,2426.2353779843443,-52.203112230919942,-52.203112230919942,-52.203112230919942,-52.203112230919942]
["     US DOMESTIC CONSUMPTION",null,null,null,null,null,null,null,null,null,null,null,null,-31615.15731386072,19074.841173422406,44856.162478842889,54629.276598310331,66617.699703033897,103229.58217449056,41023.295495226805,45168.979319241247,47209.720991615846,52464.16800481762,-22749.5009330553,-11551.780739169801,83371.691879175603,-45232.601492711692,-44241.007123177173,-9059.6632413394982,-44810.46617083461,9708.7401802956592,77478.265831013792,60181.138355761883,118170.4421363232,54762.871168085607,76222.075785679743,54230.688984315959,-121189.07085495809,-35122.955819587107,-13641.055070258677,11367.447737605893,-76407.805659195059,12090.523741727462,-42775.544934689649,-81092.378839250421,-300150.25174764346,-188656.24948815326,-260674.91810816946,-318704.49379751657,{"$f":"AX16-AL16","v":-143668.83308346884},-84398.054148925759,-85983.904506081599,-125870.66883537523,-37839.492798365303,-71317.682804755517,-19570.228246638901,31205.181408467703,178501.60532190755,86588.978501470992,122104.80220912118,183627.00632470468,165712.02129660134,123114.38692917145,52633.030143444717,73354.933498437167,45571.143306193058,13019.094687895034,-5966.7520012350287,-18434.356765110162,57459.523959511658,46963.045540667023,44106.899742334615,62798.731494341569,60373.834996380261,28099.927661153721,92552.17520855373,31600.911020069383,54629.154342794674,52726.665795529028,-11370.77392230602,-31155.083765200689,-35250.54130474769,12383.221322119003,21808.416420774302,-3882.267344275373,-15481.726198651246,19611.521643457585,4652.2070366075495,21088.81104399485,-5596.9738581103738,3287.868711679359,89784.048761389684,64942.10330143082,68205.314923958038,41675.491824702825,26600.365475917119,109900.80029666389,78242.428281134693,52303.415598108899,38691.749271548353,34610.228732590564,35353.369205314433,3181.8125810030615,-5246.4493520015385,20414.718828903278,23743.136361503741,64087.291294562863,36121.912284977268,-77806.363257829915,-65581.784520428046,-85174.984102041693,-100936.58726035547,-98859.64999142522,-94653.613783379551,-69311.776811752236,-105204.35640813701,-94418.447570422781,-112605.87804729503,-135773.51370437408,-69113.958561218693,23698.887368501979,14786.90908112016,28938.800464874133,68739.027609453537,98743.177932553925,114918.09309754195,110931.38234941731,8110.2573899043491,14803.75086917507,4684.904573346721,-22265.357872583205,-43382.345984700252,-63556.495737562538,{"$f":"ED16-DR16","v":-54917.735357493162},-38159.719399036141,-100422.48025716271,-128378.7325907487,-173084.80518036999,-188437.96464326634,-1799.8772597791394,92160.797017758014,67512.766242403071,77477.378768151044,55254.78830173891,52923.564497061539,49532.615826065885,{"$f":"EQ16-EE16","v":13527.46849659516},135903.53596086393,128346.25824567501,131648.32035088702,111566.86797657545,48821.47196919634,-69769.679502055864,-92740.869895455253,-48979.782848173752,-15629.662728364347,-47266.412676392705,-46602.668468611548,-4540.7896500118077,-68437.670724400552,-57654.23784078029,-76760.978490063106,-44023.067583671655,-35094.999444201123,-18152.107026296086,33985.385215626506,14650.000761452713,-9022.4207387394272,-13449.212023900705,-12999.835032932693,-21261.625786686898,-32156.351952014142,-19629.765631435672,23742.562672693166,-3397.5045500120614,-16241.750886216643,-14675.720879279193,-8289.6560805207118,-1670.2162256411975,-1163.9584790605586,68.429412685683928,-489.70430752309039,-455.52638188714627,-420.41949343308806,-414.5505567076616,-406.09963041939773,-406.23139819502831,-404.41761476383545,-462.20107856020331,-538.54535122821108,-641.42238319164608,71922.963226735475,110593.07990493812,125957.02023974154,-50838.739245653211,-39685.818770056125,63568.215668527293,49683.732255133451,42046.193469316699,51615.467041540775,71420.589941635961,59875.375319980783,74327.116236870177,9391.3225534500089,-7437.7390238194494,-11787.763071336085,143585.28584668454,87279.643958792207,-18515.506956745987,-4131.6994166778168,37825.334429830546]
["EXPORTS"]
["     TOTAL DEMAND",null,null,null,null,null,null,null,null,null,null,null,null,-13711.931507409085,85396.269744850928,76114.226994971861,71962.609931643703,63778.990025614621,98962.915507823869,37249.101946839713,40330.269641821855,46609.720991615788,52754.49058546283,-2816.1675997220445,-390.49041658907663,117952.33704046591,-85125.458635568852,-50660.361961886752,-35059.663241339498,-43745.950041802367,7108.7401802956592,87091.169056820218,55148.880291245761,115303.77546965657,37214.484071311424,119788.74245234649,50391.979306896566,-102608.42569366773,16197.241224747966,12681.525574902538,33400.781070939149,-51407.805659195059,11357.190408394206,-59065.867515334743,-83866.572387637571,-299583.58508097677,-151204.6365849275,-327508.25144150283,-328704.49379751657,{"$f":"AX18-AL18","v":-160894.63953508181},-67575.394050403615,-74403.259344791237,-95104.002168708539,-49420.137959655607,-46617.682804755517,16429.771753361099,119914.85882782261,234934.93865524087,148201.88172727748,203338.13554245455,274465.71600212401,220357.18258692394,95114.386929171393,59697.54627247696,89521.600165103853,123796.94975780591,56352.42802122829,43226.7963858617,-33466.614829626284,84226.190626178286,49737.239089054056,63540.233075667871,77734.215365309385,54535.125318960869,37421.356232582359,151810.23972468276,110300.91102006938,76274.315633117338,79626.665795529028,-18628.838438435108,-15767.986991007114,-13850.54130474769,-56229.681903687422,15408.416420774302,-27527.428634598036,13066.660898122936,58825.807357743266,-1154.2445762957213,34855.477710661478,-5984.0706323039485,41221.202045012731,155396.95198719623,108587.26459175337,85105.314923958038,165094.84666341252,137200.36547591712,190223.38094182522,76790.815377908875,89589.129883823218,166369.16862638714,124710.22873259068,192934.01436660474,108015.14591433643,95495.486131869373,152414.71882890316,202343.13636150386,283861.48484295001,209055.24561831064,117161.37867765396,123998.86064086226,70039.301612243988,-53872.071131323231,7107.0166752412915,{"$f":"DJ18-CX18","v":31378.64428113657},31854.889854914392,42505.321011217893,-5741.0282155839959,-14739.211380628403,-38515.449188245111,-59280.625227885321,143408.56478785689,158206.26391982986,320653.08617915981,183609.99535138905,306976.51126588718,202401.964065284,218498.04901608406,133432.83803506545,180319.87990143301,254651.57124001347,27799.158256449038,187950.98734863289,114959.63329469552,{"$f":"ED18-DR18","v":260824.20012637787},{"$f":"EE18-DS18","v":164681.41360589},{"$f":"EF18-DT18","v":78416.229420256568},{"$f":"EG18-DU18","v":-70512.065924081951},122270.03352930723,-6837.9646432665177,141425.92919183383,173386.6034693711,-53920.567090930417,320832.21747782838,205821.45496840589,351246.14514222275,250822.93840671098,{"$f":"EQ18-EE18","v":29872.296082801884},{"$f":"ER18-EF18","v":421258.37467054138},308179.59157900838,92487.030028306413,141400.20130990888,84821.471969196573,-44737.421437539859,184392.46343787806,111246.02360343933,57603.670604968909,-107105.12235381221,-246022.02330732136,-77762.464526859112,-123276.38040181994,-97120.904507447034,76916.440864775795,65276.932416328462,204872.74249128252,262331.76394144585,-44314.614784373436,-141769.35407725722,94944.245927927084,150873.36862126086,{"$f":"FN18-FB18","v":130000.16496706754},{"$f":"FO18-FC18","v":6595.5170704561751},{"$f":"FP18-FD18","v":-80930.545500401407},191836.90103523107,11774.820737209171,193702.49544998771,{"$f":"FT18-FH18","v":20177.603952493053},{"$f":"FU18-FI18","v":-46224.107976053376},157743.67725281254,230103.97732274607,71602.708187606186,29520.042315911502,225865.13440215448,245598.660810231,364160.22566785756,16852.116109959083,-44857.712533645332,54527.10193513846,10660.09851426864,54731.347308536526,124728.12131543853,113358.57761680847,230322.96322673559,407722.11216300237,270376.37507845089,-67214.355009200051,-180911.62522166921,308001.54900186043,298619.21612610109,130383.16013598349,140543.38378231856,249687.87768291938,134554.05090855062,55374.430478240596,{"$f":"GV18-GJ18","v":-70716.92991195526},{"$f":"GW18-GK18","v":-250156.75470152288},-223999.29278404126,238464.54587761778,206807.53438442131,-134106.86690792977,189775.21184185962,223107.89090718143]
[]
["INVENTORIES (End of Month, Thousand Barrels)",null,null,null,null,null,null,null,null,null,null,null,null,4089,1461,-346,-3977,-5232,-7888,-7131,-4527,-2110,-467,-4697,-1822,-3634,-2254,-1308,-610.00000000000182,-811,-767,-4454,-5870,-9095,-9137,-5501,-5519,-2744,-803,-1009,-306.99999999999818,-136,-2212,-1972,-780,66,203,2157.9999999999964,5631,{"$f":"AX20-AL20","v":8132},6761,9341,9233,12047,15071,13460,9745,8713,5132,-2050.9999999999964,-6925,-11430,-9188,-8093,-6604,-9852,-10900,-8423,-6457,-7596,-7728,-3244,-1449,-1440,187,-1624,-3514,-4471,-5438,-5738,-5758,-4069,-1937,-1620,995,6125,9754.25,11018,11097,12292,12222,13397,15341,14140,12760,13500,14578,13853,9098.75,5063,1151,220,2084.9999999999964,997,-629,-2363,-3662,-9383,-13497,-17906,-16544,-11934,-7733,{"$f":"DJ20-CX20","v":-2506},-573,2242,5092,6861,8909,13479,16936,21569,19130,21928,24380,25080,22453.000000000004,20610,19888,18928,21467,20563,19230,{"$f":"ED20-DR20","v":12239},7500,6061,{"$f":"EG20-DU20","v":6864},-973,-1217,-4173,-2180,1680,-981,-414,-8158,-15773,{"$f":"EQ20-EE20","v":-12856.379310344826},{"$f":"ER20-EF20","v":-16891},-24149,-20929,-17786,-15314,-14340,-23289,-23036,-23679,-15518,-5278,-3050.6206896551739,-4664,-1994,-1795,-828,-3644,-8721,112,4566,3316,565,{"$f":"FN20-FB20","v":691},{"$f":"FO20-FC20","v":5656},{"$f":"FP20-FD20","v":14541},16182,18199,13565,{"$f":"FT20-FH20","v":15637},{"$f":"FU20-FI20","v":21922},19902,15056,14883,15359,21222,15984,8694,6665,901,1187,3344,-8,1589,-2549,-4570,-12873,-20977,-23711,-22761,-21451,-18377,-17493.999999999996,-18872.510166160733,-22372.122205668849,-25815.517647730114,-21457.813090914038,{"$f":"GV20-GJ20","v":-16964.697693016271},{"$f":"GW20-GK20","v":-5284.9252612172568},4645.711337211942,10192.456544125838,16798.100687358579,22083.149651528322,21952.837631226459,20322.565984180361]
["Days of Forward Supply",null,null,null,null,null,null,null,null,null,null,null,null,7.9312308315485467,-1.6781609507929574,-3.9493484660541718,-10.863917336278792,-11.957735840750974,-22.506760243996943,-16.719375070957227,-11.775506828656198,-10.214943655811012,-7.7314837812225363,-7.5422265881721131,-2.9181832228431901,-13.010149090494316,0.30969977204745902,-0.11643021979227086,0.5604214771271181,0.76342557404299782,-1.6634452778196476,-13.159522617693185,-13.275227626109128,-24.946832934837929,-19.052561898731639,-17.656889258181586,-12.082359442038936,1.1423046730929514,-2.1131000375525808,-2.2059081771782267,-1.984191338173261,2.5023923261203471,-4.146308032342759,0.18047428274390853,4.2680034430978537,33.405893351285911,16.383658445562943,40.953756341615424,53.923987826498099,31.358523690930625,16.050174648055968,21.01031992935151,22.462923186099104,26.629129274385498,28.322813054865961,20.906617119062474,6.6637118181435611,-14.506772885738549,-7.3780868627770104,-31.947696075402234,-52.63228361253762,-39.505528310439487,-21.080569152324482,-18.309666714657396,-17.902785125580028,-26.979707780137531,-22.272372075599854,-16.469238566266391,-7.2808172581043493,-18.348084493547276,-16.086536072009075,-9.890000389910881,-6.5684751597457591,-4.0470307101582605,-0.94181116557544442,-7.3473770315074063,-9.4758434251750394,-9.7138330796463563,-11.664628650427396,-7.7988437181834627,-7.9098042338264634,-5.1730070188693773,0.65504865193333472,-3.3563820553007915,2.8762428114621557,8.0514149948686544,11.75630788236786,15.050865689013861,13.804115226588337,17.580491849961732,14.698055899344418,10.576095134413009,15.447778909811483,14.521406874003951,7.5686393278460429,10.250775258932819,9.0393959442011322,14.376081595658473,7.5812619463322122,-0.392837536395092,-3.5395078437980878,-8.3387014529983858,-2.585055813505754,-3.4463756893552642,-9.0594624080527026,-13.159239629378554,-16.902843913814031,-19.102264395430677,-19.343293047551221,-25.351920402419683,-21.870718314920005,-12.059783259803723,-8.9897008485313066,-3.7592476877806895,-1.9634789359724749,0.61797928391158052,5.9217984434731505,7.8249340436934887,10.04562843104641,15.849949358440373,11.882831435309306,17.072029569586011,10.999116476657715,17.71408270252445,14.898520789200067,17.138213120891368,13.129802205676611,14.334830186925508,10.650863800216541,6.0842155643120179,19.490080004135237,10.565467038876847,12.122607212879437,2.0246664433544197,1.9519536823390702,2.7939178916642007,8.4199405163925221,-5.1628330296179001,-0.79525782882349461,-9.7836412826994348,-9.6523622764847516,3.8884476861264332,-15.409366639109088,-8.747540052248965,-16.220788161218664,-15.944334912977183,{"$f":"EQ21-EE21","v":-9.8478637234781878},-22.233720851736162,-26.585574356622828,-18.259901458492255,-19.592661685362643,-14.744590428103393,-10.109037862447892,-25.156304167978004,-19.189111907999877,-18.696186775165607,-8.0933031543647047,0.20352978062188143,-1.0481895337186771,-1.705926986138806,-0.16035754757087872,-2.4276513304338216,-2.0279127693944154,-6.4773069445739537,-12.605262513797722,1.1326374063054629,6.384749601798287,0.43395215770927109,-2.0161958199317489,-1.5343740942871769,4.1544139240118518,11.992984545535442,8.3320881887091716,12.50721047290094,5.6077298183549296,9.9890551416195592,16.196457258253982,10.318618267620199,4.618458071190453,8.1441005831922126,8.8684875113784791,9.6335983796892535,6.3277951140191036,-1.0329995570656045,4.0363175120434462,1.6694764276459004,-0.35111180193750258,1.9557650350035303,-1.522877828078343,-2.3119037157955304,-4.1446600783707268,-7.1954894199828381,-12.633066580191617,-14.84509376838496,-14.35364784217165,-11.776783268291057,-16.692266667622029,-16.767328039644646,-12.728281727267483,-14.252038130545717,-18.644270427730461,-18.253877830641493,-13.514152444608605,-8.5701972839843812,-0.20101583710208359,4.7025518465075784,3.5863811346814742,7.8826866904644728,13.963419639216079,9.9957976633753276,8.4014029082489472]
[]
["CHANGE FROM PREVIOUS FCST"]
[null,{"$f":"B$3","v":"2005-01-15"},{"$f":"C$3","v":"2005-02-15"},"2005-03-15","2005-04-15","2005-05-15","2005-06-15","2005-07-15","2005-08-15","2005-09-15","2005-10-15","2005-11-15","2005-12-15","2006-01-15","2006-02-15","2006-03-15","2006-04-15","2006-05-15","2006-06-15","2006-07-15","2006-08-15","2006-09-15","2006-10-15","2006-11-15","2006-12-15","2007-01-15","2007-02-15","2007-03-15","2007-04-15","2007-05-15","2007-06-15","2007-07-15","2007-08-15","2007-09-15","2007-10-15","2007-11-15","2007-12-15","2008-01-15","2008-02-15","2008-03-15","2008-04-15","2008-05-15","2008-06-15","2008-07-15","2008-08-15","2008-09-15","2008-10-15","2008-11-15","2008-12-15","2009-01-15","2009-02-15","2009-03-15","2009-04-15","2009-05-15","2009-06-15","2009-07-15","2009-08-15","2009-09-15","2009-10-15","2009-11-15","2009-12-15","2010-01-15","2010-02-15","2010-03-15","2010-04-15","2010-05-15",{"$f":"BO$3","v":"2010-06-15"},"2010-07-15","2010-08-15","2010-09-15","2010-10-15","2010-11-15","2010-12-15","2011-01-15","2011-02-15","2011-03-15","2011-04-15","2011-05-15","2011-06-15","2011-07-15","2011-08-15","2011-09-15","2011-10-15","2011-11-15","2011-12-15","2012-01-15","2012-02-15","2012-03-15","2012-04-15","2012-05-15","2012-06-15","2012-07-15","2012-08-15","2012-09-15","2012-10-15","2012-11-15","2012-12-15","2013-01-15","2013-02-15","2013-03-15","2013-04-15","2013-05-15","2013-06-15","2013-07-15","2013-08-15","2013-09-15","2013-10-15","2013-11-15","2013-12-15","2014-01-15","2014-02-15","2014-03-15","2014-04-15","2014-05-15","2014-06-15","2014-07-15","2014-08-15","2014-09-15","2014-10-15","2014-11-15","2014-12-15","2015-01-15","2015-02-15","2015-03-15","2015-04-15","2015-05-15","2015-06-15","2015-07-15","2015-08-15","2015-09-15",{"$f":"EA$3","v":"2015-10-15"},"2015-11-15","2015-12-15","2016-01-15","2016-02-15","2016-03-15","2016-04-15","2016-05-15","2016-06-15","2016-07-15","2016-08-15","2016-09-15","2016-10-15","2016-11-15","2016-12-15","2017-01-15","2017-02-15","2017-03-15","2017-04-15","2017-05-15","2017-06-15","2017-07-15","2017-08-15","2017-09-15","2017-10-15","2017-11-15","2017-12-15","2018-01-15","2018-02-15","2018-03-15","2018-04-15","2018-05-15","2018-06-15","2018-07-15","2018-08-15","2018-09-15","2018-10-15","2018-11-15","2018-12-15","2019-01-15","2019-02-15","2019-03-15","2019-04-15","2019-05-15","2019-06-15","2019-07-15","2019-08-15","2019-09-15","2019-10-15","2019-11-15","2019-12-15","2020-01-15","2020-02-15","2020-03-15","2020-04-15","2020-05-15","2020-06-15","2020-07-15","2020-08-15","2020-09-15","2020-10-15","2020-11-15","2020-12-15","2021-01-15","2021-02-15","2021-03-15","2021-04-15","2021-05-15","2021-06-15","2021-07-15","2021-08-15","2021-09-15","2021-10-15",{"$f":"GV$3","v":"2021-11-15"},"2021-12-15","2022-01-15","2022-02-15","2022-03-15","2022-04-15","2022-05-15"]
[{"$f":"A4","v":"SUPPLY"}]
["Gas Processing",null,null,null,null,null,null,null,null,null,null,null,null,null,null,null,null,null,null,null,null,null,null,null,null,null,null,null,null,null,null,null,null,null,null,null,null,null,null,null,null,null,null,null,null,null,null,null,null,null,null,null,null,null,null,null,null,null,null,null,null,null,null,null,null,null,null,null,null,null,null,null,null,null,null,null,null,null,null,null,null,null,null,null,null,null,null,null,null,null,null,null,null,null,null,null,null,null,null,null,null,null,null,null,null,null,null,null,null,{"$f":"DF5-DF68","v":0},0,0,0,0,0,0,0,0,0,0,0,0,0,0,0,0,0,0,0,0,0,0,0,{"$f":"ED5-ED68","v":0},0,0,0,0,0,0,0,0,0,0,0,0,0,0,0,0,0,0,0,0,0,0,0,0,0,0,0,{"$f":"FF5-FF68","v":0},0,{"$f":"FH5-FH68","v":0},0,{"$f":"FJ5-FJ68","v":0},0,{"$f":"FL5-FL68","v":0},0,{"$f":"FN5-FN68","v":0},0,{"$f":"FP5-FP68","v":0},0,{"$f":"FR5-FR68","v":0},0,{"$f":"FT5-FT68","v":0},0,{"$f":"FV5-FV68","v":0},0,{"$f":"FX5-FX68","v":0},0,{"$f":"FZ5-FZ68","v":0},0,{"$f":"GB5-GB68","v":0},0,{"$f":"GD5-GD68","v":0},0,{"$f":"GF5-GF68","v":0},0,{"$f":"GH5-GH68","v":0},0,{"$f":"GJ5-GJ68","v":0},0,{"$f":"GL5-GL68","v":0},0,{"$f":"GN5-GN68","v":0},0,{"$f":"GP5-GP68","v":-8266.9652882096125},-12009.003984091105,{"$f":"GR5-GR68","v":10909.446145937545},19031.109304924728,{"$f":"GT5-GT68","v":19073.859709465876},19134.290015146136,{"$f":"GV5-GV68","v":19192.602077600779},19243.227233806043,{"$f":"GX5-GX68","v":19178.696996305604},19263.041946124868,{"$f":"GZ5-GZ68","v":19379.142461830052},19572.254013341968,{"$f":"HB5-HB68","v":19711.550651587895}]
["Refinery Production",null,null,null,null,null,null,null,null,null,null,null,null,null,null,null,null,null,null,null,null,null,null,null,null,null,null,null,null,null,null,null,null,null,null,null,null,null,null,null,null,null,null,null,null,null,null,null,null,null,null,null,null,null,null,null,null,null,null,null,null,null,null,null,null,null,null,null,null,null,null,null,null,null,null,null,null,null,null,null,null,null,null,null,null,null,null,null,null,null,null,null,null,null,null,null,null,null,null,null,null,null,null,null,null,null,null,null,null,{"$f":"DF6-DF69","v":0},0,0,0,0,0,0,0,0,0,0,0,0,0,0,0,0,0,0,0,0,0,0,0,{"$f":"ED6-ED69","v":0},0,0,0,0,0,0,0,0,0,0,0,0,0,0,0,0,0,0,0,0,0,0,0,0,0,0,0,{"$f":"FF6-FF69","v":0},0,{"$f":"FH6-FH69","v":0},0,{"$f":"FJ6-FJ69","v":0},0,{"$f":"FL6-FL69","v":0},0,{"$f":"FN6-FN69","v":0},0,{"$f":"FP6-FP69","v":0},0,{"$f":"FR6-FR69","v":0},0,{"$f":"FT6-FT69","v":0},0,{"$f":"FV6-FV69","v":0},0,{"$f":"FX6-FX69","v":0},0,{"$f":"FZ6-FZ69","v":0},0,{"$f":"GB6-GB69","v":0},0,{"$f":"GD6-GD69","v":0},0,{"$f":"GF6-GF69","v":0},0,{"$f":"GH6-GH69","v":0},0,{"$f":"GJ6-GJ69","v":0},0,{"$f":"GL6-GL69","v":0},0,{"$f":"GN6-GN69","v":0},0,{"$f":"GP6-GP69","v":44884.857173723925},2071.4212985393242,{"$f":"GR6-GR69","v":-1160.1466260352172},-6053.6371800792986,{"$f":"GT6-GT69","v":2565.9715828308836},12434.385782320751,{"$f":"GV6-GV69","v":5479.0698093255633},11923.240991176572,{"$f":"GX6-GX69","v":5780.5360477999202},6517.7761416511494,{"$f":"GZ6-GZ69","v":6132.0601860760362},7402.58906120545,{"$f":"HB6-HB69","v":6045.6118513162364}]
[{"$f":"A7","v":"Imports"},null,null,null,null,null,null,null,null,null,null,null,null,null,null,null,null,null,null,null,null,null,null,null,null,null,null,null,null,null,null,null,null,null,null,null,null,null,null,null,null,null,null,null,null,null,null,null,null,null,null,null,null,null,null,null,null,null,null,null,null,null,null,null,null,null,null,null,null,null,null,null,null,null,null,null,null,null,null,null,null,null,null,null,null,null,null,null,null,null,null,null,null,null,null,null,null,null,null,null,null,null,null,null,null,null,null,null,null,{"$f":"DF7-DF70","v":0},0,0,0,0,0,0,0,0,0,0,0,0,0,0,0,0,0,0,0,0,0,0,0,{"$f":"ED7-ED70","v":0},0,0,0,0,0,0,0,0,0,0,0,0,0,0,0,0,0,0,0,0,0,0,0,0,0,0,0,{"$f":"FF7-FF70","v":0},0,{"$f":"FH7-FH70","v":0},0,{"$f":"FJ7-FJ70","v":0},0,{"$f":"FL7-FL70","v":0},0,{"$f":"FN7-FN70","v":0},0,{"$f":"FP7-FP70","v":0},0,{"$f":"FR7-FR70","v":0},0,{"$f":"FT7-FT70","v":0},0,{"$f":"FV7-FV70","v":0},0,{"$f":"FX7-FX70","v":0},0,{"$f":"FZ7-FZ70","v":0},0,{"$f":"GB7-GB70","v":0},0,{"$f":"GD7-GD70","v":0},0,{"$f":"GF7-GF70","v":0},0,{"$f":"GH7-GH70","v":0},0,{"$f":"GJ7-GJ70","v":0},0,{"$f":"GL7-GL70","v":0},0,{"$f":"GN7-GN70","v":0},0,{"$f":"GP7-GP70","v":0},0,{"$f":"GR7-GR70","v":0},0,{"$f":"GT7-GT70","v":0},0,{"$f":"GV7-GV70","v":0},0,{"$f":"GX7-GX70","v":-5000},5000,{"$f":"GZ7-GZ70","v":15000},15000,{"$f":"HB7-HB70","v":15000}]
["Net Inter-PADD Transfers (+ = Receipt)",null,null,null,null,null,null,null,null,null,null,null,null,null,null,null,null,null,null,null,null,null,null,null,null,null,null,null,null,null,null,null,null,null,null,null,null,null,null,null,null,null,null,null,null,null,null,null,null,null,null,null,null,null,null,null,null,null,null,null,null,null,null,null,null,null,null,null,null,null,null,null,null,null,null,null,null,null,null,null,null,null,null,null,null,null,null,null,null,null,null,null,null,null,null,null,null,null,null,null,null,null,null,null,null,null,null,null,null,{"$f":"DF8-DF71","v":0},0,0,0,0,0,0,0,0,0,0,0,0,0,0,0,0,0,0,0,0,0,0,0,{"$f":"ED8-ED71","v":0},0,0,0,0,0,0,0,0,0,0,0,0,0,0,0,0,0,0,0,0,0,0,0,0,0,0,0,{"$f":"FF8-FF71","v":0},0,{"$f":"FH8-FH71","v":0},0,{"$f":"FJ8-FJ71","v":0},0,{"$f":"FL8-FL71","v":0},0,{"$f":"FN8-FN71","v":0},0,{"$f":"FP8-FP71","v":0},0,{"$f":"FR8-FR71","v":0},0,{"$f":"FT8-FT71","v":0},0,{"$f":"FV8-FV71","v":0},0,{"$f":"FX8-FX71","v":0},0,{"$f":"FZ8-FZ71","v":0},0,{"$f":"GB8-GB71","v":0},0,{"$f":"GD8-GD71","v":0},0,{"$f":"GF8-GF71","v":0},0,{"$f":"GH8-GH71","v":0},0,{"$f":"GJ8-GJ71","v":0},0,{"$f":"GL8-GL71","v":0},0,{"$f":"GN8-GN71","v":1819.1091803612071},189791.23639215843,{"$f":"GP8-GP71","v":80999.999999999884},-85588.56748968875,{"$f":"GR8-GR71","v":6195.3939040038385},-40000,{"$f":"GT8-GT71","v":-20000},-20000,{"$f":"GV8-GV71","v":-20000},-19822.580645161332,{"$f":"GX8-GX71","v":-25000},-25000.000000000029,{"$f":"GZ8-GZ71","v":14677.419354838668},86066.666666666686,{"$f":"HB8-HB71","v":45000}]
["Total Stock Change (Primary+Secondary+Tertiary)",null,null,null,null,null,null,null,null,null,null,null,null,null,null,null,null,null,null,null,null,null,null,null,null,null,null,null,null,null,null,null,null,null,null,null,null,null,null,null,null,null,null,null,null,null,null,null,null,null,null,null,null,null,null,null,null,null,null,null,null,null,null,null,null,null,null,null,null,null,null,null,null,null,null,null,null,null,null,null,null,null,null,null,null,null,null,null,null,null,null,null,null,null,null,null,null,null,null,null,null,null,null,null,null,null,null,null,null,{"$f":"DF9-DF72","v":0},0,0,0,0,0,0,0,0,0,0,0,0,0,0,0,0,0,0,0,0,0,0,0,{"$f":"ED9-ED72","v":0},0,0,0,0,0,0,0,0,0,0,0,0,0,0,0,0,0,0,0,0,0,0,0,0,0,0,0,{"$f":"FF9-FF72","v":0},0,{"$f":"FH9-FH72","v":0},0,{"$f":"FJ9-FJ72","v":0},0,{"$f":"FL9-FL72","v":0},0,{"$f":"FN9-FN72","v":0},0,{"$f":"FP9-FP72","v":0},0,{"$f":"FR9-FR72","v":0},0,{"$f":"FT9-FT72","v":0},0,{"$f":"FV9-FV72","v":0},0,{"$f":"FX9-FX72","v":0},0,{"$f":"FZ9-FZ72","v":0},0,{"$f":"GB9-GB72","v":0},0,{"$f":"GD9-GD72","v":0},0,{"$f":"GF9-GF72","v":0},0,{"$f":"GH9-GH72","v":0},0,{"$f":"GJ9-GJ72","v":0},0,{"$f":"GL9-GL72","v":0},3720.3913000521716,{"$f":"GN9-GN72","v":-2475.7541614552028},-186139.34274973557,{"$f":"GP9-GP72","v":-360371.48909792979},15566.666666666279,{"$f":"GR9-GR72","v":-123193.42031966895},11544.621716079768,{"$f":"GT9-GT72","v":-15768.630087517202},-11381.975970535306,{"$f":"GV9-GV72","v":-5345.7409839173779},-8704.9404020628426,{"$f":"GX9-GX72","v":39180.123737469083},137455.07848868659,{"$f":"GZ9-GZ72","v":85974.722363793291},27731.568951314781,{"$f":"HB9-HB72","v":77606.763098795665}]
["     TOTAL SUPPLY",null,null,null,null,null,null,null,null,null,null,null,null,null,null,null,null,null,null,null,null,null,null,null,null,null,null,null,null,null,null,null,null,null,null,null,null,null,null,null,null,null,null,null,null,null,null,null,null,null,null,null,null,null,null,null,null,null,null,null,null,null,null,null,null,null,null,null,null,null,null,null,null,null,null,null,null,null,null,null,null,null,null,null,null,null,null,null,null,null,null,null,null,null,null,null,null,null,null,null,null,null,null,null,null,null,null,null,null,{"$f":"DF10-DF73","v":0},0,0,0,0,0,0,0,0,0,0,0,0,0,0,0,0,0,0,0,0,0,0,0,{"$f":"ED10-ED73","v":0},0,0,0,0,0,0,0,0,0,0,0,0,0,0,0,0,0,0,0,0,0,0,0,0,0,0,0,{"$f":"FF10-FF73","v":0},0,{"$f":"FH10-FH73","v":0},0,{"$f":"FJ10-FJ73","v":0},0,{"$f":"FL10-FL73","v":0},0,{"$f":"FN10-FN73","v":0},0,{"$f":"FP10-FP73","v":0},0,{"$f":"FR10-FR73","v":0},0,{"$f":"FT10-FT73","v":0},0,{"$f":"FV10-FV73","v":0},0,{"$f":"FX10-FX73","v":0},0,{"$f":"FZ10-FZ73","v":0},0,{"$f":"GB10-GB73","v":0},0,{"$f":"GD10-GD73","v":0},0,{"$f":"GF10-GF73","v":0},0,{"$f":"GH10-GH73","v":0},0,{"$f":"GJ10-GJ73","v":0},0,{"$f":"GL10-GL73","v":0},3720.3913000521716,{"$f":"GN10-GN73","v":-656.64498109417036},3651.893642422976,{"$f":"GP10-GP73","v":-242753.59721241565},-79959.483508574311,{"$f":"GR10-GR73","v":-107248.72689576284},-15477.906159074977,{"$f":"GT10-GT73","v":-14128.798795220442},186.69982693181373,{"$f":"GV10-GV73","v":-674.06909699109383},2638.9471777586732,{"$f":"GX10-GX73","v":34139.356781574665},143235.89657646278,{"$f":"GZ10-GZ73","v":141163.34436653811},155773.07869252888,{"$f":"HB10-HB73","v":163363.92560169986}]
["DEMAND"]
["  Residential and Commercial ",null,null,null,null,null,null,null,null,null,null,null,null,null,null,null,null,null,null,null,null,null,null,null,null,null,null,null,null,null,null,null,null,null,null,null,null,null,null,null,null,null,null,null,null,null,null,null,null,null,null,null,null,null,null,null,null,null,null,null,null,null,null,null,null,null,null,null,null,null,null,null,null,null,null,null,null,null,null,null,null,null,null,null,null,null,null,null,null,null,null,null,null,null,null,null,null,null,null,null,null,null,null,null,null,null,null,null,null,{"$f":"DF12-DF75","v":0},0,0,0,0,0,0,0,0,0,0,0,0,0,0,0,0,0,0,0,0,0,0,0,{"$f":"ED12-ED75","v":0},0,0,0,0,0,0,0,0,0,0,0,0,0,0,0,0,0,0,0,0,0,0,0,0,0,0,0,{"$f":"FF12-FF75","v":0},0,{"$f":"FH12-FH75","v":0},0,{"$f":"FJ12-FJ75","v":0},0,{"$f":"FL12-FL75","v":0},0,{"$f":"FN12-FN75","v":0},0,{"$f":"FP12-FP75","v":0},0,{"$f":"FR12-FR75","v":0},0,{"$f":"FT12-FT75","v":0},0,{"$f":"FV12-FV75","v":0},0,{"$f":"FX12-FX75","v":0},0,{"$f":"FZ12-FZ75","v":0},0,{"$f":"GB12-GB75","v":0},0,{"$f":"GD12-GD75","v":0},0,{"$f":"GF12-GF75","v":0},0,{"$f":"GH12-GH75","v":0},0,{"$f":"GJ12-GJ75","v":0},0,{"$f":"GL12-GL75","v":0},3931.3322028733091,{"$f":"GN12-GN75","v":-559.11069233061426},3789.0702594531977,{"$f":"GP12-GP75","v":-10798.630519893901},72.7360578576845,{"$f":"GR12-GR75","v":508.08729228794255},172.2131333805446,{"$f":"GT12-GT75","v":1071.0987925559966},692.95148574859195,{"$f":"GV12-GV75","v":-385.67743369637174},4617.5463267028172,{"$f":"GX12-GX75","v":1263.4871810548502},732.61258767810796,{"$f":"GZ12-GZ75","v":1781.0601001742834},256.9551419579002,{"$f":"HB12-HB75","v":677.28710028045316}]
["  Chemical",null,null,null,null,null,null,null,null,null,null,null,null,null,null,null,null,null,null,null,null,null,null,null,null,null,null,null,null,null,null,null,null,null,null,null,null,null,null,null,null,null,null,null,null,null,null,null,null,null,null,null,null,null,null,null,null,null,null,null,null,null,null,null,null,null,null,null,null,null,null,null,null,null,null,null,null,null,null,null,null,null,null,null,null,null,null,null,null,null,null,null,null,null,null,null,null,null,null,null,null,null,null,null,null,null,null,null,null,{"$f":"DF13-DF76","v":0},0,0,0,0,0,0,0,0,0,0,0,0,0,0,0,0,0,0,0,0,0,0,0,{"$f":"ED13-ED76","v":0},0,0,0,0,0,0,0,0,0,0,0,0,0,0,0,0,0,0,0,0,0,0,0,0,0,0,0,{"$f":"FF13-FF76","v":0},0,{"$f":"FH13-FH76","v":0},0,{"$f":"FJ13-FJ76","v":0},0,{"$f":"FL13-FL76","v":0},0,{"$f":"FN13-FN76","v":0},0,{"$f":"FP13-FP76","v":0},0,{"$f":"FR13-FR76","v":0},0,{"$f":"FT13-FT76","v":0},0,{"$f":"FV13-FV76","v":0},0,{"$f":"FX13-FX76","v":0},0,{"$f":"FZ13-FZ76","v":0},0,{"$f":"GB13-GB76","v":0},0,{"$f":"GD13-GD76","v":0},0,{"$f":"GF13-GF76","v":0},0,{"$f":"GH13-GH76","v":0},0,{"$f":"GJ13-GJ76","v":0},0,{"$f":"GL13-GL76","v":0},0,{"$f":"GN13-GN76","v":0},-72.652164204395376,{"$f":"GP13-GP76","v":-18450.482144264621},-34566.341319183121,{"$f":"GR13-GR76","v":-27756.699171200977},-15649.716733480687,{"$f":"GT13-GT76","v":-15205.27553946001},-545.58081295422744,{"$f":"GV13-GV76","v":-275.64180644438602},-1888.4944143798202,{"$f":"GX13-GX76","v":-13369.618295418099},-13370.949931244832,{"$f":"GZ13-GZ76","v":-26175.148822354909},-9734.8689569593407,{"$f":"HB13-HB76","v":-2380.0937693957239}]
["  Farm",null,null,null,null,null,null,null,null,null,null,null,null,null,null,null,null,null,null,null,null,null,null,null,null,null,null,null,null,null,null,null,null,null,null,null,null,null,null,null,null,null,null,null,null,null,null,null,null,null,null,null,null,null,null,null,null,null,null,null,null,null,null,null,null,null,null,null,null,null,null,null,null,null,null,null,null,null,null,null,null,null,null,null,null,null,null,null,null,null,null,null,null,null,null,null,null,null,null,null,null,null,null,null,null,null,null,null,null,{"$f":"DF14-DF77","v":0},0,0,0,0,0,0,0,0,0,0,0,0,0,0,0,0,0,0,0,0,0,0,0,{"$f":"ED14-ED77","v":0},0,0,0,0,0,0,0,0,0,0,0,0,0,0,0,0,0,0,0,0,0,0,0,0,0,0,0,{"$f":"FF14-FF77","v":0},0,{"$f":"FH14-FH77","v":0},0,{"$f":"FJ14-FJ77","v":0},0,{"$f":"FL14-FL77","v":0},0,{"$f":"FN14-FN77","v":0},0,{"$f":"FP14-FP77","v":0},0,{"$f":"FR14-FR77","v":0},0,{"$f":"FT14-FT77","v":0},0,{"$f":"FV14-FV77","v":0},0,{"$f":"FX14-FX77","v":0},0,{"$f":"FZ14-FZ77","v":0},0,{"$f":"GB14-GB77","v":0},0,{"$f":"GD14-GD77","v":0},0,{"$f":"GF14-GF77","v":0},0,{"$f":"GH14-GH77","v":0},0,{"$f":"GJ14-GJ77","v":0},0,{"$f":"GL14-GL77","v":0},-210.94090282100842,{"$f":"GN14-GN77","v":-97.534288763475161},-64.524452825838125,{"$f":"GP14-GP77","v":645.17956764140467},-5.5068886657250999,{"$f":"GR14-GR77","v":-0.11501684995692862},-0.40255897484894376,{"$f":"GT14-GT77","v":5.3779516835602408},39.329154137649311,{"$f":"GV14-GV77","v":-12.749856850298784},-90.104734564361934,{"$f":"GX14-GX77","v":1245.4878959378402},874.23392002919536,{"$f":"GZ14-GZ77","v":557.43308871865247},250.99250753057413,{"$f":"HB14-HB77","v":66.732270815031598}]
["  Other",null,null,null,null,null,null,null,null,null,null,null,null,null,null,null,null,null,null,null,null,null,null,null,null,null,null,null,null,null,null,null,null,null,null,null,null,null,null,null,null,null,null,null,null,null,null,null,null,null,null,null,null,null,null,null,null,null,null,null,null,null,null,null,null,null,null,null,null,null,null,null,null,null,null,null,null,null,null,null,null,null,null,null,null,null,null,null,null,null,null,null,null,null,null,null,null,null,null,null,null,null,null,null,null,null,null,null,null,{"$f":"DF15-DF78","v":0},0,0,0,0,0,0,0,0,0,0,0,0,0,0,0,0,0,0,0,0,0,0,0,{"$f":"ED15-ED78","v":0},0,0,0,0,0,0,0,0,0,0,0,0,0,0,0,0,0,0,0,0,0,0,0,0,0,0,0,{"$f":"FF15-FF78","v":0},0,{"$f":"FH15-FH78","v":0},0,{"$f":"FJ15-FJ78","v":0},0,{"$f":"FL15-FL78","v":0},0,{"$f":"FN15-FN78","v":0},0,{"$f":"FP15-FP78","v":0},0,{"$f":"FR15-FR78","v":0},0,{"$f":"FT15-FT78","v":0},0,{"$f":"FV15-FV78","v":0},0,{"$f":"FX15-FX78","v":0},0,{"$f":"FZ15-FZ78","v":0},0,{"$f":"GB15-GB78","v":0},0,{"$f":"GD15-GD78","v":0},0,{"$f":"GF15-GF78","v":0},0,{"$f":"GH15-GH78","v":0},0,{"$f":"GJ15-GJ78","v":0},0,{"$f":"GL15-GL78","v":0},0,{"$f":"GN15-GN78","v":0},0,{"$f":"GP15-GP78","v":0},0,{"$f":"GR15-GR78","v":0},0,{"$f":"GT15-GT78","v":0},0,{"$f":"GV15-GV78","v":0},0,{"$f":"GX15-GX78","v":0},0,{"$f":"GZ15-GZ78","v":0},0,{"$f":"HB15-HB78","v":0}]
["     US DOMESTIC CONSUMPTION",null,null,null,null,null,null,null,null,null,null,null,null,null,null,null,null,null,null,null,null,null,null,null,null,null,null,null,null,null,null,null,null,null,null,null,null,null,null,null,null,null,null,null,null,null,null,null,null,null,null,null,null,null,null,null,null,null,null,null,null,null,null,null,null,null,null,null,null,null,null,null,null,null,null,null,null,null,null,null,null,null,null,null,null,null,null,null,null,null,null,null,null,null,null,null,null,null,null,null,null,null,null,null,null,null,null,null,null,{"$f":"DF16-DF79","v":0},0,0,0,0,0,0,0,0,0,0,0,0,0,0,0,0,0,0,0,0,0,0,0,{"$f":"ED16-ED79","v":0},0,0,0,0,0,0,0,0,0,0,0,0,0,0,0,0,0,0,0,0,0,0,0,0,0,0,0,{"$f":"FF16-FF79","v":0},0,{"$f":"FH16-FH79","v":0},0,{"$f":"FJ16-FJ79","v":0},0,{"$f":"FL16-FL79","v":0},0,{"$f":"FN16-FN79","v":0},0,{"$f":"FP16-FP79","v":0},0,{"$f":"FR16-FR79","v":0},0,{"$f":"FT16-FT79","v":0},0,{"$f":"FV16-FV79","v":0},0,{"$f":"FX16-FX79","v":0},0,{"$f":"FZ16-FZ79","v":0},0,{"$f":"GB16-GB79","v":0},0,{"$f":"GD16-GD79","v":0},0,{"$f":"GF16-GF79","v":0},0,{"$f":"GH16-GH79","v":0},0,{"$f":"GJ16-GJ79","v":0},0,{"$f":"GL16-GL79","v":0},3720.391300052288,{"$f":"GN16-GN79","v":-656.64498109411215},3651.893642422976,{"$f":"GP16-GP79","v":-28603.93309651711},-34499.112149991095,{"$f":"GR16-GR79","v":-27248.726895762957},-15477.906159074977,{"$f":"GT16-GT79","v":-14128.798795220442},186.69982693193015,{"$f":"GV16-GV79","v":-674.06909699097741},2638.9471777585568,{"$f":"GX16-GX79","v":-10860.643218425452},-11764.103423537454,{"$f":"GZ16-GZ79","v":-23836.655633461894},-9226.9213074708823,{"$f":"HB16-HB79","v":-1636.0743983001448}]
["EXPORTS",null,null,null,null,null,null,null,null,null,null,null,null,null,null,null,null,null,null,null,null,null,null,null,null,null,null,null,null,null,null,null,null,null,null,null,null,null,null,null,null,null,null,null,null,null,null,null,null,null,null,null,null,null,null,null,null,null,null,null,null,null,null,null,null,null,null,null,null,null,null,null,null,null,null,null,null,null,null,null,null,null,null,null,null,null,null,null,null,null,null,null,null,null,null,null,null,null,null,null,null,null,null,null,null,null,null,null,null,{"$f":"DF17-DF80","v":0},0,0,0,0,0,0,0,0,0,0,0,0,0,0,0,0,0,0,0,0,0,0,0,{"$f":"ED17-ED80","v":0},0,0,0,0,0,0,0,0,0,0,0,0,0,0,0,0,0,0,0,0,0,0,0,0,0,0,0,{"$f":"FF17-FF80","v":0},0,{"$f":"FH17-FH80","v":0},0,{"$f":"FJ17-FJ80","v":0},0,{"$f":"FL17-FL80","v":0},0,{"$f":"FN17-FN80","v":0},0,{"$f":"FP17-FP80","v":0},0,{"$f":"FR17-FR80","v":0},0,{"$f":"FT17-FT80","v":0},0,{"$f":"FV17-FV80","v":0},0,{"$f":"FX17-FX80","v":0},0,{"$f":"FZ17-FZ80","v":0},0,{"$f":"GB17-GB80","v":0},0,{"$f":"GD17-GD80","v":0},0,{"$f":"GF17-GF80","v":0},0,{"$f":"GH17-GH80","v":0},0,{"$f":"GJ17-GJ80","v":0},0,{"$f":"GL17-GL80","v":0},0,{"$f":"GN17-GN80","v":0},0,{"$f":"GP17-GP80","v":-214149.66411589854},-45460.371358583216,{"$f":"GR17-GR80","v":-80000},0,{"$f":"GT17-GT80","v":0},0,{"$f":"GV17-GV80","v":0},0,{"$f":"GX17-GX80","v":45000},155000,{"$f":"GZ17-GZ80","v":165000},165000,{"$f":"HB17-HB80","v":165000}]
["     TOTAL DEMAND",null,null,null,null,null,null,null,null,null,null,null,null,null,null,null,null,null,null,null,null,null,null,null,null,null,null,null,null,null,null,null,null,null,null,null,null,null,null,null,null,null,null,null,null,null,null,null,null,null,null,null,null,null,null,null,null,null,null,null,null,null,null,null,null,null,null,null,null,null,null,null,null,null,null,null,null,null,null,null,null,null,null,null,null,null,null,null,null,null,null,null,null,null,null,null,null,null,null,null,null,null,null,null,null,null,null,null,null,{"$f":"DF18-DF81","v":0},0,0,0,0,0,0,0,0,0,0,0,0,0,0,0,0,0,0,0,0,0,0,0,{"$f":"ED18-ED81","v":0},0,0,0,0,0,0,0,0,0,0,0,0,0,0,0,0,0,0,0,0,0,0,0,0,0,0,0,{"$f":"FF18-FF81","v":0},0,{"$f":"FH18-FH81","v":0},0,{"$f":"FJ18-FJ81","v":0},0,{"$f":"FL18-FL81","v":0},0,{"$f":"FN18-FN81","v":0},0,{"$f":"FP18-FP81","v":0},0,{"$f":"FR18-FR81","v":0},0,{"$f":"FT18-FT81","v":0},0,{"$f":"FV18-FV81","v":0},0,{"$f":"FX18-FX81","v":0},0,{"$f":"FZ18-FZ81","v":0},0,{"$f":"GB18-GB81","v":0},0,{"$f":"GD18-GD81","v":0},0,{"$f":"GF18-GF81","v":0},0,{"$f":"GH18-GH81","v":0},0,{"$f":"GJ18-GJ81","v":0},0,{"$f":"GL18-GL81","v":0},3720.3913000521716,{"$f":"GN18-GN81","v":-656.64498109417036},3651.893642422976,{"$f":"GP18-GP81","v":-242753.59721241565},-79959.483508574311,{"$f":"GR18-GR81","v":-107248.72689576284},-15477.906159074977,{"$f":"GT18-GT81","v":-14128.798795220442},186.69982693181373,{"$f":"GV18-GV81","v":-674.06909699109383},2638.9471777586732,{"$f":"GX18-GX81","v":34139.356781574665},143235.89657646278,{"$f":"GZ18-GZ81","v":141163.34436653811},155773.07869252888,{"$f":"HB18-HB81","v":163363.92560169986}]
[]
["INVENTORIES (End of Month, Thousand Barrels)",null,null,null,null,null,null,null,null,null,null,null,null,null,null,null,null,null,null,null,null,null,null,null,null,null,null,null,null,null,null,null,null,null,null,null,null,null,null,null,null,null,null,null,null,null,null,null,null,null,null,null,null,null,null,null,null,null,null,null,null,null,null,null,null,null,null,null,null,null,null,null,null,null,null,null,null,null,null,null,null,null,null,null,null,null,null,null,null,null,null,null,null,null,null,null,null,null,null,null,null,null,null,null,null,null,null,null,null,{"$f":"DF20-DF83","v":0},0,0,0,0,0,0,0,0,0,0,0,0,0,0,0,0,0,0,0,0,0,0,0,{"$f":"ED20-ED83","v":0},0,0,0,0,0,0,0,0,0,0,0,0,0,0,0,0,0,0,0,0,0,0,0,0,0,0,0,{"$f":"FF20-FF83","v":0},0,{"$f":"FH20-FH83","v":0},0,{"$f":"FJ20-FJ83","v":0},0,{"$f":"FL20-FL83","v":0},0,{"$f":"FN20-FN83","v":0},0,{"$f":"FP20-FP83","v":0},0,{"$f":"FR20-FR83","v":0},0,{"$f":"FT20-FT83","v":0},0,{"$f":"FV20-FV83","v":0},0,{"$f":"FX20-FX83","v":0},0,{"$f":"FZ20-FZ83","v":0},0,{"$f":"GB20-GB83","v":0},0,{"$f":"GD20-GD83","v":0},0,{"$f":"GF20-GF83","v":0},0,{"$f":"GH20-GH83","v":0},0,{"$f":"GJ20-GJ83","v":0},0,{"$f":"GL20-GL83","v":0},0,{"$f":"GN20-GN83","v":0},0,{"$f":"GP20-GP83","v":354.99999999999636},-111.99999999999272,{"$f":"GR20-GR83","v":3706.9960299097474},3349.1127567112744,{"$f":"GT20-GT83","v":3822.1716593367928},4175.0129144233833,{"$f":"GV20-GV83","v":4335.3851439409118},4605.2382964048556,{"$f":"GX20-GX83","v":3390.6544605433155},-458.08773713991104,{"$f":"GZ20-GZ83","v":-3123.3041304174985},-3955.2511989569466,{"$f":"HB20-HB83","v":-6361.0608550196121}]
["Days of Forward Supply",null,null,null,null,null,null,null,null,null,null,null,null,null,null,null,null,null,null,null,null,null,null,null,null,null,null,null,null,null,null,null,null,null,null,null,null,null,null,null,null,null,null,null,null,null,null,null,null,null,null,null,null,null,null,null,null,null,null,null,null,null,null,null,null,null,null,null,null,null,null,null,null,null,null,null,null,null,null,null,null,null,null,null,null,null,null,null,null,null,null,null,null,null,null,null,null,null,null,null,null,null,null,null,null,null,null,null,null,{"$f":"DF21-DF84","v":0},{"$f":"DG21-DG84","v":0},{"$f":"DH21-DH84","v":0},{"$f":"DI21-DI84","v":0},0,0,0,0,0,0,0,0,0,0,0,0,0,0,0,0,0,0,0,0,{"$f":"ED21-ED84","v":0},0,0,0,0,0,0,0,0,0,0,0,0,0,0,0,0,0,0,0,0,0,0,0,0,0,0,0,{"$f":"FF21-FF84","v":0},0,{"$f":"FH21-FH84","v":0},0,{"$f":"FJ21-FJ84","v":0},0,{"$f":"FL21-FL84","v":0},0,{"$f":"FN21-FN84","v":0},0,{"$f":"FP21-FP84","v":0},0,{"$f":"FR21-FR84","v":0},0,{"$f":"FT21-FT84","v":0},0,{"$f":"FV21-FV84","v":0},0,{"$f":"FX21-FX84","v":0},0,{"$f":"FZ21-FZ84","v":0},0,{"$f":"GB21-GB84","v":0},0,{"$f":"GD21-GD84","v":0},0,{"$f":"GF21-GF84","v":0},0,{"$f":"GH21-GH84","v":0},0,{"$f":"GJ21-GJ84","v":0},0,{"$f":"GL21-GL84","v":0},-4.0780144957455633E-2,{"$f":"GN21-GN84","v":6.9002727230369487E-3},-2.7410226140595739E-2,{"$f":"GP21-GP84","v":2.2712118574116431},0.78188997283589856,{"$f":"GR21-GR84","v":3.3415625264528863},2.1050642460788751,{"$f":"GT21-GT84","v":2.3972495867370647},2.4119997645037898,{"$f":"GV21-GV84","v":2.5034891858066111},2.5176401037145482,{"$f":"GX21-GX84","v":1.5624005728141199},-2.0794418594094566,{"$f":"GZ21-GZ84","v":-4.1136477498968098},-5.3168415774595346,{"$f":"HB21-HB84","v":-6.2372461758026532}]
[]
["PREVIOUS FCST VALUES"]
[null,{"$f":"B$3","v":"2005-01-15"},{"$f":"C$3","v":"2005-02-15"},"2005-03-15","2005-04-15","2005-05-15","2005-06-15","2005-07-15","2005-08-15","2005-09-15","2005-10-15","2005-11-15","2005-12-15","2006-01-15","2006-02-15","2006-03-15","2006-04-15","2006-05-15","2006-06-15","2006-07-15","2006-08-15","2006-09-15","2006-10-15","2006-11-15","2006-12-15","2007-01-15","2007-02-15","2007-03-15","2007-04-15","2007-05-15","2007-06-15","2007-07-15","2007-08-15","2007-09-15","2007-10-15","2007-11-15","2007-12-15","2008-01-15","2008-02-15","2008-03-15","2008-04-15","2008-05-15","2008-06-15","2008-07-15","2008-08-15","2008-09-15","2008-10-15","2008-11-15","2008-12-15","2009-01-15","2009-02-15","2009-03-15","2009-04-15","2009-05-15","2009-06-15","2009-07-15","2009-08-15","2009-09-15","2009-10-15","2009-11-15","2009-12-15","2010-01-15","2010-02-15","2010-03-15","2010-04-15","2010-05-15",{"$f":"BO$3","v":"2010-06-15"},"2010-07-15","2010-08-15","2010-09-15","2010-10-15","2010-11-15","2010-12-15","2011-01-15","2011-02-15","2011-03-15","2011-04-15","2011-05-15","2011-06-15","2011-07-15","2011-08-15","2011-09-15","2011-10-15","2011-11-15","2011-12-15","2012-01-15","2012-02-15","2012-03-15","2012-04-15","2012-05-15","2012-06-15","2012-07-15","2012-08-15","2012-09-15","2012-10-15","2012-11-15","2012-12-15","2013-01-15","2013-02-15","2013-03-15","2013-04-15","2013-05-15","2013-06-15","2013-07-15","2013-08-15","2013-09-15","2013-10-15","2013-11-15","2013-12-15","2014-01-15","2014-02-15","2014-03-15","2014-04-15","2014-05-15","2014-06-15","2014-07-15","2014-08-15","2014-09-15","2014-10-15","2014-11-15","2014-12-15","2015-01-15","2015-02-15","2015-03-15","2015-04-15","2015-05-15","2015-06-15","2015-07-15","2015-08-15","2015-09-15",{"$f":"EA$3","v":"2015-10-15"},"2015-11-15","2015-12-15","2016-01-15","2016-02-15","2016-03-15","2016-04-15","2016-05-15","2016-06-15","2016-07-15","2016-08-15","2016-09-15","2016-10-15","2016-11-15","2016-12-15","2017-01-15","2017-02-15","2017-03-15","2017-04-15","2017-05-15","2017-06-15","2017-07-15","2017-08-15","2017-09-15","2017-10-15","2017-11-15","2017-12-15","2018-01-15","2018-02-15","2018-03-15","2018-04-15","2018-05-15","2018-06-15","2018-07-15","2018-08-15","2018-09-15","2018-10-15","2018-11-15","2018-12-15","2019-01-15","2019-02-15","2019-03-15","2019-04-15","2019-05-15","2019-06-15","2019-07-15","2019-08-15","2019-09-15","2019-10-15","2019-11-15","2019-12-15","2020-01-15","2020-02-15","2020-03-15","2020-04-15","2020-05-15","2020-06-15","2020-07-15","2020-08-15","2020-09-15","2020-10-15","2020-11-15","2020-12-15","2021-01-15","2021-02-15","2021-03-15","2021-04-15","2021-05-15","2021-06-15","2021-07-15","2021-08-15","2021-09-15","2021-10-15",{"$f":"GV$3","v":"2021-11-15"},"2021-12-15","2022-01-15","2022-02-15","2022-03-15","2022-04-15","2022-05-15"]
[{"$f":"A4","v":"SUPPLY"}]
["Gas Processing",342677.41935483873,352785.71428571426,352387.09677419357,351166.66666666669,349967.74193548388,339733.33333333331,332258.06451612903,321387.09677419357,256200,270806.45161290321,292233.33333333331,284322.58064516127,313483.87096774194,315321.42857142858,317258.06451612903,320533.33333333331,321032.25806451612,326000,329774.19354838709,326741.93548387097,331000,327193.54838709679,327933.33333333331,319483.87096774194,313387.09677419357,323678.57142857142,328709.67741935485,325533.33333333331,332548.38709677418,329900,330548.38709677418,330548.38709677418,329966.66666666669,336032.25806451612,338766.66666666669,336741.93548387097,326225.80645161291,333241.37931034481,335387.09677419357,339900,340032.25806451612,329766.66666666669,338096.77419354836,329225.80645161291,238133.33333333334,297419.3548387097,306933.33333333331,297225.80645161291,314483.87096774194,324000,326838.70967741933,331200,338903.22580645164,334966.66666666669,331870.96774193546,339806.45161290321,347433.33333333331,344741.93548387097,340833.33333333331,336774.19354838709,338096.77419354836,346000,348419.3548387097,345666.66666666669,351032.25806451612,344433.33333333331,341129.03225806454,355225.80645161291,358033.33333333331,359419.3548387097,357366.66666666669,360580.6451612903,359451.61290322582,326357.14285714284,363677.41935483873,362800,370032.25806451612,363533.33333333331,369677.41935483873,373258.06451612903,365366.66666666669,385580.6451612903,391733.33333333331,392129.03225806454,398387.09677419357,417071.42857142858,402193.54838709679,401966.66666666669,407354.83870967739,401433.33333333331,417354.83870967739,418354.83870967739,426100,447580.6451612903,457700,450774.19354838709,440451.61290322582,461750,456129.03225806454,469800,474096.77419354836,480800,494516.12903225806,501387.09677419357,513300,509806.45161290321,490400,486483.87096774194,495096.77419354836,501464.28571428574,515838.70967741933,541000,540870.96774193551,560500,566258.06451612909,575258.06451612909,575700,576419.3548387097,574766.66666666663,589225.80645161285,565774.19354838715,598107.14285714284,600935.48387096776,621766.66666666663,620354.83870967745,620800,629645.16129032255,638483.87096774194,641033.33333333337,633451.61290322582,625400,595645.16129032255,579548.38709677418,579827.58620689658,598193.54838709673,597433.33333333337,596451.61290322582,598800,603225.80645161285,605870.96774193551,597566.66666666663,607483.87096774194,596400,569774.19354838715,577258.06451612909,579965.51724137936,605193.54838709673,609366.66666666663,616774.19354838715,628666.66666666663,646548.38709677418,625225.80645161297,633233.33333333337,652935.48387096764,668633.33333333337,656548.38709677418,621870.96774193551,674071.42857142852,698935.48387096764,708033.33333333326,714870.96774193551,728200,750806.45161290315,782774.19354838703,774733.33333333337,768677.41935483867,771833.33333333337,781677.41935483867,780677.41935483867,805892.85714285716,813935.48387096764,829400,845451.61290322582,836033.33333333326,836645.16129032255,862645.16129032255,891500,887096.77419354836,893800,894225.80645161297,948483.87096774194,878448.27586206899,959032.25806451612,937200,844419.35483870958,886900,915870.96774193551,896483.87096774194,915800,910064.51612903236,938266.66666666663,918483.87096774194,918935.48387096764,719928.57142857148,927548.38709677418,958133.33333333337,966944.38464304828,975248.6154534996,992156.79291741049,995709.10499064124,999173.20094020898,1002797.2882561898,1005935.5806546492,1008932.9219312699,1008500.9453194294,1013310.208900572,1019608.4910400129,1028367.1439157799,1036267.8752447689]
["Refinery Production",328161.29032258067,345964.28571428574,339806.45161290321,355900,355032.25806451612,355866.66666666669,339290.32258064515,326709.67741935485,248300,236677.4193548387,298566.66666666669,321225.80645161291,314322.58064516127,298142.85714285716,294677.41935483873,329266.66666666669,346580.6451612903,316700,336870.96774193546,357387.09677419357,343233.33333333331,331258.06451612903,336533.33333333331,351870.96774193546,349354.83870967739,316000,344225.80645161291,341766.66666666669,345774.19354838709,344433.33333333331,347161.29032258067,331032.25806451612,342133.33333333331,331806.45161290321,353300,366709.67741935485,348483.87096774194,324448.27586206899,328000,318300,316645.16129032261,324033.33333333331,322451.61290322582,311193.54838709679,206433.33333333334,297870.96774193546,309833.33333333331,307838.70967741933,297709.67741935485,291035.71428571426,342322.58064516127,351133.33333333331,349419.3548387097,351000,346580.6451612903,352645.16129032261,344633.33333333331,321967.74193548388,345733.33333333331,355064.51612903224,343741.93548387097,349428.57142857142,375354.83870967739,376133.33333333331,365387.09677419357,365400,369451.61290322582,351387.09677419357,346966.66666666669,347322.58064516127,358466.66666666669,372161.29032258067,350774.19354838709,305000,323451.61290322582,347233.33333333331,354870.96774193546,356533.33333333331,353483.87096774194,356354.83870967739,357200,339935.48387096776,357200,355161.29032258067,328290.32258064515,347964.28571428574,339064.51612903224,354033.33333333331,360000,376533.33333333331,374161.29032258067,350548.38709677418,333033.33333333331,346967.74193548388,371200,382258.06451612903,351322.58064516127,348500,366903.22580645164,373000,382322.58064516127,369466.66666666669,370354.83870967739,376645.16129032261,375066.66666666669,355645.16129032261,366600,392838.70967741933,381838.70967741933,369500,380290.32258064515,396166.66666666669,382129.03225806454,383833.33333333331,391322.58064516127,380612.90322580643,332900,333967.74193548388,395066.66666666669,404741.93548387097,364774.19354838709,342285.71428571426,337354.83870967739,369233.33333333331,369129.03225806454,364966.66666666669,378645.16129032261,376129.03225806454,338166.66666666669,338096.77419354836,362700,383677.41935483873,374548.38709677418,371068.96551724139,384709.67741935485,382466.66666666669,393967.74193548388,376666.66666666669,379000,359193.54838709679,370400,358419.3548387097,383900,390000,363548.38709677418,328172.41379310342,374645.16129032261,390100,402129.03225806454,399933.33333333331,403064.5161290323,371580.6451612903,310333.33333333337,387838.70967741939,405533.33333333331,424677.41935483873,396774.19354838709,374428.57142857148,378387.09677419357,376666.66666666669,376032.25806451612,388900,390032.25806451618,400387.09677419357,397433.33333333337,393225.80645161297,411533.33333333337,412870.96774193546,382806.45161290315,379142.85714285716,363483.87096774194,374833.33333333331,386161.29032258061,393166.66666666663,382548.38709677418,379258.06451612903,361233.33333333337,358870.96774193551,383233.33333333337,391677.41935483867,371967.74193548388,332758.62068965519,349387.09677419352,333333.33333333331,330548.38709677418,336866.66666666663,347322.58064516127,341096.77419354836,339633.33333333331,355451.61290322582,378833.33333333337,379967.74193548388,372838.70967741939,293821.42857142858,349225.80645161285,389333.33333333331,388082.88476175995,386498.9833341518,402505.6072934402,393851.87548085471,370183.79435386939,356695.55982600112,382692.15458888916,394974.0268338935,418724.1255418518,397192.88836658822,428405.49234832579,440722.41871254606,445949.13127564499]
[{"$f":"A7","v":"Imports"},33903.225806451614,19000,709.67741935483866,57166.666666666664,57322.580645161288,67866.666666666672,113225.80645161291,58903.225806451614,116933.33333333333,218838.70967741936,137500,53387.096774193546,8870.967741935483,0,6419.3548387096771,63500,57709.677419354841,118066.66666666667,110129.03225806452,174548.38709677418,119600,78903.225806451606,21266.666666666668,0,0,0,0,32300,57580.645161290326,81400,9064.5161290322576,31451.612903225807,120166.66666666667,45645.161290322583,54566.666666666664,0,6580.6451612903229,0,0,0,0,26366.666666666668,32903.225806451614,72096.774193548394,93966.666666666672,27451.612903225807,3433.3333333333335,8903.2258064516136,0,0,0,0,0,0,0,0,0,1290.3225806451612,0,1258.0645161290322,1258.0645161290322,0,0,1666.6666666666667,0,0,0,32.258064516129032,0,1741.9354838709678,0,2290.3225806451615,0,0,4387.0967741935483,0,5096.7741935483873,0,1290.3225806451612,1290.3225806451612,1233.3333333333333,4741.9354838709678,1366.6666666666667,0,32.258064516129032,0,0,0,5193.5483870967746,0,0,354.83870967741933,0,32.258064516129032,0,0,0,0,3645.1612903225805,0,0,0,0,0,0,0,0,0,0,0,0,0,0,0,0,0,0,774.19354838709683,1333.3333333333333,0,1516.1290322580646,0,0,0,0,0,0,0,0,0,0,0,0,0,0,0,0,0,0,0,173.43499648851224,173.43499648851224,173.43499648851224,173.43499648851224,173.43499648851224,0,173.43499648851224,173.43499648851224,173.43499648851224,0,0,0,0,0,0,0,0,0,0,0,0,0,0,0,0,0,0,0,0,0,0,0,0,0,0,0,0,0,0,0,0,0,0,0,0,0,0,0,0,0,0,0,0,0,12154.354814620849,-34582.052188945272,-62792.628787328031,0,7000,7000,7000,7000,0,0,5000,5000,5000,5000,5000]
["Net Inter-PADD Transfers (+ = Receipt)",-142304.6041054083,-142304.6041054083,-142304.6041054083,-142304.6041054083,-142304.6041054083,-142304.6041054083,-142304.6041054083,-142304.6041054083,-142304.6041054083,-142304.6041054083,-142304.6041054083,-142304.6041054083,-124203.55819141187,-124203.55819141187,-124203.55819141187,-124203.55819141187,-124203.55819141187,-124203.55819141187,-124203.55819141187,-124203.55819141187,-124203.55819141187,-124203.55819141187,-124203.55819141187,-124203.55819141187,-120917.33011712228,-120917.33011712228,-120917.33011712228,-120917.33011712228,-120917.33011712228,-120917.33011712228,-120917.33011712228,-120917.33011712228,-120917.33011712228,-120917.33011712228,-120917.33011712228,-120917.33011712228,-80441.748390015855,-80441.748390015855,-80441.748390015855,-80441.748390015855,-80441.748390015855,-80441.748390015855,-80441.748390015855,-80441.748390015855,-80441.748390015855,-80441.748390015855,-80441.748390015855,-80441.748390015855,-91319.510049955017,-91319.510049955017,-91319.510049955017,-91319.510049955017,-91319.510049955017,-91319.510049955017,-91319.510049955017,-91319.510049955017,-91319.510049955017,-91319.510049955017,-91319.510049955017,-91319.510049955017,-62958.258396864985,-62958.258396864985,-62958.258396864985,-62958.258396864985,-62958.258396864985,-62958.258396864985,-62958.258396864985,-62958.258396864985,-62958.258396864985,-62958.258396864985,-62958.258396864985,-62958.258396864985,-53234.622314836874,-53234.622314836874,-53234.622314836874,-53234.622314836874,-53234.622314836874,-53234.622314836874,-53234.622314836874,-53234.622314836874,-53234.622314836874,-53234.622314836874,-53234.622314836874,-53234.622314836874,45516.704812308693,45516.704812308693,45516.704812308693,45516.704812308693,45516.704812308693,45516.704812308693,45516.704812308693,45516.704812308693,45516.704812308693,45516.704812308693,45516.704812308693,45516.704812308693,50884.931506849316,50884.931506849316,50884.931506849316,50884.931506849316,50884.931506849316,50884.931506849316,50884.931506849316,50884.931506849316,50884.931506849316,50884.931506849316,50884.931506849316,50884.931506849316,54312.32876712329,54312.32876712329,54312.32876712329,54312.32876712329,54312.32876712329,54312.32876712329,54312.32876712329,54312.32876712329,54312.32876712329,54312.32876712329,54312.32876712329,54312.32876712329,222454.79452054796,222454.79452054796,222454.79452054796,222454.79452054796,222454.79452054796,222454.79452054796,222454.79452054796,222454.79452054796,222454.79452054796,222454.79452054796,222454.79452054796,222454.79452054796,273690.41095890413,273690.41095890413,273690.41095890413,273690.41095890413,273690.41095890413,273690.41095890413,273690.41095890413,273690.41095890413,273690.41095890413,273690.41095890413,273690.41095890413,273690.41095890413,290139.72602739726,290139.72602739726,290139.72602739726,290139.72602739726,290139.72602739726,290139.72602739726,290139.72602739726,290139.72602739726,290139.72602739726,290139.72602739726,290139.72602739726,290139.72602739726,339304.23494890117,339304.23494890117,339304.23494890117,331304.23494890117,333304.23494890117,335304.23494890117,337304.23494890117,339304.23494890117,341304.23494890117,343304.23494890117,345304.23494890117,347304.23494890117,366432.40825048112,366432.40825048112,366432.40825048112,366432.40825048112,366432.40825048112,366432.40825048112,366432.40825048112,366432.40825048112,366432.40825048112,366432.40825048112,366432.40825048112,366432.40825048112,345490.72698352864,-46394.076851950726,280305.37806931802,93535.677495876764,222008.56244988577,183981.94006022756,283796.67673370952,321811.19219741225,251229.54569049762,325162.62347730814,341814.21242566122,153343.10228481359,501547.01570267434,-39503.417923606292,226354.86308542284,555813.21234841051,710913.46281838929,556172.87296743155,345109.2488833759,400532.25806451618,337850,354709.67741935479,336416.66666666674,365387.09677419346,357596.77419354836,279576.9704433498,389745.74879875622,344700.00000000006,384443.54838709673]
["Total Stock Change (Primary+Secondary+Tertiary)",33344.110512247804,9760.3921246243699,8709.1493186860826,-79234.413879398577,-26485.374195282318,-108832.54485769314,-108177.20182067741,-3009.5133812769927,28480.170552635565,-62387.25737696069,14428.303303932036,100966.34109699473,69595.64921987438,181341.33024119324,141270.71749643557,25560.483471582062,56192.569916335997,-25270.675263865662,-81029.145787833986,-132457.70900829008,-115411.15436974485,-38766.070770010207,36077.756456880321,70055.449927699607,158197.24205701842,66715.35781704908,32743.482298968986,914.59215595290152,-1420.2533610462997,-16414.829824526343,92775.795194696489,85050.104498988629,-1826.9403077114112,19033.152968947063,91680.27083493695,85064.426966758067,-3435.1524605299928,24425.933570848079,14497.813243539145,35239.791499785861,-14077.834295735112,30033.445523428301,-13443.073402583337,-58775.92058349734,-88152.773782461285,-81905.129859215973,-149870.2290003387,-194631.77759012292,-84355.256142124039,10382.242067083076,-54801.877989699809,-73119.782342316917,-84265.371885774075,-11506.475621388265,28864.460010716946,92081.216033296543,4126.5931993855193,31916.449011871489,-2020.9984646117082,11582.667813875742,36737.037185340538,-3257.8915996100986,-78078.898396036995,-53093.178963554092,-16926.859774523997,-7382.3777198339812,11600.5606855066,16059.389363566086,47057.787039223011,12808.153680176198,3890.904491381797,19019.735855209583,54419.512833382614,88511.275791546315,96265.788431920388,60917.447976994212,36043.19328444844,52287.337329506947,-30622.862907718547,-33690.279556424539,4683.6283216205193,-74919.339184752782,-24890.963167364902,-30489.374708371739,-48312.026088307568,-85655.817131352975,-53944.720480317337,-49508.069831081979,-111803.59329670055,-63705.789477551079,-41604.755901625744,-62772.182526419754,-44858.71893982558,-73461.402018572655,-65604.926543518901,-25322.258102488453,-3760.599086764254,-8455.8452091489016,59830.221060026932,21227.286654175303,30084.581080635282,4834.4841894517886,13361.019273233032,13693.470506763078,61076.211841011151,172354.24283510866,148175.44682745845,78373.925747187051,30485.599117716367,-15360.450272917566,-78181.609281871613,-64533.412870405751,-15934.598364932288,-65378.342155456048,-45434.709248704778,-110943.62423805217,-14953.689724762109,47071.759375696653,-66329.201918905368,66079.972392909345,-71045.619711953914,42893.862834161613,-131244.58055095025,-22089.008009932935,-78399.149307213258,-89512.399544786196,-163319.99912442965,-157508.14557391498,955.4157618265599,-153658.64489547245,-63454.013657030649,27542.301224502735,116510.70591155184,145835.96542041446,-148676.87079485646,-132736.69037237088,-8300.2160872297827,-137285.98062640894,-47065.170241919812,14191.228553874418,-93140.869430615101,121409.68243783386,98758.389876530739,346927.78202865506,364001.21683392627,202017.5671243784,259023.26993973553,139253.48447498912,39080.192908353172,-65468.427718326449,-46080.110115410062,-78737.4434360296,99375.713935258333,141508.85822733305,46219.513742828276,102095.16669961251,-8850.5900758299977,-65271.475289501948,-10728.055354841752,-84091.827290806687,1005.5598481134512,-133856.00422350201,20402.31700275559,-51925.027125765104,-224703.40977061912,-174554.03702949267,-23200.74925074866,82481.445754208136,-50817.308087761514,-222339.84580633999,-218883.54835037142,-46916.432890488766,-161057.47013561218,-83381.682075094199,-66903.09105600859,-184019.2438872694,-172654.57248605322,-51642.74913735874,-66392.881031389115,1518.4760588621721,39021.765645861626,409914.11784031312,100403.70749864914,176532.41397407465,-4846.1755783392582,159029.22138363123,-17607.261024968233,-80344.099880502559,64576.411389369052,83437.226155848475,148481.61135349981,609781.50709075807,182019.27136000548,529545.60915444046,-6409.951282328926,-23746.746663409751,-69645.161290322663,-140799.99999999977,30403.425679692766,-52879.717215817887,5715.1448228927329,8101.1838151779957,12308.561053991783,39486.474860158982,-72620.014009378618,-92338.835878468584,-268898.72698420403,-260066.53442363953,-154499.92373421951]
["     TOTAL SUPPLY",595781.4418907105,585205.78801921604,559307.77101972932,542694.31534852646,593532.60234447068,512329.51770356519,534292.38762230147,561685.88251331472,507608.89978056063,521630.71916279232,600423.69919852377,617597.22086255415,582069.5103833013,670602.05776406708,635421.99801470106,614656.92528017017,657311.5923700853,611292.43321138911,571541.48956914118,602016.15215513669,554218.62077217654,574385.20974825532,597607.53159880172,617206.73044596508,700021.84742376721,585476.59912849823,584761.63605281443,579597.26203883067,613565.64232828293,618401.17339168466,658632.6586259614,657165.03244638245,669522.39624183299,611599.69381956675,717396.2740511481,667598.70975286164,597413.42173009948,601673.84035324608,597443.16162771697,612998.04310976993,562157.83666908776,629758.3638000791,599566.79111062665,573298.46005874488,369938.81116085622,460395.05723463913,389888.02260964538,338894.21595534508,436518.78219501767,534098.44630284235,523039.90228292579,517894.04094106134,512737.69870943227,583140.68099532346,615996.56286398764,693213.31888656737,604873.7498160972,608596.9389619166,593226.15815209993,613359.93195746921,656875.55298202403,629212.42143209628,582737.03675548523,607415.22930624755,636534.23666732071,639492.69721663429,659222.94744993199,659746.29225702374,689099.52864235803,658333.7662510532,656765.97942785022,691093.73552286089,711410.69697015861,666633.79633385234,734547.29514934157,717716.15899549064,712808.57096961164,719119.38168133679,640594.12768067047,643978.32393519022,675249.00600678381,602104.10301653936,672174.41451779811,663566.32555743668,723914.35614335595,724896.60196667002,732830.04884812026,752008.63498122664,706261.49861238222,759777.58200142416,795428.07794294099,752002.58680201799,759791.31920581637,766635.94795502629,808811.77826878976,853226.70477433631,838898.52596847224,852679.08629770041,937392.57192171493,914912.21816102462,937388.86742619425,905986.08236296789,929116.91852201789,942610.66007812857,1000327.8100145273,1088690.7872451837,1056060.3783343078,1008581.4378991977,961733.41175580746,909916.16420849145,872259.75174331618,926945.58256338432,961377.73040219094,933267.31994500046,966458.26467970898,899239.67227100662,947958.63904236117,1012545.3784654007,959149.79351488454,1114360.0430955165,1083473.6909376264,1205741.5144975665,1029500.5365502427,1191365.7865106151,1133539.5161810769,1118709.0616424284,1067425.1179767633,1079559.5521724396,1202610.2102823746,1040344.5367218497,1147100.7808635174,1229319.676390212,1344297.8910640043,1370422.9281034565,1107916.7659704993,1120853.7205865332,1255809.5497103841,1111871.0969991619,1208851.0471685971,1252946.1556418107,1148689.6431914442,1361176.7541996781,1352922.2358319233,1580565.8215324348,1595120.8294707153,1400295.2241862584,1529175.1406410406,1429033.3121655416,1348296.5797386905,1253271.2983090708,1293672.5191377937,1208208.7342042709,1333082.1066293223,1472422.7778031174,1410525.9064368922,1473460.6991786226,1349098.8061633939,1322532.7596593993,1405898.7602392207,1331912.4076580945,1425213.0206034663,1318548.2307253992,1498545.2616290762,1470540.4981457167,1288767.4918449488,1330653.4237258602,1505470.1523648193,1624334.0677998834,1479098.9711304614,1329128.2767298555,1324968.2147388193,1523749.3086933256,1436987.8413406755,1512250.7261753869,1518722.8655815693,1424316.3901696634,1446511.1690977614,1560757.4010486063,1577072.8605524255,1653854.1101157949,1704964.1055326159,1574726.9375400865,1689128.4404066768,1540601.4248032847,1392130.1288070302,1566777.8281105254,1529382.9640958379,1479047.7374781999,1571239.2904131999,1674115.9786654147,1807395.8237791611,2061576.2222787973,1975340.4806110668,1503792.1912308342,1508873.4601661018,1844951.0801627222,1933502.9421455469,1777120.4717550832,1777175.0747739193,1744213.5213201942,1719922.140116971,1729303.7093167235,1737352.9629641969,1808780.5203995157,1717201.8310454509,1602741.2318320414,1573861.0052028908,1558723.0282046865,1717160.631173291]
["DEMAND"]
["  Residential and Commercial ",42896.216568819305,42896.216568819305,42896.216568819305,42896.216568819305,42896.216568819305,42896.216568819305,42896.216568819305,42896.216568819305,42896.216568819305,42896.216568819305,42896.216568819305,42896.216568819305,37747.619047619046,37747.619047619046,37747.619047619046,37747.619047619046,37747.619047619046,37747.619047619046,37747.619047619046,37747.619047619046,37747.619047619046,37747.619047619046,37747.619047619046,37747.619047619046,32978.799739073715,32978.799739073715,32978.799739073715,32978.799739073715,32978.799739073715,32978.799739073715,32978.799739073715,32978.799739073715,32978.799739073715,32978.799739073715,32978.799739073715,32978.799739073715,31056.531355711682,31056.531355711682,31056.531355711682,31056.531355711682,31056.531355711682,31056.531355711682,31056.531355711682,31056.531355711682,31056.531355711682,31056.531355711682,31056.531355711682,31056.531355711682,27015.981735159821,27015.981735159821,27015.981735159821,27015.981735159821,27015.981735159821,27015.981735159821,27015.981735159821,27015.981735159821,27015.981735159821,27015.981735159821,27015.981735159821,27015.981735159821,28299.412915851273,28299.412915851273,28299.412915851273,28299.412915851273,28299.412915851273,28299.412915851273,28299.412915851273,28299.412915851273,28299.412915851273,28299.412915851273,28299.412915851273,28299.412915851273,21385.97521200261,21385.97521200261,21385.97521200261,21385.97521200261,21385.97521200261,21385.97521200261,21385.97521200261,21385.97521200261,21385.97521200261,21385.97521200261,21385.97521200261,21385.97521200261,13582.974559686887,13582.974559686887,13582.974559686887,13582.974559686887,13582.974559686887,13582.974559686887,13582.974559686887,13582.974559686887,13582.974559686887,13582.974559686887,13582.974559686887,13582.974559686887,18733.463796477496,18733.463796477496,18733.463796477496,18733.463796477496,18733.463796477496,18733.463796477496,18733.463796477496,18733.463796477496,18733.463796477496,18733.463796477496,18733.463796477496,18733.463796477496,18423.367527732327,18423.367527732327,18423.367527732327,18423.367527732327,18423.367527732327,18423.367527732327,18423.367527732327,18423.367527732327,18423.367527732327,18423.367527732327,18423.367527732327,18423.367527732327,17984.347032981168,17984.347032981168,17984.347032981168,17984.347032981168,17984.347032981168,17984.347032981168,17984.347032981168,17984.347032981168,17984.347032981168,17984.347032981168,17984.347032981168,17984.347032981168,17984.347032981168,17984.347032981168,17984.347032981168,17984.347032981168,17984.347032981168,17984.347032981168,17984.347032981168,17984.347032981168,17984.347032981168,17984.347032981168,17984.347032981168,17984.347032981168,17984.347032981168,17984.347032981168,17984.347032981168,17984.347032981168,17984.347032981168,17984.347032981168,17984.347032981168,17984.347032981168,17984.347032981168,17984.347032981168,17984.347032981168,17984.347032981168,17984.347032981168,17984.347032981168,17984.347032981168,17984.347032981168,17984.347032981168,17984.347032981168,17984.347032981168,17984.347032981168,17984.347032981168,17284.40905667088,17284.40905667088,17284.40905667088,30378.358997585383,30378.358997585383,30378.358997585383,30378.358997585383,30378.358997585383,30378.358997585383,30378.358997585383,30378.358997585383,30378.358997585383,30378.358997585383,30378.358997585383,30378.358997585383,30074.575407609529,30074.575407609529,30074.575407609529,30074.575407609529,30074.575407609529,30074.575407609529,30074.575407609529,30074.575407609529,30074.575407609529,30074.575407609529,40016.336134377372,55295.477033258736,59413.871732860105,69214.116914199883,48494.527159523081,41859.96345726234,45861.004231449893,27804.519839078312,23998.324518776306,25361.984377812598,24382.938585670261,35064.180236137778,49715.162339457005,58251.251585331069,67151.490694634645,60653.913658762242,49222.276901835488,41979.92057025346,34281.477869285198]
["  Chemical",520604.63218386378,510021.62129186752,488855.59950787498,466364.89154839696,517019.92471396463,436984.9723123677,458317.69271135854,478015.47634612361,427207.76624303847,421566.97341242933,515869.51032765413,527877.03945106117,494203.32103393489,534403.14810338151,539095.74038188788,526750.43906357069,589705.42837933172,546364.50216441648,505486.57467285189,529705.04281159025,481543.11228707497,482192.19761646987,500644.29047216248,522394.53212359396,583909.59971395216,495307.02187065437,500791.69516493811,523515.17410955264,550607.26951908483,561767.12700980483,588650.75981433049,595789.2885067272,605880.62293864973,543429.14472407568,583342.17102331831,583062.16992375208,465442.54808627506,463082.88894204044,489625.96329310985,537342.18789072754,476632.35421410622,576292.5653332246,548303.12105850526,517344.6081975025,308665.95305995818,358101.15205658571,325883.79252401442,267298.18574955658,327704.67550093925,383994.28494179057,408911.10794841475,416747.81451302016,444034.93562301749,510235.50682232069,533971.79853246955,554127.67288231966,493901.1425697814,453201.53839803243,453201.53839803231,457554.1111327394,491778.10141846573,506187.06002844172,460659.77458763856,489229.03444029728,488753.89905540226,522399.58509577165,527156.64695687173,535095.95633623109,547713.01861862978,500759.82340341725,497820.20292465104,519377.46787602559,559297.63515487628,540721.54145415907,559616.20803683472,527278.00809492334,549859.42398083431,581616.20736263518,522270.71395578654,510539.74107746524,521924.14238605998,517959.15896528703,527358.7022995532,522122.84897456807,549728.21242907271,566615.29395890597,570345.90819660516,554480.69197965728,550413.81310890056,591060.86378785211,618214.80248091312,581544.16213745798,596066.10947862512,565415.88629680872,559752.61925900879,637872.37457557709,624463.8629104814,614888.04850329459,605054.79310081468,585047.02810516034,581653.09778588754,590122.55109681236,608838.85543881729,598191.93989592162,616524.95028510352,626857.14865050814,591147.37013082905,556889.03691123798,556800.66968284687,528226.18266464584,503240.20475996536,485290.98158536799,486150.11133479502,519931.00950126094,502788.48906542087,501747.06834760157,499707.03821026778,486125.93346233468,517989.43461712752,577189.27940372005,573409.8909288065,558730.8949359305,573279.67392857117,585462.65721963404,602570.81151021086,632408.33809183817,512425.0999592077,518761.41753662133,508141.15564476745,468514.89353932394,479953.68146062153,516355.44930417801,518492.15557131346,520571.17553689436,472166.12416774372,457083.92462888535,428794.93682617613,443255.8210006078,509934.15319576371,609441.11171035981,573102.66772436933,540943.14176901197,531137.38487570442,566908.91378017573,566543.66855335981,532627.46222095774,606929.1694161623,582856.04385937401,557921.5762557477,552077.60085015825,555991.3442323514,537240.59661859623,478196.75461383886,489786.36162237969,513947.56266762316,519366.41976456519,520132.89976507146,527937.32145265408,538397.12344523368,525104.22384621273,481066.22251915641,508040.04691351729,520882.33451250859,519058.46271513624,512130.41742837091,506141.59757975664,506141.59757975664,506141.59757975664,494756.18126782123,494756.18126782123,494756.18126782123,494756.18126782123,494756.18126782123,494756.18126782123,494756.18126782123,494756.18126782123,494756.18126782123,494756.18126782123,494756.18126782123,494756.18126782123,494756.18126782123,494756.18126782123,494756.18126782123,494756.18126782123,494756.18126782123,494756.18126782123,494756.18126782123,494756.18126782123,494756.18126782123,494756.18126782123,565142.00879764732,580360.77273016958,589480.54135865683,399630.09756772569,435978.11630924162,542263.74000331177,558146.90120329917,574758.83152648632,580814.61012042721,581791.94715975702,573674.67879081471,566776.99861079105,565295.96437372337,568736.24819860898,579474.57401644089,566000.16411763791,544519.07511758665,537021.36692288367,538557.13552080467]
["  Farm",7426.5451644025979,5483.7003931942172,3465.1603711595358,3582.9085391115591,3465.1603711595358,3582.9085391115591,3465.1603711595358,7426.5451644025979,12792.497389644792,20303.148388298836,17906.132112132651,11884.154379729185,6325.7975119955599,4670.9173021756569,2951.561240025108,3051.8570103172233,2951.561240025108,3051.8570103172233,2951.561240025108,6325.7975119955599,10896.419043879101,17293.856391797603,15252.121067993823,10122.708815911354,6048.3205226107266,4466.0305557669235,2822.0929278772583,2917.9892895041557,2822.0929278772583,2917.9892895041557,2822.0929278772583,6048.3205226107266,10418.454716750752,16535.272640523548,14583.096707404571,9678.6827842004041,5661.5659977022242,4036.664570113111,2642.0641322610377,2731.6256282698864,2642.0641322610377,2731.6256282698864,2642.0641322610377,5661.5659977022242,9755.8058152495942,15481.344310100996,13658.128141349431,9064.9028460384761,4490.1375094723589,3313.7739982187818,2095.3975044204344,2163.6686010556864,2095.3975044204344,2163.6686010556864,2095.3975044204344,4784.2283872857533,7730.3887882377921,11684.860770264326,13171.070027785587,7184.2200151557745,5232.9592255975112,3357.5941427184034,2119.746935038992,2194.1240204789565,2119.746935038992,2194.1240204789565,2119.746935038992,4547.6275097578373,10534.982887674991,10242.787194875129,11799.393340154389,7273.0164262365415,4296.2298760600133,3172.3011089367255,2004.5829093281147,2072.6998043052836,2004.5829093281147,2072.6998043052836,2004.5829093281147,4296.2298760600133,7400.4140900195689,11745.298891063276,10358.633529028049,6874.9409001956947,4437.415770466152,3163.8523741967701,2070.7940262175375,2140.9904338859287,2070.7940262175375,2140.9904338859287,2070.7940262175375,4437.415770466152,7646.3944067354587,12133.950468393319,10704.952169429642,7104.8792618650141,3828.3311154598828,2826.3148727984349,1783.8585127201568,1846.7653620352251,1783.8585127201568,1846.7653620352251,1783.8585127201568,3828.3311154598828,6591.7391389432496,10460.510371819961,11165.965753424658,6124.4311154598827,6033.5688767608735,4453.0212211173648,2817.4979948427767,2913.7052434471643,2817.4979948427767,2913.7052434471643,2817.4979948427767,6033.5688767608735,10974.49828722906,15585.574273910775,15365.671991386464,9655.0845920831744,4629.7919473684597,3418.6006225189535,2160.2200252727125,2233.6255601120765,2160.2200252727125,2233.6255601120765,2160.2200252727125,4629.7919473684597,7974.9870350480478,11657.211507301769,10662.884548071857,7408.7157662872405,4629.7919473684597,3418.6006225189535,2851.2895289374915,2233.6255601120765,2851.2895289374915,2948.1780080761441,2851.2895289374915,6110.8947913878765,10526.241197849331,16706.342045764817,14733.96943472796,9778.8157873511536,6110.8947913878765,4512.2348856001081,2851.2895289374915,2948.1780080761441,2851.2895289374915,3031.2738274878479,2931.6544998239278,6283.133309088661,10822.928384058723,17177.218355764471,15149.253471177532,10054.4364277942,6313.1601862527041,4661.5860038921437,2945.6647754655874,3045.7601804571368,2945.6647754655874,3045.7601804571368,2945.6647754655874,6313.1601862527041,10874.650785153297,17259.307689257108,15221.651230500573,10102.486232361349,5003.090671885192,3694.2413568166994,2334.3979125896931,2413.7221135029354,2334.3979125896931,2413.7221135029354,2334.3979125896931,5003.090671885192,8618.0078277886496,13677.758643183301,12062.94455316373,8006.0782778864968,4903.0288584474883,3620.3565296803654,2287.7099543378995,2365.4476712328765,2287.7099543378995,2365.4476712328765,2287.7099543378995,4903.0288584474883,8445.6476712328767,13404.203470319635,4387.5473402869175,9689.3958472293689,8790.7969531400086,8728.5179446032853,4035.8687115722933,2669.9555981038411,399.77944784442531,35.694593557537971,4.759279141005063,8749.9347007378092,8895.092714538463,10372.848887820541,4659.3342790439565,8340.6366946113721,10184.228592901671,7562.1998424186695,5279.0178843057774,2207.8826709195328,521.71648983969487]
["  Other",9918.5641026570374,9518.5354796206921,9123.0526363915778,8750.2986921986212,8409.3652066562827,8332.086949933353,8322.9953903188907,8541.1928210659862,8745.7529123913901,8832.1227287287838,9118.5068565843467,9714.0040113316318,10954.063112332429,10173.230453747852,9401.2708935562805,8673.6768253297414,8003.7578966577457,7861.7883223696408,7839.6055763871245,8269.9508484479429,8664.8037269367342,8828.9560472073572,9396.8343443597769,10554.773684647134,9665.7726094208992,9010.4612487175327,8362.5966080221588,7751.9655673667476,7189.7382067632916,7070.5906866354062,7051.9738866154239,7413.1398070030755,7744.518847358755,7882.2831675066218,8358.8732480181607,9330.6702090612234,9252.7762904104511,8463.2727267600858,7989.5705885698671,7401.0315683941408,6859.1450315250258,6744.3081495395181,6726.3648867292823,7074.4641852478526,7393.8542632700464,7530.2230606278354,7989.5705885698671,8926.2089072641647,8533.7939010591363,7917.2627705304203,7307.7376755758942,6733.2427584923171,6204.2870726409747,6092.1905034539359,6074.6754145184605,6414.4681398666735,6726.2367229181273,6855.8483810406415,7304.2346577887984,8218.5223002205876,8146.1363833173909,7511.6232878597057,6884.320568486768,6293.0697295375612,5748.6863351392058,5633.3203177832629,5615.2943775713975,5964.9976176815981,6285.8593534528145,6419.2513110206228,6880.7153804443933,7821.6694595038025,8850.6046966731901,8175.8002609262885,7508.6640574037838,6879.8690150032617,6300.9174820613171,6178.2257664709723,6159.0551859099805,6530.9644487932164,6872.2007827788657,7014.0630789302022,7504.8299412915849,8505.534246575342,10600.11598173516,9705.018786692759,9167.9604696673196,8500.7061969993483,7886.344031311155,7756.1480756686242,7735.8049575994792,8130.4614481409008,8492.5689497716903,8647.1766470971961,9167.9604696673196,10229.871232876712,9565.4891996768401,8922.7281050206584,8287.2711137128408,7688.3346391468522,7136.8748363452414,7020.0091827713895,7001.7489244004755,7355.9979367962114,7681.0305357984871,7816.1564477432521,8283.6190620386569,9236.8045490003824,9751.7564143274831,9092.9997620540853,8441.7289808292462,7827.8875548472151,7262.7042906808329,7142.9303539038519,7124.2156762824479,7487.2804221376737,7820.4016837986546,7958.8902981970386,8437.986045304966,9414.8922171422237,9772.2416736316227,9000.5290489930976,8237.5858859981909,7518.4900312213831,6856.3956771281028,6716.0842908301884,6694.1606367211389,7119.4795264366903,7509.7205695777629,7671.9556099847268,8233.2011551763808,9377.6158996687409,9772.2416736316227,9000.5290489930976,8237.5858859981909,7518.4900312213831,6856.3956771281028,6716.0842908301884,6694.1606367211389,7119.4795264366903,7509.7205695777629,7671.9556099847268,8233.2011551763808,9377.6158996687409,9772.2416736316227,9378.0765984436002,9378.0765984436002,9378.0765984436002,9378.0765984436002,9378.0765984436002,9378.0765984436002,9378.0765984436002,9378.0765984436002,9378.0765984436002,9378.0765984436002,9378.0765984436002,9378.0765984436002,9378.0765984436002,9378.0765984436002,9378.0765984436002,9378.0765984436002,9378.0765984436002,9378.0765984436002,9378.0765984436002,9378.0765984436002,8290.6900453369817,8789.1611645579287,9805.5749310943902,10671.017612524462,9870.9236790606665,9079.9217221135041,8334.3796477495107,7647.93542074364,7502.4637964774956,7479.7338551859102,7920.6947162426613,8325.2876712328762,8493.4892367906068,9075.3757338551859,10261.878669275931,10585.15870841487,9793.0657142857126,9009.9737769080239,8271.88712328767,7592.3073385518583,7448.2904305283755,7425.7877886497063,7862.3390410958891,8262.8860665362026,8429.4056164383546,8649.9315068493142,8649.9315068493142,8590.7544373776909,6112.3159471624267,8590.7544373776909,8590.7544373776909,8590.7544373776909,8590.7544373776909,8590.7544373776909,8590.7544373776909,8590.7544373776909,8590.7544373776909,8590.7544373776909,8590.7544373776909,8538.551325146771,8538.551325146771,8538.551325146771,8538.551325146771,8538.551325146771]
["     US DOMESTIC CONSUMPTION",580845.95801974263,567920.07373350172,544340.02908424544,521594.31534852646,571790.66686059977,491796.18437023193,513002.06504165631,536879.43090041156,491642.23311389395,493598.46109827625,585790.3658651904,592371.4144109413,549230.80070588191,586994.91490692412,589196.19156308833,576223.59194683679,638408.36656363367,595025.76654472249,554025.36053688312,582048.41021965281,538851.95410550979,546062.62910309387,563040.8649321351,580819.6336717715,632602.49258505751,541762.31341421243,544955.18443991116,567163.9287054973,593597.90039279906,604734.50672501815,631503.62636789691,642229.54857541469,657022.39624183299,600825.50027117948,639262.94071781484,635050.32265608746,511413.42173009942,506639.35759462533,531314.12936965248,578531.37644310319,517190.094733604,616825.03046674561,588728.08143320726,561137.16973616427,356872.14449418953,412169.25078302622,378588.02260964538,316345.82885857089,367744.58864663058,422241.30344569957,445330.22486357088,452660.70760772796,479350.60193523869,545507.34766199009,569157.85318656836,592342.35114463198,535373.74981609709,498758.22928449721,500692.82481876656,499972.83518327557,533456.60994323192,545355.69037487102,497963.2550070156,526015.64110616513,524921.74524143175,558526.44234988512,563191.10118533333,573907.99437952181,592833.27377560874,545721.27482516423,544799.72456110117,562771.56667761714,593830.44493961218,573455.61803602474,590515.43021556933,557616.55212623451,579550.89958422643,611253.10814541415,551820.32726302731,542752.91061432112,557582.73247086105,558104.49614728324,566608.14098187548,558889.29933334177,578348.71874096093,593067.13967948232,595167.63725217688,578705.36317022936,573953.92572611605,614540.97685709351,641604.376024417,607695.01391575194,625788.04739481909,599779.98797198606,593208.5064577926,668790.09963000566,656591.14702209563,645370.55527759122,633859.38652372523,613315.59190281993,609307.29493143049,617722.78943809657,636357.92667241546,628109.73274465522,649531.18375632283,663867.27926654893,629330.41874276986,590983.73637217574,591009.36250166758,560195.57117554953,532922.79926336976,514455.94191139471,514653.68114805094,548411.01262634434,531153.57026427845,533691.28517423244,536925.3057090278,528093.76556217484,560216.46018155117,614682.62374067772,605796.27158278774,589134.37164042366,601661.82687282329,613199.11984394863,629571.77424559288,659342.39497576165,539263.82765418279,548495.03604340751,541610.21028237452,505828.40768959164,516834.11419685092,551126.12800311518,550878.53622529458,550974.65224138752,501239.34661566059,484820.38725319994,456486.96906522289,470904.43033249531,537463.95039440366,640655.83306116553,609122.97652477759,583305.78645774268,572088.90249858983,604049.69250017672,600411.15205136046,564502.12073798268,637142.88257652451,613166.64549887495,588135.28941610991,582471.29830907076,586285.4223636,570886.15355910966,516382.10662932234,534326.00360956893,556459.23977022548,556783.27982378402,553808.48358274892,559961.33108797087,568705.21185212396,555512.40765809466,511374.3109260468,538448.2307253991,551190.42291939887,552734.04653281358,550367.49184494885,548976.00437102164,547436.81903148605,543334.06779988331,540808.64854981622,538699.70530128398,536548.85990010982,535882.64202665898,535116.87359873997,535050.72617538704,534948.67203318223,538058.32565353438,542077.83576442814,547305.78814538044,546272.8605524255,543402.497212569,540318.94424229313,538244.17891939683,536128.44040667673,535468.09146995132,534710.77396832057,534644.49477719201,534544.25441841839,537596.12457497418,541539.29041319992,546664.3657621888,618195.82377916097,653995.57711750711,666275.96448203467,483685.04837369133,497099.26661771472,595384.41349605564,612998.43931997113,611189.80039649981,613408.44835572212,624494.62067568512,615543.46452840115,620804.78217212704,628261.21542960196,643918.89091592911,665348.84462912404,642754.82894396561,607558.92122887471,589747.72148920351,581898.88120507635]
["EXPORTS",14935.483870967742,17285.714285714286,14967.741935483871,21100,21741.935483870966,20533.333333333332,21290.322580645163,24806.451612903227,15966.666666666666,28032.258064516129,14633.333333333334,25225.806451612902,32838.709677419356,83607.142857142855,46225.806451612902,38433.333333333336,18903.225806451614,16266.666666666666,17516.129032258064,19967.741935483871,15366.666666666666,28322.580645161292,34566.666666666664,36387.096774193546,67419.354838709682,43714.285714285717,39806.451612903227,12433.333333333334,19967.741935483871,13666.666666666666,27129.032258064515,14935.483870967742,12500,10774.193548387097,78133.333333333328,32548.387096774193,86000,95034.482758620696,66129.032258064515,34466.666666666664,44967.741935483871,12933.333333333334,10838.709677419354,12161.290322580646,13066.666666666666,48225.806451612902,11300,22548.387096774193,68774.193548387091,111857.14285714286,77709.677419354834,65233.333333333336,33387.096774193546,37633.333333333336,46838.709677419356,100870.96774193548,69500,109838.70967741935,92533.333333333328,113387.09677419355,123419.35483870968,83857.142857142855,84774.193548387091,81400,111612.90322580645,80966.666666666672,96032.258064516136,85838.709677419349,96266.666666666672,112612.90322580645,111966.66666666667,128322.58064516129,117580.64516129032,93178.571428571435,144032.25806451612,160100,133258.06451612903,107866.66666666667,88774.193548387091,101225.80645161291,117666.66666666667,44000,105566.66666666667,104677.41935483871,146129.03225806452,132392.85714285713,138225.80645161291,173866.66666666666,132870.96774193548,145800,154387.09677419355,144870.96774193548,134566.66666666666,167419.35483870967,216166.66666666666,185000,144677.4193548387,169678.57142857142,265903.22580645164,263966.66666666669,290451.61290322582,250633.33333333334,255129.03225806452,276870.96774193546,313166.66666666669,387193.54838709679,389100,379967.74193548388,334258.06451612903,324892.85714285716,312967.74193548388,369933.33333333331,416483.87096774194,351800,402838.70967741933,365548.38709677418,411033.33333333331,484451.61290322582,398933.33333333331,499677.41935483873,477677.41935483873,616607.14285714284,427838.70967741933,578166.66666666663,503967.74193548388,459366.66666666669,528161.29032258061,531064.51612903224,661000,534516.12903225806,630266.66666666663,678193.54838709673,793419.3548387097,819448.27586206899,606677.41935483867,636033.33333333337,799322.58064516133,640966.66666666663,671387.09677419357,612290.32258064521,539566.66666666663,777870.96774193551,780833.33333333337,976516.12903225806,994709.67741935479,835793.10344827583,892032.25806451612,815866.66666666663,760161.29032258061,670800,707387.09677419357,637322.58064516133,816700,938096.77419354836,854066.66666666674,916677.41935483867,795290.32258064509,762571.42857142852,837193.54838709685,776400,913838.70967741939,780100,947354.83870967745,917806.45161290315,738400,781677.41935483867,958033.33333333326,1081000,938290.32258064509,790428.57142857148,788419.35483870958,987866.66666666663,901870.96774193551,977200,983774.19354838703,886258.06451612897,904433.33333333326,1013451.6129032258,1030800,1110451.6129032259,1164645.1612903227,1036482.7586206897,1153000,1005133.3333333334,857419.35483870958,1032133.3333333335,994838.70967741939,941451.61290322582,1029700,1127451.6129032259,1189200,1407580.6451612902,1309064.5161290322,1020107.1428571428,1011774.193548387,1249566.6666666665,1320504.5028255759,1165930.6713585833,1163766.6264181973,1119718.9006445091,1104378.6755885698,1108498.9271445964,1109091.747534595,1164861.6294835866,1051852.9864163268,959986.40288807591,966302.08397401613,968975.30671548285,1135261.7499682147]
["     TOTAL DEMAND",595781.44189071038,585205.78801921604,559307.77101972932,542694.31534852646,593532.60234447068,512329.51770356525,534292.38762230147,561685.88251331483,507608.89978056063,521630.71916279237,600423.69919852377,617597.22086255415,582069.5103833013,670602.05776406697,635421.99801470118,614656.92528017017,657311.5923700853,611292.43321138911,571541.48956914118,602016.15215513669,554218.62077217642,574385.20974825521,597607.53159880172,617206.73044596508,700021.84742376721,585476.59912849811,584761.63605281443,579597.26203883067,613565.64232828293,618401.17339168477,658632.6586259614,657165.03244638245,669522.39624183299,611599.69381956663,717396.27405114821,667598.70975286164,597413.42173009948,601673.84035324608,597443.16162771697,612998.04310976982,562157.83666908788,629758.36380007898,599566.79111062665,573298.46005874488,369938.81116085622,460395.05723463913,389888.02260964538,338894.21595534508,436518.78219501767,534098.44630284247,523039.90228292573,517894.04094106128,512737.69870943227,583140.68099532346,615996.56286398775,693213.31888656749,604873.74981609709,608596.9389619166,593226.15815209993,613359.93195746909,656875.96478194161,629212.83323201386,582737.44855540269,607415.64110616513,636534.64846723818,639493.10901655175,659223.35924984945,659746.70405694121,689099.94044227537,658334.17805097066,656766.3912277678,691094.14732277847,711411.09010090248,666634.18946459622,734547.68828008545,717716.55212623451,712808.96410035552,719119.77481208078,640594.52081141435,643978.71706593409,675249.39913752768,602104.49614728324,672174.8076485421,663566.71868818044,724477.75099902542,725459.99682233948,733393.44370378973,752572.02983689599,706824.89346805157,760340.97685709351,795991.47279861057,752565.98165768746,760354.71406148572,767199.34281069576,809375.17312445922,853790.09963000566,801268.56637693429,815049.1267061627,899762.61233017687,877282.25856948667,899758.9078346563,868356.12277142995,891486.95893047994,904980.70048659062,962697.85042298958,1051060.8276536458,1018430.4187427699,970951.47830765962,925267.42701779655,885088.42831840669,845890.54119885364,884389.27524472796,931137.55211579287,900211.01262634434,933992.27994169784,899239.67227100662,947958.63904236117,1012545.3784654007,959149.79351488454,1114360.0430955165,1083473.6909376264,1205741.5144975665,1029500.5365502427,1191365.7865106151,1133539.5161810769,1118709.0616424284,1067425.1179767633,1079559.5521724396,1202610.2102823746,1040344.5367218497,1147100.7808635174,1229319.676390212,1344297.8910640043,1370422.9281034565,1107916.7659704993,1120853.7205865332,1255809.5497103841,1111871.0969991619,1208851.0471685971,1252946.1556418107,1148689.6431914442,1361176.7541996781,1352922.2358319233,1580565.8215324348,1595120.8294707153,1400295.2241862584,1529175.1406410406,1429033.3121655416,1348296.5797386905,1253271.2983090708,1293672.5191377937,1208208.7342042709,1333082.1066293223,1472422.7778031174,1410525.9064368922,1473460.6991786226,1349098.8061633939,1322532.7596593993,1405898.7602392207,1331912.4076580945,1425213.0206034663,1318548.2307253992,1498545.2616290762,1470540.4981457167,1288767.4918449488,1330653.4237258602,1505470.1523648193,1624334.0677998834,1479098.9711304614,1329128.2767298555,1324968.2147388193,1523749.3086933256,1436987.8413406755,1512250.7261753869,1518722.8655815693,1424316.3901696634,1446511.1690977614,1560757.4010486063,1577072.8605524255,1653854.1101157949,1704964.1055326159,1574726.9375400865,1689128.4404066768,1540601.4248032847,1392130.1288070302,1566777.8281105254,1529382.9640958379,1479047.7374781999,1571239.2904131999,1674115.9786654147,1807395.8237791611,2061576.2222787973,1975340.4806110668,1503792.1912308342,1508873.4601661018,1844951.0801627222,1933502.9421455469,1777120.4717550832,1777175.0747739193,1744213.5213201942,1719922.140116971,1729303.7093167235,1737352.9629641969,1808780.5203995157,1717201.8310454509,1602741.2318320414,1573861.0052028908,1558723.0282046865,1717160.631173291]
[]
["INVENTORIES (End of Month, Thousand Barrels)",22921,17724,15898,20366,24456,30390,34781,35682,38676,39293,40447,33020,27010,19185,15552,16389,19224,22502,27650,31155,36566,38826,35750,31198,23376,16931,14244,15778.999999999998,18413,21735,23196,25285,27471,29689,30249,25679,20632,16128,13235,15472,18277,19523,21224,24505,27537,29892,32406.999999999996,31310,28764,22889,22576,24705,30324,34594,34684,34250,36250,35024,30356,24385,17334,13701,14483,18101,20472,23694,26261,27793,28654,27296,27112,22936,15894,13888,12859,14587,16001,18256,20523,22035,24585,25359,25492,23931,22019,23642.25,23877,25684,28293,30478,33920,37376,38725,38119,38992,38509,35872,32741,28940,26835,28513,32562.999999999996,34917,36747,36362,34457,29609,25012,17966,16197,17006,19102,26007,31989.999999999996,37159,41839,43223,43366,43088,41948,39535,35327,38934,43482,51087,54443,57769,61727,62151,64833,63651,61178,51774,42827,44995,50346,50114,53226,53596,59547,63831,63852,63237,53020,36001,29970.620689655174,28104,26197,29185,35440,38282,45207,40542,40816,39558,37502,30723,26920,23440,24203,27390,34612,34638,36486,40654,45382,42874,38067,31414,32576,37981,40385,45589,48177,50275,58408,60556,60438,57757,53426,52636,48560,46675,47050,46490,49364,53619,58400,62145,57889,53187,40553,31659,24849,23914,25599,27758.000000000004,31981.999999999996,31039.493803929519,32678.765037619876,32507.310692933093,32256.173994662578,31886.917163042817,30662.836442377888,32914.056876668627,35499.544281265749,43835.404817776078,51637.400850485268,56426.898486246071]
["Days of Forward Supply",38.472161749886475,30.286781783193859,28.424421800925067,37.527572012470131,41.204139256037671,59.317292777153057,65.097315263617716,63.526609998345748,76.192517540018784,75.327235449370264,67.364096477188895,53.465266495019705,46.403392581435021,28.608620832400902,24.475073334870896,26.663654676191339,29.246403415286697,36.810532533156113,48.377940192660489,51.75110316968955,65.977573884207771,67.595751668147727,59.821869889016781,50.547083272176515,33.393243490940705,28.918320604448361,24.358643115078625,27.224076153318457,30.009828989329694,35.147087255336466,35.218417574967305,38.475875543580422,41.030740949369843,48.543189769416088,42.164980630835196,38.464723830137579,34.535548164033656,26.80522056689578,22.152734937900398,25.239884815145196,32.512221315450041,31.000779222993707,35.398891857711213,42.743878986678276,74.436634300655754,64.926848214979032,83.11873697245062,92.388711656635678,65.894071854964281,42.855395214951749,43.163054867251908,47.7028080012443,59.14135058983554,59.323592277859667,56.305508976773687,49.407590804821837,59.929861414917205,57.548761352202021,51.171040897048385,39.756428044098058,26.388543544524794,21.774826062627266,24.853388152594512,29.800022875664272,32.161642809698009,37.051220202259813,39.836270410507296,42.126773546717487,41.581776921369929,41.462225280192946,41.281040507137504,33.187952884352299,22.341512834366533,20.833014897051822,17.506011121087106,20.324179450489233,22.447809730051652,25.386591551832417,32.037426692323834,34.216969312891024,36.408769902500552,42.117273932126281,37.924658451836713,36.064195695814455,30.392927829235187,32.589322779419682,32.556876810100967,34.128294677077569,40.028301580013384,40.084647451176835,42.613521826736843,49.664748222702507,50.930176776504503,49.685913259972324,48.175433710769532,45.103591640015587,44.76900942489366,40.170584725751894,32.164039273705875,30.588786833279482,31.689600127014998,37.499591637671081,39.167146137381579,40.605285814649804,37.770937147125949,32.783069346158292,29.073169315338856,25.760298592464366,19.417089022473977,18.299866410831889,20.104256013902152,21.599085984748175,27.930352439234309,35.536112701698606,39.785125421293159,46.527084258122954,45.595871190819437,42.828697777204702,44.923118673779229,37.643130027773672,36.489118592059988,29.298982887489604,37.818338716426602,36.497606773948242,45.068565560125677,48.665914907375218,54.119955608218667,57.177948058339496,51.680086755131455,62.318777781339939,55.488585712656075,49.76573724065311,38.513785035414408,31.250936569828674,40.612256608090803,44.917547290340764,39.905732530507777,47.870657078551723,44.336314325519233,47.525585781854744,55.568534441257889,46.909411142230852,46.74104566040711,33.544949079434446,22.569450122437225,21.403072846350486,18.378535756354641,18.331972933717935,21.645831072015522,28.27799539318908,29.591723897415839,37.416547919406852,30.412230273279885,27.720299234230975,28.044858885241503,25.451645925069741,22.772979903059106,20.354883312631809,16.672608770215835,18.171615386147057,19.2181797415817,26.250082623794665,23.114416952841886,24.81128540560913,31.544867679585348,34.105048836029262,28.478811042950774,23.435450105137992,21.238605808771929,24.509297236643661,28.665593315751277,26.503703574856228,31.725390214482641,31.857812442149594,33.103472094461445,41.007742663863112,41.863485947205547,38.723506907219715,36.622911626142987,32.303937616516471,30.872204188461183,30.837092350662765,27.632593758685672,30.540021086899674,33.394866642128541,31.506700640212092,35.059237129464975,39.484864835784769,39.551582231410016,34.578846828848988,29.427422206160148,19.670871036324854,16.027110420076223,16.52422465344857,15.848910217671579,13.875164645418243,14.356326745072252,17.996528940108711,17.465636472466372,18.735530161975433,18.900454814031459,18.652694619736593,18.353735736369156,16.952215095508222,19.167261693769682,22.149267502582045,27.852144930755898,33.128015635953261,32.860582441661876]
["Days per Month",31,28,31,30,31,30,31,31,30,31,30,31,31,28,31,30,31,30,31,31,30,31,30,31,31,28,31,30,31,30,31,31,30,31,30,31,31,29,31,30,31,30,31,31,30,31,30,31,31,28,31,30,31,30,31,31,30,31,30,31,31,28,31,30,31,30,31,31,30,31,30,31,31,28,31,30,31,30,31,31,30,31,30,31,31,29,31,30,31,30,31,31,30,31,30,31,31,28,31,30,31,30,31,31,30,31,30,31,31,28,31,30,31,30,31,31,30,31,30,31,31,28,31,30,31,30,31,31,30,31,30,31,31,29,31,30,31,30,31,31,30,31,30,31,31,28,31,30,31,30,31,31,30,31,30,31,31,28,31,30,31,30,31,31,30,31,30,31,31,28,31,30,31,30,31,31,30,31,30,31,31,29,31,30,31,30,31,31,30,31,30,31,31,28,31,30,31,30,31,31,30,31,30,31,31,28,31,30,31]

{"sheet":"PADD4 mthly rpt","index":4,"n_rows":85,"n_cols":211,"rows_kept":85,"cut":false,"hidden":false,"merged":[]}
[null,null,null,null,null,null,null,null,null,null,null,null,null,null,null,null,null,null,null,null,null,null,null,null,null,null,null,null,null,null,null,null,null,null,null,null,null,null,null,null,null,null,null,null,null,null,null,null,null,null,null,null,null,null,null,null,null,null,null,null,null,null,null,null,null,null,null,null,null,null,null,null,null,null,null,null,null,null,null,null,null,null,null,null,null,null,null,null,null,null,null,null,null,null,null,null,null,null,null,null,null,null,null,null,null,null,null,null,null,null,null,null,null,null,null,null,null,null,null,null,null,null,null,null,null,null,null,null,null,null,null,null,null,null,null,null,null,null,null,null,null,null,null,null,null,null,null,null,null,null,null,null,null,null,null,null,null,null,null,null,null,null,null,null,null,null,null,null,null,null,null,null,null,null,"Legend:  BLACK - Actual / RED - Estimated (Inventory from US Dept. of Energy; Supply and Demand prepared by IHS) / BLUE - Forecast"]
["PADD IV (Rocky Mountain)                (includes CO, ID, MT, UT, WY)",null,null,null,null,null,null,null,null,null,null,null,null,null,null,null,null,null,null,null,null,null,null,null,null,null,null,null,null,null,null,null,null,null,null,null,null,null,null,null,null,null,null,null,null,null,null,null,null,null,null,null,null,null,null,null,null,null,null,null,null,null,null,null,null,null,null,null,null,null,null,null,null,null,null,null,null,null,null,null,null,null,null,null,null,null,null,null,null,null,null,null,null,null,null,null,null,null,null,null,null,null,null,null,null,null,null,null,null,"","","","","","","","","","","","","","","","","","","","","","","","","","","","","","","","","","","","","","","","","","","","","","","","","","","","","","","","","",null,null,null,null,null,null,null,null,null,null,null,null,null,null,null,null,null,null,null,null,null,null,null,null,null,null,null,null,null,null,null,null,"   FCST -->"]
["(Barrels per Day)","2005-01-15","2005-02-15","2005-03-15","2005-04-15","2005-05-15","2005-06-15","2005-07-15","2005-08-15","2005-09-15","2005-10-15","2005-11-15","2005-12-15","2006-01-15","2006-02-15","2006-03-15","2006-04-15","2006-05-15","2006-06-15","2006-07-15","2006-08-15","2006-09-15","2006-10-15","2006-11-15","2006-12-15","2007-01-15","2007-02-15","2007-03-15","2007-04-15","2007-05-15","2007-06-15","2007-07-15","2007-08-15","2007-09-15","2007-10-15","2007-11-15","2007-12-15","2008-01-15","2008-02-15","2008-03-15","2008-04-15","2008-05-15","2008-06-15","2008-07-15","2008-08-15","2008-09-15","2008-10-15","2008-11-15","2008-12-15","2009-01-15","2009-02-15","2009-03-15","2009-04-15","2009-05-15","2009-06-15","2009-07-15","2009-08-15","2009-09-15","2009-10-15","2009-11-15","2009-12-15","2010-01-15","2010-02-15","2010-03-15","2010-04-15","2010-05-15","2010-06-15","2010-07-15","2010-08-15","2010-09-15","2010-10-15","2010-11-15","2010-12-15","2011-01-15","2011-02-15","2011-03-15","2011-04-15","2011-05-15","2011-06-15","2011-07-15","2011-08-15","2011-09-15","2011-10-15","2011-11-15","2011-12-15","2012-01-15","2012-02-15","2012-03-15","2012-04-15","2012-05-15","2012-06-15","2012-07-15","2012-08-15","2012-09-15","2012-10-15","2012-11-15","2012-12-15","2013-01-15","2013-02-15","2013-03-15","2013-04-15","2013-05-15","2013-06-15","2013-07-15","2013-08-15","2013-09-15","2013-10-15","2013-11-15","2013-12-15","2014-01-15","2014-02-15","2014-03-15","2014-04-15","2014-05-15","2014-06-15","2014-07-15","2014-08-15","2014-09-15","2014-10-15","2014-11-15","2014-12-15","2015-01-15","2015-02-15","2015-03-15","2015-04-15","2015-05-15","2015-06-15","2015-07-15","2015-08-15","2015-09-15","2015-10-15","2015-11-15","2015-12-15","2016-01-15","2016-02-15","2016-03-15","2016-04-15","2016-05-15","2016-06-15","2016-07-15","2016-08-15","2016-09-15","2016-10-15","2016-11-15","2016-12-15","2017-01-15","2017-02-15","2017-03-15","2017-04-15","2017-05-15","2017-06-15","2017-07-15","2017-08-15","2017-09-15","2017-10-15","2017-11-15","2017-12-15","2018-01-15","2018-02-15","2018-03-15","2018-04-15","2018-05-15","2018-06-15","2018-07-15","2018-08-15","2018-09-15","2018-10-15","2018-11-15","2018-12-15","2019-01-15","2019-02-15","2019-03-15","2019-04-15","2019-05-15","2019-06-15","2019-07-15","2019-08-15","2019-09-15","2019-10-15","2019-11-15","2019-12-15","2020-01-15","2020-02-15","2020-03-15","2020-04-15","2020-05-15","2020-06-15","2020-07-15","2020-08-15","2020-09-15","2020-10-15","2020-11-15","2020-12-15","2021-01-15","2021-02-15","2021-03-15","2021-04-15","2021-05-15","2021-06-15","2021-07-15","2021-08-15","2021-09-15","2021-10-15","2021-11-15","2021-12-15","2022-01-15","2022-02-15","2022-03-15","2022-04-15","2022-05-15","2022-06-15"]
["SUPPLY"]
["Gas Processing",58935.483870967742,60178.571428571428,60612.903225806454,57233.333333333336,57225.806451612902,53833.333333333336,54032.258064516129,57580.645161290326,55666.666666666664,57129.032258064515,57300,48967.741935483871,55516.129032258068,56178.571428571428,57741.93548387097,54866.666666666664,56000,55133.333333333336,56032.258064516129,53612.903225806454,55133.333333333336,55161.290322580644,56433.333333333336,55419.354838709674,53677.419354838712,55392.857142857145,59161.290322580644,57966.666666666664,58354.838709677417,57866.666666666664,56129.032258064515,57064.516129032258,61233.333333333336,59387.096774193546,66100,59258.06451612903,60612.903225806454,65448.275862068964,72096.774193548394,69766.666666666672,71322.580645161288,69900,69870.967741935485,70645.161290322576,71900,74354.838709677424,74000,68322.580645161288,72193.548387096773,74500,75935.483870967742,76866.666666666672,79709.677419354834,77733.333333333328,79064.516129032258,77838.709677419349,76600,81096.774193548394,84300,82483.870967741939,88064.516129032258,86107.142857142855,87225.806451612909,89633.333333333328,90677.419354838712,87000,79322.580645161288,86032.258064516136,86733.333333333328,86838.709677419349,89033.333333333328,87935.483870967742,89612.903225806454,89964.28571428571,94290.322580645166,91900,95838.709677419349,95400,97258.06451612903,100645.16129032258,92266.666666666672,101709.67741935483,102633.33333333333,100419.35483870968,101741.93548387097,103000,102870.96774193548,97966.666666666672,102870.96774193548,98600,95548.387096774197,97354.838709677424,99533.333333333328,100741.93548387097,101100,96870.967741935485,94612.903225806454,98392.857142857145,100387.09677419355,101366.66666666667,101903.22580645161,97366.666666666672,98258.06451612903,101322.58064516129,101233.33333333333,106258.06451612903,108000,99806.451612903227,102741.93548387097,102000,106903.22580645161,108700,108225.80645161291,114233.33333333333,113419.35483870968,118806.45161290323,116000,123032.25806451614,115400,121516.12903225806,119322.58064516129,121964.28571428571,124806.45161290323,125900,123580.64516129032,124533.33333333333,127161.29032258065,132774.19354838709,131366.66666666666,136161.29032258064,136666.66666666666,134870.96774193548,133967.74193548388,133448.27586206896,137225.80645161291,136166.66666666666,136612.90322580645,134266.66666666666,133000,135290.32258064515,133300,138806.45161290321,141033.33333333334,136580.64516129033,133548.38709677418,136928.57142857142,137967.74193548388,135966.66666666666,136064.51612903227,137966.66666666666,136870.96774193548,141645.16129032261,142900,142774.19354838709,145066.66666666666,146258.06451612903,145290.32258064515,144357.14285714287,146451.61290322579,147133.33333333331,147387.09677419355,140533.33333333334,144935.48387096776,152129.03225806452,152600,151000,154300,155000,154774.19354838709,151500,157064.51612903224,160266.66666666669,160290.32258064515,161566.66666666666,159774.19354838709,154774.19354838709,163966.66666666666,167096.77419354839,176133.33333333331,174612.90322580645,172419.35483870967,179103.44827586206,184612.90322580645,181133.33333333331,167000,176266.66666666669,180709.67741935485,180225.80645161291,181033.33333333334,178096.77419354839,175066.66666666666,170774.19354838709,181774.19354838709,168321.42857142858,177838.70967741936,186600,188806.45161290324,187373.05244600002,189368.21441307911,190057.99995212001,189120.78213977758,187907.34812343959,187652.3777312178,186836.7085283052,180290.08677908432,179827.07702245758,181703.36162510779,180624.7827255835,181356.46319855249,181182.90094087811]
["Refinery Production",9419.354838709678,9464.2857142857138,7838.7096774193551,8000,8483.8709677419356,8066.666666666667,7935.4838709677415,7580.6451612903229,8533.3333333333339,7064.5161290322585,7800,7483.8709677419356,9032.2580645161288,7821.4285714285716,7483.8709677419356,7633.333333333333,7870.9677419354839,9366.6666666666661,7967.7419354838712,8032.2580645161288,7566.666666666667,6580.6451612903229,8500,9387.0967741935492,7548.3870967741932,9785.7142857142862,8032.2580645161288,6766.666666666667,7225.8064516129034,8000,7580.6451612903229,7935.4838709677415,8866.6666666666661,8451.6129032258068,9433.3333333333339,9838.7096774193542,8741.9354838709678,8931.0344827586214,9129.032258064517,8966.6666666666661,9838.7096774193542,9533.3333333333339,8645.1612903225814,8258.0645161290322,9433.3333333333339,9548.3870967741932,10066.666666666666,8709.677419354839,9419.354838709678,10035.714285714286,9612.9032258064508,5566.666666666667,9516.1290322580644,10000,10000,8612.9032258064508,9133.3333333333339,7064.5161290322585,9433.3333333333339,7806.4516129032254,9064.5161290322576,9071.4285714285706,8612.9032258064508,9766.6666666666661,9354.8387096774186,10466.666666666666,10451.612903225807,10096.774193548386,10800,8774.1935483870966,9566.6666666666661,9903.2258064516136,10032.258064516129,9607.1428571428569,9451.6129032258068,8333.3333333333339,10322.58064516129,10333.333333333334,9193.5483870967746,8548.3870967741932,7533.333333333333,8838.7096774193542,9966.6666666666661,10000,10483.870967741936,10482.758620689656,10645.161290322581,7066.666666666667,7967.7419354838712,9333.3333333333339,9516.1290322580644,9193.5483870967746,9500,10225.806451612903,7200,10000,8935.4838709677424,9250,8806.4516129032254,7666.666666666667,7967.7419354838712,7800,9516.1290322580644,10258.064516129032,9900,9709.677419354839,9600,9225.8064516129034,9451.6129032258068,6750,8161.2903225806449,10733.333333333334,11161.290322580646,10433.333333333334,10225.806451612903,10741.935483870968,12666.666666666666,8580.645161290322,8933.3333333333339,10451.612903225807,10225.806451612903,10000,9677.4193548387102,9800,9741.9354838709678,9366.6666666666661,7741.9354838709678,8096.7741935483873,8233.3333333333339,8967.7419354838712,9266.6666666666661,9064.5161290322576,7838.7096774193551,8448.2758620689656,9225.8064516129034,8633.3333333333339,9322.5806451612898,9233.3333333333339,10258.064516129032,8580.645161290322,10566.666666666666,9548.3870967741932,9833.3333333333339,9451.6129032258068,9838.7096774193542,9607.1428571428569,10870.967741935483,9700,10096.774193548386,10433.333333333332,10451.612903225805,10612.903225806453,10700,9193.5483870967746,8633.3333333333321,8419.3548387096798,7032.2580645161297,9535.7142857142862,9096.7741935483864,9266.6666666666661,8967.7419354838712,9399.9999999999982,8967.7419354838694,8322.5806451612898,9233.3333333333339,6483.8709677419347,6466.6666666666661,8193.5483870967746,7483.8709677419356,6857.1428571428578,7838.709677419356,7333.3333333333339,9483.8709677419356,9366.6666666666679,10225.806451612903,10258.064516129032,9633.3333333333339,8000,9233.3333333333339,9225.8064516129016,8193.5483870967746,8275.8620689655163,6096.7741935483873,5766.666666666667,7096.7741935483873,8033.3333333333339,8612.9032258064526,8838.7096774193542,9133.3333333333321,7741.9354838709678,7999.9999999999991,7096.7741935483864,7064.5161290322576,8250,9129.032258064517,9100,8193.5483870967746,9279.3546689873074,9865.4065437515164,9537.0169262655872,10292.110586790412,9617.5961493973464,9230.1584151146126,9533.2294596005049,8979.8116182942049,8773.0357212580893,9177.2018763225915,9130.0732669254212,9603.9190722021322,9746.1952009750858]
["Imports",14677.41935483871,9250,5774.1935483870966,4700,3258.0645161290322,2300,2290.3225806451615,3806.4516129032259,10566.666666666666,7967.7419354838712,9000,13935.483870967742,14741.935483870968,9178.5714285714294,11129.032258064517,7466.666666666667,4870.9677419354839,3133.3333333333335,3419.3548387096776,5419.3548387096771,7033.333333333333,11225.806451612903,13366.666666666666,15161.290322580646,19387.096774193549,19357.142857142859,10870.967741935483,6766.666666666667,3451.6129032258063,4833.333333333333,7967.7419354838712,4967.7419354838712,10233.333333333334,18129.032258064515,14466.666666666666,15387.096774193549,27000,23620.689655172413,19290.322580645159,15900,15129.032258064517,5900,6677.4193548387093,8774.1935483870966,11533.333333333334,14322.580645161292,13966.666666666666,16161.290322580646,25774.193548387095,16535.714285714286,17225.806451612902,7333.333333333333,3774.1935483870966,3566.6666666666665,3645.1612903225805,3967.7419354838707,5700,10677.41935483871,11766.666666666666,13903.225806451614,16806.451612903227,11642.857142857143,6129.0322580645161,3833.3333333333335,3677.4193548387098,3933.3333333333335,3354.8387096774195,4580.6451612903229,6666.666666666667,8032.2580645161288,12266.666666666666,13290.322580645161,11354.838709677419,13214.285714285714,13612.903225806451,4833.333333333333,4161.2903225806449,3800,4258.0645161290322,4774.1935483870966,8300,10290.322580645161,15066.666666666666,16161.290322580646,15645.161290322581,14172.413793103447,11774.193548387097,6566.666666666667,4193.5483870967746,4700,4870.9677419354839,6548.3870967741932,7566.666666666667,6935.4838709677415,8700,11903.225806451614,13903.225806451614,15035.714285714286,8064.5161290322585,4733.333333333333,3290.3225806451615,16300,3612.9032258064517,17580.645161290322,6533.333333333333,9225.8064516129034,9766.6666666666661,12096.774193548386,12741.935483870968,10285.714285714286,8193.5483870967746,4533.333333333333,8580.645161290322,8033.333333333333,8516.1290322580644,11032.258064516129,10333.333333333334,12774.193548387097,14533.333333333334,16967.741935483871,14870.967741935483,10357.142857142857,8741.9354838709678,6366.666666666667,5870.9677419354839,7233.333333333333,6322.5806451612907,7903.2258064516127,8666.6666666666661,10806.451612903225,13300,20870.967741935485,20645.16129032258,20482.758620689656,15064.516129032258,12533.333333333332,11516.129032258064,11933.333333333332,13838.709677419356,11064.516129032258,15600,15967.741935483871,15867.666666666666,17937.483870967742,23454.612903225807,23611.142857142859,14940.483870967742,10406,11974.741935483871,7000,6000,5000,5000,5000,5000,5000,5000,5000,5000,5000,5000,5000,5000,5000,5000,5000,5000,5000,8797.6893145161284,8797.6893145161284,8797.6893145161284,8797.6893145161284,8797.6893145161284,8797.6893145161284,8797.6893145161284,8797.6893145161284,8797.6893145161284,8797.6893145161284,8797.6893145161284,8797.6893145161284,7926.3668094508084,7926.3668094508084,7926.3668094508084,7926.3668094508084,7926.3668094508084,7926.3668094508084,7926.3668094508084,7926.3668094508084,7926.3668094508084,7926.3668094508084,6114.1258859999998,8375.0918864516098,8470.6562670967705,9471.7320960357192,1700,4474.9663688959008,8850.9650432957387,7835.0860748517989,11020.496956958856,10295.2560832239,12724.00107409737,14955.688619623625,16055.673182428638,21813.094853270959,23171.818140862186,20397.915444483191,17345.789535424788,13149.218083725562,8665.2380556978478,7651.9134825752544]
["Net Inter-PADD Transfers (+ = Receipt)",-51742.796980474326,-51742.796980474326,-51742.796980474326,-51742.796980474326,-51742.796980474326,-51742.796980474326,-51742.796980474326,-51742.796980474326,-51742.796980474326,-51742.796980474326,-51742.796980474326,-51742.796980474326,-53409.940933866572,-53409.940933866572,-53409.940933866572,-53409.940933866572,-53409.940933866572,-53409.940933866572,-53409.940933866572,-53409.940933866572,-53409.940933866572,-53409.940933866572,-53409.940933866572,-53409.940933866572,-53227.437094880792,-53227.437094880792,-53227.437094880792,-53227.437094880792,-53227.437094880792,-53227.437094880792,-53227.437094880792,-53227.437094880792,-53227.437094880792,-53227.437094880792,-53227.437094880792,-53227.437094880792,-64183.190507435596,-64183.190507435596,-64183.190507435596,-64183.190507435596,-64183.190507435596,-64183.190507435596,-64183.190507435596,-64183.190507435596,-64183.190507435596,-64183.190507435596,-64183.190507435596,-64183.190507435596,-73356.926767707904,-73356.926767707904,-73356.926767707904,-73356.926767707904,-73356.926767707904,-73356.926767707904,-73356.926767707904,-73356.926767707904,-73356.926767707904,-73356.926767707904,-73356.926767707904,-73356.926767707904,-83243.165611427539,-83243.165611427539,-83243.165611427539,-83243.165611427539,-83243.165611427539,-83243.165611427539,-83243.165611427539,-83243.165611427539,-83243.165611427539,-83243.165611427539,-83243.165611427539,-83243.165611427539,-91491.898369210685,-91491.898369210685,-91491.898369210685,-91491.898369210685,-91491.898369210685,-91491.898369210685,-91491.898369210685,-91491.898369210685,-91491.898369210685,-91491.898369210685,-91491.898369210685,-91491.898369210685,-98021.855784757208,-98021.855784757208,-98021.855784757208,-98021.855784757208,-98021.855784757208,-98021.855784757208,-98021.855784757208,-98021.855784757208,-98021.855784757208,-98021.855784757208,-98021.855784757208,-98021.855784757208,-80142.465753424665,-80142.465753424665,-80142.465753424665,-80142.465753424665,-80142.465753424665,-80142.465753424665,-80142.465753424665,-80142.465753424665,-80142.465753424665,-80142.465753424665,-80142.465753424665,-80142.465753424665,-92668.493150684939,-92668.493150684939,-92668.493150684939,-92668.493150684939,-92668.493150684939,-92668.493150684939,-92668.493150684939,-92668.493150684939,-92668.493150684939,-92668.493150684939,-92668.493150684939,-92668.493150684939,-112202.7397260274,-112202.7397260274,-112202.7397260274,-112202.7397260274,-112202.7397260274,-112202.7397260274,-112202.7397260274,-112202.7397260274,-112202.7397260274,-112202.7397260274,-112202.7397260274,-112202.7397260274,-122632.87671232877,-122632.87671232877,-122632.87671232877,-122632.87671232877,-122632.87671232877,-122632.87671232877,-122632.87671232877,-122632.87671232877,-122632.87671232877,-122632.87671232877,-122632.87671232877,-122632.87671232877,-124400,-124400,-124400,-124400,-124400,-124400,-124400,-124400,-124400,-124400,-124400,-124400,-128500,-128500,-128500,-128500,-128500,-128500,-128500,-128500,-128500,-128500,-128500,-128500,-151602.33300724832,-151602.33300724832,-151602.33300724832,-151602.33300724832,-151602.33300724832,-151602.33300724832,-151602.33300724832,-146602.33300724832,-151602.33300724832,-145602.33300724832,-151602.33300724832,-151602.33300724832,-150040.63740181329,-150040.63740181329,-150040.63740181329,-150040.63740181329,-150040.63740181329,-150040.63740181329,-150040.63740181329,-150040.63740181329,-194073.27643629914,-142184.4296399623,-167576.97225467773,-155358.104376273,-154142.04423402605,-139159.48885068999,-157238.51456042059,-141278.43922645508,-147175.11314815586,-179133.33333333331,-173354.83870967739,-173895.16129032261,-173799.99999999997,-180935.48387096776,-166116.66666666663,-161330.6451612903,-165096.77419354839,-152865.14778325122,-177637.09677419355,-168625.00000000003,-186338.70967741933,-178716.66666666663]
["Total Stock Change (Primary+Secondary+Tertiary)",11238.574374513397,9841.1089367253826,10174.058245481136,6648.2517938682286,4303.0905035456481,5681.5851272015634,4174.0582454811338,5077.2840519327483,4848.2517938682322,4432.1227616101642,8148.2517938682322,13496.638890642425,6404.6340298381865,10092.422048271363,8114.3114491930219,3918.6125244618411,4469.1501588704414,4718.6125244618443,5501.4082233865702,5953.021126612377,5618.6125244618443,5340.1179008059289,6485.2791911285058,7759.472739515606,7510.9200387180899,2676.818656229611,4188.3393935568038,4295.8662752772334,3930.2748774277675,3529.1996086105669,4543.1781032342233,3381.8877806535779,2529.1996086105673,4059.3071354922877,4129.1996086105673,4091.5652000084165,1428.0623504822329,-913.42819456782286,-2862.2602301629286,279.67525370804287,-2539.6795850016342,-1853.6580796252906,-1152.5828108080862,-2184.8408753242152,-453.6580796252905,-894.51829467905759,-2253.6580796252902,331.28815693384922,2124.8443911369259,-1468.4735812133044,-326.76851208888053,1095.8121330724061,-2423.5427056372678,-404.18786692759386,60.328262104667843,-133.22012499210635,362.47879973907283,-1100.9620604759773,62.47879973907645,3544.1992298466034,2909.6699072028346,347.45792563601071,5232.2505523641212,1423.6484018264866,1812.8957136544436,3790.3150684931534,2716.1215201060531,2038.702165267347,2856.9817351598199,393.54087494476607,3356.9817351598199,2425.7989394608953,2395.1132083412222,3417.0026092628814,2685.4357889863836,2557.4787997390717,2362.8551438250929,3224.1454664057346,2330.5970793089605,3266.0809502767061,1957.4787997390663,1104.7906276960609,3557.4787997390713,1943.5003051154158,2791.8514824400868,1812.9860764334126,1501.5289017949217,2285.3998695368628,2501.5289017949253,1585.3998695368628,1533.7869663110546,2372.4966437304092,1185.3998695368609,1404.7547082465348,2985.3998695368609,1630.561159859438,5445.3033144555866,4274.7964020131903,4122.7226692942959,-2829.9655027487142,4929.1742821975167,4936.7011639179518,5090.4646047781634,5380.7871854233244,4903.3678305846151,4251.754927358812,3236.7011639179482,5025.9484757459095,7069.1626440653981,9149.3505432080365,1762.5166940530089,-8084.2179378272367,-5794.4655452615689,-10906.681852963395,-13082.891473681573,{"$f":"DM18-SUM(DM5:DM8)","v":-25385.057751382206},-22859.776615837909,-23704.656769789639,-13504.797405646761,-25484.944430092211,-243.5979236276944,-624.28111316099239,-2437.0596315873699,-9777.8384796737191,-4265.2950954902299,-6868.6487529943406,-9734.4776973782573,-13212.132452736023,-11811.586438516009,-14633.836689964086,-13463.640936633623,-20835.008216077447,{"$f":"ED18-SUM(ED5:ED8)","v":-7555.3964211973143},-10252.02590025861,-10297.245225931154,-14947.701493372369,-13093.222625317921,-11605.178433359641,-16175.999609208244,-8939.0097332003788,-12109.339582335608,-10884.599399560328,-8914.7520003231475,-8812.1827848550674,-11163.321126256549,-17033.79916683842,-11588.323468123341,-12740.302637622604,-13167.270489944727,-10985.352336141485,-7670.3412155864717,-10533.524935036956,-10182.152413458978,-4138.2795534763463,-3068.957877595858,-4965.8583928639018,2550.8243799102747,-930.42262853167995,-3181.4990777220555,-13817.529382621575,-11235.693927025015,{"$f":"FG18-SUM(FG5:FG8)","v":-3270.4186934310783},-10009.718616485061,{"$f":"FI18-SUM(FI5:FI8)","v":-11469.384666662711},-11226.426906479232,{"$f":"FK18-SUM(FK5:FK8)","v":-866.80758440752834},{"$f":"FL18-SUM(FL5:FL8)","v":235.0496016742909},2737.7559134164403,{"$f":"FN18-SUM(FN5:FN8)","v":21639.776706629455},23067.967843830935,11413.832225653714,{"$f":"FQ18-SUM(FQ5:FQ8)","v":768.87885821350937},-4603.2036835053295,{"$f":"FS18-SUM(FS5:FS8)","v":-6350.773495415142},{"$f":"FT18-SUM(FT5:FT8)","v":-6184.6955330665769},-4018.5737647146816,{"$f":"FV18-SUM(FV5:FV8)","v":-6037.6755592239242},{"$f":"FW18-SUM(FW5:FW8)","v":-299.03381253340194},-7610.491864861302,{"$f":"FY18-SUM(FY5:FY8)","v":-7863.3752815724802},-5388.5730289429339,{"$f":"GA18-SUM(GA5:GA8)","v":-15200.40996831032},-20191.043669597333,{"$f":"GC18-SUM(GC5:GC8)","v":-25087.884760803805},-10830.393806609132,{"$f":"GE18-SUM(GE5:GE8)","v":-28417.345994139301},-29378.328802190892,{"$f":"GG18-SUM(GG5:GG8)","v":-16898.4035378894},20668.379944978245,{"$f":"GI18-SUM(GI5:GI8)","v":-20893.730354425486},12692.864926807175,{"$f":"GK18-SUM(GK5:GK8)","v":13129.032258064508},4402.1092362034469,{"$f":"GM18-SUM(GM5:GM8)","v":1985.4312646298349},14981.823490297626,{"$f":"GO18-SUM(GO5:GO8)","v":-22282.052188945192},-29526.460731987245,{"$f":"GQ18-SUM(GQ5:GQ8)","v":-3568.7794092134027},-14345.354570453692,{"$f":"GS18-SUM(GS5:GS8)","v":-11010.627481889147},-12009.473102742482,{"$f":"GU18-SUM(GU5:GU8)","v":1164.2069953559803},-2822.6477007894791,{"$f":"GW18-SUM(GW5:GW8)","v":-4508.1660692511432},10637.178284790556,{"$f":"GY18-SUM(GY5:GY8)","v":-4935.6790240943737},17782.847402741034,{"$f":"HA18-SUM(HA5:HA8)","v":3422.0632943286109},16890.296081064156,{"$f":"HC18-SUM(HC5:HC8)","v":6014.0401322508733}]
["     TOTAL SUPPLY",{"$f":"SUM(B5:B9)","v":42528.035458555205},{"$f":"SUM(C5:C9)","v":36991.1690991082},32657.067716619706,24838.788146727245,21528.035458555187,18138.788146727238,16689.325781135838,22302.2290069423,27872.121480060578,24850.616103716475,30505.454813393906,32140.938684361645,32285.015676616782,29861.052542976227,31059.209225003873,20475.338257261941,19801.144708874839,18942.004923928602,19510.82212822968,19607.596321778063,21942.004923928602,24897.918902423236,31375.338257261934,34317.273741132914,34896.386169643753,33985.095847063109,29025.418427708268,22568.429180396441,19735.095847063098,21001.762513729762,22993.160363192143,20122.192621256665,29635.095847063105,36799.611976095359,40901.762513729773,35347.999072869548,33599.710552724064,32903.381297996581,33470.678294659534,30729.81807960579,29567.45248820792,19296.484746272443,19857.77506885309,21309.387972078886,28229.818079605771,33148.097649498253,31596.484746272457,29341.646036595026,36155.014397622566,26246.028222507372,29090.498268590305,17505.552032031173,17219.530526654813,17538.885365364502,19413.078913751597,16929.207946009657,18438.885365364498,24380.820849235482,32205.552032031173,34380.82084923549,33601.988166743038,23925.720885637038,23956.826876420462,21413.816123732275,22279.407521581754,{"$f":"SUM(BO5:BO9)","v":21947.149457065614},12601.988166743029,19505.213973194641,23813.816123732282,20795.536553839804,30980.482790398954,30311.665586097886,21903.214839130538,24710.818525766474,28548.376129453121,16132.247097195044,21193.537419775697,21265.580430528378,21548.37612945311,25741.924516549887,18565.580430528382,30451.601935904724,39732.247097195061,37032.247097195061,32640.963439618365,31446.302705469305,28769.995697682865,15863.544084779669,19511.931181553853,16196.877418112983,13447.415052521588,17447.415052521595,19763.544084779653,21286.124729940948,21963.544084779653,22382.89892348932,42754.450464256741,46810.902077159961,41238.321431998658,30794.235410493293,37947.998851353506,46260.902077159961,36335.095625547045,54399.611754579295,42427.568743826603,49302.837561030916,50460.902077159953,46012.514980385757,39336.153364348203,35516.571678237386,32352.088059497102,23213.95557815448,29504.78323953737,29124.824996351665,26409.905698214156,22527.094259223188,23471.730233477152,28013.946853718968,32693.376110334957,30782.046290190607,31973.017189054572,29494.407732240186,28586.007093998138,20086.088460965537,22725.513565579127,22061.944854311601,19288.589028207251,23359.321369623667,24252.340502123247,{"$f":"SUM(EA5:EA9)","v":29098.907454976241},33566.95267067229,31768.703670798393,32263.339769699734,29494.407732240186,28586.007093998138,19752.755127632205,21725.513565579127,21195.278187644933,18287.897872011381,23363.597425438609,24724.45037200228,30805.104533272177,35186.704620681427,32524.682438300042,31278.388551162814,28713.057976018739,27790.87008026375,18932.364029044053,20568.761768119817,20014.647663858515,21252.239429574831,22324.539581092104,24017.847586541022,28429.462382007532,31231.042122404142,30311.560961974796,31373.405025071548,29462.43451432548,28866.888019052127,19082.470617378396,21619.144782652409,{"$f":"SUM(FG5:FG9)","v":23162.914639902265},20393.507189966575,{"$f":"SUM(FI5:FI9)","v":25482.228236563107},27106.906426854111,{"$f":"SUM(FK5:FK9)","v":33117.063383334411},{"$f":"SUM(FL5:FL9)","v":37501.716268340948},42431.304300513228,{"$f":"SUM(FN5:FN9)","v":41093.197530026278},38620.467008241598,33512.414339373114,{"$f":"SUM(FQ5:FQ9)","v":25564.235165481332},22366.346172149555,{"$f":"SUM(FS5:FS9)","v":21777.916145185965},{"$f":"SUM(FT5:FT9)","v":21010.660774201217},23209.040607069233,{"$f":"SUM(FV5:FV9)","v":24757.680748043869},{"$f":"SUM(FW5:FW9)","v":37993.096688282785},34951.531109073148,{"$f":"SUM(FY5:FY9)","v":33170.690703114677},33110.059604501046,{"$f":"SUM(GA5:GA9)","v":30064.629784154771},28404.363157395041,{"$f":"SUM(GC5:GC9)","v":19697.844646833692},21152.109794576787,{"$f":"SUM(GE5:GE9)","v":13768.383413498254},17829.981250607936,{"$f":"SUM(GG5:GG9)","v":30051.841998780397},24688.136984796605,{"$f":"SUM(GI5:GI9)","v":30686.916492482396},34296.685224796092,{"$f":"SUM(GK5:GK9)","v":44016.987510178609},47569.430946693516,{"$f":"SUM(GM5:GM9)","v":48869.103081404159},46411.050865360914,{"$f":"SUM(GO5:GO9)","v":36614.474953495621},29149.391163152657,{"$f":"SUM(GQ5:GQ9)","v":21785.380447292406},22553.924633658378,{"$f":"SUM(GS5:GS9)","v":24984.48418939775},26327.420697922909,{"$f":"SUM(GU5:GU9)","v":32709.356016848786},43998.894961304955,{"$f":"SUM(GW5:GW9)","v":52344.221610635221},57982.120629482888,{"$f":"SUM(GY5:GY9)","v":51197.201380853272},48372.103665402661,{"$f":"SUM(HA5:HA9)","v":37701.13737056309},30177.206730097303,{"$f":"SUM(HC5:HC9)","v":25878.383090012681}]
["DEMAND"]
["  Residential and Commercial ",38733.193821938854,33124.898891063276,28829.968015487226,21010.613176777566,17700.935757422711,14110.613176777559,12894.484144519491,18507.387370325952,24077.27984344423,21055.774467100127,26710.613176777559,28346.097047745297,27808.00292489952,25384.039791258961,26549.938408770482,15998.325505544679,14937.035182964029,14398.32550554467,14711.22873135113,15098.325505544673,17398.325505544672,20388.648086189845,26898.325505544672,29840.260989415649,31084.94524756433,30102.226353555114,24988.17105401594,18690.321591650347,15730.106537886901,17190.321591650336,19181.719441112717,16310.751699177239,25823.654924983679,32988.171054015933,37090.321591650354,31439.783957241736,28826.673066328905,28162.601876117551,28729.898872780504,25989.038657726756,24762.15693729663,14555.705324393412,15116.995646974059,16536.350485683724,23489.038657726738,28407.318227619224,26855.705324393424,24600.866614715993,33984.739599772729,24075.753424657534,26920.223470740468,15201.943900848006,15016.997664288847,15335.277234181334,17210.546051385631,14758.93314815982,16268.610567514663,22210.546051385645,30035.277234181336,32210.546051385652,30169.060097216097,20525.05088062623,20556.156871409654,18013.146118721466,18878.737516570945,18513.146118721474,9169.0600972160937,16104.543968183832,20379.812785388141,17394.866548828995,27579.812785388145,26910.995581087078,18761.518948719582,21569.122635355514,25406.680239042165,12990.551206784085,18051.841529364741,17990.55120678409,17955.067335816348,22051.841529364734,15090.551206784094,27213.131851945382,36290.551206784105,33858.293142267976,29124.5882107818,27925.478088423617,25253.6204688463,12345.018318308694,16060.072081749546,12745.018318308674,9931.0398236850215,13963.297888201159,16311.684984975345,17834.265630136641,18478.351651642013,18898.781759168884,21409.347864510637,25430.085191699574,19860.960767736433,9382.4661440805248,16473.863993542887,24849.132810747189,14989.993025800946,32602.896251607392,20949.132810747175,27957.734961284819,29115.799477413857,24667.41238063966,27297.636702246542,25020.681744246325,24152.281074814808,15644.256120353901,17563.040770984098,17055.125538551089,14339.130971596363,18631.504346160666,19308.398384930759,24118.356940656446,28563.3775951219,26886.456377128088,28555.010924914764,26173.175661648766,25264.775023406717,16364.856390374116,18372.023430471578,17840.712783720181,14999.615022131955,19489.702202258053,20197.775098198494,25229.288287610627,29879.053933414201,28124.890955045681,28555.010924914764,26173.175661648766,25264.775023406717,16364.856390374116,18372.023430471578,17840.712783720181,14999.615022131955,19489.702202258053,20197.775098198494,25229.288287610627,29879.053933414201,28124.890955045681,27501.267521530644,25207.327276172844,24332.448641571227,15760.956797618604,17694.054910425017,17182.350808060317,18446.095871870239,18770.488850053334,19452.432281530451,22718.271445240942,25626.450398627163,25087.01993504482,26569.281292564392,25269.667871361489,25292.625562118712,15799.935441278094,18637.814326182637,20224.844721214176,17481.822714503644,21816.91040970834,22500.540365065499,27358.363841684077,31847.617842347492,37154.009224553258,34859.311460248653,33195.451908003371,28901.630596829524,21420.198354807213,18685.719103372961,18174.25606879553,17439.290203613127,18761.645926590121,19248.835408314302,31257.142926033343,28194.370173104249,26539.112932821685,26944.98126039184,24697.442056053947,23840.260168128159,15595.996371259138,17508.861912339231,10201.508104864544,14294.897301576997,25655.390130076721,19248.835408314302,24043.956096948725,29411.355394825769,38756.489609123499,42456.015648799264,43745.651827451868,41624.09555864631,32085.766137601539,24504.661807583787,17953.242825198689,18723.354856695401,19212.37463910396,20350.81934700541,26342.137250501113,39170.279769687819,47167.76877786954,52559.581038030141,46038.437932454843,43389.190979040446,33056.710430144813,25869.107857561168,21882.068697405783]
["  Chemical",0,0,0,0,0,0,0,0,0,0,0,0,0,0,0,0,0,0,0,0,0,0,0,0,0,0,0,0,0,0,0,0,0,0,0,0,467.2131147540984,467.2131147540984,467.2131147540984,467.2131147540984,467.2131147540984,467.2131147540984,467.2131147540984,467.2131147540984,467.2131147540984,467.2131147540984,467.2131147540984,467.2131147540984,0,0,0,0,0,0,0,0,0,0,0,0,595.62841530054641,595.62841530054641,595.62841530054641,595.62841530054641,595.62841530054641,595.62841530054641,595.62841530054641,595.62841530054641,595.62841530054641,595.62841530054641,595.62841530054641,595.62841530054641,0,0,0,0,0,0,0,0,0,0,0,0,0,0,0,0,0,0,0,0,0,0,0,0,0,0,0,0,0,0,0,0,0,0,0,0,0,0,0,0,0,0,0,0,0,0,0,0,0,0,0,0,0,0,0,0,0,0,0,0,0,0,0,0,0,0,0,0,0,0,0,0,0,0,0,0,0,0,0,0,0,0,0,0,0,0,0,0,0,0,0,0,0,0,0,0,0,0,0,0,0,0,0,0,0,0,0,0,0,0,0,0,0,0,0,0,0,0,0,0,0,0,0,0,0,0,0,0,0,0,0,0,0,0,0,0,0,0]
["  Farm",969.46323859684128,969.46323859684128,969.46323859684128,969.46323859684128,969.46323859684128,969.46323859684128,969.46323859684128,969.46323859684128,969.46323859684128,969.46323859684128,969.46323859684128,969.46323859684128,1092.2342277967509,1092.2342277967509,1092.2342277967509,1092.2342277967509,1092.2342277967509,1092.2342277967509,1092.2342277967509,1092.2342277967509,1092.2342277967509,1092.2342277967509,1092.2342277967509,1092.2342277967509,1191.3041351643003,1191.3041351643003,1191.3041351643003,1191.3041351643003,1191.3041351643003,1191.3041351643003,1191.3041351643003,1191.3041351643003,1191.3041351643003,1191.3041351643003,1191.3041351643003,1191.3041351643003,1094.6278327333587,1094.6278327333587,1094.6278327333587,1094.6278327333587,1094.6278327333587,1094.6278327333587,1094.6278327333587,1094.6278327333587,1094.6278327333587,1094.6278327333587,1094.6278327333587,1094.6278327333587,663.80870991270911,663.80870991270911,663.80870991270911,663.80870991270911,663.80870991270911,663.80870991270911,663.80870991270911,663.80870991270911,663.80870991270911,663.80870991270911,663.80870991270911,663.80870991270911,720.48021729934055,720.48021729934055,720.48021729934055,720.48021729934055,720.48021729934055,720.48021729934055,720.48021729934055,720.48021729934055,720.48021729934055,720.48021729934055,720.48021729934055,720.48021729934055,577.10371819960858,577.10371819960858,577.10371819960858,577.10371819960858,577.10371819960858,577.10371819960858,577.10371819960858,577.10371819960858,577.10371819960858,577.10371819960858,577.10371819960858,577.10371819960858,658.57795172863666,658.57795172863666,658.57795172863666,658.57795172863666,658.57795172863666,658.57795172863666,658.57795172863666,658.57795172863666,658.57795172863666,658.57795172863666,658.57795172863666,658.57795172863666,1161.9699934768428,1161.9699934768428,1161.9699934768428,1161.9699934768428,1161.9699934768428,1161.9699934768428,1161.9699934768428,1161.9699934768428,1161.9699934768428,1161.9699934768428,1161.9699934768428,1161.9699934768428,1166.055412899002,1166.055412899002,1166.055412899002,1166.055412899002,1166.055412899002,1166.055412899002,1166.055412899002,1166.055412899002,1166.055412899002,1166.055412899002,1166.055412899002,1166.055412899002,581.50351369206805,581.50351369206805,581.50351369206805,581.50351369206805,581.50351369206805,581.50351369206805,581.50351369206805,581.50351369206805,581.50351369206805,581.50351369206805,581.50351369206805,581.50351369206805,581.50351369206805,581.50351369206805,581.50351369206805,581.50351369206805,581.50351369206805,581.50351369206805,484.03816394781489,1037.3924727328169,1786.9467169044331,2836.0876887621971,2501.2554637012086,1660.0629263550061,1037.3924727328169,766.00214294654211,496.98934007560308,513.87732735972554,496.98934007560308,513.87732735972554,496.98934007560308,1065.1494837057221,1834.7591899393017,2911.9715217051116,2568.1803519926189,1704.4804308903572,1070.5633387333307,790.49523992540389,499.51539700807723,516.48922117825464,499.51539700807723,516.48922117825464,499.51539700807723,1070.5633387333307,1844.0847544885571,2926.772253343443,2581.2336898791177,1713.1438251757602,1105.3339856490543,816.16960208741034,515.7390737116765,533.26418786692761,515.7390737116765,533.26418786692761,515.7390737116765,1105.3339856490543,1903.9784735812132,3021.8303979125899,2665.0691454664056,1768.7847358121332,1083.2273059360732,799.84621004566225,505.42429223744296,522.59890410958906,505.42429223744296,522.59890410958906,505.42429223744296,1083.2273059360732,1865.898904109589,2961.3937899543384,1071.478000740467,1446.6460718252501,1329.8808748534889,1339.9168309115271,1003.420883673841,745.17439285331886,861.19493252810673,48.603199052951659,47.035353922211286,1988.575127253024,2193.0669278767332,2583.6843433069071,1045.0807685763709,1392.918409724914,1665.727463704985,1401.951320650666,1226.1005586144531,887.6148126705159,551.28674478837274,239.5022648591364]
["  Other",2825.3783980195076,2825.3783980195076,2825.3783980195076,2825.3783980195076,2825.3783980195076,2825.3783980195076,2825.3783980195076,2825.3783980195076,2825.3783980195076,2825.3783980195076,2825.3783980195076,2825.3783980195076,3384.7785239205095,3384.7785239205095,3384.7785239205095,3384.7785239205095,3384.7785239205095,3384.7785239205095,3384.7785239205095,3384.7785239205095,3384.7785239205095,3384.7785239205095,3384.7785239205095,3384.7785239205095,2620.1367869151254,2620.1367869151254,2620.1367869151254,2620.1367869151254,2620.1367869151254,2620.1367869151254,2620.1367869151254,2620.1367869151254,2620.1367869151254,2620.1367869151254,2620.1367869151254,2620.1367869151254,3178.9384743915739,3178.9384743915739,3178.9384743915739,3178.9384743915739,3178.9384743915739,3178.9384743915739,3178.9384743915739,3178.9384743915739,3178.9384743915739,3178.9384743915739,3178.9384743915739,3178.9384743915739,1506.4660879371281,1506.4660879371281,1506.4660879371281,1506.4660879371281,1506.4660879371281,1506.4660879371281,1506.4660879371281,1506.4660879371281,1506.4660879371281,1506.4660879371281,1506.4660879371281,1506.4660879371281,2084.5613724109189,2084.5613724109189,2084.5613724109189,2084.5613724109189,2084.5613724109189,2084.5613724109189,2084.5613724109189,2084.5613724109189,2084.5613724109189,2084.5613724109189,2084.5613724109189,2084.5613724109189,2564.5921722113499,2564.5921722113499,2564.5921722113499,2564.5921722113499,2564.5921722113499,2564.5921722113499,2564.5921722113499,2564.5921722113499,2564.5921722113499,2564.5921722113499,2564.5921722113499,2564.5921722113499,2793.4768427919112,2793.4768427919112,2793.4768427919112,2793.4768427919112,2793.4768427919112,2793.4768427919112,2793.4768427919112,2793.4768427919112,2793.4768427919112,2793.4768427919112,2793.4768427919112,2793.4768427919112,2631.3105022831046,2631.3105022831046,2631.3105022831046,2631.3105022831046,2631.3105022831046,2631.3105022831046,2631.3105022831046,2631.3105022831046,2631.3105022831046,2631.3105022831046,2631.3105022831046,2631.3105022831046,2697.2764356473908,2697.2764356473908,2697.2764356473908,2697.2764356473908,2697.2764356473908,2697.2764356473908,2697.2764356473908,2697.2764356473908,2697.2764356473908,2697.2764356473908,2697.2764356473908,2697.2764356473908,2739.7285568993539,2739.7285568993539,2739.7285568993539,2739.7285568993539,2739.7285568993539,2739.7285568993539,2739.7285568993539,2739.7285568993539,2739.7285568993539,2739.7285568993539,2739.7285568993539,2739.7285568993539,2739.7285568993539,2739.7285568993539,2739.7285568993539,2739.7285568993539,2739.7285568993539,2739.7285568993539,2739.7285568993539,2739.7285568993539,2739.7285568993539,2739.7285568993539,2739.7285568993539,2739.7285568993539,2739.7285568993539,2739.7285568993539,2961.4320986169173,2657.5299040657223,2377.7175176191954,2318.4195284384746,2309.1542176289868,2488.9012473330472,2653.8237797419274,2722.387079732136,2959.5790364550198,3443.2282607102752,3656.7280584444852,3325.4390677092451,2997.9147245959962,2689.2136195927042,2404.9827241323555,2344.7483621804936,2335.3367431255151,2517.9221527920963,2685.4489719707126,2755.0949529775526,2996.0324007850004,3487.3189154548745,5117.5931800189819,4597.8865940412325,4084.085764722322,3599.8137186976014,3153.9290909553279,3059.4369844139192,3044.672592766824,3331.1017907204696,3593.9079620387633,3703.1644602272672,4081.1328863929025,4851.8341303712696,5070.8921340635407,4556.3826139455687,4047.7197929198478,3568.2904673553739,3126.8646858905236,3033.3175004145287,3018.7007526839047,3302.2656586580138,3562.4437682631246,3670.6077014697435,3813.8518292298609,3813.8518292298609,3783.5344230407645,3783.5344230407645,3783.5344230407645,3783.5344230407645,3783.5344230407645,3783.5344230407645,3783.5344230407645,3783.5344230407645,3783.5344230407645,3783.5344230407645,3783.5344230407645,3783.5344230407645,3756.8121277477621,3756.8121277477621,3756.8121277477621,3756.8121277477621,3756.8121277477621,3756.8121277477621]
["     US DOMESTIC CONSUMPTION",{"$f":"SUM(B12:B15)","v":42528.035458555205},{"$f":"SUM(C12:C15)","v":36919.740527679627},32624.809652103573,24805.454813393913,21495.777394039058,17905.45481339391,16689.325781135842,22302.2290069423,27872.121480060578,24850.616103716475,30505.454813393906,32140.938684361645,32285.015676616778,29861.05254297622,31026.951160487741,20475.338257261938,19414.04793468129,18875.33825726193,19188.241483068392,19575.338257261934,21875.33825726193,24865.660837907104,31375.33825726193,34317.273741132907,34896.386169643753,33913.667275634536,28799.611976095366,22501.762513729773,19541.547459966325,21001.762513729762,22993.160363192143,20122.192621256665,29635.095847063105,36799.611976095359,40901.762513729773,35251.224879321162,33567.452488207935,32903.381297996581,33470.678294659534,30729.818079605786,29502.936359175659,19296.484746272443,19857.77506885309,21277.129907562754,28229.818079605768,33148.097649498253,31596.484746272454,29341.646036595022,36155.014397622566,26246.028222507372,29090.498268590305,17372.218698697845,17187.272462138684,17505.552032031173,19380.820849235468,16929.207946009657,18438.885365364502,24380.820849235482,32205.552032031173,34380.82084923549,33569.730102226902,23925.720885637034,23956.826876420462,21413.816123732271,22279.40752158175,{"$f":"SUM(BO12:BO15)","v":21913.816123732278},12569.7301022269,19505.213973194637,23780.48279039895,20795.536553839804,30980.48279039895,30311.665586097886,21903.214839130538,24710.81852576647,28548.376129453121,16132.247097195042,21193.537419775697,21132.247097195046,21096.763226227304,25193.53741977569,18232.247097195053,30354.827742356338,39432.247097195061,36999.989032678932,32576.643005302347,31377.532882944164,28705.675263366848,15797.073112829243,19512.126876270093,16197.073112829223,13383.09461820557,17415.352682721707,19763.739779495892,21286.320424657188,21930.40644616256,22350.836553689431,25202.628360270584,29223.365687459522,23654.24126349638,13175.746639840472,20267.144489302835,28642.413306507136,18783.273521560895,36396.176747367339,24742.413306507122,31751.015457044767,32909.079973173808,28460.692876399607,31160.968550792932,28884.013592792719,28015.612923361201,19507.58796890029,21426.372619530492,20918.457387097478,18202.462820142755,22494.836194707059,23171.730233477152,27981.688789202839,32426.709443668289,30749.788225674478,31876.242995506185,29494.407732240186,28586.007093998138,19686.088460965537,21693.255501062999,21161.944854311601,18320.847092723379,22810.934272849474,23519.007168789914,{"$f":"SUM(EA12:EA15)","v":28550.520358202048},33200.286004005626,31446.123025637102,31876.242995506185,29494.407732240186,28586.007093998138,19686.088460965537,21693.255501062999,21161.944854311601,18223.381742979123,23266.823231890223,24724.45037200228,30805.104533272177,35120.037954014762,32524.682438300042,31278.388551162814,28713.057976018739,27790.87008026375,18932.364029044053,20568.761768119817,20014.647663858515,21252.239429574831,22324.539581092104,23941.01525121168,28352.63004667819,31154.2097870748,30234.728626645454,31296.572689742206,29385.602178996138,28790.055683722785,19005.638282049054,21542.312447323067,{"$f":"SUM(FG12:FG15)","v":23086.082304572923},20316.674854637233,{"$f":"SUM(FI12:FI15)","v":25405.395901233765},27030.07409152477,{"$f":"SUM(FK12:FK15)","v":33040.231048005073},{"$f":"SUM(FL12:FL15)","v":37424.88393301161},42354.47196518389,{"$f":"SUM(FN12:FN15)","v":41082.238625916689},38609.508104132008,33501.455435263524,{"$f":"SUM(FQ12:FQ15)","v":25553.276261371742},22355.387268039965,{"$f":"SUM(FS12:FS15)","v":21766.957241076376},{"$f":"SUM(FT12:FT15)","v":20999.701870091627},23198.081702959644,{"$f":"SUM(FV12:FV15)","v":24746.72184393428},{"$f":"SUM(FW12:FW15)","v":37982.137784173196},34940.572204963559,{"$f":"SUM(FY12:FY15)","v":33159.731799005087},33099.100700391456,{"$f":"SUM(GA12:GA15)","v":30053.670880045182},28393.404253285451,{"$f":"SUM(GC12:GC15)","v":19686.885742724102},21141.150890467197,{"$f":"SUM(GE12:GE15)","v":13757.424509388662},17819.022346498346,{"$f":"SUM(GG12:GG15)","v":30040.883094670808},24677.178080687016,{"$f":"SUM(GI12:GI15)","v":30675.957588372807},34296.685224796092,{"$f":"SUM(GK12:GK15)","v":44016.987510178609},47569.430946693516,{"$f":"SUM(GM12:GM15)","v":48869.103081404159},46411.050865360914,{"$f":"SUM(GO12:GO15)","v":36614.474953495621},29149.391163152657,{"$f":"SUM(GQ12:GQ15)","v":21785.380447292406},22553.924633658378,{"$f":"SUM(GS12:GS15)","v":24984.48418939775},26327.420697922909,{"$f":"SUM(GU12:GU15)","v":32709.356016848786},43998.894961304955,{"$f":"SUM(GW12:GW15)","v":52344.221610635221},57982.120629482888,{"$f":"SUM(GY12:GY15)","v":51197.201380853272},48372.103665402661,{"$f":"SUM(HA12:HA15)","v":37701.13737056309},30177.206730097303,{"$f":"SUM(HC12:HC15)","v":25878.383090012681}]
["EXPORTS",0,71.428571428571431,32.258064516129032,33.333333333333336,32.258064516129032,233.33333333333334,0,0,0,0,0,0,0,0,32.258064516129032,0,387.09677419354841,66.666666666666671,322.58064516129031,32.258064516129032,66.666666666666671,32.258064516129032,0,0,0,71.428571428571431,225.80645161290323,66.666666666666671,193.54838709677421,0,0,0,0,0,0,96.774193548387103,32.258064516129032,0,0,0,64.516129032258064,0,0,32.258064516129032,0,0,0,0,0,0,0,133.33333333333334,32.258064516129032,33.333333333333336,32.258064516129032,0,0,0,0,0,32.258064516129032,0,0,0,0,33.333333333333336,32.258064516129032,0,33.333333333333336,0,0,0,0,0,0,0,0,133.33333333333334,451.61290322580646,548.38709677419354,333.33333333333331,96.774193548387103,300,32.258064516129032,64.516129032258064,68.965517241379317,64.516129032258064,66.666666666666671,0,0,64.516129032258064,32.258064516129032,0,0,33.333333333333336,32.258064516129032,0,35.714285714285715,32.258064516129032,66.666666666666671,129.03225806451613,66.666666666666671,0,451.61290322580646,133.33333333333334,0,0,0,0,71.428571428571431,0,0,0,66.666666666666671,0,32.258064516129032,300,32.258064516129032,266.66666666666669,32.258064516129032,96.774193548387103,0,0,400,1032.258064516129,900,967.74193548387098,548.38709677419354,733.33333333333337,548.38709677419354,366.66666666666669,322.58064516129031,387.09677419354841,0,0,66.666666666666671,32.258064516129032,33.333333333333336,64.516129032258064,96.774193548387103,0,0,66.666666666666671,0,0,0,0,0,0,0,0,0,76.832335329341319,76.832335329341319,76.832335329341319,76.832335329341319,76.832335329341319,76.832335329341319,76.832335329341319,76.832335329341319,76.832335329341319,76.832335329341319,76.832335329341319,76.832335329341319,76.832335329341319,76.832335329341319,76.832335329341319,76.832335329341319,10.95890410958904,10.95890410958904,10.95890410958904,10.95890410958904,10.95890410958904,10.95890410958904,10.95890410958904,10.95890410958904,10.95890410958904,10.95890410958904,10.95890410958904,10.95890410958904,10.95890410958904,10.95890410958904,10.95890410958904,10.95890410958904,10.95890410958904,10.95890410958904,10.95890410958904,10.95890410958904,10.95890410958904,10.95890410958904,0,0,0,0,0,0,0,0,0,0,0,0,0,0,0,0,0,0,0,0]
["     TOTAL DEMAND",{"$f":"B16+B17","v":42528.035458555205},{"$f":"C16+C17","v":36991.1690991082},32657.067716619702,24838.788146727245,21528.035458555187,18138.788146727242,16689.325781135842,22302.2290069423,27872.121480060578,24850.616103716475,30505.454813393906,32140.938684361645,32285.015676616778,29861.05254297622,31059.20922500387,20475.338257261938,19801.144708874839,18942.004923928598,19510.822128229684,19607.596321778063,21942.004923928598,24897.918902423233,31375.33825726193,34317.273741132907,34896.386169643753,33985.095847063109,29025.418427708268,22568.429180396441,19735.095847063098,21001.762513729762,22993.160363192143,20122.192621256665,29635.095847063105,36799.611976095359,40901.762513729773,35347.999072869548,33599.710552724064,32903.381297996581,33470.678294659534,30729.818079605786,29567.452488207917,19296.484746272443,19857.77506885309,21309.387972078883,28229.818079605768,33148.097649498253,31596.484746272454,29341.646036595022,36155.014397622566,26246.028222507372,29090.498268590305,17505.552032031177,17219.530526654813,17538.885365364506,19413.078913751597,16929.207946009657,18438.885365364502,24380.820849235482,32205.552032031173,34380.82084923549,33601.988166743031,23925.720885637034,23956.826876420462,21413.816123732271,22279.40752158175,{"$f":"BO16+BO17","v":21947.14945706561},12601.988166743029,19505.213973194637,23813.816123732282,20795.536553839804,30980.48279039895,30311.665586097886,21903.214839130538,24710.81852576647,28548.376129453121,16132.247097195042,21193.537419775697,21265.580430528378,21548.37612945311,25741.924516549883,18565.580430528385,30451.601935904724,39732.247097195061,37032.247097195061,32641.159134334604,31446.498400185545,28770.191392399105,15863.739779495909,19512.126876270093,16197.073112829223,13447.610747237828,17447.610747237835,19763.739779495892,21286.320424657188,21963.739779495892,22383.09461820556,25202.628360270584,29259.079973173808,23686.499328012509,13242.413306507138,20396.17674736735,28709.079973173804,18783.273521560895,36847.789650593142,24875.746639840454,31751.015457044767,32909.079973173808,28460.692876399607,31160.968550792932,28955.442164221291,28015.612923361201,19507.58796890029,21426.372619530492,20985.124053764146,18202.462820142755,22527.094259223188,23471.730233477152,28013.946853718968,32693.376110334957,30782.046290190607,31973.017189054572,29494.407732240186,28586.007093998138,20086.088460965537,22725.513565579127,22061.944854311601,19288.589028207251,23359.321369623667,24252.340502123247,{"$f":"EA16+EA17","v":29098.907454976241},33566.95267067229,31768.703670798393,32263.339769699734,29494.407732240186,28586.007093998138,19752.755127632205,21725.513565579127,21195.278187644933,18287.897872011381,23363.597425438609,24724.45037200228,30805.104533272177,35186.704620681427,32524.682438300042,31278.388551162814,28713.057976018739,27790.87008026375,18932.364029044053,20568.761768119817,20014.647663858515,21252.239429574831,22324.539581092104,24017.847586541022,28429.462382007532,31231.042122404142,30311.560961974796,31373.405025071548,29462.43451432548,28866.888019052127,19082.470617378396,21619.144782652409,{"$f":"FG16+FG17","v":23162.914639902265},20393.507189966575,{"$f":"FI16+FI17","v":25482.228236563107},27106.906426854111,{"$f":"FK16+FK17","v":33117.063383334411},{"$f":"FL16+FL17","v":37501.716268340948},42431.304300513228,{"$f":"FN16+FN17","v":41093.197530026278},38620.467008241598,33512.414339373114,{"$f":"FQ16+FQ17","v":25564.235165481332},22366.346172149555,{"$f":"FS16+FS17","v":21777.916145185965},{"$f":"FT16+FT17","v":21010.660774201217},23209.040607069233,{"$f":"FV16+FV17","v":24757.680748043869},{"$f":"FW16+FW17","v":37993.096688282785},34951.531109073148,{"$f":"FY16+FY17","v":33170.690703114677},33110.059604501046,{"$f":"GA16+GA17","v":30064.629784154771},28404.363157395041,{"$f":"GC16+GC17","v":19697.844646833692},21152.109794576787,{"$f":"GE16+GE17","v":13768.383413498252},17829.981250607936,{"$f":"GG16+GG17","v":30051.841998780397},24688.136984796605,{"$f":"GI16+GI17","v":30686.916492482396},34296.685224796092,{"$f":"GK16+GK17","v":44016.987510178609},47569.430946693516,{"$f":"GM16+GM17","v":48869.103081404159},46411.050865360914,{"$f":"GO16+GO17","v":36614.474953495621},29149.391163152657,{"$f":"GQ16+GQ17","v":21785.380447292406},22553.924633658378,{"$f":"GS16+GS17","v":24984.48418939775},26327.420697922909,{"$f":"GU16+GU17","v":32709.356016848786},43998.894961304955,{"$f":"GW16+GW17","v":52344.221610635221},57982.120629482888,{"$f":"GY16+GY17","v":51197.201380853272},48372.103665402661,{"$f":"HA16+HA17","v":37701.13737056309},30177.206730097303,{"$f":"HC16+HC17","v":25878.383090012681}]
[]
["INVENTORIES (End of Month, Thousand Barrels)",536,455,355,364,446,484,570,628,691,769,733,530,516.99999999999989,402,336,398,445,483,498,499,510,530,515.00000000000011,460,350,386,379,369,370,383,365,383,426,423,418,414,335,329,383,341,385,407,408,441,421,414,448,403,337,378,388,355,430,442,440,444,433,467,465,355,342,402,317,349,370,331,324,338,327,392,366,368,372,347,342,341,346,325,331,308,325,369,338,356,331,336,351,342,326,338,352,340,364,382,352,363,340,352,370,596,589,582,570,549,543,557,601,591,583,634,750,728,771,728,860,1066,1270,1341,1376,1364,1234,1174,1167,1280,1328,1335,1405,1545,1610,1668,1718,1520,1354,1329,1239,1216,1265,1303,1415,1465,1498,1547,1505,1353,1051,927,863,940,1061,1207,1315,1418,1515,1537,1580,1483,1169,1049,968,979,1144,1320,1360,1433,1569,1556,1462,1396,1225,1063,1081,1073,1273,1334,1471,1659,1781,1774,1856,1691,1469,1309,1295,1337,1540,1883,2165,3117,3203,3170,3178,2815,2302,2025,1931,1941,2040,2147.0633822764021,2591.7693739604665,2933.0988258990301,3293.3830189813048,3257.2926021252692,3341.9720331489534,3481.7251812957388,3151.9726544672321,3290.1716671418744,2738.9033976569026,2636.2414988270443,2112.6423203140557,1932.2211163465297]
["Days of Forward Supply",{"$f":"B20*1000/B18","v":12.60345074068487},12.300233030779482,10.870541197406245,14.654499158726493,20.717171376766789,26.683149727801826,34.15356662545819,28.158620369493757,24.791797800333718,30.944906830096418,24.028489477828231,16.489873093155008,16.01362084437363,13.462351985799529,10.818047477187763,19.438018312534705,22.47344820426224,25.498884724174442,25.524296040783295,25.449320345592952,23.243090217513597,21.286919685019008,16.414165666590115,13.404328195472038,10.029691851142564,11.357920005200073,13.057520632956621,16.350273962377656,18.748325463798647,18.236564657352748,15.874285841292981,19.033711047741726,{"$f":"AH20*1000/AH18","v":14.374848058479197},11.494686418834426,10.219608503660131,11.712119804760182,9.9703239846165932,9.9989723554652468,11.442851460261867,11.096713918599757,13.021074445069138,21.091924531934314,20.546108442931644,20.695103987868183,14.913308998762039,12.489404501505881,14.178792470034253,13.734744107313432,9.3209754058944583,14.402179133368637,13.337688355064468,20.279280502004781,24.971644803810737,25.201145385946482,22.665132200555689,26.226861966371803,23.482981287651192,19.154400210222779,14.438504253475232,10.325524267053501,10.177969181552429,16.80200157485439,13.232136360763523,16.297889081676296,{"$f":"BN20*1000/BN18","v":16.607263888933588},15.081685238783422,25.710228871270036,17.328699929388218,13.731524519252485,18.850198886915422,11.813889488947078,12.140540378908746,16.983808209533443,14.042432452740329,11.97966561912996,21.137786815780338,16.325731431561174,15.28291226574928,15.360786261178031,11.964917378340614,17.505512484036586,12.11758910998115,8.5069439735730796,9.6132432651370099,10.140571253544348,10.684814433839078,12.200127389237037,21.558598713402969,16.707558436208654,20.867967789333505,26.175653550375234,19.48690883385429,18.41756692109637,17.94579769444357,16.026414605795292,16.217596636738048,{"$f":"CT20*1000/CT18","v":13.490656416454399},12.03045346342849,15.62071266320155,45.006902156356489,28.877961163776714,20.27233197803028,30.346148095309896,14.899129777005843,21.828490531831637,17.542746018739237,18.262437007959861,20.765481802098837,18.709302923293276,21.89571122431003,26.770786777061812,37.318811590679701,35.983692325840579,34.691241192325336,47.246353886152605,47.320794583329423,54.107642997218427,47.869013495396729,42.088036284665684,44.311544045551948,38.595043836602301,39.804155779561782,40.824169537305579,63.725697638318103,58.436523168894901,60.511437627816335,72.840994120687412,66.140620078505762,{"$f":"DZ20*1000/DZ18","v":66.385345359102459},57.321739745069131,51.181291815656238,47.845830152559074,41.967136994032323,45.059389293899159,43.342884367370708,61.561032480928844,58.226471663445786,61.475956506177852,77.373572944410384,62.704384659739411,60.587797805864277,50.218949860374806,42.771837153383707,41.599176335285286,33.601475289587057,32.284962499439594,31.053363838826943,49.650429209894249,51.583075926547892,60.305833021459698,61.875832161481895,63.517547354077713,63.078092012248703,54.063632275112532,50.590690948047452,48.925226973971803,37.260858330991255,35.604661233610756,33.533230161876844,51.303629369062158,52.916061736075989,{"$f":"FG20*1000/FG18","v":56.98764687091942},66.687891755524419,{"$f":"FI20*1000/FI18","v":56.235270585319682},57.881927774894748,{"$f":"FK20*1000/FK18","v":46.9848422847489},{"$f":"FL20*1000/FL18","v":38.984882439479826},32.900237761088924,{"$f":"FN20*1000/FN18","v":29.81028670511483},27.524265819291003,32.256703114641105,{"$f":"FQ20*1000/FQ18","v":41.972701043246609},56.915867714912338,{"$f":"FS20*1000/FS18","v":61.254712852537196},{"$f":"FT20*1000/FT18","v":70.012077002653172},71.480765969045947,{"$f":"FV20*1000/FV18","v":71.937271432047154},{"$f":"FW20*1000/FW18","v":46.692693005650902},53.102108580250345,{"$f":"FY20*1000/FY18","v":50.978739488268111},44.367180776693658,{"$f":"GA20*1000/GA18","v":43.539534975078716},45.591587208771777,{"$f":"GC20*1000/GC18","v":67.875446475049472},72.80597609203231,{"$f":"GE20*1000/GE18","v":136.7626062878191},121.42469302519214,{"$f":"GG20*1000/GG18","v":103.72076360998098},129.73842465198831,{"$f":"GI20*1000/GI18","v":103.30135322578202},92.66201614441573,{"$f":"GK20*1000/GK18","v":63.952581928716761},48.39242249039367,{"$f":"GM20*1000/GM18","v":41.437224592128025},41.606470097000326,{"$f":"GO20*1000/GO18","v":53.011821211837173},69.984309057498805,{"$f":"GQ20*1000/GQ18","v":98.555239256482636},114.91434045552481,{"$f":"GS20*1000/GS18","v":117.396813304783},125.09326518420147,{"$f":"GU20*1000/GU18","v":99.582902226733495},75.955817437871275,{"$f":"GW20*1000/GW18","v":66.515941476686848},54.36111374071595,{"$f":"GY20*1000/GY18","v":64.264678115244251},56.621548167562075,{"$f":"HA20*1000/HA18","v":69.924720650083415},70.007881750268396,{"$f":"HC20*1000/HC18","v":74.665449909512986}]
["Days per Month",31,28,31,30,31,30,31,31,30,31,30,31,31,28,31,30,31,30,31,31,30,31,30,31,31,28,31,30,31,30,31,31,30,31,30,31,31,29,31,30,31,30,31,31,30,31,30,31,31,28,31,30,31,30,31,31,30,31,30,31,31,28,31,30,31,30,31,31,30,31,30,31,31,28,31,30,31,30,31,31,30,31,30,31,31,29,31,30,31,30,31,31,30,31,30,31,31,28,31,30,31,30,31,31,30,31,30,31,31,28,31,30,31,30,31,31,30,31,30,31,31,28,31,30,31,30,31,31,30,31,30,31,31,29,31,30,31,30,31,31,30,31,30,31,31,28,31,30,31,30,31,31,30,31,30,31,31,28,31,30,31,30,31,31,30,31,30,31,31,28,31,30,31,30,31,31,30,{"$f":"DAY(EOMONTH(FW3,0))","v":31},30,{"$f":"DAY(EOMONTH(FY3,0))","v":31},31,29,31,30,31,{"$f":"DAY(EOMONTH(GE3,0))","v":30},31,{"$f":"DAY(EOMONTH(GG3,0))","v":31},30,{"$f":"DAY(EOMONTH(GI3,0))","v":31},30,{"$f":"DAY(EOMONTH(GK3,0))","v":31},31,{"$f":"DAY(EOMONTH(GM3,0))","v":28},31,{"$f":"DAY(EOMONTH(GO3,0))","v":30},31,{"$f":"DAY(EOMONTH(GQ3,0))","v":30},31,{"$f":"DAY(EOMONTH(GS3,0))","v":31},30,{"$f":"DAY(EOMONTH(GU3,0))","v":31},30,{"$f":"DAY(EOMONTH(GW3,0))","v":31},31,{"$f":"DAY(EOMONTH(GY3,0))","v":28},31,{"$f":"DAY(EOMONTH(HA3,0))","v":30},31,{"$f":"DAY(EOMONTH(HC3,0))","v":30}]
[]
["CHANGE FROM PREVIOUS YEAR",{"$f":"B$3","v":"2005-01-15"},{"$f":"C$3","v":"2005-02-15"},"2005-03-15","2005-04-15","2005-05-15","2005-06-15","2005-07-15","2005-08-15","2005-09-15","2005-10-15","2005-11-15","2005-12-15","2006-01-15","2006-02-15","2006-03-15","2006-04-15","2006-05-15","2006-06-15","2006-07-15","2006-08-15","2006-09-15","2006-10-15","2006-11-15","2006-12-15","2007-01-15","2007-02-15","2007-03-15","2007-04-15","2007-05-15","2007-06-15","2007-07-15","2007-08-15","2007-09-15","2007-10-15","2007-11-15","2007-12-15","2008-01-15","2008-02-15","2008-03-15","2008-04-15","2008-05-15","2008-06-15","2008-07-15","2008-08-15","2008-09-15","2008-10-15","2008-11-15","2008-12-15","2009-01-15","2009-02-15","2009-03-15","2009-04-15","2009-05-15","2009-06-15","2009-07-15","2009-08-15","2009-09-15","2009-10-15","2009-11-15","2009-12-15","2010-01-15","2010-02-15","2010-03-15","2010-04-15","2010-05-15",{"$f":"BO$3","v":"2010-06-15"},"2010-07-15","2010-08-15","2010-09-15","2010-10-15","2010-11-15","2010-12-15","2011-01-15","2011-02-15","2011-03-15","2011-04-15","2011-05-15","2011-06-15","2011-07-15","2011-08-15","2011-09-15","2011-10-15","2011-11-15","2011-12-15","2012-01-15","2012-02-15","2012-03-15","2012-04-15","2012-05-15","2012-06-15","2012-07-15","2012-08-15","2012-09-15","2012-10-15","2012-11-15","2012-12-15","2013-01-15","2013-02-15","2013-03-15","2013-04-15","2013-05-15","2013-06-15","2013-07-15","2013-08-15","2013-09-15","2013-10-15","2013-11-15","2013-12-15","2014-01-15","2014-02-15","2014-03-15","2014-04-15","2014-05-15","2014-06-15","2014-07-15","2014-08-15","2014-09-15","2014-10-15","2014-11-15","2014-12-15","2015-01-15","2015-02-15","2015-03-15","2015-04-15","2015-05-15","2015-06-15","2015-07-15","2015-08-15","2015-09-15",{"$f":"EA$3","v":"2015-10-15"},"2015-11-15","2015-12-15","2016-01-15","2016-02-15","2016-03-15","2016-04-15","2016-05-15","2016-06-15","2016-07-15","2016-08-15","2016-09-15","2016-10-15","2016-11-15","2016-12-15","2017-01-15","2017-02-15","2017-03-15","2017-04-15","2017-05-15","2017-06-15","2017-07-15","2017-08-15","2017-09-15","2017-10-15","2017-11-15","2017-12-15","2018-01-15","2018-02-15","2018-03-15","2018-04-15","2018-05-15","2018-06-15","2018-07-15","2018-08-15","2018-09-15","2018-10-15","2018-11-15","2018-12-15","2019-01-15","2019-02-15","2019-03-15","2019-04-15","2019-05-15","2019-06-15","2019-07-15","2019-08-15","2019-09-15","2019-10-15","2019-11-15","2019-12-15","2020-01-15","2020-02-15","2020-03-15","2020-04-15","2020-05-15","2020-06-15","2020-07-15","2020-08-15","2020-09-15","2020-10-15","2020-11-15","2020-12-15","2021-01-15","2021-02-15","2021-03-15","2021-04-15","2021-05-15","2021-06-15","2021-07-15","2021-08-15","2021-09-15","2021-10-15","2021-11-15",{"$f":"GW$3","v":"2021-12-15"},"2022-01-15","2022-02-15","2022-03-15","2022-04-15","2022-05-15","2022-06-15"]
[{"$f":"A4","v":"SUPPLY"}]
["Gas Processing",null,null,null,null,null,null,null,null,null,null,null,null,{"$f":"N5-B5","v":-3419.3548387096744},-4000,-2870.9677419354848,-2366.6666666666715,-1225.8064516129016,1300,2000,-3967.7419354838712,-533.33333333332848,-1967.7419354838712,{"$f":"X5-L5","v":-866.66666666666424},6451.6129032258032,-1838.709677419356,-785.7142857142826,1419.3548387096744,3100,2354.8387096774168,2733.3333333333285,96.774193548386393,3451.6129032258032,{"$f":"AH5-V5","v":6100},4225.8064516129016,9666.6666666666642,3838.709677419356,6935.4838709677424,10055.418719211819,12935.48387096775,11800.000000000007,12967.741935483871,12033.333333333336,{"$f":"AR5-AF5","v":13741.93548387097},13580.645161290318,10666.666666666664,14967.741935483878,7900,9064.5161290322576,{"$f":"AX5-AL5","v":11580.645161290318},9051.7241379310362,3838.7096774193487,7100,8387.0967741935456,7833.3333333333285,9193.5483870967728,7193.5483870967728,4700,6741.9354838709696,10300,14161.290322580651,15870.967741935485,11607.142857142855,11290.322580645166,12766.666666666657,10967.741935483878,9266.6666666666715,258.06451612903038,8193.5483870967873,10133.333333333328,5741.9354838709551,4733.3333333333285,5451.6129032258032,1548.3870967741968,3857.1428571428551,7064.5161290322576,2266.6666666666715,5161.2903225806367,8400,17935.483870967742,14612.90322580644,{"$f":"CD5-BR5","v":5533.333333333343},14870.967741935485,13600,12483.870967741939,12129.032258064515,13035.71428571429,8580.6451612903184,6066.6666666666715,7032.2580645161361,3200,-1709.6774193548335,-3290.3225806451519,7266.666666666657,-967.74193548386393,-1533.3333333333285,-3548.3870967741968,-7129.0322580645152,-4607.1428571428551,-2483.8709677419392,3400,-967.74193548387848,-1233.3333333333285,2709.6774193548335,3967.7419354838639,1700,5516.1290322580608,6900,2935.4838709677424,8129.0322580645152,3607.1428571428551,6516.1290322580608,7333.3333333333285,{"$f":"DJ5-CX5","v":6322.5806451613025},16866.666666666657,15161.290322580651,17483.870967741939,14766.666666666672,16774.193548387106,7400,21709.677419354834,16580.645161290318,19964.28571428571,17903.225806451621,17200,15354.838709677409,10300,13741.93548387097,13967.741935483864,15366.666666666657,13129.032258064501,21266.666666666657,13354.838709677424,{"$f":"ED5-DR5","v":14645.161290322591},{"$f":"EE5-DS5","v":11483.990147783246},12419.354838709682,{"$f":"EG5-DU5","v":10266.666666666657},13032.258064516136,9733.3333333333285,5838.7096774193487,2516.1290322580608,1933.333333333343,2645.161290322576,4366.6666666666861,1709.6774193548481,-419.3548387096962,{"$f":"EQ5-EE5","v":3480.2955665024638},{"$f":"ER5-EF5","v":741.93548387096962},-200,-548.38709677418228,3700,3870.9677419354848,6354.8387096774532,9600,3967.7419354838785,4033.3333333333139,9677.4193548386975,11741.93548387097,7428.5714285714494,8483.8709677419101,11166.666666666657,11322.580645161273,2566.6666666666861,8064.5161290322721,10483.87096774191,9700,8225.8064516129089,9233.333333333343,8741.9354838709696,{"$f":"FN5-FB5","v":9483.8709677419392},{"$f":"FO5-FC5","v":7142.8571428571304},{"$f":"FP5-FD5","v":10612.903225806454},13133.333333333372,12903.225806451606,21033.333333333314,{"$f":"FT5-FH5","v":14838.709677419334},{"$f":"FU5-FI5","v":2645.161290322576},11366.666666666657,16096.774193548394,21833.333333333314,19612.903225806454,17645.161290322576,27603.448275862058,27548.387096774211,20866.666666666628,6709.6774193548481,14700.000000000029,20935.483870967757,25451.612903225818,17066.666666666686,11000,-1066.666666666657,-3838.7096774193633,9354.838709677424,-10782.019704433478,-6774.1935483870911,5466.6666666666861,21806.451612903242,11106.38577933333,8658.5369937242649,9832.1935005070991,8087.4488064442412,9810.573929891194,{"$f":"GV5-GJ5","v":12585.711064551142},{"$f":"GW5-GK5","v":16062.514979918109},-1484.1067693027726,11505.648451029003,3864.6519476884278,-5975.2172744165,-7449.9884143507516,-6190.151505121903]
["Refinery Production",null,null,null,null,null,null,null,null,null,null,null,null,-387.09677419354921,-1642.8571428571422,-354.8387096774195,-366.66666666666697,-612.9032258064517,1299.9999999999991,32.258064516129707,451.61290322580589,-966.66666666666697,-483.8709677419356,700,1903.2258064516136,-1483.8709677419356,1964.2857142857147,548.3870967741932,-866.66666666666606,-645.1612903225805,-1366.6666666666661,-387.0967741935483,-96.774193548387302,1299.9999999999991,1870.9677419354839,933.33333333333394,451.61290322580498,1193.5483870967746,-854.67980295566485,1096.7741935483882,2199.9999999999991,2612.9032258064508,1533.3333333333339,1064.5161290322585,322.5806451612907,566.66666666666788,1096.7741935483864,633.33333333333212,-1129.0322580645152,{"$f":"AX6-AL6","v":677.41935483871021},1104.6798029556649,483.87096774193378,-3399.9999999999991,-322.58064516128979,466.66666666666606,1354.8387096774186,354.83870967741859,-300,-2483.8709677419347,-633.33333333333212,-903.22580645161361,-354.83870967742041,-964.28571428571558,-1000,4199.9999999999991,-161.29032258064581,466.66666666666606,451.6129032258068,1483.8709677419356,1666.6666666666661,1709.6774193548381,133.33333333333212,2096.7741935483882,967.7419354838712,535.71428571428623,838.70967741935601,-1433.3333333333321,967.7419354838712,-133.33333333333212,-1258.0645161290322,-1548.3870967741932,{"$f":"CD6-BR6","v":-3266.666666666667},64.516129032257595,400,96.774193548386393,451.6129032258068,875.61576354679892,1193.5483870967746,-1266.666666666667,-2354.8387096774186,-1000,322.58064516128979,645.16129032258141,1966.666666666667,1387.0967741935492,-2766.6666666666661,0,-1548.3870967741932,-1232.7586206896558,-1838.709677419356,600,0,-1533.3333333333339,0,1064.5161290322576,400,-516.1290322580644,2400,-774.1935483870966,516.1290322580644,-2500,-645.1612903225805,3066.666666666667,{"$f":"DJ6-CX6","v":3193.5483870967746},2633.3333333333339,709.677419354839,483.8709677419356,2766.6666666666661,-1129.032258064517,-666.66666666666606,1225.8064516129034,774.1935483870966,3250,1516.1290322580653,-933.33333333333394,-1419.354838709678,-1066.6666666666679,-2483.8709677419356,-2645.1612903225805,-4433.3333333333321,387.09677419354921,333.33333333333212,-1387.0967741935492,-2387.0967741935483,-1551.7241379310344,-451.6129032258068,-1166.6666666666661,-419.35483870967801,-133.33333333333212,2516.1290322580644,483.87096774193469,2333.3333333333321,580.64516129032199,566.66666666666788,387.09677419354921,1999.9999999999991,1158.8669950738913,1645.1612903225796,1066.6666666666661,774.1935483870966,1199.9999999999982,193.54838709677279,2032.2580645161306,133.33333333333394,-354.83870967741859,-1200.0000000000018,-1032.258064516127,-2806.4516129032245,-71.428571428570649,-1774.1935483870966,-433.33333333333394,-1129.0322580645152,-1033.3333333333339,-1483.8709677419356,-2290.3225806451628,-1466.6666666666661,-2709.6774193548399,-2166.6666666666661,-225.80645161290522,451.61290322580589,-2678.5714285714284,-1258.0645161290304,-1933.3333333333321,516.1290322580644,-33.333333333330302,1258.064516129034,1935.4838709677424,400,1516.1290322580653,2766.6666666666679,1032.258064516127,709.677419354839,1418.7192118226585,-1741.9354838709687,-1566.666666666667,-2387.0967741935483,-1333.3333333333339,-1612.9032258064508,-1419.354838709678,-500.00000000000182,-258.0645161290322,-1233.3333333333348,-2129.0322580645152,-1129.032258064517,-25.862068965516301,3032.2580645161297,3333.333333333333,1096.7741935483873,1246.0213356539734,1252.5033179450638,698.30724884623305,1158.7772534570795,1875.6606655263786,1230.1584151146135,2436.4552660521185,1915.2954892619473,523.03572125808932,48.169618258074479,30.073266925421194,1410.3706851053576,466.84053198777838]
[{"$f":"A7","v":"Imports"},null,null,null,null,null,null,null,null,null,null,null,null,{"$f":"N7-B7","v":64.516129032257595},-71.428571428570649,5354.8387096774204,2766.666666666667,1612.9032258064517,833.33333333333348,1129.0322580645161,1612.9032258064512,-3533.333333333333,3258.0645161290322,4366.6666666666661,1225.8064516129034,4645.1612903225814,10178.571428571429,-258.06451612903402,-700,-1419.3548387096776,1699.9999999999995,4548.3870967741932,-451.61290322580589,3200.0000000000009,6903.2258064516118,1100,225.8064516129034,7612.9032258064508,4263.5467980295543,8419.3548387096762,9133.3333333333321,11677.41935483871,1066.666666666667,-1290.3225806451619,3806.4516129032254,1300,-3806.4516129032236,-500,774.1935483870966,{"$f":"AX7-AL7","v":-1225.8064516129052},-7084.9753694581268,-2064.5161290322576,-8566.6666666666679,-11354.83870967742,-2333.3333333333335,-3032.2580645161288,-4806.4516129032254,-5833.3333333333339,-3645.1612903225814,-2200,-2258.0645161290322,-8967.7419354838676,-4892.8571428571431,-11096.774193548386,-3499.9999999999995,-96.774193548386847,366.66666666666697,-290.322580645161,612.90322580645216,966.66666666666697,-2645.1612903225814,500,-612.90322580645261,-5451.6129032258086,1571.4285714285706,7483.8709677419347,999.99999999999955,483.87096774193515,-133.33333333333348,903.2258064516127,193.54838709677369,1633.333333333333,2258.0645161290322,2800,2870.9677419354848,4290.3225806451628,958.12807881773369,-1838.7096774193542,1733.3333333333339,32.258064516129707,900,612.9032258064517,1774.1935483870966,-733.33333333333303,-3354.8387096774195,-6366.6666666666661,-4258.0645161290322,-1741.9354838709678,863.30049261083877,-3709.6774193548381,-1833.3333333333339,-903.22580645161315,11600,-1258.0645161290322,11032.258064516129,-1033.3333333333339,2290.3225806451619,1066.6666666666661,193.54838709677279,-1161.2903225806458,-4750,129.0322580645161,-200,{"$f":"DJ7-CX7","v":5290.322580645161},-8266.6666666666679,4903.2258064516127,-6548.3870967741932,3800.0000000000009,3548.3870967741932,4766.6666666666679,4870.9677419354848,2129.0322580645152,71.428571428570649,548.3870967741932,1833.3333333333339,-2709.6774193548381,-800,-2193.5483870967737,-3129.0322580645161,-1666.6666666666679,-1967.7419354838712,-1233.3333333333339,3903.2258064516136,5774.1935483870966,10125.615763546799,6322.5806451612898,6166.6666666666652,5645.1612903225805,4699.9999999999991,7516.1290322580653,3161.2903225806449,6933.3333333333339,5161.2903225806458,2567.6666666666661,-2933.4838709677424,2809.4516129032272,3128.3842364532029,-124.03225806451519,-2127.3333333333321,458.6129032258068,-4933.3333333333321,-7838.709677419356,-6064.5161290322576,-10600,-10967.741935483871,-10867.666666666666,-12937.483870967742,-18454.612903225807,-18611.142857142859,-9940.4838709677424,-5406,-6974.7419354838712,-2000,-1000,0,0,0,0,0,3797.6893145161284,3797.6893145161284,3797.6893145161284,3797.6893145161284,3797.6893145161284,3797.6893145161284,3797.6893145161284,3797.6893145161284,3797.6893145161284,3797.6893145161284,3797.6893145161284,3797.6893145161284,-871.32250506532,-871.32250506532,-871.32250506532,-871.32250506532,-871.32250506532,-871.32250506532,-871.32250506532,-871.32250506532,-871.32250506532,-871.32250506532,-2683.5634285161286,-422.59742806451868,544.2894576459621,1545.3652865849108,-6226.3668094508084,-3451.4004405549076,924.59823384493029,-91.28073459900952,3094.1301475080472,2368.8892737730912,4797.6342646465619,7029.3218101728162,9941.5472964286382,13438.002966819349,14701.161873765415,10926.183348447472,15645.789535424788,8674.2517148296611,-185.72698759789091,-183.17259227654449]
["Net Inter-PADD Transfers (+ = Receipt)",null,null,null,null,null,null,null,null,null,null,null,null,-1667.1439533922457,-1667.1439533922457,-1667.1439533922457,-1667.1439533922457,-1667.1439533922457,-1667.1439533922457,-1667.1439533922457,-1667.1439533922457,-1667.1439533922457,-1667.1439533922457,-1667.1439533922457,-1667.1439533922457,182.50383898578002,182.50383898578002,182.50383898578002,182.50383898578002,182.50383898578002,182.50383898578002,182.50383898578002,182.50383898578002,182.50383898578002,182.50383898578002,182.50383898578002,182.50383898578002,-10955.753412554805,-10955.753412554805,-10955.753412554805,-10955.753412554805,-10955.753412554805,-10955.753412554805,-10955.753412554805,-10955.753412554805,-10955.753412554805,-10955.753412554805,-10955.753412554805,-10955.753412554805,-9173.7362602723078,-9173.7362602723078,-9173.7362602723078,-9173.7362602723078,-9173.7362602723078,-9173.7362602723078,-9173.7362602723078,-9173.7362602723078,-9173.7362602723078,-9173.7362602723078,-9173.7362602723078,-9173.7362602723078,-9886.238843719635,-9886.238843719635,-9886.238843719635,-9886.238843719635,-9886.238843719635,-9886.238843719635,-9886.238843719635,-9886.238843719635,-9886.238843719635,-9886.238843719635,-9886.238843719635,-9886.238843719635,-8248.7327577831456,-8248.7327577831456,-8248.7327577831456,-8248.7327577831456,-8248.7327577831456,-8248.7327577831456,-8248.7327577831456,-8248.7327577831456,-8248.7327577831456,-8248.7327577831456,-8248.7327577831456,-8248.7327577831456,-6529.9574155465234,-6529.9574155465234,-6529.9574155465234,-6529.9574155465234,-6529.9574155465234,-6529.9574155465234,-6529.9574155465234,-6529.9574155465234,-6529.9574155465234,-6529.9574155465234,-6529.9574155465234,-6529.9574155465234,17879.390031332543,17879.390031332543,17879.390031332543,17879.390031332543,17879.390031332543,17879.390031332543,17879.390031332543,17879.390031332543,17879.390031332543,17879.390031332543,17879.390031332543,17879.390031332543,-12526.027397260274,-12526.027397260274,-12526.027397260274,-12526.027397260274,-12526.027397260274,-12526.027397260274,-12526.027397260274,-12526.027397260274,-12526.027397260274,-12526.027397260274,-12526.027397260274,-12526.027397260274,-19534.246575342462,-19534.246575342462,-19534.246575342462,-19534.246575342462,-19534.246575342462,-19534.246575342462,-19534.246575342462,-19534.246575342462,-19534.246575342462,-19534.246575342462,-19534.246575342462,-19534.246575342462,-10430.136986301368,-10430.136986301368,-10430.136986301368,-10430.136986301368,-10430.136986301368,-10430.136986301368,-10430.136986301368,-10430.136986301368,-10430.136986301368,-10430.136986301368,-10430.136986301368,-10430.136986301368,-1767.1232876712311,-1767.1232876712311,-1767.1232876712311,-1767.1232876712311,-1767.1232876712311,-1767.1232876712311,-1767.1232876712311,-1767.1232876712311,-1767.1232876712311,-1767.1232876712311,-1767.1232876712311,-1767.1232876712311,-4100,-4100,-4100,-4100,-4100,-4100,-4100,-4100,-4100,-4100,-4100,-4100,-23102.333007248322,-23102.333007248322,-23102.333007248322,-23102.333007248322,-23102.333007248322,-23102.333007248322,-23102.333007248322,-18102.333007248322,-23102.333007248322,-17102.333007248322,-23102.333007248322,-23102.333007248322,1561.6956054350303,1561.6956054350303,1561.6956054350303,1561.6956054350303,1561.6956054350303,1561.6956054350303,1561.6956054350303,-3438.3043945649697,-42470.943429050822,3417.9033672860241,-15974.639247429412,-3755.7713690246746,-4101.4068322127569,10881.148551123304,-7197.877158607298,8762.1981753582077,2865.5242536574369,-29092.695931520022,-23314.201307864103,-23854.523888509313,20273.276436299173,-38751.054231005459,1460.305588011106,-5972.5407850173069,-10954.729959522345,-13705.658932561229,-20398.582213772956,-27346.560773544945,-39163.596529263479,416.66666666668607]
["Total Stock Change (Primary+Secondary+Tertiary)",null,null,null,null,null,null,null,null,null,null,null,null,-4833.9403446752103,251.31311154598006,-2059.7467962881137,-2729.6392694063875,166.05965532479331,-962.97260273971915,1327.3499779054364,875.73707467962868,770.36073059361206,907.99513919576475,-1662.9726027397264,-5737.1661511268194,1106.2860088799034,-7415.6033920417522,-3925.9720556362181,377.25375081539232,-538.8752814426739,-1189.4129158512774,-958.2301201523469,-2571.1333459587991,-3089.4129158512769,-1280.8107653136412,-2356.0795825179384,-3667.9075395071895,-6082.8576882358575,-3590.2468507974336,-7050.5996237197323,-4016.1910215691905,-6469.9544624294012,-5382.8576882358575,-5695.7609140423092,-5566.7286559777931,-2982.8576882358579,-4953.825430171345,-6382.8576882358575,-3760.2770430745672,696.78204065469299,-555.04538664548159,2535.4917180740481,816.13687936436327,116.13687936436645,1449.4702126976968,1212.911072912754,2051.6207503321089,816.13687936436327,-206.44376579691971,2316.1368793643665,3212.9110729127542,784.82551606590869,1815.9315068493152,5559.0190644530021,327.83626875408049,4236.4384192917114,4194.5029354207472,2655.7932580013853,2171.9222902594533,2494.5029354207472,1494.5029354207434,3294.5029354207436,-1118.4002903857081,-514.5566988616124,3069.5446836268707,-2546.8147633777376,1133.8303979125851,549.95943017064928,-566.16960208741875,-385.52444079709267,1227.378785009359,-899.5029354207536,711.24975275129486,200.4970645792514,-482.29863434547951,396.73827409886462,-1604.0165328294688,-1183.9068871914619,-272.07893020220899,138.67375796983242,-1638.7455968688719,-796.81011299790589,-893.58430654629683,-772.07893020220536,299.96408055047391,-572.07893020221036,-312.93914525597779,2653.4518320154998,2461.8103255797778,2621.1937674993742,-5115.365372285577,2427.6453804025914,3351.3012943810891,3556.6776384671089,3008.2905416929152,3717.9679610477542,2847.0002191122771,251.30129438108725,3395.3873158864717,1623.8593296098115,4874.5541411948461,-2360.205975241287,-5254.2524350785225,-10723.639827459087,-15843.383016881347,-18173.356078459736,-30765.84493680553,-27763.144446422524,-27956.411697148451,-16741.498569564708,-30510.892905838122,-7312.7605676930925,-9773.6316563690289,-4199.5763256403789,-1693.6205418464824,1529.170449771339,4038.0330999690541,3348.4137763033159,12172.925298646183,11048.1901773219,9070.820079825553,41.156469013138121,4649.9362140147641,-7311.7984975696199,-9627.7447870976175,-7860.185594343784,-5169.8630136986503,-8827.9275298276916,-4736.5296803653,-6441.5219118299865,4273.1227195356441,-297.75314381959834,3749.2372904037584,4548.8889363104754,12022.82543122238,-3607.9247050592348,-6781.7732665798103,-1291.0782421921867,2207.3988557497651,-74.047864626805676,619.82609721815606,8505.6583936217721,-1594.515201836577,1927.1871688766296,6746.3198460839812,5845.7941227272895,3846.3243919911656,13714.145506166824,16103.37653830674,8406.8243904012852,-1077.2267449989704,1931.5765629197122,7714.9336427104063,-2339.3774008985893,-935.85973162575465,-1044.2744930202534,3271.471969068818,3304.0074792701489,7703.6143062803421,19088.95232671918,23998.390472362615,14595.331303375769,14586.408240835084,6632.4902435196855,-3080.3548019840637,3825.023083418484,7450.8109019480289,5188.7513472553073,567.7737718741264,-7845.5414665355929,-10601.13119498892,-27028.349735572388,-38268.377812141254,-31604.875895251047,-25856.763619017314,-6227.1901231038028,-22066.572498724159,-23193.633269124315,-12879.829773174719,26706.05550420217,-20594.696541892084,20303.356791668477,20992.407539636988,9790.6822651463808,17185.841232940154,35172.867159894959,2805.8325718586129,-18696.066925378113,24848.566584925898,15032.9742317372,5887.7760560002534,-32677.853047720728,22057.937349781467,-15515.512627596654,-17637.198327315651,6235.0690485871091,-6921.1102887242087,2801.0239124434083,25704.115483273803,46416.756813051397,9582.819541464276]
["     TOTAL SUPPLY",null,null,null,null,null,null,null,null,null,null,null,null,-10243.019781938423,-7130.1165561319722,-1597.8584916158325,-4363.4498894653043,-1726.8907496803477,803.21677720136358,2821.4963470938419,-2694.632685164237,-5930.1165561319758,47.302798706761678,869.88344386802783,2176.3350567712696,2611.3704930269705,4124.0433040868811,-2033.7907972956054,2093.0909231344995,-66.048861811741517,2059.7575898011601,3482.3382349624626,514.5962994786023,7693.0909231345031,11901.693073672122,9526.4242564678389,1030.725331736634,-1296.6756169196888,-1081.714549066528,4445.2598669512663,8161.3888992093489,9832.3566411448228,-1705.277767457319,-3135.3852943390521,1187.1953508222214,-1405.2777674573335,-3651.5143265971055,-9305.2777674573153,-6006.3530362745223,2555.3038448985026,-6657.353075489209,-4380.1800260692289,-13224.266047574616,-12347.921961553107,-1757.5993809079409,-444.69615510149379,-4380.1800260692289,-9790.9327142412731,-8767.2768002627708,609.06728575871603,5039.1748126404636,-2553.0262308795282,-2320.3073368703335,-5133.6713921698429,3908.2640917011013,5059.8769949269408,4408.2640917011122,-6811.0907470085676,2576.0060271849834,5374.9307583677837,-3585.2842953956788,-1225.0692416322199,-4069.1552631376035,-11698.7733276125,785.0976401294356,4591.5492530326592,-5281.5690265372305,-1085.8701018060565,-681.56902653723591,8946.3879627100814,6236.710543355246,-5248.2356932039002,9656.0653820649204,8751.7643067961071,6720.5815110971744,10737.748600487826,6735.4841797028312,221.61956822974389,-268.70301241537527,-1681.6062382218443,-5068.7030124153953,-8100.9610769315223,-8294.5094640282914,1197.9636542512708,-9165.4772059637762,-17768.703012415408,-14649.348173705741,10113.487024638376,15364.599371690656,12468.325734315793,14930.691325713624,18436.067669799653,30064.024659046976,22887.680573025456,36952.196702057699,22664.024659046951,28016.712831089968,28497.357992380301,23629.616056896437,-3418.2970999085373,-11294.330398922575,-8886.233372501556,{"$f":"DI10-CW10","v":-7580.2798323388124},-8443.2156118161365,-17136.077080808296,-9925.1899273328891,-31872.517495356107,-18955.838510349451,-21288.890707311948,-17767.525966824996,-15230.46869019515,-7363.1361752936318,-6022.1639459971993,-3766.0809654989644,-3127.8671171889437,-6779.2696739582425,-7062.8801420400632,-7121.316670006905,832.22711040047943,780.61026864609448,1084.9606012572731,873.57656033733292,986.65738060778676,290.32258064516282,0,0,-333.33333333333212,-1000,-866.66666666666788,-1000.6911561958696,4.2760558149420831,472.10986987903379,1706.1970782959361,1619.7519500091366,755.97876750164869,-984.95121853692035,-781.34975622144702,-795.13701373438744,-820.39109858815209,-1156.7517974593102,-1180.6305237864181,2964.3415575634499,-1039.0578443465056,-706.60278546125846,-2375.6421512646448,-3955.6624982772846,-2213.1214763252465,95.016473908734042,749.37653830674026,1076.0179387883763,150.10658833434354,1050.3830145325919,3148.2669760437493,-858.73223960825635,3157.6886554710036,3089.0588403130896,4687.6010013268788,6270.6741459368059,12119.743338538432,9719.7925049547302,9158.0324939161183,4645.526320320987,6481.7645481029358,747.20138949714601,-1384.9984947162993,617.15358423464204,-2273.1876294938738,-2349.2256788102422,4876.0333049483743,-2550.1851592677995,-9260.6135973985511,-7983.1379255252323,-8555.8372240868266,-5108.0511819780731,-5866.3905186476404,-1214.2363775727681,-8009.5327316877119,-3180.6795235932805,6842.8013917111639,-69.543763247263996,-7306.1801958003889,-654.84588427705603,10846.296807063933,14459.371342192469,18804.473297249388,18006.687707965873,16916.630306661929,7997.2813685758701,8016.9970337941522,4723.9433830504422,-5067.3578093826472,1639.2837131263041,2022.4395243663894,9702.209736508863,8327.2341004566115,10412.689682789372,2328.0982994491133,1961.0528000417471,1086.6624170674695,1027.815566944646,4093.0026427202756]
["DEMAND"]
["  Residential and Commercial ",null,null,null,null,null,null,null,null,null,null,null,null,-10925.190897039334,-7740.8590998043146,-2280.0296067167437,-5012.2876712328871,-2763.9005744586811,287.7123287671111,1816.744586831639,-3409.0618647812789,-6678.9543378995586,-667.12638091028202,187.71232876711292,1494.1639416703511,3276.9423226648105,4718.1865622961523,-1561.7673547545419,2691.9960861056679,793.07135492287125,2791.9960861056661,4470.4907097615869,1212.4261936325656,8425.3294194390073,12599.522967826088,10191.996086105682,1599.5229678260876,-2258.2721812354248,-1939.6244774375627,3741.7278187645643,7298.7170660764095,9032.0503994097289,-2634.6162672569244,-4064.7237941386575,225.59878650648534,-2334.6162672569408,-4580.8528263967091,-10234.61626725693,-6838.9173425257432,{"$f":"AX12-AL12","v":5158.0665334438236},-4086.8484514600168,-1809.6754020400367,-10787.094756878751,-9745.1592730077828,779.57190978792278,2093.5504044115714,-1777.4173375239043,-7220.4280902120754,-6196.7721762335786,3179.5719097879119,7609.6794366696595,-3815.6795025566316,-3550.7025440313046,-6364.0665993308139,2811.2022178734605,3861.7398522820986,3177.8688845401393,-8041.4859541695369,1345.6108200240124,4111.2022178734787,-4815.6795025566498,-2455.464448793191,-5299.5504702985745,-11407.541148496515,1044.0717547292843,4850.5233676325115,-5022.5949119373818,-826.89598720620415,-522.59491193738359,8786.0072386002539,5947.2975611809015,-5289.2615786040478,9818.2653031163863,8710.7384213959594,6947.2975611808979,10363.069262062218,6356.3554530681031,-153.05977019586498,-645.53288847539079,-1991.7694476151955,-5245.5328884754163,-8024.0275121313261,-8088.5436411635746,1221.1337781912516,-9378.8662218087411,-17812.199555142091,-14959.511383099092,-7715.2403462711627,-2495.3928967240427,-5392.6597011098675,-2962.552174228169,413.79191179334157,12104.114492438515,5058.9532021159248,18639.598363406232,4637.4478257718292,10123.469331148179,10637.447825771844,5768.6306214707765,5888.288837735905,-409.4034474532491,4291.3203070783748,6261.7899762733759,{"$f":"DJ12-CX12","v":1089.176777441211},-7794.0072721961005,-650.86205420458282,-13971.391905446726,-1640.7344258164158,-3839.3780206283736,-552.42188229195744,2219.0439964884281,1257.3742226682225,1152.4939174024403,1112.4939485919094,720.60027002021525,808.9826594874794,785.58724516909206,660.48405053559145,858.19785609738756,889.37671326773489,1110.9313469541812,1315.6763382923018,1238.4345779175928,{"$f":"ED12-DR12","v":0},{"$f":"EE12-DS12","v":0},0,{"$f":"EG12-DU12","v":0},0,0,0,0,0,0,0,0,-1053.74340338412,{"$f":"EQ12-EE12","v":-965.84838547592153},{"$f":"ER12-EF12","v":-932.32638183548988},-603.89959275551155,-677.96852004656103,-658.36197565986367,3446.4808497382837,-719.21335220471883,-745.34281666804236,-2511.016842369685,-4252.6035347870384,-3037.8710200008609,-931.98622896625238,62.340595188645239,960.17692054748477,38.978643659489535,943.75941575762045,3042.4939131538595,-964.27315736659511,3046.4215596550057,3048.1080835350476,4640.0923964431349,6221.1674437203292,12066.989289508438,{"$f":"FN12-FB12","v":8290.030167684261},{"$f":"FO12-FC12","v":7925.7840366418823},{"$f":"FP12-FD12","v":3609.0050347108117},5620.262913529119,47.904777190324239,-2050.5886524186462,{"$f":"FT12-FH12","v":-42.532510890516278},{"$f":"FU12-FI12","v":-3055.2644831182188},-3251.7049567511967,3898.7790843492658,-3653.2476692432429,-10614.896291731573,-7914.3301998568131,-8498.009851949424,-5061.3704287013643,-5824.2019835480751,-1176.8571910337305,-7972.7479639309859,-3144.3929020361302,6893.7442034865999,0,-7213.1868290846178,1216.9852217215193,12217.376676301814,15511.034388407425,19048.20977139792,17783.83539051815,16489.769766342401,6995.799895244556,7751.7347203341451,4428.4575551184043,-6443.0154909727607,1101.9839386911081,2298.1811535523884,{"$f":"GV12-GJ12","v":9758.9243748620502},{"$f":"GW12-GK12","v":8411.2791687460413},10103.565389230876,2292.7861050029751,1765.0954203941365,970.94429254327406,1364.4460499773813,3928.8258722070932]
["  Chemical",null,null,null,null,null,null,null,null,null,null,null,null,0,0,0,0,0,0,0,0,0,0,0,0,0,0,0,0,0,0,0,0,0,0,0,0,467.2131147540984,467.2131147540984,467.2131147540984,467.2131147540984,467.2131147540984,467.2131147540984,467.2131147540984,467.2131147540984,467.2131147540984,467.2131147540984,467.2131147540984,467.2131147540984,-467.2131147540984,-467.2131147540984,-467.2131147540984,-467.2131147540984,-467.2131147540984,-467.2131147540984,-467.2131147540984,-467.2131147540984,-467.2131147540984,-467.2131147540984,-467.2131147540984,-467.2131147540984,595.62841530054641,595.62841530054641,595.62841530054641,595.62841530054641,595.62841530054641,595.62841530054641,595.62841530054641,595.62841530054641,595.62841530054641,595.62841530054641,595.62841530054641,595.62841530054641,-595.62841530054641,-595.62841530054641,-595.62841530054641,-595.62841530054641,-595.62841530054641,-595.62841530054641,-595.62841530054641,-595.62841530054641,-595.62841530054641,-595.62841530054641,-595.62841530054641,-595.62841530054641,0,0,0,0,0,0,0,0,0,0,0,0,0,0,0,0,0,0,0,0,0,0,0,0,0,0,0,0,0,0,0,0,0,0,0,0,0,0,0,0,0,0,0,0,0,0,0,0,0,0,0,0,0,0,0,0,0,0,0,0,0,0,0,0,0,0,0,0,0,0,0,0,0,0,0,0,0,0,0,0,0,0,0,0,0,0,0,0,0,0,0,0,0,0,0,0,0,0,0,0,0,0,0,0,0,0,0,0,0,0,0,0,0,0,0,0,0,0,0,0,0,0,0,0,0,0]
["  Farm",null,null,null,null,null,null,null,null,null,null,null,null,122.77098919990965,122.77098919990965,122.77098919990965,{"$f":"Q14-E14","v":122.77098919990965},122.77098919990965,122.77098919990965,122.77098919990965,122.77098919990965,122.77098919990965,122.77098919990965,122.77098919990965,122.77098919990965,99.069907367549376,99.069907367549376,99.069907367549376,99.069907367549376,99.069907367549376,99.069907367549376,99.069907367549376,99.069907367549376,99.069907367549376,99.069907367549376,99.069907367549376,99.069907367549376,-96.676302430941632,-96.676302430941632,-96.676302430941632,-96.676302430941632,-96.676302430941632,-96.676302430941632,-96.676302430941632,-96.676302430941632,-96.676302430941632,-96.676302430941632,-96.676302430941632,-96.676302430941632,-430.81912282064957,-430.81912282064957,-430.81912282064957,-430.81912282064957,-430.81912282064957,-430.81912282064957,-430.81912282064957,-430.81912282064957,-430.81912282064957,-430.81912282064957,-430.81912282064957,-430.81912282064957,56.671507386631447,56.671507386631447,56.671507386631447,56.671507386631447,56.671507386631447,56.671507386631447,56.671507386631447,56.671507386631447,56.671507386631447,56.671507386631447,56.671507386631447,56.671507386631447,-143.37649909973197,-143.37649909973197,-143.37649909973197,-143.37649909973197,-143.37649909973197,-143.37649909973197,-143.37649909973197,-143.37649909973197,-143.37649909973197,-143.37649909973197,-143.37649909973197,-143.37649909973197,81.474233529028083,81.474233529028083,81.474233529028083,81.474233529028083,81.474233529028083,81.474233529028083,81.474233529028083,81.474233529028083,81.474233529028083,81.474233529028083,81.474233529028083,81.474233529028083,503.39204174820611,503.39204174820611,503.39204174820611,503.39204174820611,503.39204174820611,503.39204174820611,503.39204174820611,503.39204174820611,503.39204174820611,503.39204174820611,503.39204174820611,503.39204174820611,4.0854194221592479,4.0854194221592479,4.0854194221592479,4.0854194221592479,4.0854194221592479,4.0854194221592479,4.0854194221592479,4.0854194221592479,4.0854194221592479,4.0854194221592479,4.0854194221592479,4.0854194221592479,-584.55189920693397,-584.55189920693397,-584.55189920693397,-584.55189920693397,-584.55189920693397,-584.55189920693397,-584.55189920693397,-584.55189920693397,-584.55189920693397,-584.55189920693397,-584.55189920693397,-584.55189920693397,0,0,0,0,0,0,-97.46534974425316,455.88895904074889,1205.443203212365,2254.5841750701293,1919.7519500091405,1078.559412662938,455.88895904074889,184.49862925447405,-84.514173616464973,-67.626186332342513,-84.514173616464973,-67.626186332342513,12.951176127788187,27.757010972905164,47.812473034868617,75.883832942914523,66.924888291410298,44.4175045353511,33.170866000513797,24.493096978861786,2.5260569324741482,2.6118938185290972,2.5260569324741482,2.6118938185290972,2.5260569324741482,5.4138550276086335,9.3255645492554322,14.800731638331399,13.053337886498866,8.663394285403001,34.770646915723546,25.674362162006446,16.223676703599267,16.774966688672976,16.223676703599267,16.774966688672976,16.223676703599267,34.770646915723546,59.893719092656056,95.058144569146862,83.835455587287925,55.640910636373064,-22.106679712981077,-16.323392041748093,-10.314781474233541,-10.665283757338557,-10.314781474233541,-10.665283757338557,-10.314781474233541,-22.106679712981077,-38.079569471624154,-60.436607958251443,-1593.5911447259386,-322.1386639868831,246.65356891741567,540.07062086586484,497.99659143639803,222.57548874372981,355.77064029066378,-473.99570505663741,-458.38893831523166,905.34782131695079,327.16802376714418,-377.70944664743138,-26.397232164096067,-53.727662100336147,335.84658885149611,62.034489739138962,222.67967494061213,142.44041981719704,-309.90818773973399,190.89906580618475]
["  Other",null,null,null,null,null,null,null,null,null,null,null,null,{"$f":"N15-B15","v":559.40012590100196},559.40012590100196,559.40012590100196,559.40012590100196,559.40012590100196,559.40012590100196,559.40012590100196,559.40012590100196,559.40012590100196,559.40012590100196,559.40012590100196,559.40012590100196,-764.64173700538413,-764.64173700538413,-764.64173700538413,-764.64173700538413,-764.64173700538413,-764.64173700538413,-764.64173700538413,-764.64173700538413,-764.64173700538413,-764.64173700538413,-764.64173700538413,-764.64173700538413,558.80168747644848,558.80168747644848,558.80168747644848,558.80168747644848,558.80168747644848,558.80168747644848,558.80168747644848,558.80168747644848,558.80168747644848,558.80168747644848,558.80168747644848,558.80168747644848,-1672.4723864544458,-1672.4723864544458,-1672.4723864544458,-1672.4723864544458,-1672.4723864544458,-1672.4723864544458,-1672.4723864544458,-1672.4723864544458,-1672.4723864544458,-1672.4723864544458,-1672.4723864544458,-1672.4723864544458,578.0952844737908,578.0952844737908,578.0952844737908,578.0952844737908,578.0952844737908,578.0952844737908,578.0952844737908,578.0952844737908,578.0952844737908,578.0952844737908,578.0952844737908,578.0952844737908,480.03079980043094,480.03079980043094,480.03079980043094,480.03079980043094,480.03079980043094,480.03079980043094,480.03079980043094,480.03079980043094,480.03079980043094,480.03079980043094,480.03079980043094,480.03079980043094,228.88467058056131,228.88467058056131,228.88467058056131,228.88467058056131,228.88467058056131,228.88467058056131,228.88467058056131,228.88467058056131,228.88467058056131,228.88467058056131,228.88467058056131,228.88467058056131,-162.16634050880657,-162.16634050880657,-162.16634050880657,-162.16634050880657,-162.16634050880657,-162.16634050880657,-162.16634050880657,-162.16634050880657,-162.16634050880657,-162.16634050880657,-162.16634050880657,-162.16634050880657,65.965933364286229,65.965933364286229,65.965933364286229,{"$f":"DI15-CW15","v":65.965933364286229},65.965933364286229,65.965933364286229,65.965933364286229,65.965933364286229,65.965933364286229,65.965933364286229,65.965933364286229,65.965933364286229,42.452121251963035,42.452121251963035,42.452121251963035,42.452121251963035,42.452121251963035,42.452121251963035,42.452121251963035,42.452121251963035,42.452121251963035,42.452121251963035,42.452121251963035,42.452121251963035,0,0,0,0,0,0,0,0,0,0,0,0,0,0,221.70354171756344,-82.198652833631513,-362.01103928015846,-421.30902846087929,-430.57433927036709,-250.82730956630667,-85.904777157426452,-17.341477167217818,219.85047955566597,703.49970381092135,916.99950154513135,585.71051080989128,36.482625979078875,31.683715526981814,27.265206513160138,26.328833742019015,26.182525496528342,29.020905459049118,31.625192228785181,32.707873245416522,36.453364329980559,44.090654744599306,1460.8651215744967,1272.4475263319873,1086.1710401263258,910.60009910489725,748.94636682297232,714.68862223342558,709.33584964130887,813.17963792837327,908.45899006805075,948.06950724971466,1085.1004856079021,1364.5152149163951,-46.701045955441259,-41.503980095663792,-36.365971802474178,-31.523251342227468,-27.064405064804305,-26.119483999390468,-25.971840082919243,-28.836132062455818,-31.464193775638705,-32.556758757523767,-267.28105716304162,-1037.9823011414087,-1287.3577110227761,-772.84819090480414,-264.18536987908328,215.24395568539057,656.66973715024096,750.21692262623583,764.83367035685978,481.26876438275076,221.09065477763988,112.92672157102106,-30.317406189096346,-30.317406189096346,-26.722295293002389,-26.722295293002389,-26.722295293002389,-26.722295293002389,-26.722295293002389,-26.722295293002389]
["     US DOMESTIC CONSUMPTION",null,null,null,null,null,null,null,null,null,null,null,null,-10243.019781938427,-7058.687984703407,-1597.8584916158325,-4330.1165561319758,-2081.7294593577681,969.88344386802055,2498.9157019325503,-2726.8907496803658,-5996.7832227986473,15.044734190629242,869.88344386802419,2176.3350567712623,2611.3704930269741,4052.6147326583159,-2227.3391843923746,2026.4242564678352,127.49952528503491,2126.4242564678316,3804.9188801237506,546.8543639947311,7759.7575898011746,11933.951138188255,9526.4242564678425,933.95113818825484,-1328.9336814358176,-1010.2859776379555,4671.0663185641679,8228.0555658760131,9961.3888992093343,-1705.277767457319,-3135.3852943390521,1154.9372863060889,-1405.2777674573372,-3651.5143265971055,-9305.277767457319,-5909.5788427261396,{"$f":"AX16-AL16","v":2587.5619094146314},-6657.353075489209,-4380.1800260692289,-13357.599380907941,-12315.663897036975,-1790.9327142412694,-476.95421961762258,-4347.9219615530965,-9790.9327142412658,-8767.2768002627708,609.06728575871966,5039.1748126404673,-2585.2842953956642,-2320.3073368703372,-5133.6713921698429,4041.5974250344261,5092.135059443066,4408.2640917011049,-6811.0907470085676,2576.0060271849798,5341.597425034448,-3585.2842953956788,-1225.0692416322236,-4069.1552631376035,-11666.515263096364,785.0976401294356,4591.5492530326592,-5281.5690265372286,-1085.8701018060528,-781.56902653723228,8527.0331240004034,5688.3234465810528,-5548.2356932038965,9559.291188516534,8451.7643067961108,6688.3234465810456,10673.428166171809,6666.7143571776942,157.29913391372611,-335.1739843657997,-1681.4105435056044,-4935.1739843658233,-7713.6686080217332,-7778.1847370539836,1531.4926823008391,-9068.50731769915,-17501.8406510325,-14649.152478989501,-7374.0146450317625,-2154.1671954846424,-5051.4339998704672,-2621.3264729887705,755.01761303274179,12445.340193677914,5400.178903355325,18980.824064645632,4978.6735270112295,10464.695032387579,10978.673527011248,6109.8563227101768,5958.3401905223473,-339.35209466680317,4361.3716598648207,6331.8413290598182,1159.2281302276569,-7723.9559194096582,-580.81070141814052,-13901.34055266028,-1570.6830730299698,-3769.3266678419277,-482.37052950551879,2289.0953492748704,715.27444471325362,610.39413944746775,570.39417063693691,178.50049206524636,266.88288153250687,243.48746721412317,118.38427258062438,316.09807814241503,347.27693531276236,568.83156899920868,773.57656033733656,696.33479996262395,0,0,0,0,0,0,-97.465349744255946,455.88895904074889,1205.4432032123659,2254.5841750701293,1919.7519500091366,1078.5594126629403,-597.85444434337114,-781.34975622144702,-795.13701373438744,-753.72443192148421,-1124.4937329431814,-1147.2971904530859,3028.8576865957075,-942.2836507981192,-783.43512079060019,-2452.4744865939865,-3965.8281669399621,-2289.9538116545882,18.184138579392311,672.54420297739853,999.18560345903461,73.27425300500181,973.55067920325018,3071.4346407144076,-935.56457493759808,3080.8563201416619,3089.0588403130896,4687.6010013268824,6270.6741459368095,12119.743338538436,9785.6659361744823,9223.9059251358703,4711.3997515407391,6547.6379793226879,813.0748207168981,-1319.1250634965472,683.02701545439413,-2207.3141982741217,-2283.3522475904902,4941.9067361681227,-2484.311728048051,-9194.7401661788026,-7983.1379255252323,-8555.8372240868266,-5108.0511819780731,-5866.3905186476404,-1214.2363775727681,-8009.5327316877137,-3180.6795235932805,6842.8013917111639,-69.543763247263996,-7306.1801958003889,-643.88698016746639,10857.255711173522,14470.330246302059,18815.432201358977,18017.646612075463,16927.589210771519,8008.2402726854598,8027.9559379037437,4734.9022871600318,-5056.3989052730576,1650.2426172358937,2033.398428475979,9702.209736508863,8327.2341004566115,10412.689682789372,2328.0982994491133,1961.0528000417471,1086.6624170674695,1027.815566944646,4093.0026427202756]
["EXPORTS",null,null,null,null,null,null,null,null,null,null,null,null,{"$f":"N17-B17","v":0},-71.428571428571431,0,-33.333333333333336,354.83870967741939,-166.66666666666669,322.58064516129031,32.258064516129032,66.666666666666671,32.258064516129032,0,0,0,71.428571428571431,193.54838709677421,66.666666666666671,-193.54838709677421,-66.666666666666671,-322.58064516129031,-32.258064516129032,-66.666666666666671,-32.258064516129032,0,96.774193548387103,32.258064516129032,-71.428571428571431,-225.80645161290323,-66.666666666666671,-129.03225806451616,0,0,32.258064516129032,0,0,0,-96.774193548387103,{"$f":"AX17-AL17","v":-32.258064516129032},0,0,133.33333333333334,-32.258064516129032,33.333333333333336,32.258064516129032,-32.258064516129032,0,0,0,0,32.258064516129032,0,0,-133.33333333333334,-32.258064516129032,0,0,0,33.333333333333336,0,0,0,-32.258064516129032,0,0,0,0,100,419.35483870967744,548.38709677419354,{"$f":"CD17-BR17","v":300},96.774193548387103,300,32.258064516129032,64.516129032258064,68.965517241379317,64.516129032258064,66.666666666666671,0,-133.33333333333334,-387.09677419354841,-516.12903225806451,-333.33333333333331,-96.774193548387103,-266.66666666666669,0,-64.516129032258064,-33.251231527093601,-32.258064516129032,0,129.03225806451613,66.666666666666671,-64.516129032258064,419.35483870967744,133.33333333333334,0,-33.333333333333336,-32.258064516129032,0,35.714285714285715,-32.258064516129032,-66.666666666666671,{"$f":"DJ17-CX17","v":-129.03225806451613},0,0,-419.35483870967744,166.66666666666666,32.258064516129032,266.66666666666669,32.258064516129032,96.774193548387103,-71.428571428571431,0,400,1032.258064516129,833.33333333333337,967.74193548387098,516.12903225806451,433.33333333333337,516.12903225806451,100,290.32258064516128,290.32258064516134,0,0,-333.33333333333331,-1000,-866.66666666666663,-903.22580645161293,-451.61290322580646,-733.33333333333337,-548.38709677419354,-300,-322.58064516129031,-387.09677419354841,0,0,-66.666666666666671,-32.258064516129032,-33.333333333333336,-64.516129032258064,-96.774193548387103,76.832335329341319,76.832335329341319,10.165668662674648,76.832335329341319,76.832335329341319,76.832335329341319,76.832335329341319,76.832335329341319,76.832335329341319,76.832335329341319,76.832335329341319,76.832335329341319,0,0,0,0,-65.873431219752277,-65.873431219752277,-65.873431219752277,-65.873431219752277,-65.873431219752277,-65.873431219752277,-65.873431219752277,-65.873431219752277,-65.873431219752277,-65.873431219752277,-65.873431219752277,-65.873431219752277,0,0,0,0,0,0,0,0,0,0,-10.95890410958904,-10.95890410958904,-10.95890410958904,-10.95890410958904,-10.95890410958904,-10.95890410958904,-10.95890410958904,-10.95890410958904,-10.95890410958904,-10.95890410958904,-10.95890410958904,-10.95890410958904,0,0,0,0,0,0,0,0]
["     TOTAL DEMAND",null,null,null,null,null,null,null,null,null,null,null,null,-10243.019781938427,-7130.1165561319795,-1597.8584916158325,-4363.4498894653079,-1726.8907496803477,803.21677720135631,2821.4963470938419,-2694.632685164237,-5930.1165561319795,47.30279870675804,869.88344386802419,2176.3350567712623,2611.3704930269741,4124.0433040868884,-2033.7907972956018,2093.0909231345031,-66.048861811741517,2059.7575898011637,3482.338234962459,514.5962994786023,7693.0909231345067,11901.693073672126,9526.4242564678425,1030.7253317366412,-1296.6756169196888,-1081.714549066528,4445.2598669512663,8161.3888992093453,9832.3566411448192,-1705.277767457319,-3135.3852943390521,1187.1953508222177,-1405.2777674573372,-3651.5143265971055,-9305.277767457319,-6006.3530362745259,{"$f":"AX18-AL18","v":2555.3038448985026},-6657.353075489209,-4380.1800260692289,-13224.266047574609,-12347.921961553104,-1757.5993809079373,-444.69615510149379,-4380.1800260692253,-9790.9327142412658,-8767.2768002627708,609.06728575871966,5039.1748126404673,-2553.0262308795354,-2320.3073368703372,-5133.6713921698429,3908.264091701094,5059.8769949269372,4408.2640917011049,-6811.0907470085676,2576.0060271849798,5374.9307583677801,-3585.2842953956788,-1225.0692416322236,-4069.1552631376035,-11698.773327612493,785.0976401294356,4591.5492530326592,-5281.5690265372286,-1085.8701018060528,-681.56902653723228,8946.3879627100814,6236.710543355246,-5248.2356932038965,9656.0653820649204,8751.7643067961108,6720.5815110971744,10737.944295204066,6735.6798744190746,221.8152629459837,-268.50731769913364,-1681.4105435056044,-5068.5073176991555,-8100.7653822152824,-8294.313769312048,1198.159348967507,-9165.2815112475364,-17768.507317699168,-14649.152478989501,-7438.5307740640201,-2187.4184270117366,-5083.692064386596,-2621.3264729887705,884.04987109725698,12512.006860344582,5335.6627743230674,19400.178903355307,5112.0068603445616,10464.695032387579,10945.340193677916,6077.598258194048,5958.3401905223473,-303.63780895251693,4329.1135953486919,6265.1746623931522,{"$f":"DJ18-CX18","v":1030.1958721631418},-7723.9559194096582,-580.81070141814052,-14320.695391369954,-1404.0164063633019,-3737.0686033257989,-215.70386283885091,2321.3534137909992,812.04863826164001,538.96556801889528,570.39417063693691,578.50049206524636,1299.1409460486357,1076.8208005474553,1086.1262080644956,832.22711040047943,780.61026864609448,1084.9606012572731,873.57656033733292,986.65738060778676,290.32258064516282,0,0,-333.33333333333212,-1000,-866.66666666666788,-1000.6911561958696,4.2760558149420831,472.10986987903379,1706.1970782959361,1619.7519500091366,755.97876750164869,-984.95121853692035,-781.34975622144702,-795.13701373438744,-820.39109858815209,-1156.7517974593102,-1180.6305237864181,2964.3415575634499,-1039.0578443465056,-706.60278546125846,-2375.6421512646448,-3955.6624982772846,-2213.1214763252465,95.016473908734042,749.37653830674026,1076.0179387883763,150.10658833434354,1050.3830145325919,3148.2669760437493,-858.73223960825635,3157.6886554710036,3089.0588403130896,4687.6010013268788,6270.6741459368059,12119.743338538432,9719.7925049547302,9158.0324939161183,4645.526320320987,6481.7645481029358,747.20138949714601,-1384.9984947162993,617.15358423464204,-2273.1876294938738,-2349.2256788102422,4876.0333049483743,-2550.1851592677995,-9260.6135973985511,-7983.1379255252323,-8555.8372240868266,-5108.0511819780731,-5866.3905186476404,-1214.2363775727681,-8009.5327316877137,-3180.6795235932805,6842.8013917111639,-69.543763247263996,-7306.1801958003889,-654.84588427705603,10846.296807063933,14459.371342192469,18804.473297249388,18006.687707965873,16916.630306661929,7997.2813685758701,8016.997033794154,4723.9433830504422,-5067.3578093826472,1639.2837131263041,2022.4395243663894,9702.209736508863,8327.2341004566115,10412.689682789372,2328.0982994491133,1961.0528000417471,1086.6624170674695,1027.815566944646,4093.0026427202756]
[]
["INVENTORIES (End of Month, Thousand Barrels)",null,null,null,null,null,null,null,null,null,null,null,null,-19.000000000000114,-53,-19,34,-1,-1,-72,-129,-181,-239,-217.99999999999989,-70,-166.99999999999989,-16,43,-29,-75,-100,-133,-116,-84,-107,-97.000000000000114,-46,-15,-57,4,-28,15,24,43,58,-5,-9,30,-11,{"$f":"AX20-AL20","v":2},49,5,14,45,35,32,3,12,53,17,-48,5,24,-71,-6,-60,-111,-116,-106,-106,-75,-99,13,30,-55,25,-8,-24,-6,7,-30,-2,-23,-28,-12,-41,-11,9,1,-20,13,21,32,39,13,14,7,9,16,19,254,263,244,218,209,179,175,249,228,243,282,380,132,{"$f":"DJ20-CX20","v":182},146,290,517,727,784,775,773,651,540,417,552,557,607,545,479,340,327,342,156,{"$f":"ED20-DR20","v":120},155,72,{"$f":"EG20-DU20","v":-64},-63,-32,10,-80,-112,-121,-213,-167,-303,{"$f":"EQ20-EE20","v":-402},{"$f":"ER20-EF20","v":-376},-276,-204,-96,-100,-47,17,-10,75,130,118,122,105,39,83,113,45,15,54,19,-118,-87,{"$f":"FN20-FB20","v":56},{"$f":"FO20-FC20","v":14},{"$f":"FP20-FD20","v":113},94,129,14,{"$f":"FT20-FH20","v":111},{"$f":"FU20-FI20","v":226},212,218,394,295,244,246,214,264,267,549,694,1458,1422,1396,1322,1124,833,716,636,604,500,264.06338227640208,426.76937396046651,-183.90117410096991,90.383018981304758,87.292602125269241,{"$f":"GV20-GJ20","v":163.97203314895341},{"$f":"GW20-GK20","v":666.72518129573882},849.97265446723213,1265.1716671418744,807.9033976569026,695.24149882704432,72.642320314055723,-214.84226592987238]
["Days of Forward Supply",null,null,null,null,null,null,null,null,null,null,null,null,3.4101701036887597,1.1621189550200466,-5.2493720218482309E-2,4.7835191538082125,1.7562768274954514,-1.1842650036273845,-8.6292705846748952,-2.7093000239008056,-1.5487075828201213,-9.65798714507741,-7.6143238112381155,-3.0855448976829702,-5.983928993231066,-2.1044319805994558,2.2394731557688576,-3.087744350157049,-3.7251227404635934,-7.2623200668216938,-9.650010199490314,-6.4156092978512262,-8.8682421590344003,-9.7922332661845815,-6.1945571629299838,-1.6922083907118566,-5.9367866525970925E-2,-1.3589476497348265,-1.6146691726947537,-5.2535600437778989,-5.7272510187295094,2.8553598745815663,4.671822601638663,1.6613929401264578,0.53846094028284242,0.99471808267145434,3.9591839663741215,2.0226243025532504,-0.64934857872213492,4.4032067779033905,1.8948368948026015,9.1825665834050234,11.950570358741599,4.1092208540121682,2.1190237576240456,5.5317579785036202,8.5696722888891532,6.6649957087168978,0.259711783440979,-3.4092198402599312,0.85699377565797086,2.3998224414857532,-0.10555199430094575,-3.9813914203284853,-8.3643809148771489,-10.119460147163061,3.0450966707143472,-8.8981620369835852,-9.7514567683987075,-0.30420132330735683,-2.6246147645281539,1.815016111855245,6.8058390279810137,-2.7595691221140619,-1.2524707416335623,4.8398977341040421,-0.28153245737241406,0.20122702696585826,-10.349442610092005,-5.3637825510476045,3.7739879647841015,-6.7326097769342717,-3.3069455153739984,-2.5272971137717359,-6.8432369559890951,-3.3576180189012508,0.22046177010707702,0.42081189762263094,0.38182700464748009,5.5850555235842254,10.814867289197203,7.5219914555136764,0.9120544370597834,5.8282085844624199,7.5194706322222125,6.6043533716010376,3.3500851629100517,1.3456390295894121,3.4205852739645124,23.44830344295352,12.17040272756806,-0.59563581130322518,4.1704945449346624,-4.5877790568484471,3.4109236107352672,-0.40305167570433298,2.2360224021645685,4.547885165360789,5.2186465068388763,9.8652577608815406,11.150074113860262,-7.6880905656767879,7.105731162063865,14.418909214295056,16.900205790842708,32.421664806323577,32.279152465386787,30.326267476657492,23.825599276705823,23.546062243453111,19.885740913309025,17.908444555251751,14.053382760243768,26.406886047638402,22.452830843054322,25.820196435490999,25.594640234534808,18.819825495176339,12.277702361884032,9.452726249672402,9.0932555309905538,3.5342861070071265,3.3720931574300224,5.2552335143373767,2.5187148300651288,-2.1646651573892584,-0.21005150544911544,0.96451887836151684,4.5325788237229716,-3.4362354187663513,-5.7975475532381822,-7.1027898846943245,-8.4094546622725304,-6.2466538172737884,-8.3656617044452659,{"$f":"EQ21-EE21","v":-12.774426794459565},-12.289520528543765,-11.910603271034596,-6.6433957368978938,-1.1701234847181539,-15.497740782928489,0.81316269433830257,2.4902942063844264,3.8446824147377257,7.8188537946637453,7.3260506386865174,3.6593830414041975,3.3196987341711619,2.479866323049901,1.6532001591679091,1.3329858095280969,-3.3181861505402779,4.8120595940425233,-7.282276768758031,-5.1961642373539547,-7.0787899903636315,-11.605808508567627,-16.024989212882879,-7.4505716258764245,-8.0803954143197529,-1.2765270472357386,-9.3309283258155489,3.9998059788363491,4.2670659816177761,3.324185247128753,15.245495383726265,14.055343657152406,-0.29214927909799826,14.117226140770519,18.078501727179187,14.556894071578828,16.015269155787713,13.334884094130672,25.902745431802863,15.890108377119972,75.5078934352819,51.41261602253897,32.23999764093503,57.801153219941156,56.608660220131121,39.559907564165385,12.973842440448649,4.0252417137000123,-2.1023103829506908,-3.9851171117714514,-14.863625263212299,-2.8216670345335046,-38.20736703133646,-6.510352569667333,13.676049694802018,-4.64515946778684,-3.7184509990485282,-16.706198706544455,2.5633595479700872,5.96869125032228,22.827453523116226,15.015078070561749,16.912899438246242,2.3572692769590731E-2,-23.88978934696965]
[]
["CHANGE FROM PREVIOUS FCST"]
[null,{"$f":"B$3","v":"2005-01-15"},{"$f":"C$3","v":"2005-02-15"},"2005-03-15","2005-04-15","2005-05-15","2005-06-15","2005-07-15","2005-08-15","2005-09-15","2005-10-15","2005-11-15","2005-12-15","2006-01-15","2006-02-15","2006-03-15","2006-04-15","2006-05-15","2006-06-15","2006-07-15","2006-08-15","2006-09-15","2006-10-15","2006-11-15","2006-12-15","2007-01-15","2007-02-15","2007-03-15","2007-04-15","2007-05-15","2007-06-15","2007-07-15","2007-08-15","2007-09-15","2007-10-15","2007-11-15","2007-12-15","2008-01-15","2008-02-15","2008-03-15","2008-04-15","2008-05-15","2008-06-15","2008-07-15","2008-08-15","2008-09-15","2008-10-15","2008-11-15","2008-12-15","2009-01-15","2009-02-15","2009-03-15","2009-04-15","2009-05-15","2009-06-15","2009-07-15","2009-08-15","2009-09-15","2009-10-15","2009-11-15","2009-12-15","2010-01-15","2010-02-15","2010-03-15","2010-04-15","2010-05-15",{"$f":"BO$3","v":"2010-06-15"},"2010-07-15","2010-08-15","2010-09-15","2010-10-15","2010-11-15","2010-12-15","2011-01-15","2011-02-15","2011-03-15","2011-04-15","2011-05-15","2011-06-15","2011-07-15","2011-08-15","2011-09-15","2011-10-15","2011-11-15","2011-12-15","2012-01-15","2012-02-15","2012-03-15","2012-04-15","2012-05-15","2012-06-15","2012-07-15","2012-08-15","2012-09-15","2012-10-15","2012-11-15","2012-12-15","2013-01-15","2013-02-15","2013-03-15","2013-04-15","2013-05-15","2013-06-15","2013-07-15","2013-08-15","2013-09-15","2013-10-15","2013-11-15","2013-12-15","2014-01-15","2014-02-15","2014-03-15","2014-04-15","2014-05-15","2014-06-15","2014-07-15","2014-08-15","2014-09-15","2014-10-15","2014-11-15","2014-12-15","2015-01-15","2015-02-15","2015-03-15","2015-04-15","2015-05-15","2015-06-15","2015-07-15","2015-08-15","2015-09-15",{"$f":"EA$3","v":"2015-10-15"},"2015-11-15","2015-12-15","2016-01-15","2016-02-15","2016-03-15","2016-04-15","2016-05-15","2016-06-15","2016-07-15","2016-08-15","2016-09-15","2016-10-15","2016-11-15","2016-12-15","2017-01-15","2017-02-15","2017-03-15","2017-04-15","2017-05-15","2017-06-15","2017-07-15","2017-08-15","2017-09-15","2017-10-15","2017-11-15","2017-12-15","2018-01-15","2018-02-15","2018-03-15","2018-04-15","2018-05-15","2018-06-15","2018-07-15","2018-08-15","2018-09-15","2018-10-15","2018-11-15","2018-12-15","2019-01-15","2019-02-15","2019-03-15","2019-04-15","2019-05-15","2019-06-15","2019-07-15","2019-08-15","2019-09-15","2019-10-15","2019-11-15","2019-12-15","2020-01-15","2020-02-15","2020-03-15","2020-04-15","2020-05-15","2020-06-15","2020-07-15","2020-08-15","2020-09-15","2020-10-15","2020-11-15","2020-12-15","2021-01-15","2021-02-15","2021-03-15","2021-04-15","2021-05-15","2021-06-15","2021-07-15","2021-08-15","2021-09-15","2021-10-15",{"$f":"GV$3","v":"2021-11-15"},"2021-12-15","2022-01-15","2022-02-15","2022-03-15","2022-04-15","2022-05-15"]
[{"$f":"A4","v":"SUPPLY"}]
["Gas Processing",null,null,null,null,null,null,null,null,null,null,null,null,null,null,null,null,null,null,null,null,null,null,null,null,null,null,null,null,null,null,null,null,null,null,null,null,null,null,null,null,null,null,null,null,null,null,null,null,null,null,null,null,null,null,null,null,null,null,null,null,null,null,null,null,null,null,null,null,null,null,null,null,null,null,null,null,null,null,null,null,null,null,null,null,null,null,null,null,null,null,null,null,null,null,null,null,null,null,null,null,null,null,null,null,null,null,null,null,{"$f":"DF5-DF68","v":0},0,0,0,0,0,0,0,0,0,0,0,0,0,0,0,0,0,0,0,0,0,0,0,{"$f":"ED5-ED68","v":0},0,0,0,0,0,0,0,0,0,0,0,0,0,0,0,0,0,0,0,0,0,0,0,0,0,0,0,{"$f":"FF5-FF68","v":0},0,{"$f":"FH5-FH68","v":0},0,{"$f":"FJ5-FJ68","v":0},0,{"$f":"FL5-FL68","v":0},0,{"$f":"FN5-FN68","v":0},0,{"$f":"FP5-FP68","v":0},0,{"$f":"FR5-FR68","v":0},0,{"$f":"FT5-FT68","v":0},0,{"$f":"FV5-FV68","v":0},0,{"$f":"FX5-FX68","v":0},0,{"$f":"FZ5-FZ68","v":0},0,{"$f":"GB5-GB68","v":0},0,{"$f":"GD5-GD68","v":0},0,{"$f":"GF5-GF68","v":0},0,{"$f":"GH5-GH68","v":0},0,{"$f":"GJ5-GJ68","v":0},0,{"$f":"GL5-GL68","v":0},0,{"$f":"GN5-GN68","v":0},0,{"$f":"GP5-GP68","v":19769.711056129046},12144.441878000041,{"$f":"GR5-GR68","v":14345.878576039104},14366.462944565195,{"$f":"GT5-GT68","v":14345.512524780381},14313.499997936073,{"$f":"GV5-GV68","v":14314.403875289805},14294.251480748993,{"$f":"GX5-GX68","v":14080.521272453014},14071.344974651875,{"$f":"GZ5-GZ68","v":14141.761599561985},14109.277517532901,{"$f":"HB5-HB68","v":14130.941745364602}]
["Refinery Production",null,null,null,null,null,null,null,null,null,null,null,null,null,null,null,null,null,null,null,null,null,null,null,null,null,null,null,null,null,null,null,null,null,null,null,null,null,null,null,null,null,null,null,null,null,null,null,null,null,null,null,null,null,null,null,null,null,null,null,null,null,null,null,null,null,null,null,null,null,null,null,null,null,null,null,null,null,null,null,null,null,null,null,null,null,null,null,null,null,null,null,null,null,null,null,null,null,null,null,null,null,null,null,null,null,null,null,null,{"$f":"DF6-DF69","v":0},0,0,0,0,0,0,0,0,0,0,0,0,0,0,0,0,0,0,0,0,0,0,0,{"$f":"ED6-ED69","v":0},0,0,0,0,0,0,0,0,0,0,0,0,0,0,0,0,0,0,0,0,0,0,0,0,0,0,0,{"$f":"FF6-FF69","v":0},0,{"$f":"FH6-FH69","v":0},0,{"$f":"FJ6-FJ69","v":0},0,{"$f":"FL6-FL69","v":0},0,{"$f":"FN6-FN69","v":0},0,{"$f":"FP6-FP69","v":0},0,{"$f":"FR6-FR69","v":0},0,{"$f":"FT6-FT69","v":0},0,{"$f":"FV6-FV69","v":0},0,{"$f":"FX6-FX69","v":0},0,{"$f":"FZ6-FZ69","v":0},0,{"$f":"GB6-GB69","v":0},0,{"$f":"GD6-GD69","v":0},0,{"$f":"GF6-GF69","v":0},0,{"$f":"GH6-GH69","v":0},0,{"$f":"GJ6-GJ69","v":0},0,{"$f":"GL6-GL69","v":0},0,{"$f":"GN6-GN69","v":0},0,{"$f":"GP6-GP69","v":-959.07819023814409},355.46575629721519,{"$f":"GR6-GR69","v":391.20330903003014},380.13005316921226,{"$f":"GT6-GT69","v":388.83883557254558},363.36944691730423,{"$f":"GV6-GV69","v":349.22234797636156},379.90702295497795,{"$f":"GX6-GX69","v":344.05838735578254},337.96120845570294,{"$f":"GZ6-GZ69","v":351.6460747944966},439.22897514626129,{"$f":"HB6-HB69","v":367.99567770473914}]
[{"$f":"A7","v":"Imports"},null,null,null,null,null,null,null,null,null,null,null,null,null,null,null,null,null,null,null,null,null,null,null,null,null,null,null,null,null,null,null,null,null,null,null,null,null,null,null,null,null,null,null,null,null,null,null,null,null,null,null,null,null,null,null,null,null,null,null,null,null,null,null,null,null,null,null,null,null,null,null,null,null,null,null,null,null,null,null,null,null,null,null,null,null,null,null,null,null,null,null,null,null,null,null,null,null,null,null,null,null,null,null,null,null,null,null,null,{"$f":"DF7-DF70","v":0},0,0,0,0,0,0,0,0,0,0,0,0,0,0,0,0,0,0,0,0,0,0,0,{"$f":"ED7-ED70","v":0},0,0,0,0,0,0,0,0,0,0,0,0,0,0,0,0,0,0,0,0,0,0,0,0,0,0,0,{"$f":"FF7-FF70","v":0},0,{"$f":"FH7-FH70","v":0},0,{"$f":"FJ7-FJ70","v":0},0,{"$f":"FL7-FL70","v":0},0,{"$f":"FN7-FN70","v":0},0,{"$f":"FP7-FP70","v":0},0,{"$f":"FR7-FR70","v":0},0,{"$f":"FT7-FT70","v":0},0,{"$f":"FV7-FV70","v":0},0,{"$f":"FX7-FX70","v":0},0,{"$f":"FZ7-FZ70","v":0},0,{"$f":"GB7-GB70","v":0},0,{"$f":"GD7-GD70","v":0},0,{"$f":"GF7-GF70","v":0},0,{"$f":"GH7-GH70","v":0},0,{"$f":"GJ7-GJ70","v":0},0,{"$f":"GL7-GL70","v":0},0,{"$f":"GN7-GN70","v":0},-1363.6101644184764,{"$f":"GP7-GP70","v":4598.4760110163788},4803.7408661747504,{"$f":"GR7-GR70","v":4743.3495878741187},4654.4159167427833,{"$f":"GT7-GT70","v":4593.7543427354667},4459.2924070589634,{"$f":"GV7-GV70","v":4478.9277999383085},4237.5930420208169,{"$f":"GX7-GX70","v":4170.3256825268072},4390.864584031724,{"$f":"GZ7-GZ70","v":4151.1347319704582},4500.8439513461453,{"$f":"HB7-HB70","v":1709.1858618482056}]
["Net Inter-PADD Transfers (+ = Receipt)",null,null,null,null,null,null,null,null,null,null,null,null,null,null,null,null,null,null,null,null,null,null,null,null,null,null,null,null,null,null,null,null,null,null,null,null,null,null,null,null,null,null,null,null,null,null,null,null,null,null,null,null,null,null,null,null,null,null,null,null,null,null,null,null,null,null,null,null,null,null,null,null,null,null,null,null,null,null,null,null,null,null,null,null,null,null,null,null,null,null,null,null,null,null,null,null,null,null,null,null,null,null,null,null,null,null,null,null,{"$f":"DF8-DF71","v":0},0,0,0,0,0,0,0,0,0,0,0,0,0,0,0,0,0,0,0,0,0,0,0,{"$f":"ED8-ED71","v":0},0,0,0,0,0,0,0,0,0,0,0,0,0,0,0,0,0,0,0,0,0,0,0,0,0,0,0,{"$f":"FF8-FF71","v":0},0,{"$f":"FH8-FH71","v":0},0,{"$f":"FJ8-FJ71","v":0},0,{"$f":"FL8-FL71","v":0},0,{"$f":"FN8-FN71","v":0},0,{"$f":"FP8-FP71","v":0},0,{"$f":"FR8-FR71","v":0},0,{"$f":"FT8-FT71","v":0},0,{"$f":"FV8-FV71","v":0},0,{"$f":"FX8-FX71","v":0},0,{"$f":"FZ8-FZ71","v":0},0,{"$f":"GB8-GB71","v":0},0,{"$f":"GD8-GD71","v":0},0,{"$f":"GF8-GF71","v":0},0,{"$f":"GH8-GH71","v":0},0,{"$f":"GJ8-GJ71","v":0},0,{"$f":"GL8-GL71","v":0},2127.7026919645432,{"$f":"GN8-GN71","v":6802.9370283937897},3722.8419179330231,{"$f":"GP8-GP71","v":-31000},-15000,{"$f":"GR8-GR71","v":-7000},-5000.0000000000291,{"$f":"GT8-GT71","v":-5000},-5000,{"$f":"GV8-GV71","v":-4999.9999999999709},-5000,{"$f":"GX8-GX71","v":-10000.000000000029},-20000,{"$f":"GZ8-GZ71","v":-30000.000000000029},-11466.666666666686,{"$f":"HB8-HB71","v":-20000}]
["Total Stock Change (Primary+Secondary+Tertiary)",null,null,null,null,null,null,null,null,null,null,null,null,null,null,null,null,null,null,null,null,null,null,null,null,null,null,null,null,null,null,null,null,null,null,null,null,null,null,null,null,null,null,null,null,null,null,null,null,null,null,null,null,null,null,null,null,null,null,null,null,null,null,null,null,null,null,null,null,null,null,null,null,null,null,null,null,null,null,null,null,null,null,null,null,null,null,null,null,null,null,null,null,null,null,null,null,null,null,null,null,null,null,null,null,null,null,null,null,{"$f":"DF9-DF72","v":0},0,0,0,0,0,0,0,0,0,0,0,0,0,0,0,0,0,0,0,0,0,0,0,{"$f":"ED9-ED72","v":0},0,0,0,0,0,0,0,0,0,0,0,0,0,0,0,0,0,0,0,0,0,0,0,0,0,0,0,{"$f":"FF9-FF72","v":0},0,{"$f":"FH9-FH72","v":0},0,{"$f":"FJ9-FJ72","v":0},0,{"$f":"FL9-FL72","v":0},0,{"$f":"FN9-FN72","v":0},0,{"$f":"FP9-FP72","v":0},0,{"$f":"FR9-FR72","v":0},0,{"$f":"FT9-FT72","v":0},0,{"$f":"FV9-FV72","v":0},0,{"$f":"FX9-FX72","v":0},0,{"$f":"FZ9-FZ72","v":0},0,{"$f":"GB9-GB72","v":0},0,{"$f":"GD9-GD72","v":0},0,{"$f":"GF9-GF72","v":0},0,{"$f":"GH9-GH72","v":0},0,{"$f":"GJ9-GJ72","v":0},0,{"$f":"GL9-GL72","v":0},-2127.7026919645432,{"$f":"GN9-GN72","v":-1687.4935814321507},208.43008935797843,{"$f":"GP9-GP72","v":562.14883636444574},-4168.0071641450959,{"$f":"GR9-GR72","v":-11550.234666358647},-13648.283332413106,{"$f":"GT9-GT72","v":-13411.924737105415},-12544.98088452407,{"$f":"GV9-GV72","v":-7360.2040634695441},-7901.4585393538655,{"$f":"GX9-GX72","v":-1901.4026791785},6751.6566780914436,{"$f":"GZ9-GZ72","v":19921.589893988814},-437.15875787592086,{"$f":"HB9-HB72","v":9505.2992475053761}]
["     TOTAL SUPPLY",null,null,null,null,null,null,null,null,null,null,null,null,null,null,null,null,null,null,null,null,null,null,null,null,null,null,null,null,null,null,null,null,null,null,null,null,null,null,null,null,null,null,null,null,null,null,null,null,null,null,null,null,null,null,null,null,null,null,null,null,null,null,null,null,null,null,null,null,null,null,null,null,null,null,null,null,null,null,null,null,null,null,null,null,null,null,null,null,null,null,null,null,null,null,null,null,null,null,null,null,null,null,null,null,null,null,null,null,{"$f":"DF10-DF73","v":0},0,0,0,0,0,0,0,0,0,0,0,0,0,0,0,0,0,0,0,0,0,0,0,{"$f":"ED10-ED73","v":0},0,0,0,0,0,0,0,0,0,0,0,0,0,0,0,0,0,0,0,0,0,0,0,0,0,0,0,{"$f":"FF10-FF73","v":0},0,{"$f":"FH10-FH73","v":0},0,{"$f":"FJ10-FJ73","v":0},0,{"$f":"FL10-FL73","v":0},0,{"$f":"FN10-FN73","v":0},0,{"$f":"FP10-FP73","v":0},0,{"$f":"FR10-FR73","v":0},0,{"$f":"FT10-FT73","v":0},0,{"$f":"FV10-FV73","v":0},0,{"$f":"FX10-FX73","v":0},0,{"$f":"FZ10-FZ73","v":0},0,{"$f":"GB10-GB73","v":0},0,{"$f":"GD10-GD73","v":0},0,{"$f":"GF10-GF73","v":0},0,{"$f":"GH10-GH73","v":0},0,{"$f":"GJ10-GJ73","v":0},0,{"$f":"GL10-GL73","v":0},0,{"$f":"GN10-GN73","v":5115.443446961639},2567.6618428725342,{"$f":"GP10-GP73","v":-7028.7422867282585},-1864.3586636731088,{"$f":"GR10-GR73","v":930.19680658457582},752.72558206405665,{"$f":"GT10-GT73","v":916.18096598298143},1591.1809673882599,{"$f":"GV10-GV73","v":6782.3499597349728},6010.2930063709136,{"$f":"GX10-GX73","v":6693.50266315708},5551.8274452307378,{"$f":"GZ10-GZ73","v":8566.1323003157304},7145.525019482724,{"$f":"HB10-HB73","v":5713.4225324229337}]
["DEMAND"]
["  Residential and Commercial ",null,null,null,null,null,null,null,null,null,null,null,null,null,null,null,null,null,null,null,null,null,null,null,null,null,null,null,null,null,null,null,null,null,null,null,null,null,null,null,null,null,null,null,null,null,null,null,null,null,null,null,null,null,null,null,null,null,null,null,null,null,null,null,null,null,null,null,null,null,null,null,null,null,null,null,null,null,null,null,null,null,null,null,null,null,null,null,null,null,null,null,null,null,null,null,null,null,null,null,null,null,null,null,null,null,null,null,null,{"$f":"DF12-DF75","v":0},0,0,0,0,0,0,0,0,0,0,0,0,0,0,0,0,0,0,0,0,0,0,0,{"$f":"ED12-ED75","v":0},0,0,0,0,0,0,0,0,0,0,0,0,0,0,0,0,0,0,0,0,0,0,0,0,0,0,0,{"$f":"FF12-FF75","v":0},0,{"$f":"FH12-FH75","v":0},0,{"$f":"FJ12-FJ75","v":0},0,{"$f":"FL12-FL75","v":0},0,{"$f":"FN12-FN75","v":0},0,{"$f":"FP12-FP75","v":0},0,{"$f":"FR12-FR75","v":0},0,{"$f":"FT12-FT75","v":0},0,{"$f":"FV12-FV75","v":0},0,{"$f":"FX12-FX75","v":0},0,{"$f":"FZ12-FZ75","v":0},0,{"$f":"GB12-GB75","v":0},0,{"$f":"GD12-GD75","v":0},0,{"$f":"GF12-GF75","v":0},0,{"$f":"GH12-GH75","v":0},0,{"$f":"GJ12-GJ75","v":0},0,{"$f":"GL12-GL75","v":0},0,{"$f":"GN12-GN75","v":5150.6493170625035},2593.8069164943117,{"$f":"GP12-GP75","v":-7455.9396114290757},-1724.9425999333616,{"$f":"GR12-GR75","v":931.38340908761893},754.5683773660312,{"$f":"GT12-GT75","v":929.37158293005268},1619.0040719404642,{"$f":"GV12-GV75","v":6823.4223923716563},6061.7149261139421,{"$f":"GX12-GX75","v":6581.2053123198566},5453.863142027767,{"$f":"GZ12-GZ75","v":8481.7425862976525},7085.6191689563348,{"$f":"HB12-HB75","v":5677.6012778681725}]
["  Chemical",null,null,null,null,null,null,null,null,null,null,null,null,null,null,null,null,null,null,null,null,null,null,null,null,null,null,null,null,null,null,null,null,null,null,null,null,null,null,null,null,null,null,null,null,null,null,null,null,null,null,null,null,null,null,null,null,null,null,null,null,null,null,null,null,null,null,null,null,null,null,null,null,null,null,null,null,null,null,null,null,null,null,null,null,null,null,null,null,null,null,null,null,null,null,null,null,null,null,null,null,null,null,null,null,null,null,null,null,{"$f":"DF13-DF76","v":0},0,0,0,0,0,0,0,0,0,0,0,0,0,0,0,0,0,0,0,0,0,0,0,{"$f":"ED13-ED76","v":0},0,0,0,0,0,0,0,0,0,0,0,0,0,0,0,0,0,0,0,0,0,0,0,0,0,0,0,{"$f":"FF13-FF76","v":0},0,{"$f":"FH13-FH76","v":0},0,{"$f":"FJ13-FJ76","v":0},0,{"$f":"FL13-FL76","v":0},0,{"$f":"FN13-FN76","v":0},0,{"$f":"FP13-FP76","v":0},0,{"$f":"FR13-FR76","v":0},0,{"$f":"FT13-FT76","v":0},0,{"$f":"FV13-FV76","v":0},0,{"$f":"FX13-FX76","v":0},0,{"$f":"FZ13-FZ76","v":0},0,{"$f":"GB13-GB76","v":0},0,{"$f":"GD13-GD76","v":0},0,{"$f":"GF13-GF76","v":0},0,{"$f":"GH13-GH76","v":0},0,{"$f":"GJ13-GJ76","v":0},0,{"$f":"GL13-GL76","v":0},0,{"$f":"GN13-GN76","v":0},0,{"$f":"GP13-GP76","v":0},0,{"$f":"GR13-GR76","v":0},0,{"$f":"GT13-GT76","v":0},0,{"$f":"GV13-GV76","v":0},0,{"$f":"GX13-GX76","v":0},0,{"$f":"GZ13-GZ76","v":0},0,{"$f":"HB13-HB76","v":0}]
["  Farm",null,null,null,null,null,null,null,null,null,null,null,null,null,null,null,null,null,null,null,null,null,null,null,null,null,null,null,null,null,null,null,null,null,null,null,null,null,null,null,null,null,null,null,null,null,null,null,null,null,null,null,null,null,null,null,null,null,null,null,null,null,null,null,null,null,null,null,null,null,null,null,null,null,null,null,null,null,null,null,null,null,null,null,null,null,null,null,null,null,null,null,null,null,null,null,null,null,null,null,null,null,null,null,null,null,null,null,null,{"$f":"DF14-DF77","v":0},0,0,0,0,0,0,0,0,0,0,0,0,0,0,0,0,0,0,0,0,0,0,0,{"$f":"ED14-ED77","v":0},0,0,0,0,0,0,0,0,0,0,0,0,0,0,0,0,0,0,0,0,0,0,0,0,0,0,0,{"$f":"FF14-FF77","v":0},0,{"$f":"FH14-FH77","v":0},0,{"$f":"FJ14-FJ77","v":0},0,{"$f":"FL14-FL77","v":0},0,{"$f":"FN14-FN77","v":0},0,{"$f":"FP14-FP77","v":0},0,{"$f":"FR14-FR77","v":0},0,{"$f":"FT14-FT77","v":0},0,{"$f":"FV14-FV77","v":0},0,{"$f":"FX14-FX77","v":0},0,{"$f":"FZ14-FZ77","v":0},0,{"$f":"GB14-GB77","v":0},0,{"$f":"GD14-GD77","v":0},0,{"$f":"GF14-GF77","v":0},0,{"$f":"GH14-GH77","v":0},0,{"$f":"GJ14-GJ77","v":0},0,{"$f":"GL14-GL77","v":0},0,{"$f":"GN14-GN77","v":-35.205870100862967},-26.145073621779488,{"$f":"GP14-GP77","v":427.19732470081971},-139.41606373974585,{"$f":"GR14-GR77","v":-1.1866025030428347},-1.8427953019761389,{"$f":"GT14-GT77","v":-13.190616947072613},-27.823104552206587,{"$f":"GV14-GV77","v":-41.072432636684198},-51.421919743034096,{"$f":"GX14-GX77","v":112.29735083722517},97.964303202972133,{"$f":"GZ14-GZ77","v":84.389714018079985},59.90585052639085,{"$f":"HB14-HB77","v":35.821254554762845}]
["  Other",null,null,null,null,null,null,null,null,null,null,null,null,null,null,null,null,null,null,null,null,null,null,null,null,null,null,null,null,null,null,null,null,null,null,null,null,null,null,null,null,null,null,null,null,null,null,null,null,null,null,null,null,null,null,null,null,null,null,null,null,null,null,null,null,null,null,null,null,null,null,null,null,null,null,null,null,null,null,null,null,null,null,null,null,null,null,null,null,null,null,null,null,null,null,null,null,null,null,null,null,null,null,null,null,null,null,null,null,{"$f":"DF15-DF78","v":0},0,0,0,0,0,0,0,0,0,0,0,0,0,0,0,0,0,0,0,0,0,0,0,{"$f":"ED15-ED78","v":0},0,0,0,0,0,0,0,0,0,0,0,0,0,0,0,0,0,0,0,0,0,0,0,0,0,0,0,{"$f":"FF15-FF78","v":0},0,{"$f":"FH15-FH78","v":0},0,{"$f":"FJ15-FJ78","v":0},0,{"$f":"FL15-FL78","v":0},0,{"$f":"FN15-FN78","v":0},0,{"$f":"FP15-FP78","v":0},0,{"$f":"FR15-FR78","v":0},0,{"$f":"FT15-FT78","v":0},0,{"$f":"FV15-FV78","v":0},0,{"$f":"FX15-FX78","v":0},0,{"$f":"FZ15-FZ78","v":0},0,{"$f":"GB15-GB78","v":0},0,{"$f":"GD15-GD78","v":0},0,{"$f":"GF15-GF78","v":0},0,{"$f":"GH15-GH78","v":0},0,{"$f":"GJ15-GJ78","v":0},0,{"$f":"GL15-GL78","v":0},0,{"$f":"GN15-GN78","v":0},0,{"$f":"GP15-GP78","v":0},0,{"$f":"GR15-GR78","v":0},0,{"$f":"GT15-GT78","v":0},0,{"$f":"GV15-GV78","v":0},0,{"$f":"GX15-GX78","v":0},0,{"$f":"GZ15-GZ78","v":0},0,{"$f":"HB15-HB78","v":0}]
["     US DOMESTIC CONSUMPTION",null,null,null,null,null,null,null,null,null,null,null,null,null,null,null,null,null,null,null,null,null,null,null,null,null,null,null,null,null,null,null,null,null,null,null,null,null,null,null,null,null,null,null,null,null,null,null,null,null,null,null,null,null,null,null,null,null,null,null,null,null,null,null,null,null,null,null,null,null,null,null,null,null,null,null,null,null,null,null,null,null,null,null,null,null,null,null,null,null,null,null,null,null,null,null,null,null,null,null,null,null,null,null,null,null,null,null,null,{"$f":"DF16-DF79","v":0},0,0,0,0,0,0,0,0,0,0,0,0,0,0,0,0,0,0,0,0,0,0,0,{"$f":"ED16-ED79","v":0},0,0,0,0,0,0,0,0,0,0,0,0,0,0,0,0,0,0,0,0,0,0,0,0,0,0,0,{"$f":"FF16-FF79","v":0},0,{"$f":"FH16-FH79","v":0},0,{"$f":"FJ16-FJ79","v":0},0,{"$f":"FL16-FL79","v":0},0,{"$f":"FN16-FN79","v":0},0,{"$f":"FP16-FP79","v":0},0,{"$f":"FR16-FR79","v":0},0,{"$f":"FT16-FT79","v":0},0,{"$f":"FV16-FV79","v":0},0,{"$f":"FX16-FX79","v":0},0,{"$f":"FZ16-FZ79","v":0},0,{"$f":"GB16-GB79","v":0},0,{"$f":"GD16-GD79","v":0},0,{"$f":"GF16-GF79","v":0},0,{"$f":"GH16-GH79","v":0},0,{"$f":"GJ16-GJ79","v":0},0,{"$f":"GL16-GL79","v":0},0,{"$f":"GN16-GN79","v":5115.443446961639},2567.6618428725342,{"$f":"GP16-GP79","v":-7028.7422867282585},-1864.3586636731088,{"$f":"GR16-GR79","v":930.19680658457582},752.72558206405665,{"$f":"GT16-GT79","v":916.18096598298143},1591.1809673882599,{"$f":"GV16-GV79","v":6782.3499597349728},6010.2930063709136,{"$f":"GX16-GX79","v":6693.50266315708},5551.8274452307378,{"$f":"GZ16-GZ79","v":8566.1323003157304},7145.525019482724,{"$f":"HB16-HB79","v":5713.4225324229337}]
["EXPORTS",null,null,null,null,null,null,null,null,null,null,null,null,null,null,null,null,null,null,null,null,null,null,null,null,null,null,null,null,null,null,null,null,null,null,null,null,null,null,null,null,null,null,null,null,null,null,null,null,null,null,null,null,null,null,null,null,null,null,null,null,null,null,null,null,null,null,null,null,null,null,null,null,null,null,null,null,null,null,null,null,null,null,null,null,null,null,null,null,null,null,null,null,null,null,null,null,null,null,null,null,null,null,null,null,null,null,null,null,{"$f":"DF17-DF80","v":0},0,0,0,0,0,0,0,0,0,0,0,0,0,0,0,0,0,0,0,0,0,0,0,{"$f":"ED17-ED80","v":0},0,0,0,0,0,0,0,0,0,0,0,0,0,0,0,0,0,0,0,0,0,0,0,0,0,0,0,{"$f":"FF17-FF80","v":0},0,{"$f":"FH17-FH80","v":0},0,{"$f":"FJ17-FJ80","v":0},0,{"$f":"FL17-FL80","v":0},0,{"$f":"FN17-FN80","v":0},0,{"$f":"FP17-FP80","v":0},0,{"$f":"FR17-FR80","v":0},0,{"$f":"FT17-FT80","v":0},0,{"$f":"FV17-FV80","v":0},0,{"$f":"FX17-FX80","v":0},0,{"$f":"FZ17-FZ80","v":0},0,{"$f":"GB17-GB80","v":0},0,{"$f":"GD17-GD80","v":0},0,{"$f":"GF17-GF80","v":0},0,{"$f":"GH17-GH80","v":0},0,{"$f":"GJ17-GJ80","v":0},0,{"$f":"GL17-GL80","v":0},0,{"$f":"GN17-GN80","v":0},0,{"$f":"GP17-GP80","v":0},0,{"$f":"GR17-GR80","v":0},0,{"$f":"GT17-GT80","v":0},0,{"$f":"GV17-GV80","v":0},0,{"$f":"GX17-GX80","v":0},0,{"$f":"GZ17-GZ80","v":0},0,{"$f":"HB17-HB80","v":0}]
["     TOTAL DEMAND",null,null,null,null,null,null,null,null,null,null,null,null,null,null,null,null,null,null,null,null,null,null,null,null,null,null,null,null,null,null,null,null,null,null,null,null,null,null,null,null,null,null,null,null,null,null,null,null,null,null,null,null,null,null,null,null,null,null,null,null,null,null,null,null,null,null,null,null,null,null,null,null,null,null,null,null,null,null,null,null,null,null,null,null,null,null,null,null,null,null,null,null,null,null,null,null,null,null,null,null,null,null,null,null,null,null,null,null,{"$f":"DF18-DF81","v":0},0,0,0,0,0,0,0,0,0,0,0,0,0,0,0,0,0,0,0,0,0,0,0,{"$f":"ED18-ED81","v":0},0,0,0,0,0,0,0,0,0,0,0,0,0,0,0,0,0,0,0,0,0,0,0,0,0,0,0,{"$f":"FF18-FF81","v":0},0,{"$f":"FH18-FH81","v":0},0,{"$f":"FJ18-FJ81","v":0},0,{"$f":"FL18-FL81","v":0},0,{"$f":"FN18-FN81","v":0},0,{"$f":"FP18-FP81","v":0},0,{"$f":"FR18-FR81","v":0},0,{"$f":"FT18-FT81","v":0},0,{"$f":"FV18-FV81","v":0},0,{"$f":"FX18-FX81","v":0},0,{"$f":"FZ18-FZ81","v":0},0,{"$f":"GB18-GB81","v":0},0,{"$f":"GD18-GD81","v":0},0,{"$f":"GF18-GF81","v":0},0,{"$f":"GH18-GH81","v":0},0,{"$f":"GJ18-GJ81","v":0},0,{"$f":"GL18-GL81","v":0},0,{"$f":"GN18-GN81","v":5115.443446961639},2567.6618428725342,{"$f":"GP18-GP81","v":-7028.7422867282585},-1864.3586636731088,{"$f":"GR18-GR81","v":930.19680658457582},752.72558206405665,{"$f":"GT18-GT81","v":916.18096598298143},1591.1809673882599,{"$f":"GV18-GV81","v":6782.3499597349728},6010.2930063709136,{"$f":"GX18-GX81","v":6693.50266315708},5551.8274452307378,{"$f":"GZ18-GZ81","v":8566.1323003157304},7145.525019482724,{"$f":"HB18-HB81","v":5713.4225324229337}]
[]
["INVENTORIES (End of Month, Thousand Barrels)",null,null,null,null,null,null,null,null,null,null,null,null,null,null,null,null,null,null,null,null,null,null,null,null,null,null,null,null,null,null,null,null,null,null,null,null,null,null,null,null,null,null,null,null,null,null,null,null,null,null,null,null,null,null,null,null,null,null,null,null,null,null,null,null,null,null,null,null,null,null,null,null,null,null,null,null,null,null,null,null,null,null,null,null,null,null,null,null,null,null,null,null,null,null,null,null,null,null,null,null,null,null,null,null,null,null,null,null,{"$f":"DF20-DF83","v":0},0,0,0,0,0,0,0,0,0,0,0,0,0,0,0,0,0,0,0,0,0,0,0,{"$f":"ED20-ED83","v":0},0,0,0,0,0,0,0,0,0,0,0,0,0,0,0,0,0,0,0,0,0,0,0,0,0,0,0,{"$f":"FF20-FF83","v":0},0,{"$f":"FH20-FH83","v":0},0,{"$f":"FJ20-FJ83","v":0},0,{"$f":"FL20-FL83","v":0},0,{"$f":"FN20-FN83","v":0},0,{"$f":"FP20-FP83","v":0},0,{"$f":"FR20-FR83","v":0},0,{"$f":"FT20-FT83","v":0},0,{"$f":"FV20-FV83","v":0},0,{"$f":"FX20-FX83","v":0},0,{"$f":"FZ20-FZ83","v":0},0,{"$f":"GB20-GB83","v":0},0,{"$f":"GD20-GD83","v":0},0,{"$f":"GF20-GF83","v":0},0,{"$f":"GH20-GH83","v":0},0,{"$f":"GJ20-GJ83","v":0},0,{"$f":"GL20-GL83","v":0},0,{"$f":"GN20-GN83","v":0},0,{"$f":"GP20-GP83","v":-833.74689661890307},-708.7066816945503,{"$f":"GR20-GR83","v":-350.64940703743241},72.447376267374239,{"$f":"GT20-GT83","v":474.80511838053644},863.69952580078234,{"$f":"GV20-GV83","v":1084.5056477048688},1329.4508624248388,{"$f":"GX20-GX83","v":1388.3943454793728},1199.3479584928123,{"$f":"GZ20-GZ83","v":581.77867177915959},594.89343451543755,{"$f":"HB20-HB83","v":300.22915784277097}]
["Days of Forward Supply",null,null,null,null,null,null,null,null,null,null,null,null,null,null,null,null,null,null,null,null,null,null,null,null,null,null,null,null,null,null,null,null,null,null,null,null,null,null,null,null,null,null,null,null,null,null,null,null,null,null,null,null,null,null,null,null,null,null,null,null,null,null,null,null,null,null,null,null,null,null,null,null,null,null,null,null,null,null,null,null,null,null,null,null,null,null,null,null,null,null,null,null,null,null,null,null,null,null,null,null,null,null,null,null,null,null,null,null,{"$f":"DF21-DF84","v":0},{"$f":"DG21-DG84","v":0},{"$f":"DH21-DH84","v":0},{"$f":"DI21-DI84","v":0},0,0,0,0,0,0,0,0,0,0,0,0,0,0,0,0,0,0,0,0,{"$f":"ED21-ED84","v":0},0,0,0,0,0,0,0,0,0,0,0,0,0,0,0,0,0,0,0,0,0,0,0,0,0,0,0,{"$f":"FF21-FF84","v":0},0,{"$f":"FH21-FH84","v":0},0,{"$f":"FJ21-FJ84","v":0},0,{"$f":"FL21-FL84","v":0},0,{"$f":"FN21-FN84","v":0},0,{"$f":"FP21-FP84","v":0},0,{"$f":"FR21-FR84","v":0},0,{"$f":"FT21-FT84","v":0},0,{"$f":"FV21-FV84","v":0},0,{"$f":"FX21-FX84","v":0},0,{"$f":"FZ21-FZ84","v":0},0,{"$f":"GB21-GB84","v":0},0,{"$f":"GD21-GD84","v":0},0,{"$f":"GF21-GF84","v":0},0,{"$f":"GH21-GH84","v":0},0,{"$f":"GJ21-GJ84","v":0},0,{"$f":"GL21-GL84","v":0},0,{"$f":"GN21-GN84","v":-5.153951185473467},-3.9979198671121665,{"$f":"GP21-GP84","v":-9.4489458559981898},-22.197469708786102,{"$f":"GR21-GR84","v":-21.159272962503366},-0.65699764585455966,{"$f":"GT21-GT84","v":14.174713774132414},22.663446875640105,{"$f":"GV21-GV84","v":15.29821514435227},20.064574547425053,{"$f":"GX21-GX84","v":19.975739774395407},18.458859729400274,{"$f":"GZ21-GZ84","v":2.4305649582007618},3.1170899975944621,{"$f":"HB21-HB84","v":-4.077678677606059}]
[]
["PREVIOUS FCST VALUES"]
[null,{"$f":"B$3","v":"2005-01-15"},{"$f":"C$3","v":"2005-02-15"},"2005-03-15","2005-04-15","2005-05-15","2005-06-15","2005-07-15","2005-08-15","2005-09-15","2005-10-15","2005-11-15","2005-12-15","2006-01-15","2006-02-15","2006-03-15","2006-04-15","2006-05-15","2006-06-15","2006-07-15","2006-08-15","2006-09-15","2006-10-15","2006-11-15","2006-12-15","2007-01-15","2007-02-15","2007-03-15","2007-04-15","2007-05-15","2007-06-15","2007-07-15","2007-08-15","2007-09-15","2007-10-15","2007-11-15","2007-12-15","2008-01-15","2008-02-15","2008-03-15","2008-04-15","2008-05-15","2008-06-15","2008-07-15","2008-08-15","2008-09-15","2008-10-15","2008-11-15","2008-12-15","2009-01-15","2009-02-15","2009-03-15","2009-04-15","2009-05-15","2009-06-15","2009-07-15","2009-08-15","2009-09-15","2009-10-15","2009-11-15","2009-12-15","2010-01-15","2010-02-15","2010-03-15","2010-04-15","2010-05-15",{"$f":"BO$3","v":"2010-06-15"},"2010-07-15","2010-08-15","2010-09-15","2010-10-15","2010-11-15","2010-12-15","2011-01-15","2011-02-15","2011-03-15","2011-04-15","2011-05-15","2011-06-15","2011-07-15","2011-08-15","2011-09-15","2011-10-15","2011-11-15","2011-12-15","2012-01-15","2012-02-15","2012-03-15","2012-04-15","2012-05-15","2012-06-15","2012-07-15","2012-08-15","2012-09-15","2012-10-15","2012-11-15","2012-12-15","2013-01-15","2013-02-15","2013-03-15","2013-04-15","2013-05-15","2013-06-15","2013-07-15","2013-08-15","2013-09-15","2013-10-15","2013-11-15","2013-12-15","2014-01-15","2014-02-15","2014-03-15","2014-04-15","2014-05-15","2014-06-15","2014-07-15","2014-08-15","2014-09-15","2014-10-15","2014-11-15","2014-12-15","2015-01-15","2015-02-15","2015-03-15","2015-04-15","2015-05-15","2015-06-15","2015-07-15","2015-08-15","2015-09-15",{"$f":"EA$3","v":"2015-10-15"},"2015-11-15","2015-12-15","2016-01-15","2016-02-15","2016-03-15","2016-04-15","2016-05-15","2016-06-15","2016-07-15","2016-08-15","2016-09-15","2016-10-15","2016-11-15","2016-12-15","2017-01-15","2017-02-15","2017-03-15","2017-04-15","2017-05-15","2017-06-15","2017-07-15","2017-08-15","2017-09-15","2017-10-15","2017-11-15","2017-12-15","2018-01-15","2018-02-15","2018-03-15","2018-04-15","2018-05-15","2018-06-15","2018-07-15","2018-08-15","2018-09-15","2018-10-15","2018-11-15","2018-12-15","2019-01-15","2019-02-15","2019-03-15","2019-04-15","2019-05-15","2019-06-15","2019-07-15","2019-08-15","2019-09-15","2019-10-15","2019-11-15","2019-12-15","2020-01-15","2020-02-15","2020-03-15","2020-04-15","2020-05-15","2020-06-15","2020-07-15","2020-08-15","2020-09-15","2020-10-15","2020-11-15","2020-12-15","2021-01-15","2021-02-15","2021-03-15","2021-04-15","2021-05-15","2021-06-15","2021-07-15","2021-08-15","2021-09-15","2021-10-15",{"$f":"GV$3","v":"2021-11-15"},"2021-12-15","2022-01-15","2022-02-15","2022-03-15","2022-04-15","2022-05-15"]
[{"$f":"A4","v":"SUPPLY"}]
["Gas Processing",58935.483870967742,60178.571428571428,60612.903225806454,57233.333333333336,57225.806451612902,53833.333333333336,54032.258064516129,57580.645161290326,55666.666666666664,57129.032258064515,57300,48967.741935483871,55516.129032258068,56178.571428571428,57741.93548387097,54866.666666666664,56000,55133.333333333336,56032.258064516129,53612.903225806454,55133.333333333336,55161.290322580644,56433.333333333336,55419.354838709674,53677.419354838712,55392.857142857145,59161.290322580644,57966.666666666664,58354.838709677417,57866.666666666664,56129.032258064515,57064.516129032258,61233.333333333336,59387.096774193546,66100,59258.06451612903,60612.903225806454,65448.275862068964,72096.774193548394,69766.666666666672,71322.580645161288,69900,69870.967741935485,70645.161290322576,71900,74354.838709677424,74000,68322.580645161288,72193.548387096773,74500,75935.483870967742,76866.666666666672,79709.677419354834,77733.333333333328,79064.516129032258,77838.709677419349,76600,81096.774193548394,84300,82483.870967741939,88064.516129032258,86107.142857142855,87225.806451612909,89633.333333333328,90677.419354838712,87000,79322.580645161288,86032.258064516136,86733.333333333328,86838.709677419349,89033.333333333328,87935.483870967742,89612.903225806454,89964.28571428571,94290.322580645166,91900,95838.709677419349,95400,97258.06451612903,100645.16129032258,92266.666666666672,101709.67741935483,102633.33333333333,100419.35483870968,101741.93548387097,103000,102870.96774193548,97966.666666666672,102870.96774193548,98600,95548.387096774197,97354.838709677424,99533.333333333328,100741.93548387097,101100,96870.967741935485,94612.903225806454,98392.857142857145,100387.09677419355,101366.66666666667,101903.22580645161,97366.666666666672,98258.06451612903,101322.58064516129,101233.33333333333,106258.06451612903,108000,99806.451612903227,102741.93548387097,102000,106903.22580645161,108700,108225.80645161291,114233.33333333333,113419.35483870968,118806.45161290323,116000,123032.25806451614,115400,121516.12903225806,119322.58064516129,121964.28571428571,124806.45161290323,125900,123580.64516129032,124533.33333333333,127161.29032258065,132774.19354838709,131366.66666666666,136161.29032258064,136666.66666666666,134870.96774193548,133967.74193548388,133448.27586206896,137225.80645161291,136166.66666666666,136612.90322580645,134266.66666666666,133000,135290.32258064515,133300,138806.45161290321,141033.33333333334,136580.64516129033,133548.38709677418,136928.57142857142,137967.74193548388,135966.66666666666,136064.51612903227,137966.66666666666,136870.96774193548,141645.16129032261,142900,142774.19354838709,145066.66666666666,146258.06451612903,145290.32258064515,144357.14285714287,146451.61290322579,147133.33333333331,147387.09677419355,140533.33333333334,144935.48387096776,152129.03225806452,152600,151000,154300,155000,154774.19354838709,151500,157064.51612903224,160266.66666666669,160290.32258064515,161566.66666666666,159774.19354838709,154774.19354838709,163966.66666666666,167096.77419354839,176133.33333333331,174612.90322580645,172419.35483870967,179103.44827586206,184612.90322580645,181133.33333333331,167000,176266.66666666669,180709.67741935485,180225.80645161291,181033.33333333334,178096.77419354839,175066.66666666666,170774.19354838709,181774.19354838709,168321.42857142858,177838.70967741936,186600,169036.7405567742,175228.61056799997,175022.33583704001,175691.53700755481,174775.2696149972,173593.84812550351,173337.97385592799,172542.45704755621,166209.5655066313,165755.73204780571,167561.60002554581,166515.5052080506,167225.52145318789]
["Refinery Production",9419.354838709678,9464.2857142857138,7838.7096774193551,8000,8483.8709677419356,8066.666666666667,7935.4838709677415,7580.6451612903229,8533.3333333333339,7064.5161290322585,7800,7483.8709677419356,9032.2580645161288,7821.4285714285716,7483.8709677419356,7633.333333333333,7870.9677419354839,9366.6666666666661,7967.7419354838712,8032.2580645161288,7566.666666666667,6580.6451612903229,8500,9387.0967741935492,7548.3870967741932,9785.7142857142862,8032.2580645161288,6766.666666666667,7225.8064516129034,8000,7580.6451612903229,7935.4838709677415,8866.6666666666661,8451.6129032258068,9433.3333333333339,9838.7096774193542,8741.9354838709678,8931.0344827586214,9129.032258064517,8966.6666666666661,9838.7096774193542,9533.3333333333339,8645.1612903225814,8258.0645161290322,9433.3333333333339,9548.3870967741932,10066.666666666666,8709.677419354839,9419.354838709678,10035.714285714286,9612.9032258064508,5566.666666666667,9516.1290322580644,10000,10000,8612.9032258064508,9133.3333333333339,7064.5161290322585,9433.3333333333339,7806.4516129032254,9064.5161290322576,9071.4285714285706,8612.9032258064508,9766.6666666666661,9354.8387096774186,10466.666666666666,10451.612903225807,10096.774193548386,10800,8774.1935483870966,9566.6666666666661,9903.2258064516136,10032.258064516129,9607.1428571428569,9451.6129032258068,8333.3333333333339,10322.58064516129,10333.333333333334,9193.5483870967746,8548.3870967741932,7533.333333333333,8838.7096774193542,9966.6666666666661,10000,10483.870967741936,10482.758620689656,10645.161290322581,7066.666666666667,7967.7419354838712,9333.3333333333339,9516.1290322580644,9193.5483870967746,9500,10225.806451612903,7200,10000,8935.4838709677424,9250,8806.4516129032254,7666.666666666667,7967.7419354838712,7800,9516.1290322580644,10258.064516129032,9900,9709.677419354839,9600,9225.8064516129034,9451.6129032258068,6750,8161.2903225806449,10733.333333333334,11161.290322580646,10433.333333333334,10225.806451612903,10741.935483870968,12666.666666666666,8580.645161290322,8933.3333333333339,10451.612903225807,10225.806451612903,10000,9677.4193548387102,9800,9741.9354838709678,9366.6666666666661,7741.9354838709678,8096.7741935483873,8233.3333333333339,8967.7419354838712,9266.6666666666661,9064.5161290322576,7838.7096774193551,8448.2758620689656,9225.8064516129034,8633.3333333333339,9322.5806451612898,9233.3333333333339,10258.064516129032,8580.645161290322,10566.666666666666,9548.3870967741932,9833.3333333333339,9451.6129032258068,9838.7096774193542,9607.1428571428569,10870.967741935483,9700,10096.774193548386,10433.333333333332,10451.612903225805,10612.903225806453,10700,9193.5483870967746,8633.3333333333321,8419.3548387096798,7032.2580645161297,9535.7142857142862,9096.7741935483864,9266.6666666666661,8967.7419354838712,9399.9999999999982,8967.7419354838694,8322.5806451612898,9233.3333333333339,6483.8709677419347,6466.6666666666661,8193.5483870967746,7483.8709677419356,6857.1428571428578,7838.709677419356,7333.3333333333339,9483.8709677419356,9366.6666666666679,10225.806451612903,10258.064516129032,9633.3333333333339,8000,9233.3333333333339,9225.8064516129016,8193.5483870967746,8275.8620689655163,6096.7741935483873,5766.666666666667,7096.7741935483873,8033.3333333333339,8612.9032258064526,8838.7096774193542,9133.3333333333321,7741.9354838709678,7999.9999999999991,7096.7741935483864,7064.5161290322576,8250,9129.032258064517,9100,9152.6265773349187,8923.8889126900922,9474.2032347214863,9156.886873096375,9903.271751217866,9254.2267024800421,8880.936067138251,9153.322436645527,8635.7532309384223,8435.0745128023864,8825.5558015280949,8690.8442917791599,9235.923394497393]
[{"$f":"A7","v":"Imports"},14677.41935483871,9250,5774.1935483870966,4700,3258.0645161290322,2300,2290.3225806451615,3806.4516129032259,10566.666666666666,7967.7419354838712,9000,13935.483870967742,14741.935483870968,9178.5714285714294,11129.032258064517,7466.666666666667,4870.9677419354839,3133.3333333333335,3419.3548387096776,5419.3548387096771,7033.333333333333,11225.806451612903,13366.666666666666,15161.290322580646,19387.096774193549,19357.142857142859,10870.967741935483,6766.666666666667,3451.6129032258063,4833.333333333333,7967.7419354838712,4967.7419354838712,10233.333333333334,18129.032258064515,14466.666666666666,15387.096774193549,27000,23620.689655172413,19290.322580645159,15900,15129.032258064517,5900,6677.4193548387093,8774.1935483870966,11533.333333333334,14322.580645161292,13966.666666666666,16161.290322580646,25774.193548387095,16535.714285714286,17225.806451612902,7333.333333333333,3774.1935483870966,3566.6666666666665,3645.1612903225805,3967.7419354838707,5700,10677.41935483871,11766.666666666666,13903.225806451614,16806.451612903227,11642.857142857143,6129.0322580645161,3833.3333333333335,3677.4193548387098,3933.3333333333335,3354.8387096774195,4580.6451612903229,6666.666666666667,8032.2580645161288,12266.666666666666,13290.322580645161,11354.838709677419,13214.285714285714,13612.903225806451,4833.333333333333,4161.2903225806449,3800,4258.0645161290322,4774.1935483870966,8300,10290.322580645161,15066.666666666666,16161.290322580646,15645.161290322581,14172.413793103447,11774.193548387097,6566.666666666667,4193.5483870967746,4700,4870.9677419354839,6548.3870967741932,7566.666666666667,6935.4838709677415,8700,11903.225806451614,13903.225806451614,15035.714285714286,8064.5161290322585,4733.333333333333,3290.3225806451615,16300,3612.9032258064517,17580.645161290322,6533.333333333333,9225.8064516129034,9766.6666666666661,12096.774193548386,12741.935483870968,10285.714285714286,8193.5483870967746,4533.333333333333,8580.645161290322,8033.333333333333,8516.1290322580644,11032.258064516129,10333.333333333334,12774.193548387097,14533.333333333334,16967.741935483871,14870.967741935483,10357.142857142857,8741.9354838709678,6366.666666666667,5870.9677419354839,7233.333333333333,6322.5806451612907,7903.2258064516127,8666.6666666666661,10806.451612903225,13300,20870.967741935485,20645.16129032258,20482.758620689656,15064.516129032258,12533.333333333332,11516.129032258064,11933.333333333332,13838.709677419356,11064.516129032258,15600,15967.741935483871,15867.666666666666,17937.483870967742,23454.612903225807,23611.142857142859,14940.483870967742,10406,11974.741935483871,7000,6000,5000,5000,5000,5000,5000,5000,5000,5000,5000,5000,5000,5000,5000,5000,5000,5000,5000,8797.6893145161284,8797.6893145161284,8797.6893145161284,8797.6893145161284,8797.6893145161284,8797.6893145161284,8797.6893145161284,8797.6893145161284,8797.6893145161284,8797.6893145161284,8797.6893145161284,8797.6893145161284,7926.3668094508084,7926.3668094508084,7926.3668094508084,7926.3668094508084,7926.3668094508084,7926.3668094508084,7926.3668094508084,7926.3668094508084,7926.3668094508084,7926.3668094508084,6114.1258859999998,8375.0918864516098,8470.6562670967705,9471.7320960357192,1700,5838.5765333143772,4252.4890322793599,3031.345208677049,6277.147369084737,5640.8401664811163,8130.2467313619036,10496.396212564661,11576.74538249033,17575.501811250142,19001.492458335379,16007.050860451467,13194.65480345433,8648.3741323794166,6956.0521938496422]
["Net Inter-PADD Transfers (+ = Receipt)",-51742.796980474326,-51742.796980474326,-51742.796980474326,-51742.796980474326,-51742.796980474326,-51742.796980474326,-51742.796980474326,-51742.796980474326,-51742.796980474326,-51742.796980474326,-51742.796980474326,-51742.796980474326,-53409.940933866572,-53409.940933866572,-53409.940933866572,-53409.940933866572,-53409.940933866572,-53409.940933866572,-53409.940933866572,-53409.940933866572,-53409.940933866572,-53409.940933866572,-53409.940933866572,-53409.940933866572,-53227.437094880792,-53227.437094880792,-53227.437094880792,-53227.437094880792,-53227.437094880792,-53227.437094880792,-53227.437094880792,-53227.437094880792,-53227.437094880792,-53227.437094880792,-53227.437094880792,-53227.437094880792,-64183.190507435596,-64183.190507435596,-64183.190507435596,-64183.190507435596,-64183.190507435596,-64183.190507435596,-64183.190507435596,-64183.190507435596,-64183.190507435596,-64183.190507435596,-64183.190507435596,-64183.190507435596,-73356.926767707904,-73356.926767707904,-73356.926767707904,-73356.926767707904,-73356.926767707904,-73356.926767707904,-73356.926767707904,-73356.926767707904,-73356.926767707904,-73356.926767707904,-73356.926767707904,-73356.926767707904,-83243.165611427539,-83243.165611427539,-83243.165611427539,-83243.165611427539,-83243.165611427539,-83243.165611427539,-83243.165611427539,-83243.165611427539,-83243.165611427539,-83243.165611427539,-83243.165611427539,-83243.165611427539,-91491.898369210685,-91491.898369210685,-91491.898369210685,-91491.898369210685,-91491.898369210685,-91491.898369210685,-91491.898369210685,-91491.898369210685,-91491.898369210685,-91491.898369210685,-91491.898369210685,-91491.898369210685,-98021.855784757208,-98021.855784757208,-98021.855784757208,-98021.855784757208,-98021.855784757208,-98021.855784757208,-98021.855784757208,-98021.855784757208,-98021.855784757208,-98021.855784757208,-98021.855784757208,-98021.855784757208,-80142.465753424665,-80142.465753424665,-80142.465753424665,-80142.465753424665,-80142.465753424665,-80142.465753424665,-80142.465753424665,-80142.465753424665,-80142.465753424665,-80142.465753424665,-80142.465753424665,-80142.465753424665,-92668.493150684939,-92668.493150684939,-92668.493150684939,-92668.493150684939,-92668.493150684939,-92668.493150684939,-92668.493150684939,-92668.493150684939,-92668.493150684939,-92668.493150684939,-92668.493150684939,-92668.493150684939,-112202.7397260274,-112202.7397260274,-112202.7397260274,-112202.7397260274,-112202.7397260274,-112202.7397260274,-112202.7397260274,-112202.7397260274,-112202.7397260274,-112202.7397260274,-112202.7397260274,-112202.7397260274,-122632.87671232877,-122632.87671232877,-122632.87671232877,-122632.87671232877,-122632.87671232877,-122632.87671232877,-122632.87671232877,-122632.87671232877,-122632.87671232877,-122632.87671232877,-122632.87671232877,-122632.87671232877,-124400,-124400,-124400,-124400,-124400,-124400,-124400,-124400,-124400,-124400,-124400,-124400,-128500,-128500,-128500,-128500,-128500,-128500,-128500,-128500,-128500,-128500,-128500,-128500,-151602.33300724832,-151602.33300724832,-151602.33300724832,-151602.33300724832,-151602.33300724832,-151602.33300724832,-151602.33300724832,-146602.33300724832,-151602.33300724832,-145602.33300724832,-151602.33300724832,-151602.33300724832,-150040.63740181329,-150040.63740181329,-150040.63740181329,-150040.63740181329,-150040.63740181329,-150040.63740181329,-150040.63740181329,-150040.63740181329,-194073.27643629914,-142184.4296399623,-167576.97225467773,-155358.104376273,-154142.04423402605,-141287.19154265453,-164041.45158881438,-145001.28114438811,-116175.11314815586,-164133.33333333331,-166354.83870967739,-168895.16129032258,-168799.99999999997,-175935.48387096776,-161116.66666666666,-156330.6451612903,-155096.77419354836,-132865.14778325122,-147637.09677419352,-157158.33333333334,-166338.70967741933]
["Total Stock Change (Primary+Secondary+Tertiary)",11238.574374513397,9841.1089367253826,10174.058245481136,6648.2517938682286,4303.0905035456481,5681.5851272015634,4174.0582454811338,5077.2840519327483,4848.2517938682322,4432.1227616101642,8148.2517938682322,13496.638890642425,6404.6340298381865,10092.422048271363,8114.3114491930219,3918.6125244618411,4469.1501588704414,4718.6125244618443,5501.4082233865702,5953.021126612377,5618.6125244618443,5340.1179008059289,6485.2791911285058,7759.472739515606,7510.9200387180899,2676.818656229611,4188.3393935568038,4295.8662752772334,3930.2748774277675,3529.1996086105669,4543.1781032342233,3381.8877806535779,2529.1996086105673,4059.3071354922877,4129.1996086105673,4091.5652000084165,1428.0623504822329,-913.42819456782286,-2862.2602301629286,279.67525370804287,-2539.6795850016342,-1853.6580796252906,-1152.5828108080862,-2184.8408753242152,-453.6580796252905,-894.51829467905759,-2253.6580796252902,331.28815693384922,2124.8443911369259,-1468.4735812133044,-326.76851208888053,1095.8121330724061,-2423.5427056372678,-404.18786692759386,60.328262104667843,-133.22012499210635,362.47879973907283,-1100.9620604759773,62.47879973907645,3544.1992298466034,2909.6699072028346,347.45792563601071,5232.2505523641212,1423.6484018264866,1812.8957136544436,3790.3150684931534,2716.1215201060531,2038.702165267347,2856.9817351598199,393.54087494476607,3356.9817351598199,2425.7989394608953,2395.1132083412222,3417.0026092628814,2685.4357889863836,2557.4787997390717,2362.8551438250929,3224.1454664057346,2330.5970793089605,3266.0809502767061,1957.4787997390663,1104.7906276960609,3557.4787997390713,1943.5003051154158,2791.8514824400868,1812.9860764334126,1501.5289017949217,2285.3998695368628,2501.5289017949253,1585.3998695368628,1533.7869663110546,2372.4966437304092,1185.3998695368609,1404.7547082465348,2985.3998695368609,1630.561159859438,5445.3033144555866,4274.7964020131903,4122.7226692942959,-2829.9655027487142,4929.1742821975167,4936.7011639179518,5090.4646047781634,5380.7871854233244,4903.3678305846151,4251.754927358812,3236.7011639179482,5025.9484757459095,7069.1626440653981,9149.3505432080365,1762.5166940530089,-8084.2179378272367,-5794.4655452615689,-10906.681852963395,-13082.891473681573,-25385.057751382206,-22859.776615837909,-23704.656769789639,-13504.797405646761,-25484.944430092211,-243.5979236276944,-624.28111316099239,-2437.0596315873699,-9777.8384796737191,-4265.2950954902299,-6868.6487529943406,-9734.4776973782573,-13212.132452736023,-11811.586438516009,-14633.836689964086,-13463.640936633623,-20835.008216077447,-7555.3964211973143,-10252.02590025861,-10297.245225931154,-14947.701493372369,-13093.222625317921,-11605.178433359641,-16175.999609208244,-8939.0097332003788,-12109.339582335608,-10884.599399560328,-8914.7520003231475,-8812.1827848550674,-11163.321126256549,-17033.79916683842,-11588.323468123341,-12740.302637622604,-13167.270489944727,-10985.352336141485,-7670.3412155864717,-10533.524935036956,-10182.152413458978,-4138.2795534763463,-3068.957877595858,-4965.8583928639018,2550.8243799102747,-930.42262853167995,-3181.4990777220555,-13817.529382621575,-11235.693927025015,-3270.4186934310783,-10009.718616485061,-11469.384666662711,-11226.426906479232,-866.80758440752834,235.0496016742909,2737.7559134164403,21639.776706629455,23067.967843830935,11413.832225653714,768.87885821350937,-4603.2036835053295,-6350.773495415142,-6184.6955330665769,-4018.5737647146816,-6037.6755592239242,-299.03381253340194,-7610.491864861302,-7863.3752815724802,-5388.5730289429339,-15200.40996831032,-20191.043669597333,-25087.884760803805,-10830.393806609132,-28417.345994139301,-29378.328802190892,-16898.4035378894,20668.379944978245,-20893.730354425486,12692.864926807175,13129.032258064508,4402.1092362034469,4113.1339565943781,16669.317071729776,-22490.48227830317,-30088.609568351691,599.2277549316932,-2795.1199040950451,2637.6558505239591,1402.451634362933,13709.18787988005,4537.5563626800649,3393.2924701027223,12538.580963969056,-11687.335702185817,-2138.74249124778,3859.2220522045318,7384.9968335587801]
["     TOTAL SUPPLY",42528.035458555205,36991.1690991082,32657.067716619706,24838.788146727245,21528.035458555187,18138.788146727238,16689.325781135838,22302.2290069423,27872.121480060578,24850.616103716475,30505.454813393906,32140.938684361645,32285.015676616782,29861.052542976227,31059.209225003873,20475.338257261941,19801.144708874839,18942.004923928602,19510.82212822968,19607.596321778063,21942.004923928602,24897.918902423236,31375.338257261934,34317.273741132914,34896.386169643753,33985.095847063109,29025.418427708268,22568.429180396441,19735.095847063098,21001.762513729762,22993.160363192143,20122.192621256665,29635.095847063105,36799.611976095359,40901.762513729773,35347.999072869548,33599.710552724064,32903.381297996581,33470.678294659534,30729.81807960579,29567.45248820792,19296.484746272443,19857.77506885309,21309.387972078886,28229.818079605771,33148.097649498253,31596.484746272457,29341.646036595026,36155.014397622566,26246.028222507372,29090.498268590305,17505.552032031173,17219.530526654813,17538.885365364502,19413.078913751597,16929.207946009657,18438.885365364498,24380.820849235482,32205.552032031173,34380.82084923549,33601.988166743038,23925.720885637038,23956.826876420462,21413.816123732275,22279.407521581754,21947.149457065614,12601.988166743029,19505.213973194641,23813.816123732282,20795.536553839804,30980.482790398954,30311.665586097886,21903.214839130538,24710.818525766474,28548.376129453121,16132.247097195044,21193.537419775697,21265.580430528378,21548.37612945311,25741.924516549887,18565.580430528382,30451.601935904724,39732.247097195061,37032.247097195061,32640.963439618365,31446.302705469305,28769.995697682865,15863.544084779669,19511.931181553853,16196.877418112983,13447.415052521588,17447.415052521595,19763.544084779653,21286.124729940948,21963.544084779653,22382.89892348932,42754.450464256741,46810.902077159961,41238.321431998658,30794.235410493293,37947.998851353506,46260.902077159961,36335.095625547045,54399.611754579295,42427.568743826603,49302.837561030916,50460.902077159953,46012.514980385757,39336.153364348203,35516.571678237386,32352.088059497102,23213.95557815448,29504.78323953737,29124.824996351665,26409.905698214156,22527.094259223188,23471.730233477152,28013.946853718968,32693.376110334957,30782.046290190607,31973.017189054572,29494.407732240186,28586.007093998138,20086.088460965537,22725.513565579127,22061.944854311601,19288.589028207251,23359.321369623667,24252.340502123247,29098.907454976241,33566.95267067229,31768.703670798393,32263.339769699734,29494.407732240186,28586.007093998138,19752.755127632205,21725.513565579127,21195.278187644933,18287.897872011381,23363.597425438609,24724.45037200228,30805.104533272177,35186.704620681427,32524.682438300042,31278.388551162814,28713.057976018739,27790.87008026375,18932.364029044053,20568.761768119817,20014.647663858515,21252.239429574831,22324.539581092104,24017.847586541022,28429.462382007532,31231.042122404142,30311.560961974796,31373.405025071548,29462.43451432548,28866.888019052127,19082.470617378396,21619.144782652409,23162.914639902265,20393.507189966575,25482.228236563107,27106.906426854111,33117.063383334411,37501.716268340948,42431.304300513228,41093.197530026278,38620.467008241598,33512.414339373114,25564.235165481332,22366.346172149555,21777.916145185965,21010.660774201217,23209.040607069233,24757.680748043869,37993.096688282785,34951.531109073148,33170.690703114677,33110.059604501046,30064.629784154771,28404.363157395041,19697.844646833692,21152.109794576787,13768.383413498254,17829.981250607936,30051.841998780397,24688.136984796605,30686.916492482396,34296.685224796092,44016.987510178609,47569.430946693516,48869.103081404159,41295.607418399275,34046.813110623087,36178.133449880916,23649.739110965515,21623.727827073802,24231.758607333693,25411.239731939928,31118.175049460526,37216.545001569983,46333.928604264307,51288.617966325808,45645.373935622534,39805.971365086931,30555.612351080366,24463.784197674369]
["DEMAND"]
["  Residential and Commercial ",38733.193821938854,33124.898891063276,28829.968015487226,21010.613176777566,17700.935757422711,14110.613176777559,12894.484144519491,18507.387370325952,24077.27984344423,21055.774467100127,26710.613176777559,28346.097047745297,27808.00292489952,25384.039791258961,26549.938408770482,15998.325505544679,14937.035182964029,14398.32550554467,14711.22873135113,15098.325505544673,17398.325505544672,20388.648086189845,26898.325505544672,29840.260989415649,31084.94524756433,30102.226353555114,24988.17105401594,18690.321591650347,15730.106537886901,17190.321591650336,19181.719441112717,16310.751699177239,25823.654924983679,32988.171054015933,37090.321591650354,31439.783957241736,28826.673066328905,28162.601876117551,28729.898872780504,25989.038657726756,24762.15693729663,14555.705324393412,15116.995646974059,16536.350485683724,23489.038657726738,28407.318227619224,26855.705324393424,24600.866614715993,33984.739599772729,24075.753424657534,26920.223470740468,15201.943900848006,15016.997664288847,15335.277234181334,17210.546051385631,14758.93314815982,16268.610567514663,22210.546051385645,30035.277234181336,32210.546051385652,30169.060097216097,20525.05088062623,20556.156871409654,18013.146118721466,18878.737516570945,18513.146118721474,9169.0600972160937,16104.543968183832,20379.812785388141,17394.866548828995,27579.812785388145,26910.995581087078,18761.518948719582,21569.122635355514,25406.680239042165,12990.551206784085,18051.841529364741,17990.55120678409,17955.067335816348,22051.841529364734,15090.551206784094,27213.131851945382,36290.551206784105,33858.293142267976,29124.5882107818,27925.478088423617,25253.6204688463,12345.018318308694,16060.072081749546,12745.018318308674,9931.0398236850215,13963.297888201159,16311.684984975345,17834.265630136641,18478.351651642013,18898.781759168884,21409.347864510637,25430.085191699574,19860.960767736433,9382.4661440805248,16473.863993542887,24849.132810747189,14989.993025800946,32602.896251607392,20949.132810747175,27957.734961284819,29115.799477413857,24667.41238063966,27297.636702246542,25020.681744246325,24152.281074814808,15644.256120353901,17563.040770984098,17055.125538551089,14339.130971596363,18631.504346160666,19308.398384930759,24118.356940656446,28563.3775951219,26886.456377128088,28555.010924914764,26173.175661648766,25264.775023406717,16364.856390374116,18372.023430471578,17840.712783720181,14999.615022131955,19489.702202258053,20197.775098198494,25229.288287610627,29879.053933414201,28124.890955045681,28555.010924914764,26173.175661648766,25264.775023406717,16364.856390374116,18372.023430471578,17840.712783720181,14999.615022131955,19489.702202258053,20197.775098198494,25229.288287610627,29879.053933414201,28124.890955045681,27501.267521530644,25207.327276172844,24332.448641571227,15760.956797618604,17694.054910425017,17182.350808060317,18446.095871870239,18770.488850053334,19452.432281530451,22718.271445240942,25626.450398627163,25087.01993504482,26569.281292564392,25269.667871361489,25292.625562118712,15799.935441278094,18637.814326182637,20224.844721214176,17481.822714503644,21816.91040970834,22500.540365065499,27358.363841684077,31847.617842347492,37154.009224553258,34859.311460248653,33195.451908003371,28901.630596829524,21420.198354807213,18685.719103372961,18174.25606879553,17439.290203613127,18761.645926590121,19248.835408314302,31257.142926033343,28194.370173104249,26539.112932821685,26944.98126039184,24697.442056053947,23840.260168128159,15595.996371259138,17508.861912339231,10201.508104864544,14294.897301576997,25655.390130076721,19248.835408314302,24043.956096948725,29411.355394825769,38756.489609123499,42456.015648799264,43745.651827451868,36473.446241583806,29491.959221107227,31960.601419012863,19678.185425132051,17791.971447607782,18457.806261737929,19421.447764075358,24723.133178560649,32346.857377316162,41106.053851755598,45978.375725710284,40584.574790427076,34907.448392742794,25971.091261188478,20191.506579692996]
["  Chemical",0,0,0,0,0,0,0,0,0,0,0,0,0,0,0,0,0,0,0,0,0,0,0,0,0,0,0,0,0,0,0,0,0,0,0,0,467.2131147540984,467.2131147540984,467.2131147540984,467.2131147540984,467.2131147540984,467.2131147540984,467.2131147540984,467.2131147540984,467.2131147540984,467.2131147540984,467.2131147540984,467.2131147540984,0,0,0,0,0,0,0,0,0,0,0,0,595.62841530054641,595.62841530054641,595.62841530054641,595.62841530054641,595.62841530054641,595.62841530054641,595.62841530054641,595.62841530054641,595.62841530054641,595.62841530054641,595.62841530054641,595.62841530054641,0,0,0,0,0,0,0,0,0,0,0,0,0,0,0,0,0,0,0,0,0,0,0,0,0,0,0,0,0,0,0,0,0,0,0,0,0,0,0,0,0,0,0,0,0,0,0,0,0,0,0,0,0,0,0,0,0,0,0,0,0,0,0,0,0,0,0,0,0,0,0,0,0,0,0,0,0,0,0,0,0,0,0,0,0,0,0,0,0,0,0,0,0,0,0,0,0,0,0,0,0,0,0,0,0,0,0,0,0,0,0,0,0,0,0,0,0,0,0,0,0,0,0,0,0,0,0,0,0,0,0,0,0,0,0,0,0]
["  Farm",969.46323859684128,969.46323859684128,969.46323859684128,969.46323859684128,969.46323859684128,969.46323859684128,969.46323859684128,969.46323859684128,969.46323859684128,969.46323859684128,969.46323859684128,969.46323859684128,1092.2342277967509,1092.2342277967509,1092.2342277967509,1092.2342277967509,1092.2342277967509,1092.2342277967509,1092.2342277967509,1092.2342277967509,1092.2342277967509,1092.2342277967509,1092.2342277967509,1092.2342277967509,1191.3041351643003,1191.3041351643003,1191.3041351643003,1191.3041351643003,1191.3041351643003,1191.3041351643003,1191.3041351643003,1191.3041351643003,1191.3041351643003,1191.3041351643003,1191.3041351643003,1191.3041351643003,1094.6278327333587,1094.6278327333587,1094.6278327333587,1094.6278327333587,1094.6278327333587,1094.6278327333587,1094.6278327333587,1094.6278327333587,1094.6278327333587,1094.6278327333587,1094.6278327333587,1094.6278327333587,663.80870991270911,663.80870991270911,663.80870991270911,663.80870991270911,663.80870991270911,663.80870991270911,663.80870991270911,663.80870991270911,663.80870991270911,663.80870991270911,663.80870991270911,663.80870991270911,720.48021729934055,720.48021729934055,720.48021729934055,720.48021729934055,720.48021729934055,720.48021729934055,720.48021729934055,720.48021729934055,720.48021729934055,720.48021729934055,720.48021729934055,720.48021729934055,577.10371819960858,577.10371819960858,577.10371819960858,577.10371819960858,577.10371819960858,577.10371819960858,577.10371819960858,577.10371819960858,577.10371819960858,577.10371819960858,577.10371819960858,577.10371819960858,658.57795172863666,658.57795172863666,658.57795172863666,658.57795172863666,658.57795172863666,658.57795172863666,658.57795172863666,658.57795172863666,658.57795172863666,658.57795172863666,658.57795172863666,658.57795172863666,1161.9699934768428,1161.9699934768428,1161.9699934768428,1161.9699934768428,1161.9699934768428,1161.9699934768428,1161.9699934768428,1161.9699934768428,1161.9699934768428,1161.9699934768428,1161.9699934768428,1161.9699934768428,1166.055412899002,1166.055412899002,1166.055412899002,1166.055412899002,1166.055412899002,1166.055412899002,1166.055412899002,1166.055412899002,1166.055412899002,1166.055412899002,1166.055412899002,1166.055412899002,581.50351369206805,581.50351369206805,581.50351369206805,581.50351369206805,581.50351369206805,581.50351369206805,581.50351369206805,581.50351369206805,581.50351369206805,581.50351369206805,581.50351369206805,581.50351369206805,581.50351369206805,581.50351369206805,581.50351369206805,581.50351369206805,581.50351369206805,581.50351369206805,484.03816394781489,1037.3924727328169,1786.9467169044331,2836.0876887621971,2501.2554637012086,1660.0629263550061,1037.3924727328169,766.00214294654211,496.98934007560308,513.87732735972554,496.98934007560308,513.87732735972554,496.98934007560308,1065.1494837057221,1834.7591899393017,2911.9715217051116,2568.1803519926189,1704.4804308903572,1070.5633387333307,790.49523992540389,499.51539700807723,516.48922117825464,499.51539700807723,516.48922117825464,499.51539700807723,1070.5633387333307,1844.0847544885571,2926.772253343443,2581.2336898791177,1713.1438251757602,1105.3339856490543,816.16960208741034,515.7390737116765,533.26418786692761,515.7390737116765,533.26418786692761,515.7390737116765,1105.3339856490543,1903.9784735812132,3021.8303979125899,2665.0691454664056,1768.7847358121332,1083.2273059360732,799.84621004566225,505.42429223744296,522.59890410958906,505.42429223744296,522.59890410958906,505.42429223744296,1083.2273059360732,1865.898904109589,2961.3937899543384,1071.478000740467,1446.6460718252501,1329.8808748534889,1339.9168309115271,1038.626753774704,771.31946647509835,433.99760782728703,188.0192627926975,48.22195642525412,1990.4179225550001,2206.2575448238058,2611.5074478591137,1086.1532012130551,1444.3403294679481,1553.4301128677598,1303.9870174476939,1141.7108445963731,827.70896214412505,515.4654902336099]
["  Other",2825.3783980195076,2825.3783980195076,2825.3783980195076,2825.3783980195076,2825.3783980195076,2825.3783980195076,2825.3783980195076,2825.3783980195076,2825.3783980195076,2825.3783980195076,2825.3783980195076,2825.3783980195076,3384.7785239205095,3384.7785239205095,3384.7785239205095,3384.7785239205095,3384.7785239205095,3384.7785239205095,3384.7785239205095,3384.7785239205095,3384.7785239205095,3384.7785239205095,3384.7785239205095,3384.7785239205095,2620.1367869151254,2620.1367869151254,2620.1367869151254,2620.1367869151254,2620.1367869151254,2620.1367869151254,2620.1367869151254,2620.1367869151254,2620.1367869151254,2620.1367869151254,2620.1367869151254,2620.1367869151254,3178.9384743915739,3178.9384743915739,3178.9384743915739,3178.9384743915739,3178.9384743915739,3178.9384743915739,3178.9384743915739,3178.9384743915739,3178.9384743915739,3178.9384743915739,3178.9384743915739,3178.9384743915739,1506.4660879371281,1506.4660879371281,1506.4660879371281,1506.4660879371281,1506.4660879371281,1506.4660879371281,1506.4660879371281,1506.4660879371281,1506.4660879371281,1506.4660879371281,1506.4660879371281,1506.4660879371281,2084.5613724109189,2084.5613724109189,2084.5613724109189,2084.5613724109189,2084.5613724109189,2084.5613724109189,2084.5613724109189,2084.5613724109189,2084.5613724109189,2084.5613724109189,2084.5613724109189,2084.5613724109189,2564.5921722113499,2564.5921722113499,2564.5921722113499,2564.5921722113499,2564.5921722113499,2564.5921722113499,2564.5921722113499,2564.5921722113499,2564.5921722113499,2564.5921722113499,2564.5921722113499,2564.5921722113499,2793.4768427919112,2793.4768427919112,2793.4768427919112,2793.4768427919112,2793.4768427919112,2793.4768427919112,2793.4768427919112,2793.4768427919112,2793.4768427919112,2793.4768427919112,2793.4768427919112,2793.4768427919112,2631.3105022831046,2631.3105022831046,2631.3105022831046,2631.3105022831046,2631.3105022831046,2631.3105022831046,2631.3105022831046,2631.3105022831046,2631.3105022831046,2631.3105022831046,2631.3105022831046,2631.3105022831046,2697.2764356473908,2697.2764356473908,2697.2764356473908,2697.2764356473908,2697.2764356473908,2697.2764356473908,2697.2764356473908,2697.2764356473908,2697.2764356473908,2697.2764356473908,2697.2764356473908,2697.2764356473908,2739.7285568993539,2739.7285568993539,2739.7285568993539,2739.7285568993539,2739.7285568993539,2739.7285568993539,2739.7285568993539,2739.7285568993539,2739.7285568993539,2739.7285568993539,2739.7285568993539,2739.7285568993539,2739.7285568993539,2739.7285568993539,2739.7285568993539,2739.7285568993539,2739.7285568993539,2739.7285568993539,2739.7285568993539,2739.7285568993539,2739.7285568993539,2739.7285568993539,2739.7285568993539,2739.7285568993539,2739.7285568993539,2739.7285568993539,2961.4320986169173,2657.5299040657223,2377.7175176191954,2318.4195284384746,2309.1542176289868,2488.9012473330472,2653.8237797419274,2722.387079732136,2959.5790364550198,3443.2282607102752,3656.7280584444852,3325.4390677092451,2997.9147245959962,2689.2136195927042,2404.9827241323555,2344.7483621804936,2335.3367431255151,2517.9221527920963,2685.4489719707126,2755.0949529775526,2996.0324007850004,3487.3189154548745,5117.5931800189819,4597.8865940412325,4084.085764722322,3599.8137186976014,3153.9290909553279,3059.4369844139192,3044.672592766824,3331.1017907204696,3593.9079620387633,3703.1644602272672,4081.1328863929025,4851.8341303712696,5070.8921340635407,4556.3826139455687,4047.7197929198478,3568.2904673553739,3126.8646858905236,3033.3175004145287,3018.7007526839047,3302.2656586580138,3562.4437682631246,3670.6077014697435,3813.8518292298609,3813.8518292298609,3783.5344230407645,3783.5344230407645,3783.5344230407645,3783.5344230407645,3783.5344230407645,3783.5344230407645,3783.5344230407645,3783.5344230407645,3783.5344230407645,3783.5344230407645,3783.5344230407645,3783.5344230407645,3756.8121277477621,3756.8121277477621,3756.8121277477621,3756.8121277477621,3756.8121277477621]
["     US DOMESTIC CONSUMPTION",42528.035458555205,36919.740527679627,32624.809652103573,24805.454813393913,21495.777394039058,17905.45481339391,16689.325781135842,22302.2290069423,27872.121480060578,24850.616103716475,30505.454813393906,32140.938684361645,32285.015676616778,29861.05254297622,31026.951160487741,20475.338257261938,19414.04793468129,18875.33825726193,19188.241483068392,19575.338257261934,21875.33825726193,24865.660837907104,31375.33825726193,34317.273741132907,34896.386169643753,33913.667275634536,28799.611976095366,22501.762513729773,19541.547459966325,21001.762513729762,22993.160363192143,20122.192621256665,29635.095847063105,36799.611976095359,40901.762513729773,35251.224879321162,33567.452488207935,32903.381297996581,33470.678294659534,30729.818079605786,29502.936359175659,19296.484746272443,19857.77506885309,21277.129907562754,28229.818079605768,33148.097649498253,31596.484746272454,29341.646036595022,36155.014397622566,26246.028222507372,29090.498268590305,17372.218698697845,17187.272462138684,17505.552032031173,19380.820849235468,16929.207946009657,18438.885365364502,24380.820849235482,32205.552032031173,34380.82084923549,33569.730102226902,23925.720885637034,23956.826876420462,21413.816123732271,22279.40752158175,21913.816123732278,12569.7301022269,19505.213973194637,23780.48279039895,20795.536553839804,30980.48279039895,30311.665586097886,21903.214839130538,24710.81852576647,28548.376129453121,16132.247097195042,21193.537419775697,21132.247097195046,21096.763226227304,25193.53741977569,18232.247097195053,30354.827742356338,39432.247097195061,36999.989032678932,32576.643005302347,31377.532882944164,28705.675263366848,15797.073112829243,19512.126876270093,16197.073112829223,13383.09461820557,17415.352682721707,19763.739779495892,21286.320424657188,21930.40644616256,22350.836553689431,25202.628360270584,29223.365687459522,23654.24126349638,13175.746639840472,20267.144489302835,28642.413306507136,18783.273521560895,36396.176747367339,24742.413306507122,31751.015457044767,32909.079973173808,28460.692876399607,31160.968550792932,28884.013592792719,28015.612923361201,19507.58796890029,21426.372619530492,20918.457387097478,18202.462820142755,22494.836194707059,23171.730233477152,27981.688789202839,32426.709443668289,30749.788225674478,31876.242995506185,29494.407732240186,28586.007093998138,19686.088460965537,21693.255501062999,21161.944854311601,18320.847092723379,22810.934272849474,23519.007168789914,28550.520358202048,33200.286004005626,31446.123025637102,31876.242995506185,29494.407732240186,28586.007093998138,19686.088460965537,21693.255501062999,21161.944854311601,18223.381742979123,23266.823231890223,24724.45037200228,30805.104533272177,35120.037954014762,32524.682438300042,31278.388551162814,28713.057976018739,27790.87008026375,18932.364029044053,20568.761768119817,20014.647663858515,21252.239429574831,22324.539581092104,23941.01525121168,28352.63004667819,31154.2097870748,30234.728626645454,31296.572689742206,29385.602178996138,28790.055683722785,19005.638282049054,21542.312447323067,23086.082304572923,20316.674854637233,25405.395901233765,27030.07409152477,33040.231048005073,37424.88393301161,42354.47196518389,41082.238625916689,38609.508104132008,33501.455435263524,25553.276261371742,22355.387268039965,21766.957241076376,20999.701870091627,23198.081702959644,24746.72184393428,37982.137784173196,34940.572204963559,33159.731799005087,33099.100700391456,30053.670880045182,28393.404253285451,19686.885742724102,21141.150890467197,13757.424509388662,17819.022346498346,30040.883094670808,24677.178080687016,30675.957588372807,34296.685224796092,44016.987510178609,47569.430946693516,48869.103081404159,41295.607418399275,34046.813110623087,36178.133449880916,23649.739110965515,21623.727827073802,24231.758607333693,25411.239731939928,31118.175049460526,37216.545001569983,46333.928604264307,51288.617966325808,45645.373935622534,39805.971365086931,30555.612351080366,24463.784197674369]
["EXPORTS",0,71.428571428571431,32.258064516129032,33.333333333333336,32.258064516129032,233.33333333333334,0,0,0,0,0,0,0,0,32.258064516129032,0,387.09677419354841,66.666666666666671,322.58064516129031,32.258064516129032,66.666666666666671,32.258064516129032,0,0,0,71.428571428571431,225.80645161290323,66.666666666666671,193.54838709677421,0,0,0,0,0,0,96.774193548387103,32.258064516129032,0,0,0,64.516129032258064,0,0,32.258064516129032,0,0,0,0,0,0,0,133.33333333333334,32.258064516129032,33.333333333333336,32.258064516129032,0,0,0,0,0,32.258064516129032,0,0,0,0,33.333333333333336,32.258064516129032,0,33.333333333333336,0,0,0,0,0,0,0,0,133.33333333333334,451.61290322580646,548.38709677419354,333.33333333333331,96.774193548387103,300,32.258064516129032,64.516129032258064,68.965517241379317,64.516129032258064,66.666666666666671,0,0,64.516129032258064,32.258064516129032,0,0,33.333333333333336,32.258064516129032,0,35.714285714285715,32.258064516129032,66.666666666666671,129.03225806451613,66.666666666666671,0,451.61290322580646,133.33333333333334,0,0,0,0,71.428571428571431,0,0,0,66.666666666666671,0,32.258064516129032,300,32.258064516129032,266.66666666666669,32.258064516129032,96.774193548387103,0,0,400,1032.258064516129,900,967.74193548387098,548.38709677419354,733.33333333333337,548.38709677419354,366.66666666666669,322.58064516129031,387.09677419354841,0,0,66.666666666666671,32.258064516129032,33.333333333333336,64.516129032258064,96.774193548387103,0,0,66.666666666666671,0,0,0,0,0,0,0,0,0,76.832335329341319,76.832335329341319,76.832335329341319,76.832335329341319,76.832335329341319,76.832335329341319,76.832335329341319,76.832335329341319,76.832335329341319,76.832335329341319,76.832335329341319,76.832335329341319,76.832335329341319,76.832335329341319,76.832335329341319,76.832335329341319,10.95890410958904,10.95890410958904,10.95890410958904,10.95890410958904,10.95890410958904,10.95890410958904,10.95890410958904,10.95890410958904,10.95890410958904,10.95890410958904,10.95890410958904,10.95890410958904,10.95890410958904,10.95890410958904,10.95890410958904,10.95890410958904,10.95890410958904,10.95890410958904,10.95890410958904,10.95890410958904,10.95890410958904,10.95890410958904,0,0,0,0,0,0,0,0,0,0,0,0,0,0,0,0,0,0,0]
["     TOTAL DEMAND",42528.035458555205,36991.1690991082,32657.067716619702,24838.788146727245,21528.035458555187,18138.788146727242,16689.325781135842,22302.2290069423,27872.121480060578,24850.616103716475,30505.454813393906,32140.938684361645,32285.015676616778,29861.05254297622,31059.20922500387,20475.338257261938,19801.144708874839,18942.004923928598,19510.822128229684,19607.596321778063,21942.004923928598,24897.918902423233,31375.33825726193,34317.273741132907,34896.386169643753,33985.095847063109,29025.418427708268,22568.429180396441,19735.095847063098,21001.762513729762,22993.160363192143,20122.192621256665,29635.095847063105,36799.611976095359,40901.762513729773,35347.999072869548,33599.710552724064,32903.381297996581,33470.678294659534,30729.818079605786,29567.452488207917,19296.484746272443,19857.77506885309,21309.387972078883,28229.818079605768,33148.097649498253,31596.484746272454,29341.646036595022,36155.014397622566,26246.028222507372,29090.498268590305,17505.552032031177,17219.530526654813,17538.885365364506,19413.078913751597,16929.207946009657,18438.885365364502,24380.820849235482,32205.552032031173,34380.82084923549,33601.988166743031,23925.720885637034,23956.826876420462,21413.816123732271,22279.40752158175,21947.14945706561,12601.988166743029,19505.213973194637,23813.816123732282,20795.536553839804,30980.48279039895,30311.665586097886,21903.214839130538,24710.81852576647,28548.376129453121,16132.247097195042,21193.537419775697,21265.580430528378,21548.37612945311,25741.924516549883,18565.580430528385,30451.601935904724,39732.247097195061,37032.247097195061,32641.159134334604,31446.498400185545,28770.191392399105,15863.739779495909,19512.126876270093,16197.073112829223,13447.610747237828,17447.610747237835,19763.739779495892,21286.320424657188,21963.739779495892,22383.09461820556,25202.628360270584,29259.079973173808,23686.499328012509,13242.413306507138,20396.17674736735,28709.079973173804,18783.273521560895,36847.789650593142,24875.746639840454,31751.015457044767,32909.079973173808,28460.692876399607,31160.968550792932,28955.442164221291,28015.612923361201,19507.58796890029,21426.372619530492,20985.124053764146,18202.462820142755,22527.094259223188,23471.730233477152,28013.946853718968,32693.376110334957,30782.046290190607,31973.017189054572,29494.407732240186,28586.007093998138,20086.088460965537,22725.513565579127,22061.944854311601,19288.589028207251,23359.321369623667,24252.340502123247,29098.907454976241,33566.95267067229,31768.703670798393,32263.339769699734,29494.407732240186,28586.007093998138,19752.755127632205,21725.513565579127,21195.278187644933,18287.897872011381,23363.597425438609,24724.45037200228,30805.104533272177,35186.704620681427,32524.682438300042,31278.388551162814,28713.057976018739,27790.87008026375,18932.364029044053,20568.761768119817,20014.647663858515,21252.239429574831,22324.539581092104,24017.847586541022,28429.462382007532,31231.042122404142,30311.560961974796,31373.405025071548,29462.43451432548,28866.888019052127,19082.470617378396,21619.144782652409,23162.914639902265,20393.507189966575,25482.228236563107,27106.906426854111,33117.063383334411,37501.716268340948,42431.304300513228,41093.197530026278,38620.467008241598,33512.414339373114,25564.235165481332,22366.346172149555,21777.916145185965,21010.660774201217,23209.040607069233,24757.680748043869,37993.096688282785,34951.531109073148,33170.690703114677,33110.059604501046,30064.629784154771,28404.363157395041,19697.844646833692,21152.109794576787,13768.383413498252,17829.981250607936,30051.841998780397,24688.136984796605,30686.916492482396,34296.685224796092,44016.987510178609,47569.430946693516,48869.103081404159,41295.607418399275,34046.813110623087,36178.133449880916,23649.739110965515,21623.727827073802,24231.758607333693,25411.239731939928,31118.175049460526,37216.545001569983,46333.928604264307,51288.617966325808,45645.373935622534,39805.971365086931,30555.612351080366,24463.784197674369]
[]
["INVENTORIES (End of Month, Thousand Barrels)",536,455,355,364,446,484,570,628,691,769,733,530,516.99999999999989,402,336,398,445,483,498,499,510,530,515.00000000000011,460,350,386,379,369,370,383,365,383,426,423,418,414,335,329,383,341,385,407,408,441,421,414,448,403,337,378,388,355,430,442,440,444,433,467,465,355,342,402,317,349,370,331,324,338,327,392,366,368,372,347,342,341,346,325,331,308,325,369,338,356,331,336,351,342,326,338,352,340,364,382,352,363,340,352,370,596,589,582,570,549,543,557,601,591,583,634,750,728,771,728,860,1066,1270,1341,1376,1364,1234,1174,1167,1280,1328,1335,1405,1545,1610,1668,1718,1520,1354,1329,1239,1216,1265,1303,1415,1465,1498,1547,1505,1353,1051,927,863,940,1061,1207,1315,1418,1515,1537,1580,1483,1169,1049,968,979,1144,1320,1360,1433,1569,1556,1462,1396,1225,1063,1081,1073,1273,1334,1471,1659,1781,1774,1856,1691,1469,1309,1295,1337,1540,1883,2165,3117,3203,3170,3178,2815,2302,2025,1931,1941,2873.7468966189031,2855.7700639709524,2942.4187809978989,2860.6514496316559,2818.5779006007683,2393.5930763244869,2257.4663854440846,2152.2743188709001,1763.5783089878594,2090.8237086490622,2157.124725877743,2041.3480643116068,1812.4131624712847]
["Days of Forward Supply",12.60345074068487,12.300233030779482,10.870541197406245,14.654499158726493,20.717171376766789,26.683149727801826,34.15356662545819,28.158620369493757,24.791797800333718,30.944906830096418,24.028489477828231,16.489873093155008,16.01362084437363,13.462351985799529,10.818047477187763,19.438018312534705,22.47344820426224,25.498884724174442,25.524296040783295,25.449320345592952,23.243090217513597,21.286919685019008,16.414165666590115,13.404328195472038,10.029691851142564,11.357920005200073,13.057520632956621,16.350273962377656,18.748325463798647,18.236564657352748,15.874285841292981,19.033711047741726,14.374848058479197,11.494686418834426,10.219608503660131,11.712119804760182,9.9703239846165932,9.9989723554652468,11.442851460261867,11.096713918599757,13.021074445069138,21.091924531934314,20.546108442931644,20.695103987868183,14.913308998762039,12.489404501505881,14.178792470034253,13.734744107313432,9.3209754058944583,14.402179133368637,13.337688355064468,20.279280502004781,24.971644803810737,25.201145385946482,22.665132200555689,26.226861966371803,23.482981287651192,19.154400210222779,14.438504253475232,10.325524267053501,10.177969181552429,16.80200157485439,13.232136360763523,16.297889081676296,16.607263888933588,15.081685238783422,25.710228871270036,17.328699929388218,13.731524519252485,18.850198886915422,11.813889488947078,12.140540378908746,16.983808209533443,14.042432452740329,11.97966561912996,21.137786815780338,16.325731431561174,15.28291226574928,15.360786261178031,11.964917378340614,17.505512484036586,12.11758910998115,8.5069439735730796,9.6132432651370099,10.140571253544348,10.684814433839078,12.200127389237037,21.558598713402969,16.707558436208654,20.867967789333505,26.175653550375234,19.48690883385429,18.41756692109637,17.94579769444357,16.026414605795292,16.217596636738048,13.490656416454399,12.03045346342849,15.62071266320155,45.006902156356489,28.877961163776714,20.27233197803028,30.346148095309896,14.899129777005843,21.828490531831637,17.542746018739237,18.262437007959861,20.765481802098837,18.709302923293276,21.89571122431003,26.770786777061812,37.318811590679701,35.983692325840579,34.691241192325336,47.246353886152605,47.320794583329423,54.107642997218427,47.869013495396729,42.088036284665684,44.311544045551948,38.595043836602301,39.804155779561782,40.824169537305579,63.725697638318103,58.436523168894901,60.511437627816335,72.840994120687412,66.140620078505762,66.385345359102459,57.321739745069131,51.181291815656238,47.845830152559074,41.967136994032323,45.059389293899159,43.342884367370708,61.561032480928844,58.226471663445786,61.475956506177852,77.373572944410384,62.704384659739411,60.587797805864277,50.218949860374806,42.771837153383707,41.599176335285286,33.601475289587057,32.284962499439594,31.053363838826943,49.650429209894249,51.583075926547892,60.305833021459698,61.875832161481895,63.517547354077713,63.078092012248703,54.063632275112532,50.590690948047452,48.925226973971803,37.260858330991255,35.604661233610756,33.533230161876844,51.303629369062158,52.916061736075989,56.98764687091942,66.687891755524419,56.235270585319682,57.881927774894748,46.9848422847489,38.984882439479826,32.900237761088924,29.81028670511483,27.524265819291003,32.256703114641105,41.972701043246609,56.915867714912338,61.254712852537196,70.012077002653172,71.480765969045947,71.937271432047154,46.692693005650902,53.102108580250345,50.978739488268111,44.367180776693658,43.539534975078716,45.591587208771777,67.875446475049472,72.80597609203231,136.7626062878191,121.42469302519214,103.72076360998098,129.73842465198831,103.30135322578202,92.66201614441573,63.952581928716761,48.39242249039367,41.437224592128025,46.760421282473793,57.00974107894934,79.433254913496995,120.75270896526874,136.07361341802817,118.05381095063755,110.91855141006906,76.91945535109339,60.657602293519005,46.451366929261795,34.385373966320543,45.805818385843978,54.190983209361313,66.807630652488953,74.085560427874455]
["Days per Month",31,28,31,30,31,30,31,31,30,31,30,31,31,28,31,30,31,30,31,31,30,31,30,31,31,28,31,30,31,30,31,31,30,31,30,31,31,29,31,30,31,30,31,31,30,31,30,31,31,28,31,30,31,30,31,31,30,31,30,31,31,28,31,30,31,30,31,31,30,31,30,31,31,28,31,30,31,30,31,31,30,31,30,31,31,29,31,30,31,30,31,31,30,31,30,31,31,28,31,30,31,30,31,31,30,31,30,31,31,28,31,30,31,30,31,31,30,31,30,31,31,28,31,30,31,30,31,31,30,31,30,31,31,29,31,30,31,30,31,31,30,31,30,31,31,28,31,30,31,30,31,31,30,31,30,31,31,28,31,30,31,30,31,31,30,31,30,31,31,28,31,30,31,30,31,31,30,31,30,31,31,29,31,30,31,30,31,31,30,31,30,31,31,28,31,30,31,30,31,31,30,31,30,31,31,28,31,30,31]

{"sheet":"PADD5 mthly rpt","index":5,"n_rows":85,"n_cols":211,"rows_kept":85,"cut":false,"hidden":false,"merged":[]}
[null,null,null,null,null,null,null,null,null,null,null,null,null,null,null,null,null,null,null,null,null,null,null,null,null,null,null,null,null,null,null,null,null,null,null,null,null,null,null,null,null,null,null,null,null,null,null,null,null,null,null,null,null,null,null,null,null,null,null,null,null,null,null,null,null,null,null,null,null,null,null,null,null,null,null,null,null,null,null,null,null,null,null,null,null,null,null,null,null,null,null,null,null,null,null,null,null,null,null,null,null,null,null,null,null,null,null,null,null,null,null,null,null,null,null,null,null,null,null,null,null,null,null,null,null,null,null,null,null,null,null,null,null,null,null,null,null,null,null,null,null,null,null,null,null,null,null,null,null,null,null,null,null,null,null,null,null,null,null,null,null,null,null,null,null,null,null,null,null,null,null,null,null,null,"Legend:  BLACK - Actual / RED - Estimated (Inventory from US Dept. of Energy; Supply and Demand prepared by IHS) / BLUE - Forecast"]
["PADD V (West Coast)              (includes AL, AZ, CA, HI, NV, OR, WA)",null,null,null,null,null,null,null,null,null,null,null,null,null,null,null,null,null,null,null,null,null,null,null,null,null,null,null,null,null,null,null,null,null,null,null,null,null,null,null,null,null,null,null,null,null,null,null,null,null,null,null,null,null,null,null,null,null,null,null,null,null,null,null,null,null,null,null,null,null,null,null,null,null,null,null,null,null,null,null,null,null,null,null,null,null,null,null,null,null,null,null,null,null,null,null,null,null,null,null,null,null,null,null,null,null,null,null,null,"","","","","","","","","","","","","","","","","","","","","","","","","","","","","","","","","","","","","","","","","",null,"","","","","","","","","","","","","","","",null,null,null,null,null,null,null,null,null,null,null,null,null,null,null,null,null,null,null,null,null,null,null,null,null,null,null,null,null,null,null,null,"   FCST -->"]
["(Barrels per Day)","2005-01-15","2005-02-15","2005-03-15","2005-04-15","2005-05-15","2005-06-15","2005-07-15","2005-08-15","2005-09-15","2005-10-15","2005-11-15","2005-12-15","2006-01-15","2006-02-15","2006-03-15","2006-04-15","2006-05-15","2006-06-15","2006-07-15","2006-08-15","2006-09-15","2006-10-15","2006-11-15","2006-12-15","2007-01-15","2007-02-15","2007-03-15","2007-04-15","2007-05-15","2007-06-15","2007-07-15","2007-08-15","2007-09-15","2007-10-15","2007-11-15","2007-12-15","2008-01-15","2008-02-15","2008-03-15","2008-04-15","2008-05-15","2008-06-15","2008-07-15","2008-08-15","2008-09-15","2008-10-15","2008-11-15","2008-12-15","2009-01-15","2009-02-15","2009-03-15","2009-04-15","2009-05-15","2009-06-15","2009-07-15","2009-08-15","2009-09-15","2009-10-15","2009-11-15","2009-12-15","2010-01-15","2010-02-15","2010-03-15","2010-04-15","2010-05-15","2010-06-15","2010-07-15","2010-08-15","2010-09-15","2010-10-15","2010-11-15","2010-12-15","2011-01-15","2011-02-15","2011-03-15","2011-04-15","2011-05-15","2011-06-15","2011-07-15","2011-08-15","2011-09-15","2011-10-15","2011-11-15","2011-12-15","2012-01-15","2012-02-15","2012-03-15","2012-04-15","2012-05-15","2012-06-15","2012-07-15","2012-08-15","2012-09-15","2012-10-15","2012-11-15","2012-12-15","2013-01-15","2013-02-15","2013-03-15","2013-04-15","2013-05-15","2013-06-15","2013-07-15","2013-08-15","2013-09-15","2013-10-15","2013-11-15","2013-12-15","2014-01-15","2014-02-15","2014-03-15","2014-04-15","2014-05-15","2014-06-15","2014-07-15","2014-08-15","2014-09-15","2014-10-15","2014-11-15","2014-12-15","2015-01-15","2015-02-15","2015-03-15","2015-04-15","2015-05-15","2015-06-15","2015-07-15","2015-08-15","2015-09-15","2015-10-15","2015-11-15","2015-12-15","2016-01-15","2016-02-15","2016-03-15","2016-04-15","2016-05-15","2016-06-15","2016-07-15","2016-08-15","2016-09-15","2016-10-15","2016-11-15","2016-12-15","2017-01-15","2017-02-15","2017-03-15","2017-04-15","2017-05-15","2017-06-15","2017-07-15","2017-08-15","2017-09-15","2017-10-15","2017-11-15","2017-12-15","2018-01-15","2018-02-15","2018-03-15","2018-04-15","2018-05-15","2018-06-15","2018-07-15","2018-08-15","2018-09-15","2018-10-15","2018-11-15","2018-12-15","2019-01-15","2019-02-15","2019-03-15","2019-04-15","2019-05-15","2019-06-15","2019-07-15","2019-08-15","2019-09-15","2019-10-15","2019-11-15","2019-12-15","2020-01-15","2020-02-15","2020-03-15","2020-04-15","2020-05-15","2020-06-15","2020-07-15","2020-08-15","2020-09-15","2020-10-15","2020-11-15","2020-12-15","2021-01-15","2021-02-15","2021-03-15","2021-04-15","2021-05-15","2021-06-15","2021-07-15","2021-08-15","2021-09-15","2021-10-15","2021-11-15","2021-12-15","2022-01-15","2022-02-15","2022-03-15","2022-04-15","2022-05-15","2022-06-15"]
["SUPPLY"]
["Gas Processing",13290.322580645161,13535.714285714286,13709.677419354839,13166.666666666666,12354.838709677419,12933.333333333334,12709.677419354839,13064.516129032258,13966.666666666666,13709.677419354839,13433.333333333334,13354.838709677419,12870.967741935483,13607.142857142857,13032.258064516129,12833.333333333334,13064.516129032258,12800,12387.096774193549,12580.645161290322,12433.333333333334,12580.645161290322,12533.333333333334,12709.677419354839,12612.903225806451,7678.5714285714284,12677.41935483871,13300,13580.645161290322,13133.333333333334,13419.354838709678,13193.548387096775,13566.666666666666,13741.935483870968,13500,13741.935483870968,13483.870967741936,13344.827586206897,12903.225806451614,13266.666666666666,13096.774193548386,12900,12774.193548387097,12709.677419354839,13166.666666666666,13516.129032258064,13500,13290.322580645161,14032.258064516129,13392.857142857143,12419.354838709678,11933.333333333334,12419.354838709678,12833.333333333334,12096.774193548386,12612.903225806451,13333.333333333334,13193.548387096775,12866.666666666666,12451.612903225807,12709.677419354839,12535.714285714286,12774.193548387097,13100,13000,12433.333333333334,12064.516129032258,11709.677419354839,11833.333333333334,11741.935483870968,12000,11483.870967741936,10129.032258064517,11821.428571428571,11354.838709677419,11566.666666666666,10935.483870967742,10866.666666666666,10709.677419354839,11129.032258064517,10766.666666666666,10548.387096774193,11133.333333333334,11935.483870967742,11419.354838709678,12071.428571428571,10838.709677419354,11400,11387.096774193549,11166.666666666666,10967.741935483871,11774.193548387097,13166.666666666666,13580.645161290322,13333.333333333334,14290.322580645161,14000,14178.571428571429,14225.806451612903,14033.333333333334,14258.064516129032,14033.333333333334,13967.741935483871,13806.451612903225,14000,13645.161290322581,13600,13096.774193548386,13322.58064516129,12750,13000,13166.666666666666,12161.290322580646,12666.666666666666,12645.161290322581,12741.935483870968,13000,12903.225806451614,12700,12935.483870967742,12903.225806451614,12107.142857142857,13064.516129032258,12766.666666666666,12806.451612903225,12266.666666666666,12322.58064516129,12290.322580645161,12266.666666666666,11032.258064516129,12600,12129.032258064517,12000,11655.172413793103,11806.451612903225,11400,11451.612903225807,11266.666666666666,10838.709677419354,10838.709677419354,10966.666666666666,10483.870967741936,8800,10741.935483870968,10677.41935483871,10275.862068965518,10838.709677419354,10766.666666666666,10483.870967741936,10233.333333333332,10451.612903225807,10387.096774193547,10500,10354.83870967742,10200,9580.645161290322,9741.9354838709678,10142.857142857143,9806.4516129032254,10266.666666666668,10290.322580645163,10633.333333333332,10258.064516129032,10451.612903225807,10433.333333333334,10032.258064516131,9833.3333333333339,9548.3870967741932,9548.3870967741932,9714.2857142857138,9935.4838709677424,9833.3333333333339,9645.1612903225796,9733.3333333333321,9387.0967741935474,9580.645161290322,9233.3333333333321,9193.5483870967746,9033.3333333333339,9161.2903225806458,9064.5161290322576,8896.5517241379312,8838.7096774193542,8766.6666666666679,8548.3870967741932,8500,8580.645161290322,8387.0967741935474,8766.6666666666679,8322.5806451612898,7966.666666666667,8225.8064516129034,8032.2580645161297,7678.5714285714284,8290.3225806451628,8433.3333333333339,8968.499061440858,8908.499061440858,8831.6403397166614,8862.6487703181374,8861.0931163990408,8796.7628924298679,8784.8517088498847,8766.0274315727111,8819.0718528973957,8773.8988983202689,8768.4074461974815,8773.8830473462076,8642.2037761502161,8610.0236976602864]
["Refinery Production",58903.225806451614,57285.714285714283,54032.258064516129,55566.666666666664,55419.354838709674,59233.333333333336,53258.06451612903,54419.354838709674,58000,51612.903225806454,56800,61000,52548.387096774197,55714.285714285717,55903.225806451614,53933.333333333336,57096.774193548386,58433.333333333336,55838.709677419356,55709.677419354841,49566.666666666664,44806.451612903227,46366.666666666664,53774.193548387098,51419.354838709674,48000,49290.322580645159,48900,58129.032258064515,56600,54612.903225806454,55612.903225806454,51366.666666666664,50838.709677419356,50600,56451.612903225803,55129.032258064515,47379.310344827587,45612.903225806454,41533.333333333336,53064.516129032258,55666.666666666664,52870.967741935485,54935.483870967742,53066.666666666664,50161.290322580644,54033.333333333336,43129.032258064515,43419.354838709674,47321.428571428572,50032.258064516129,51200,50258.06451612903,50966.666666666664,45258.06451612903,48354.838709677417,53233.333333333336,51838.709677419356,46100,45419.354838709674,42096.774193548386,49857.142857142855,50935.483870967742,52200,46516.129032258068,47400,45774.193548387098,43322.580645161288,49100,48677.419354838712,43900,44903.225806451614,46677.419354838712,48500,52258.06451612903,47333.333333333336,44548.387096774197,48300,49419.354838709674,48967.741935483871,48766.666666666664,43387.096774193546,43200,48870.967741935485,41903.225806451614,41464.285714285717,42483.870967741932,41600,45741.93548387097,48900,48258.06451612903,49258.06451612903,47100,50387.096774193546,47700,42903.225806451614,40096.774193548386,33428.571428571428,41645.161290322583,43166.666666666664,44419.354838709674,47733.333333333336,48451.612903225803,50516.129032258068,49166.666666666664,49225.806451612902,44366.666666666664,45483.870967741932,49935.483870967742,48178.571428571428,48806.451612903227,48033.333333333336,53741.93548387097,53133.333333333336,54903.225806451614,55096.774193548386,53200,49419.354838709674,49133.333333333336,53612.903225806454,41258.06451612903,39535.714285714283,41322.580645161288,47166.666666666664,42806.451612903227,42166.666666666664,43000,42354.838709677417,44566.666666666664,39870.967741935485,34266.666666666664,28709.677419354837,44064.516129032258,40310.34482758621,43225.806451612902,48733.333333333336,46387.096774193546,46733.333333333336,47612.903225806454,50935.483870967742,47833.333333333336,47258.06451612903,45500,44806.451612903227,45290.322580645159,42551.724137931036,47516.129032258068,46800,45129.032258064515,47966.666666666664,46258.064516129038,48129.032258064515,46466.666666666664,46645.161290322583,46600,46806.451612903234,48032.258064516129,43642.857142857145,47612.903225806454,44833.333333333328,41387.096774193553,48900.000000000007,52064.516129032258,48290.322580645159,48966.666666666672,43806.45161290322,38633.333333333328,39225.806451612902,41483.870967741939,35392.857142857145,41483.870967741932,30500,34709.677419354834,40400,39290.322580645166,40838.709677419356,40666.666666666672,39483.870967741932,41900,43806.45161290322,38935.483870967742,37896.551724137935,37290.322580645166,33033.333333333336,29322.580645161288,32900,35161.290322580644,35129.032258064515,37800.000000000007,33193.548387096773,30566.666666666668,32870.967741935485,32387.096774193549,31750,39548.38709677419,40166.666666666664,38601.215061983727,40503.238211551099,39338.655534072408,40922.127071415256,40543.485304483955,40939.084747976514,38867.153987619124,39420.827928660576,39329.389299513881,38206.50956330754,41380.11653610973,41615.951524454904,40308.950576231167,42155.015762528026]
["Imports",3967.7419354838707,2928.5714285714284,1516.1290322580646,4066.6666666666665,322.58064516129031,1700,451.61290322580646,1677.4193548387098,866.66666666666663,1806.4516129032259,2633.3333333333335,322.58064516129031,1548.3870967741937,1785.7142857142858,3870.9677419354839,1733.3333333333333,1193.5483870967741,1300,290.32258064516128,225.80645161290323,1100,3032.2580645161293,4533.333333333333,7967.7419354838712,3064.516129032258,2964.2857142857142,2161.2903225806454,1766.6666666666667,290.32258064516128,666.66666666666663,1322.5806451612902,1451.6129032258063,1833.3333333333333,4935.4838709677415,1733.3333333333333,2580.6451612903224,6387.0967741935483,3758.6206896551726,6806.4516129032254,4466.666666666667,3322.5806451612902,333.33333333333331,1161.2903225806451,2290.3225806451615,1166.6666666666667,2774.1935483870966,3400,4903.2258064516127,7903.2258064516127,6321.4285714285716,9709.677419354839,3133.3333333333335,1129.0322580645161,1533.3333333333333,1225.8064516129032,2935.483870967742,1400,4580.6451612903229,3733.3333333333335,3258.0645161290322,5709.677419354839,3892.8571428571427,3258.0645161290322,3766.6666666666665,1258.0645161290322,2866.6666666666665,2709.6774193548385,2806.4516129032259,2833.3333333333335,3774.1935483870966,4866.666666666667,7193.5483870967746,5806.4516129032254,5821.4285714285716,3387.0967741935483,3000,741.93548387096769,2366.6666666666665,2967.7419354838707,1806.4516129032259,1666.6666666666667,4838.7096774193551,3833.3333333333335,2000,4354.8387096774195,5750,4774.1935483870966,4000,3419.3548387096776,3866.6666666666665,3806.4516129032259,2774.1935483870966,4100,4290.322580645161,6266.666666666667,5129.0322580645161,9225.8064516129034,4928.5714285714284,5193.5483870967746,3366.6666666666665,3548.3870967741937,4333.333333333333,2548.3870967741937,3612.9032258064517,4166.666666666667,5225.8064516129034,3766.6666666666665,4322.5806451612907,6129.0322580645161,5321.4285714285716,4193.5483870967746,2800,2741.9354838709678,3933.3333333333335,2483.8709677419356,3516.1290322580644,3466.6666666666665,4354.8387096774195,3633.3333333333335,5193.5483870967746,9612.9032258064508,6750,8580.645161290322,3433.3333333333335,4870.9677419354839,5000,7161.2903225806449,8032.2580645161288,7400,8354.8387096774186,9966.6666666666661,10903.225806451612,10580.645161290322,8172.4137931034484,11709.677419354837,9200,9548.3870967741932,10766.666666666666,10258.064516129032,21064.516129032258,20033.333333333332,28516.129032258064,30500,28741.935483870966,37096.774193548386,30413.793103448275,29870.967741935485,22633.333333333332,21193.548387096773,30000,23000,10303.350257814074,11759.262937832102,17483.918445825057,17874.60057668529,17520.542369413201,23925.409724337595,19767.42743302157,15642.18201727734,13518.545044131493,7998.6238218278431,12557.016022469848,11581.368208919301,10303.350257814074,11759.262937832102,17483.918445825057,17874.60057668529,17520.542369413201,73018.500954464762,60328.660429047704,47738.730317192065,41257.55444028115,24411.181580494795,38323.042195981841,35345.440490273359,31445.028499097571,35888.361450983175,53359.567523962505,54551.899186148912,53471.340907586389,65258.548403846879,53917.305275869585,42665.354703535311,36872.957925340786,21816.912891148684,34250.307407553373,31589.146708561057,28103.246266975424,32074.36940323182,47688.844259379766,82527.035594866669,85696.595547064513,53367.809354838711,39847.91429158856,74155.34965067741,41193.681805365588,40001.26364887094,37742.744813704776,52411.238626652193,45997.128870627923,56761.987286556207,59731.133960381871,56641.898072835931,58801.069632485822,58263.958966449311,56451.64829771268,70512.900339082204,38745.096253761752,30669.85488754679,30714.726675582271]
["Net Inter-PADD Transfers (+ = Receipt)",24724.567853315093,24724.567853315093,24724.567853315093,24724.567853315093,24724.567853315093,24724.567853315093,24724.567853315093,24724.567853315093,24724.567853315093,24724.567853315093,24724.567853315093,24724.567853315093,21282.829670008679,21282.829670008679,21282.829670008679,21282.829670008679,21282.829670008679,21282.829670008679,21282.829670008679,21282.829670008679,21282.829670008679,21282.829670008679,21282.829670008679,21282.829670008679,20739.502480134819,20739.502480134819,20739.502480134819,20739.502480134819,20739.502480134819,20739.502480134819,20739.502480134819,20739.502480134819,20739.502480134819,20739.502480134819,20739.502480134819,20739.502480134819,17386.32784205291,17386.32784205291,17386.32784205291,17386.32784205291,17386.32784205291,17386.32784205291,17386.32784205291,17386.32784205291,17386.32784205291,17386.32784205291,17386.32784205291,17386.32784205291,10914.286717790135,10914.286717790135,10914.286717790135,10914.286717790135,10914.286717790135,10914.286717790135,10914.286717790135,10914.286717790135,10914.286717790135,10914.286717790135,10914.286717790135,10914.286717790135,14729.377546802076,14729.377546802076,14729.377546802076,14729.377546802076,14729.377546802076,14729.377546802076,14729.377546802076,14729.377546802076,14729.377546802076,14729.377546802076,14729.377546802076,14729.377546802076,25134.137638617089,25134.137638617089,25134.137638617089,25134.137638617089,25134.137638617089,25134.137638617089,25134.137638617089,25134.137638617089,25134.137638617089,25134.137638617089,25134.137638617089,25134.137638617089,15219.886005154352,15219.886005154352,15219.886005154352,15219.886005154352,15219.886005154352,15219.886005154352,15219.886005154352,15219.886005154352,15219.886005154352,15219.886005154352,15219.886005154352,15219.886005154352,7947.9452054794519,7947.9452054794519,7947.9452054794519,7947.9452054794519,7947.9452054794519,7947.9452054794519,7947.9452054794519,7947.9452054794519,7947.9452054794519,7947.9452054794519,7947.9452054794519,7947.9452054794519,8471.232876712329,8471.232876712329,8471.232876712329,8471.232876712329,8471.232876712329,8471.232876712329,8471.232876712329,8471.232876712329,8471.232876712329,8471.232876712329,8471.232876712329,8471.232876712329,8950.6849315068484,8950.6849315068484,8950.6849315068484,8950.6849315068484,8950.6849315068484,8950.6849315068484,8950.6849315068484,8950.6849315068484,8950.6849315068484,8950.6849315068484,8950.6849315068484,8950.6849315068484,11378.082191780821,11378.082191780821,11378.082191780821,11378.082191780821,11378.082191780821,11378.082191780821,11378.082191780821,11378.082191780821,11378.082191780821,11378.082191780821,11378.082191780821,11378.082191780821,9860.2739726027394,9860.2739726027394,9860.2739726027394,9860.2739726027394,9860.2739726027394,9860.2739726027394,9860.2739726027394,9860.2739726027394,9860.2739726027394,9860.2739726027394,9860.2739726027394,9860.2739726027394,7400,7400,7400,7400,7400,7400,7400,7400,7400,7400,7400,7400,-6295.3428489161161,-6295.3428489161161,-6295.3428489161161,-6295.3428489161161,-6295.3428489161161,-6295.3428489161161,-6295.3428489161161,704.65715108388395,-6295.3428489161161,-6295.3428489161161,-6295.3428489161161,-6295.3428489161161,4560.402539704286,4560.402539704286,4560.402539704286,4560.402539704286,4560.402539704286,4560.402539704286,4560.402539704286,4560.402539704286,4560.402539704286,4560.402539704286,9600,9080.6451612903238,8354.8387096774186,12160.71428571429,12306.451612903225,16283.333333333332,21887.096774193553,13500,3467.7419354838712,8040.3225806451628,4616.6666666666697,5806.4516129032254,11683.333333333334,12604.83870967742,13354.83870967742,10155.172413793107,10798.387096774193,9924.9999999999982,13491.93548387097,14883.333333333332]
["Total Stock Change (Primary+Secondary+Tertiary)",19023.732424156158,9709.2162951238861,6539.8614564142235,625.88296179056738,-4202.0740274567443,-12007.450371542765,-9879.4933822954536,-12782.719188747082,-8907.4503715427654,3249.5388757690616,7025.8829617905676,20991.474359640029,19600.385674967813,10841.169085106061,9632.6437394839413,1553.0738470108383,-9302.8401314837993,-20446.926152989177,-23012.517550838631,245.5469652903937,-9880.2594863224949,3213.2889007742792,6986.407180344172,16471.353416903312,34707.649096227098,18760.644487932168,8868.9394188077604,-720.30789302019821,-6743.9638069986922,-10620.307893020212,-9969.7702586115956,-11776.221871514836,-7053.6412263535458,3643.1329671948415,8313.0254403131221,15804.423289775486,28501.523154793394,21816.317370588738,7662.8134773740258,1570.3403590944704,-4724.2832968195225,-6262.9929742388631,-13079.122006496942,-14659.767167787264,-1129.6596409055296,-4885.5736194001684,1303.6736924278036,17437.007025761151,28235.115925577869,14710.922377190771,9073.8256029972217,-1439.0776228092145,-7055.2066550672789,-7039.0776228092145,-11087.464719583415,-10668.109880873739,-7005.7442894758806,-22.948590551164671,8194.2557105241031,30654.470764287544,18585.019866827337,9598.8447516199503,10326.955350698307,1122.6542754294885,-4511.7543267210494,-8044.0123912371782,-11189.17368155976,-7995.625294462985,-7177.3457245705122,-3576.270455753307,8522.6542754294896,28359.213415214435,15291.403488836992,15027.578604044365,8065.597037224089,-7346.2309197651866,872.04865012730033,-11446.230919765172,-11224.725543421087,-10611.82231761462,-8079.564253098506,-2450.5319950339754,10053.769080234841,19323.661553353122,24960.628579845543,3285.5133724722859,5605.7898701681379,-7138.2961513372456,-7845.8230330576826,-10838.296151337237,-18361.952065315741,-2749.0488395092812,-13704.962818003913,2509.0156766197515,6961.7038486627616,16960.628579845557,27922.350270649869,3588.2488881613863,-8367.9723099952953,-13092.703492790995,-17497.004568059812,-22692.703492790992,-15980.875535801746,-13948.617471285619,-21126.036826124327,-9432.4884390275529,-6559.3701594576605,18244.930915811157,13273.51925382069,3869.8841033086519,4623.7146830886104,-3044.4159859216788,-11227.127732163701,-13133.453520916175,-16144.726377986,-12966.468644990744,-10884.942403813038,-569.2352742505791,3398.7787532601747,8216.3164635153025,30030.176484879812,21031.137935986437,15018.336263037827,10781.742916154197,14874.119882127843,11552.549454774466,8466.3219516974332,11364.077502855505,3771.0172963968998,32361.534119776734,33647.626233547628,55319.841115079864,38570.521160089702,35740.440183101608,30010.293841473525,4921.0123225468778,3414.4645573377529,8291.8188611671576,1909.8924333589439,-13514.932660644285,-8023.0466305437476,-1001.3470114649863,25286.895639940311,21182.766435451053,2488.4308749339652,14861.895175058959,11159.415751463002,4669.6280951718218,9055.6845648608396,-12136.45281091797,-9204.7912045369631,11090.816451562128,25189.661279048905,15873.681566859384,30789.509081853768,31932.315620030855,24557.013132364373,10471.207690041017,19276.717159466603,16939.429687342865,19508.559963233754,12319.604633539799,778.99540623437679,18453.157799890309,16677.616200269193,32317.990287656503,22418.976778315606,46363.119227477422,-23483.663177837807,4621.0600583812266,-4196.1339780017661,9160.8128846398831,11933.577102444895,-1899.0657320735991,4006.1952396902998,4710.0869254172649,5982.6466715329516,-932.67990364941943,-2748.0383959153405,3772.0460404766782,-1213.3842676649438,-13949.765569706928,-690.61847222098004,-2837.3941129563027,23913.311084979701,15608.620388969481,-6260.011381611439,-8795.8810650124869,-6813.2583836198646,6600.5998493536463,-38111.446442023567,-10378.072556740202,7905.3341740702945,40558.633944811445,1751.5320057370427,10245.006942243166,-8015.5045048810134,-9422.2447546909825,-18089.987169875887,-20504.58071723278,-18248.408542483689,-8834.9321015309597,10699.072740201062,11284.119562792413,16126.723359986503,19057.427142839719,2371.7429626000121,23392.666407252524,13304.054437062819,-1778.3727015582954]
["     TOTAL SUPPLY",{"$f":"SUM(B5:B9)","v":119909.59060005189},{"$f":"SUM(C5:C9)","v":108183.78414843898},100522.49382585834,98150.450815105665,88619.268019406722,86583.784148438994,81264.429309729312,81103.138987148661,88650.450815105665,95103.138987148675,104617.11748177232,120393.46156779383,107850.95728046037,103231.1416122576,103721.92502239585,91335.903517019513,83334.828248202291,73369.236850352841,66786.441151428124,90044.505667557154,74502.570183686184,84915.473409492624,91702.570183686199,112205.79599013781,122543.9257699103,98143.004110924128,93737.474157007091,83985.861253781288,85995.538673136121,80519.194587114602,80124.570931200651,79221.345124749016,80452.52792044793,93898.764479587728,94885.861253781273,109318.11931829739,120887.8509968463,103685.40383333131,90371.721964588243,78223.334867814032,82145.915512975305,80023.334867814032,71113.657448459198,72662.044545233395,83656.668201147375,78952.367125878547,89623.334867814061,96145.915512975349,104504.24135304542,92660.923380695196,92149.402643367997,75741.875761647592,67665.531675626087,69208.542428314249,58407.467159497042,64149.402643368005,71875.209094980921,80504.241353045421,81808.542428314235,102697.78974014219,93830.526445887474,90613.936584136318,92024.074832984261,84918.698488898241,70991.816768468125,{"$f":"SUM(BO5:BO9)","v":69385.365155564898},64088.590962016511,64572.461929758458,71318.698488898241,75346.655478145549,84018.698488898226,106669.23612330682,103038.44435326054,106304.5733855186,100199.73467584117,79687.906718851897,82231.992740357295,75221.24005218524,77006.186288744386,76425.541127454082,78254.573385518568,81457.799191970218,93354.573385518597,107264.25080487345,97857.933939838607,77791.113663340919,78922.450068870879,65081.589853817102,67922.450068870865,68314.923187150445,59890.192004354743,76277.288778548304,65881.589853817102,85986.966197903123,89481.589853817102,94503.095230161212,99192.87612129061,64071.908379355125,60644.489024516413,55421.908379355111,52676.747089032535,51355.241712688461,56934.811605161573,61934.81160516158,54155.241712688454,66612.230960000292,63121.908379355118,89096.101927742217,91131.848904726561,78591.116980020975,79094.94755980093,69426.816890790651,65889.266434871213,65071.112689129477,62358.764563242461,66859.602941398989,67252.957139565959,74579.416957300462,77336.678296639177,88429.484824098603,102755.05496477376,88374.680010350421,86936.763130028543,83099.094514327706,84308.675781376631,79936.567719614643,79900.877850946214,82992.181789201059,76955.035561237077,{"$f":"SUM(EA5:EA9)","v":100570.28356741261},99431.644498387817,116012.46153045769,116593.7646421931,107256.45340936517,108130.31151712532,85632.427847661049,82179.643523312116,88436.567719614657,81997.652044494607,80701.859208555892,82188.368894570405,96634.799696444868,121464.97783172113,116851.17120787704,105413.22097656896,107963.54845800652,109245.49617567865,94729.902067774558,95722.410150366806,85923.821161684769,80365.160187420624,89770.569714237005,103775.86485615041,100217.87398528718,115324.3836311418,115700.22873624036,113656.61640508907,91424.349408776878,99738.254015453625,92957.974731474358,86584.603139900311,{"$f":"SUM(FG5:FG9)","v":91809.95398934299},82082.944260314966,{"$f":"SUM(FI5:FI9)","v":94898.443541575354},95236.8791381013,{"$f":"SUM(FK5:FK9)","v":111040.6184109009},{"$f":"SUM(FL5:FL9)","v":96160.244021667575},120057.85514527772,{"$f":"SUM(FN5:FN9)","v":94271.752992226975},103761.52049565566,88666.608328983857,{"$f":"SUM(FQ5:FQ9)","v":84456.357809338253},74404.254543700983,{"$f":"SUM(FS5:FS9)","v":80261.966948325455},{"$f":"SUM(FT5:FT9)","v":81733.712235886254},87279.127414308401,{"$f":"SUM(FV5:FV9)","v":85475.665273600025},{"$f":"SUM(FW5:FW9)","v":94808.964126235674},96441.851274650791,{"$f":"SUM(FY5:FY9)","v":103915.78603463082},116605.56667588622,{"$f":"SUM(GA5:GA9)","v":91321.045694142813},92664.17102908314,{"$f":"SUM(GC5:GC9)","v":80395.96635208877},88161.594257768156,{"$f":"SUM(GE5:GE9)","v":95819.33033622714},73631.473350524873,{"$f":"SUM(GG5:GG9)","v":67383.896773925284},76388.180225982913,{"$f":"SUM(GI5:GI9)","v":100365.97568069576},92548.922486176452,{"$f":"SUM(GK5:GK9)","v":125495.94234516303},110047.33707729611,{"$f":"SUM(GM5:GM9)","v":131995.83395068572},136052.04294673703,{"$f":"SUM(GO5:GO9)","v":116322.02208094209},101442.57004160807,{"$f":"SUM(GQ5:GQ9)","v":91232.237332005752},85959.289266049251,{"$f":"SUM(GS5:GS9)","v":83317.646575773702},92534.823831622198,{"$f":"SUM(GU5:GU9)","v":106438.50111216052},126676.30984283934,{"$f":"SUM(GW5:GW9)","v":130876.88326518895},135893.9821885245,{"$f":"SUM(GY5:GY9)","v":132644.65631597332},133831.55438076361,{"$f":"SUM(HA5:HA9)","v":122452.59723281537},106416.99916086196,{"$f":"SUM(HC5:HC9)","v":94584.726767545624}]
["DEMAND"]
["  Residential and Commercial ",74285.942532801913,58609.675251695924,50285.942532801906,49397.770489791168,39189.168339253512,35097.770489791168,33092.394145705141,33705.297371511595,40431.103823124504,47092.394145705148,54064.437156457825,68963.36188764064,59915.776210739896,53232.596487237592,54496.421372030214,42225.453630094729,39335.131049449563,34658.786963428065,28883.518146223774,50528.679436546357,34858.786963428065,44819.002017191495,51258.78696342808,71367.389113965706,81675.727710792693,56009.829093281187,51449.921259179806,42857.44814090024,46514.437388212064,40224.114807566897,40772.501904341108,39095.082549502389,40090.781474233561,52901.534162405616,44090.781474233576,66127.340614018511,64540.12955176492,60544.578939974046,48798.194067893972,40875.613422732647,35088.516648539095,49008.946756065983,41056.258584022988,42765.936003377828,52642.280089399326,47636.903745313306,57275.613422732677,64701.419874345564,72368.531895344859,59900.789959861002,59852.402863086798,43967.456626527674,36368.53189534488,37767.456626527666,26820.144798570673,33174.983508248093,39934.123293194338,48755.628669538419,50000.789959860995,70594.338346957782,62258.227095563634,57149.932164688056,59193.710966531384,53502.313117069018,39516.29161169265,37635.646450402339,32129.194837499112,32129.194837499126,38868.979783735682,43161.452902015262,51802.313117069003,72161.452902015255,66998.799907413253,68960.781474233518,62902.025713864859,41353.638617090663,41385.896681606799,34853.638617090663,39321.380552574534,37676.219262251972,36153.638617090655,40805.251520316488,51653.63861709067,62385.896681606791,55947.314439979527,37476.11628329751,43431.185407721481,29578.497235678464,33011.8305690118,33678.497235678464,24721.507988366633,41786.024117398905,32911.8305690118,49721.507988366626,53545.163902345128,56205.378956108558,76329.505109961407,42141.717091528233,39490.795432542051,31082.193282004409,27490.795432542065,28882.193282004417,35329.505109961414,39942.408335767868,31448.859948671081,42684.343819638838,39782.193282004424,64652.085755122687,61210.805772375192,48178.138363798644,46238.420556481826,35763.838274568312,32839.191044455329,33174.800739573824,30437.721430891088,34164.366260660521,34423.311856676955,41593.857695916842,44373.699680416845,58185.861046585953,61372.107573727779,48305.096674603992,46360.267351885799,35858.082607152712,32925.728390330674,33262.222479106313,30517.930459900257,34254.395688477678,34514.023654062083,41703.465208624715,44490.632591212809,58339.191558766557,61372.107573727779,48305.096674603992,46360.267351885799,35858.082607152712,32925.728390330674,33262.222479106313,30517.930459900257,34254.395688477678,34514.023654062083,41703.465208624715,44490.632591212809,58339.191558766557,61481.886488748802,48391.502068072899,46443.19394592302,35922.223493932892,32984.624049643418,32321.720039794738,30572.519188021583,34315.667991842274,34575.76036507859,41778.061981396779,44570.214889549148,58443.54536712863,62362.295364482678,49084.459138260099,48108.251615793037,36436.622875707588,34456.957568254067,33798.880708622346,31010.311825558885,34807.061805567937,35070.878651929357,42376.315852252104,38208.451856941261,56780.445778113768,44753.094869555774,50006.052781051025,38852.284739570452,40410.256849933845,20984.152093711309,35634.137010318991,27718.338065150951,31234.470056603121,31478.7881861243,38244.280142889475,41867.092828123838,58899.024946455509,61753.094869555774,51911.19045171867,41062.743070837125,34081.026085099853,28293.993614648421,21613.811713755513,25005.52144580246,25556.814757169152,24803.576067985545,36636.722944318368,55726.319420200198,68740.005945853438,70162.2131910881,78470.602441028124,79501.83626647343,62005.490035020892,49097.789684618918,38996.401724480194,36170.520338782524,34052.650482466481,35231.971030384622,48814.400972761119,67891.529103385663,78508.358539726963,82016.272385278833,76044.670271591865,78629.540392630588,68038.077243900203,53625.125308663672,43454.079449720455]
["  Chemical",12473.059360730595,12473.059360730595,12473.059360730595,12473.059360730595,12473.059360730595,12473.059360730595,12473.059360730595,12473.059360730595,12473.059360730595,12473.059360730595,12473.059360730595,12473.059360730595,9463.0136986301368,9463.0136986301368,9463.0136986301368,9463.0136986301368,9463.0136986301368,9463.0136986301368,9463.0136986301368,9463.0136986301368,9463.0136986301368,9463.0136986301368,9463.0136986301368,9463.0136986301368,9169.8630136986303,9169.8630136986303,9169.8630136986303,9169.8630136986303,9169.8630136986303,9169.8630136986303,9169.8630136986303,9169.8630136986303,9169.8630136986303,9169.8630136986303,9169.8630136986303,9169.8630136986303,3150.2732240437158,3150.2732240437158,3150.2732240437158,3150.2732240437158,3150.2732240437158,3150.2732240437158,3150.2732240437158,3150.2732240437158,3150.2732240437158,3150.2732240437158,3150.2732240437158,3150.2732240437158,8843.8356164383567,8843.8356164383567,8843.8356164383567,8843.8356164383567,8843.8356164383567,8843.8356164383567,8843.8356164383567,8843.8356164383567,8843.8356164383567,8843.8356164383567,8843.8356164383567,8843.8356164383567,8786.3013698630148,8786.3013698630148,8786.3013698630148,8786.3013698630148,8786.3013698630148,8786.3013698630148,8786.3013698630148,8786.3013698630148,8786.3013698630148,8786.3013698630148,8786.3013698630148,8786.3013698630148,9446.5753424657541,9446.5753424657541,9446.5753424657541,9446.5753424657541,9446.5753424657541,9446.5753424657541,9446.5753424657541,9446.5753424657541,9446.5753424657541,9446.5753424657541,9446.5753424657541,9446.5753424657541,8442.622950819672,8442.622950819672,8442.622950819672,8442.622950819672,8442.622950819672,8442.622950819672,8442.622950819672,8442.622950819672,8442.622950819672,8442.622950819672,8442.622950819672,8442.622950819672,7969.8630136986303,7969.8630136986303,7969.8630136986303,7969.8630136986303,7969.8630136986303,7969.8630136986303,7969.8630136986303,7969.8630136986303,7969.8630136986303,7969.8630136986303,7969.8630136986303,7969.8630136986303,9882.1917808219187,9882.1917808219187,9882.1917808219187,9882.1917808219187,9882.1917808219187,9882.1917808219187,9882.1917808219187,9882.1917808219187,9882.1917808219187,9882.1917808219187,9882.1917808219187,9882.1917808219187,8199.2244599999995,8199.2244599999995,8199.2244599999995,8199.2244599999995,8199.2244599999995,8199.2244599999995,8199.2244599999995,8199.2244599999995,8199.2244599999995,8199.2244599999995,8199.2244599999995,8199.2244599999995,8199.2244599999995,8199.2244599999995,8199.2244599999995,8199.2244599999995,8199.2244599999995,8199.2244599999995,8199.2244599999995,8199.2244599999995,8199.2244599999995,8199.2244599999995,8199.2244599999995,8199.2244599999995,8199.2244599999995,8199.2244599999995,8199.2244599999995,8199.2244599999995,8199.2244599999995,7828.4037233333356,7828.4037233333356,7828.4037233333356,7828.4037233333356,7828.4037233333356,7828.4037233333356,7828.4037233333356,8200,8200,8200,8200,8200,8200,8200,8200,8200,8200,8200,8200,8144.8540701698876,8144.8540701698876,8144.8540701698876,8144.8540701698876,8144.8540701698876,8144.8540701698876,8144.8540701698876,8144.8540701698876,8144.8540701698876,8144.8540701698876,8144.8540701698876,8144.8540701698876,6721.7805429001492,6721.7805429001492,6721.7805429001492,6721.7805429001492,6721.7805429001492,6721.7805429001492,6721.7805429001492,6721.7805429001492,6721.7805429001492,6721.7805429001492,4502.1505376344085,4502.1505376344085,4502.1505376344085,4502.1505376344085,4502.1505376344085,4502.1505376344085,4502.1505376344085,4502.1505376344085,4502.1505376344085,4502.1505376344085,4502.1505376344085,4502.1505376344085,4502.1505376344085,4502.1505376344085,4502.1505376344085,4502.1505376344085,4502.1505376344085,4502.1505376344085,4502.1505376344085,4502.1505376344085]
["  Farm",5166.1183054663279,5166.1183054663279,5166.1183054663279,5166.1183054663279,5166.1183054663279,5166.1183054663279,5166.1183054663279,5166.1183054663279,5166.1183054663279,5166.1183054663279,5166.1183054663279,5166.1183054663279,6194.0043953175445,6194.0043953175445,6194.0043953175445,6194.0043953175445,6194.0043953175445,6194.0043953175445,6194.0043953175445,6194.0043953175445,6194.0043953175445,6194.0043953175445,6194.0043953175445,6194.0043953175445,6594.382081368135,6594.382081368135,6594.382081368135,6594.382081368135,6594.382081368135,6594.382081368135,6594.382081368135,6594.382081368135,6594.382081368135,6594.382081368135,6594.382081368135,6594.382081368135,6173.804952754419,6173.804952754419,6173.804952754419,6173.804952754419,6173.804952754419,6173.804952754419,6173.804952754419,6173.804952754419,6173.804952754419,6173.804952754419,6173.804952754419,6173.804952754419,4753.8373604193775,4753.8373604193775,4753.8373604193775,4753.8373604193775,4753.8373604193775,4753.8373604193775,4753.8373604193775,4753.8373604193775,4753.8373604193775,4753.8373604193775,4753.8373604193775,4753.8373604193775,4867.6648791930065,4867.6648791930065,4867.6648791930065,4867.6648791930065,4867.6648791930065,4867.6648791930065,4867.6648791930065,4867.6648791930065,4867.6648791930065,4867.6648791930065,4867.6648791930065,4867.6648791930065,5508.0234833659488,5508.0234833659488,5508.0234833659488,5508.0234833659488,5508.0234833659488,5508.0234833659488,5508.0234833659488,5508.0234833659488,5508.0234833659488,5508.0234833659488,5508.0234833659488,5508.0234833659488,5205.4794520547948,5205.4794520547948,5205.4794520547948,5205.4794520547948,5205.4794520547948,5205.4794520547948,5205.4794520547948,5205.4794520547948,5205.4794520547948,5205.4794520547948,5205.4794520547948,5205.4794520547948,6066.8623613829095,6066.8623613829095,6066.8623613829095,6066.8623613829095,6066.8623613829095,6066.8623613829095,6066.8623613829095,6066.8623613829095,6066.8623613829095,6066.8623613829095,6066.8623613829095,6066.8623613829095,6210.886104673933,6210.886104673933,6210.886104673933,6210.886104673933,6210.886104673933,6210.886104673933,6210.886104673933,6210.886104673933,6210.886104673933,6210.886104673933,6210.886104673933,6210.886104673933,6368.6076842750763,6368.6076842750763,6368.6076842750763,6368.6076842750763,6368.6076842750763,6368.6076842750763,6368.6076842750763,6368.6076842750763,6368.6076842750763,6368.6076842750763,6368.6076842750763,6368.6076842750763,6368.6076842750763,6368.6076842750763,6368.6076842750763,6368.6076842750763,6368.6076842750763,6368.6076842750763,6368.6076842750763,6368.6076842750763,6368.6076842750763,6368.6076842750763,6368.6076842750763,6368.6076842750763,6368.6076842750763,6368.6076842750763,6368.6076842750763,6368.6076842750763,6368.6076842750763,2886.272653788621,2791.4186229129386,5982.579233087682,10305.212925850921,16355.545038135522,14424.587981023415,9573.4818305242297,6145.7313646334478,4537.95792722651,2867.5439662842359,2964.9847806725352,2867.5439662842359,2964.9847806725352,2867.5439662842359,6145.7313646334478,10586.248477471658,16801.580423811036,14817.963845192084,9834.5621950476361,4618.3030851412823,3410.1173403308226,2154.8594236446302,2228.0828021179914,2154.8594236446302,2228.0828021179914,2154.8594236446302,4618.3030851412823,7955.1970469987436,12625.802545335286,11135.18376927043,7390.3309844899577,4525.9370234384569,3341.9149935242062,2111.7622351717373,2183.5211460756313,2111.7622351717373,2183.5211460756313,2111.7622351717373,4525.9370234384569,7796.0931060587691,12373.286494428579,4675.3417200584454,4675.3417200584454,5901.2700240029171,7801.7463110469671,6146.9979793488137,5902.5706568343758,3264.1523012356688,3155.2075517720909,708.14087151325805,184.3680375537476,8222.2247454840926,8543.4720836459273,9704.1526837002002,3287.8966697085002,4796.3624315118896,7518.6386726476803,6120.6666163992741,5333.1726171814207,3710.5264804645208,2049.2999460914139]
["  Other",16113.502659117572,16113.502659117572,16113.502659117572,16113.502659117572,16113.502659117572,16113.502659117572,16113.502659117572,16113.502659117572,16113.502659117572,16113.502659117572,16113.502659117572,16113.502659117572,17020.098459643763,17020.098459643763,17020.098459643763,17020.098459643763,17020.098459643763,17020.098459643763,17020.098459643763,17020.098459643763,17020.098459643763,17020.098459643763,17020.098459643763,17020.098459643763,17297.501351147603,17297.501351147603,17297.501351147603,17297.501351147603,17297.501351147603,17297.501351147603,17297.501351147603,17297.501351147603,17297.501351147603,17297.501351147603,17297.501351147603,17297.501351147603,15023.643268283244,15023.643268283244,15023.643268283244,15023.643268283244,15023.643268283244,15023.643268283244,15023.643268283244,15023.643268283244,15023.643268283244,15023.643268283244,15023.643268283244,15023.643268283244,12376.746158262173,12376.746158262173,12376.746158262173,12376.746158262173,12376.746158262173,12376.746158262173,12376.746158262173,12376.746158262173,12376.746158262173,12376.746158262173,12376.746158262173,12376.746158262173,11595.752456106537,11595.752456106537,11595.752456106537,11595.752456106537,11595.752456106537,11595.752456106537,11595.752456106537,11595.752456106537,11595.752456106537,11595.752456106537,11595.752456106537,11595.752456106537,13246.335942596217,13246.335942596217,13246.335942596217,13246.335942596217,13246.335942596217,13246.335942596217,13246.335942596217,13246.335942596217,13246.335942596217,13246.335942596217,13246.335942596217,13246.335942596217,12485.518590998043,12485.518590998043,12485.518590998043,12485.518590998043,12485.518590998043,12485.518590998043,12485.518590998043,12485.518590998043,12485.518590998043,12485.518590998043,12485.518590998043,12485.518590998043,11554.989562948467,11554.989562948467,11554.989562948467,11554.989562948467,11554.989562948467,11554.989562948467,11554.989562948467,11554.989562948467,11554.989562948467,11554.989562948467,11554.989562948467,11554.989562948467,11853.254909901403,11853.254909901403,11853.254909901403,11853.254909901403,11853.254909901403,11853.254909901403,11853.254909901403,11853.254909901403,11853.254909901403,11853.254909901403,11853.254909901403,11853.254909901403,12073.179762899923,12073.179762899923,12073.179762899923,12073.179762899923,12073.179762899923,12073.179762899923,12073.179762899923,12073.179762899923,12073.179762899923,12073.179762899923,12073.179762899923,12073.179762899923,12073.179762899923,12073.179762899923,12073.179762899923,12073.179762899923,12073.179762899923,12073.179762899923,12073.179762899923,12073.179762899923,12073.179762899923,12073.179762899923,12073.179762899923,12073.179762899923,12073.179762899923,12073.179762899923,12073.179762899923,12073.179762899923,12073.179762899923,11487.424744768079,11463.141233797927,11934.24134661887,12366.487841887571,12546.185823066693,13167.843703902578,14435.442976544498,15013.105805005194,14137.646629004554,13272.135852731197,12456.367075094236,11705.262895684597,11546.088500048118,11521.217500729917,12003.714887502996,12446.418675366956,12630.464070321636,13267.161652867555,14565.427817277596,11658.72677381165,10807.639161246785,9966.2229988247018,9173.1640871165309,8442.9696013364464,8288.2263990519259,8264.0477736949688,8733.1131056199229,9163.4926369737477,9342.4144646152254,9961.3872737533093,11223.511517386436,11637.012304507978,10794.435568068759,9961.4335672708985,9176.3052446798083,8453.4127037575254,8300.2169334958489,8276.2800943924631,8740.6547729981667,9166.7305090384543,9343.8631184035148,9578.4441416167065,9578.4441416167065,9578.4775181190635,9578.4775181190635,9578.4775181190635,9578.4775181190635,9578.4775181190635,9578.4775181190635,9578.4775181190635,9578.4775181190635,9578.4775181190635,9578.4775181190635,9578.4775181190635,9578.4775181190635,9579.1968340993553,9579.1968340993553,9579.1968340993553,9579.1968340993553,9579.1968340993553,9579.1968340993553]
["     US DOMESTIC CONSUMPTION",{"$f":"SUM(B12:B15)","v":108038.6228581164},{"$f":"SUM(C12:C15)","v":92362.355577010414},84038.622858116403,83150.450815105665,72941.84866456801,68850.450815105665,66845.07447101963,67457.977696826085,74183.784148438994,80845.074471019645,87817.117481772322,102716.04221295513,92592.892764331351,85909.71304082904,87173.537925621655,74902.57018368617,72012.247603041003,67335.903517019513,61560.634699815215,83205.795990137805,67535.903517019513,77496.118570782943,83935.903517019527,104044.50566755715,114737.47415700706,89071.575539495549,84511.667705394168,75919.194587114616,79576.18383442644,73285.861253781273,73834.248350555485,72156.828995716758,73152.52792044793,85963.280608619985,77152.527920447945,99189.08706023288,88887.850996846289,84892.300385055423,73145.915512975349,65223.334867814032,59436.238093620479,73356.66820114736,65403.980029104372,67113.657448459213,76990.001534480703,71984.625190394683,81623.334867814046,89049.141319426941,98342.95103046477,85875.209094980906,85826.821998206709,69941.875761647578,62342.951030464785,63741.875761647578,52794.563933690573,59149.402643367997,65908.542428314249,74730.04780465833,75975.209094980906,96568.757482077694,87507.945800726186,82399.650869850608,84443.429671693943,78752.031822231584,64766.010316855209,{"$f":"SUM(BO12:BO15)","v":62885.365155564898},57378.91354266167,57378.913542661685,64118.698488898241,68411.171607177821,77052.031822231569,97411.171607177806,95199.734675841173,97161.716242661438,91102.960482292779,69554.573385518583,69586.831450034719,63054.573385518583,67522.315321002447,65877.154030679885,64354.573385518575,69006.1862887444,79854.573385518583,90586.831450034704,82080.93543385205,63609.737277170017,69564.806401593989,55712.118229550972,59145.451562884307,59812.118229550972,50855.128982239141,67919.645111271413,59045.451562884307,75855.128982239141,79678.784896217636,82338.99994998108,101921.22004799142,67733.432029558244,65082.510370572061,56673.90822003442,53082.510370572076,54473.908220034427,60921.220047991425,65534.123273797879,57040.574886701092,68276.058757668856,65373.908220034435,90243.800693152691,89157.138567772447,76124.471159195891,74184.753351879073,63710.171069965567,60785.523839852583,61121.133534971072,58384.054226288339,62110.699056057769,62369.644652074203,69540.19049131409,72320.032475814092,86132.1938419832,88013.11948090278,74946.108581778986,73001.279259060801,62499.094514327706,59566.740297505676,59903.234386281314,57158.942367075259,60895.407595652679,61155.035561237077,{"$f":"SUM(EA12:EA15)","v":68344.477115799717},71131.644498387803,84980.203465941551,88013.11948090278,74946.108581778986,73001.279259060801,62499.094514327706,59566.740297505676,59903.234386281314,57158.942367075259,60895.407595652679,61155.035561237077,68344.477115799717,71131.644498387803,84980.203465941551,88122.898395923796,75032.513975247901,73084.205853098014,62563.235401107886,59625.635956818413,54523.821161684769,52655.482768065784,60060.892294882156,65075.864856150423,78508.196565932332,79991.05029780847,90280.873897530691,91721.132534121323,75960.063694491168,72447.931434808474,60057.974731474358,57229.764430222895,{"$f":"SUM(FG12:FG15)","v":56509.953989343005},53599.073292573034,{"$f":"SUM(FI12:FI15)","v":61156.508057704385},66303.545804767971,{"$f":"SUM(FK12:FK15)","v":80008.360346384783},{"$f":"SUM(FL12:FL15)","v":74493.577355000903},89380.435790439005,{"$f":"SUM(FN12:FN15)","v":69174.978798678596},72368.663352798525,59118.221232209675,{"$f":"SUM(FQ12:FQ15)","v":59956.357809338253},39726.835188862271,{"$f":"SUM(FS12:FS15)","v":54295.300281658798},{"$f":"SUM(FT12:FT15)","v":46282.099332660437},52730.740317534211,{"$f":"SUM(FV12:FV15)","v":56742.331940266682},{"$f":"SUM(FW12:FW15)","v":68357.351223009871},71108.517941317463,{"$f":"SUM(FY12:FY15)","v":85657.721518501799},84637.824740402357,{"$f":"SUM(GA12:GA15)","v":72769.321556211798},59857.719416179905,{"$f":"SUM(GC12:GC15)","v":52162.633018755449},45580.949096477831,{"$f":"SUM(GE12:GE15)","v":38819.33033622714},42115.344318266812,{"$f":"SUM(GG12:GG15)","v":45545.187096505928},48488.18022598292,{"$f":"SUM(GI12:GI15)","v":65075.653100050622},74482.255819509752,{"$f":"SUM(GK12:GK15)","v":87495.942345163014},90144.1112708445,{"$f":"SUM(GM12:GM15)","v":100352.97680782857},99729.462301575724,{"$f":"SUM(GO12:GO15)","v":81988.688747608743},66442.570041608065,{"$f":"SUM(GQ12:GQ15)","v":56232.237332005752},50959.289266049251,{"$f":"SUM(GS12:GS15)","v":48317.646575773695},57534.823831622183,{"$f":"SUM(GU12:GU15)","v":71438.50111216052},91676.309842839342,{"$f":"SUM(GW12:GW15)","v":95876.883265188939},100893.9821885245,{"$f":"SUM(GY12:GY15)","v":97644.65631597332},98831.554380763642,{"$f":"SUM(HA12:HA15)","v":87452.597232815402},71416.999160861946,{"$f":"SUM(HC12:HC15)","v":59584.726767545631}]
["EXPORTS",11870.967741935483,15821.428571428571,16483.870967741936,15000,15677.41935483871,17733.333333333332,14419.354838709678,13645.161290322581,14466.666666666666,14258.064516129032,16800,17677.419354838708,15258.064516129032,17321.428571428572,16548.387096774193,16433.333333333332,11322.58064516129,6033.333333333333,5225.8064516129034,6838.7096774193551,6966.666666666667,7419.3548387096771,7766.666666666667,8161.2903225806449,7806.4516129032254,9071.4285714285706,9225.8064516129034,8066.666666666667,6419.3548387096771,7233.333333333333,6290.322580645161,7064.5161290322585,7300,7935.4838709677415,17733.333333333332,10129.032258064517,32000,18793.103448275862,17225.806451612902,13000,22709.677419354837,6666.666666666667,5709.677419354839,5548.3870967741932,6666.666666666667,6967.7419354838712,8000,7096.7741935483873,6161.2903225806449,6785.7142857142853,6322.5806451612907,5800,5322.5806451612907,5466.666666666667,5612.9032258064517,5000,5966.666666666667,5774.1935483870966,5833.333333333333,6129.0322580645161,6322.5806451612907,8214.2857142857138,7580.6451612903229,6166.666666666667,6225.8064516129034,6500,6709.677419354839,7193.5483870967746,7200,6935.4838709677415,6966.666666666667,9258.0645161290322,7838.7096774193551,9142.8571428571431,9096.7741935483864,10133.333333333334,12645.161290322581,12166.666666666666,9483.8709677419356,10548.387096774193,13900,12451.612903225807,13500,16677.419354838708,15774.193548387097,14178.571428571429,9354.8387096774186,9366.6666666666661,8774.1935483870966,8500,9032.2580645161288,8354.8387096774186,6833.333333333333,10129.032258064517,9800,12161.290322580646,9290.322580645161,8357.1428571428569,7580.6451612903229,10766.666666666666,11612.903225806451,8900,8032.2580645161288,8419.354838709678,9133.3333333333339,10354.838709677419,9766.6666666666661,10870.967741935483,10258.064516129032,10750,13258.064516129032,14000,13387.096774193549,12233.333333333334,12258.064516129032,13032.258064516129,13166.666666666666,13387.096774193549,13566.666666666666,11129.032258064517,14741.935483870968,13428.571428571429,13935.483870967742,20600,24741.935483870966,20033.333333333332,22741.935483870966,22096.774193548386,15800,32225.806451612902,28300,31032.258064516129,28580.645161290322,32310.344827586207,35129.032258064515,23133.333333333332,22612.903225806451,28533.333333333332,24838.709677419356,19806.451612903227,21033.333333333332,28290.322580645163,50333.333333333336,31870.967741935485,17290.322580645163,32931.034482758623,36161.290322580644,32166.666666666668,36096.774193548386,31400,27709.677419354841,29709.677419354841,38700,21709.677419354841,35333.333333333336,25419.354838709674,21935.483870967739,15464.285714285714,27290.322580645159,32900,29354.83870967742,35300,28483.870967741936,33741.93548387097,28933.333333333332,31032.258064516129,21666.666666666668,30677.419354838708,25096.774193548386,31392.857142857141,29548.387096774193,24500,34677.419354838712,25966.666666666664,35451.61290322581,34548.38709677419,28733.333333333336,26451.612903225807,25333.333333333332,18258.06451612903,31967.741935483871,18551.724137931036,32806.451612903227,28233.333333333336,42580.645161290318,57000,31516.129032258064,21838.709677419356,27900,35290.322580645159,18066.666666666668,38000,19903.225806451614,31642.857142857141,36322.580645161288,34333.333333333336,35000,35000,35000,35000,35000,35000,35000,35000,35000,35000,35000,35000,35000,35000]
["     TOTAL DEMAND",{"$f":"B16+B17","v":119909.59060005189},{"$f":"C16+C17","v":108183.78414843898},100522.49382585834,98150.450815105665,88619.268019406722,86583.784148438994,81264.429309729312,81103.138987148661,88650.450815105665,95103.138987148675,104617.11748177232,120393.46156779384,107850.95728046038,103231.1416122576,103721.92502239585,91335.903517019498,83334.828248202291,73369.236850352841,66786.441151428124,90044.505667557154,74502.570183686184,84915.473409492624,91702.570183686199,112205.79599013781,122543.92576991029,98143.004110924114,93737.474157007076,83985.861253781288,85995.538673136121,80519.194587114602,80124.570931200651,79221.345124749016,80452.52792044793,93898.764479587728,94885.861253781273,109318.11931829739,120887.85099684629,103685.40383333128,90371.721964588243,78223.334867814032,82145.91551297532,80023.334867814032,71113.657448459213,72662.04454523341,83656.668201147375,78952.367125878547,89623.334867814046,96145.915512975334,104504.24135304542,92660.923380695196,92149.402643367997,75741.875761647578,67665.531675626073,69208.542428314249,58407.467159497028,64149.402643367997,71875.209094980921,80504.241353045421,81808.542428314235,102697.78974014221,93830.526445887474,90613.936584136318,92024.074832984261,84918.698488898255,70991.81676846811,{"$f":"BO16+BO17","v":69385.365155564898},64088.590962016511,64572.461929758458,71318.698488898241,75346.655478145563,84018.698488898241,106669.23612330684,103038.44435326052,106304.57338551858,100199.73467584117,79687.906718851911,82231.992740357295,75221.240052185254,77006.186288744386,76425.541127454082,78254.573385518568,81457.799191970204,93354.573385518583,107264.25080487342,97855.128982239141,77788.308705741452,78919.645111271413,65078.784896217636,67919.645111271398,68312.118229550979,59887.38704675527,76274.483820948837,65878.784896217636,85984.161240303656,89478.784896217636,94500.290272561731,111211.54262863658,76090.574886701099,72663.155531862387,67440.574886701084,64695.413596378523,63373.908220034427,68953.478112507553,73953.478112507553,66173.908220034427,78630.89746734628,75140.574886701099,101114.76843508818,99415.203083901477,86874.471159195891,87442.817868008104,77710.171069965567,74172.620614046129,73354.4668683044,70642.11874241737,75142.957120573905,75536.311318740874,82927.287265507635,85886.699142480764,97261.226100047716,102755.05496477375,88374.680010350421,86936.763130028543,83099.094514327706,84308.675781376645,79936.567719614643,79900.877850946228,82992.181789201073,76955.035561237077,{"$f":"EA16+EA17","v":100570.28356741261},99431.644498387803,116012.46153045769,116593.7646421931,107256.45340936519,108130.31151712532,85632.427847661034,82179.64352331213,88436.567719614643,81997.652044494607,80701.859208555907,82188.368894570405,96634.799696444883,121464.97783172113,116851.17120787704,105413.22097656896,107963.54845800652,109245.49617567865,94729.902067774558,95722.410150366806,85923.821161684769,80365.160187420624,89770.569714237005,103775.86485615042,100217.87398528718,115324.3836311418,115700.22873624036,113656.61640508907,91424.349408776878,99738.254015453625,92957.974731474358,86584.603139900311,{"$f":"FG16+FG17","v":91809.953989343005},82082.944260314966,{"$f":"FI16+FI17","v":94898.443541575354},95236.8791381013,{"$f":"FK16+FK17","v":111040.6184109009},{"$f":"FL16+FL17","v":96160.244021667575},120057.85514527772,{"$f":"FN16+FN17","v":94271.752992226975},103761.52049565567,88666.608328983872,{"$f":"FQ16+FQ17","v":84456.357809338253},74404.254543700983,{"$f":"FS16+FS17","v":80261.966948325455},{"$f":"FT16+FT17","v":81733.712235886254},87279.127414308401,{"$f":"FV16+FV17","v":85475.665273600025},{"$f":"FW16+FW17","v":94808.964126235674},96441.851274650791,{"$f":"FY16+FY17","v":103915.78603463083},116605.56667588622,{"$f":"GA16+GA17","v":91321.045694142842},92664.17102908314,{"$f":"GC16+GC17","v":80395.966352088784},88161.594257768156,{"$f":"GE16+GE17","v":95819.33033622714},73631.473350524873,{"$f":"GG16+GG17","v":67383.896773925284},76388.180225982913,{"$f":"GI16+GI17","v":100365.97568069579},92548.922486176423,{"$f":"GK16+GK17","v":125495.94234516301},110047.33707729611,{"$f":"GM16+GM17","v":131995.83395068572},136052.04294673703,{"$f":"GO16+GO17","v":116322.02208094209},101442.57004160807,{"$f":"GQ16+GQ17","v":91232.237332005752},85959.289266049251,{"$f":"GS16+GS17","v":83317.646575773688},92534.823831622183,{"$f":"GU16+GU17","v":106438.50111216052},126676.30984283934,{"$f":"GW16+GW17","v":130876.88326518894},135893.9821885245,{"$f":"GY16+GY17","v":132644.65631597332},133831.55438076364,{"$f":"HA16+HA17","v":122452.5972328154},106416.99916086195,{"$f":"HC16+HC17","v":94584.726767545624}]
[]
["INVENTORIES (End of Month, Thousand Barrels)",737,520,378,418,609,1027.9999999999998,1395,1852,2178,2138,1986,1396,851,604,368,382,733,1407,2183,2238,2595,2558,2409,1961,995,569,404,532,851,1276,1695,2170,2488,2485,2342,1962,1154,592,430,456,678,939,1420,1950,2057.0000000000005,2284,2318,1853,1054,711,506,623,918,1203,1623,2030,2314,2391,2219,1345,845,645,401,441,657,972,1395,1719,2007.9999999999998,2195,2013,1210,811,458,283,576,624,1039.9999999999998,1463,1867,2182,2333,2104,1580,835,796.46428571428567,624,866,1138,1491,2089,2203,2642,2593,2412,1915,813,499,522.00000000000011,686,992,1444,1703,1899,2304,2360,2328,1526,879,526,502,683,1080,1471,1875,2270,2528,2606,2577,2194,1353,1025,991,1126,1221,1580,1812,2188,2801,2551,2228,1474,933,733,666,838,1021,1151,1532,2138,2404,2328,2137,1575,1009,745.37931034482756,484,659,942,1276,1704,2018,2190,2176,2001,1487,1019,698,601,652,1054,1369,1756,1900,2265,2179,2145,1417,687,474,539,482,806,1140,1668,2138,2553,2523,2242,1687,1189,679,479,880,1434,1673,2249,2919,2982,3040,2744,2154,1950,1391,818,1065,1313.4806396513113,1596.1479822920408,2156.9375845581935,2792.5795867924098,3340.0318430669204,3613.9147382143801,3292.9425560083482,2943.1348495617835,2443.2064254022021,1909.5984654026897,1836.0744335620893,1134.2944413445136,721.86875379556625,775.21993484231507]
["Days of Forward Supply",{"$f":"B20*1000/B18","v":6.1462973588009318},4.8066353390495928,3.7603523909268906,4.2587680089969435,6.87209467659601,11.872892945376464,17.166182201109542,22.835121095540604,24.568402980178391,22.480856286866711,18.98350908345401,11.595314079526728,7.8905187441871485,5.8509475974668614,3.5479480343287175,4.1823640571839116,8.7958422115763142,19.176974715844185,32.686275273305533,24.854375993385531,34.831013126151539,30.124073944267071,26.269710818078671,17.476815548568986,8.1195374944019836,5.7976623515304206,4.309909175953619,6.3343995293737354,9.8958621939051969,15.847153048947622,21.154559460361043,27.391607610081902,{"$f":"AH20*1000/AH18","v":30.925069283840941},26.464671966372933,24.682286370738606,17.94761940870314,9.5460378398992756,5.7095789582071577,4.7581255579980386,5.8294625353236746,8.2536057424901035,11.734077335705646,19.968034987219834,26.836569383704727,24.588595795544581,28.928834981710938,25.863799906785783,19.272789593957626,10.085715051882771,7.6731374354955806,5.4910828012450157,8.2253046116856314,13.566730021433859,17.382247303446096,27.787542910703003,31.644877681645394,32.194688949594827,29.700298516129674,27.124306754938541,13.096679134022983,9.0055979861449007,7.1181103516136108,4.3575553541590102,5.193202531921207,{"$f":"BN20*1000/BN18","v":9.2545877807682011},14.008717801235681,21.766744736622105,26.621255387008755,28.155309092082959,29.13201635919545,23.958952426119605,11.343476750890686,7.8708486438279284,4.3083753164507916,2.8243587761538573,7.2281984019506771,7.5882874682393204,13.825882148160447,18.998473635797225,24.42900596394108,27.88335436001228,28.640597010261214,22.537728187255347,14.729977491514951,8.5330223227395035,10.238868783317558,7.9067765588682235,13.30694789985748,16.75509343630458,21.826288492325098,34.882136339811858,28.882529119062287,40.103957657417084,30.156716802216987,26.956110353952269,20.264488018784661,{"$f":"CT20*1000/CT18","v":7.3103922559082939},6.5579738455519783,7.1838333496417732,10.171918035284653,15.333389878127768,22.785402392833767,24.697811431952854,25.678305449150027,34.817348135748382,30.013647001549959,30.98192958345366,15.091761803120123,8.8417060241597838,6.0547131163091006,5.7408945896248627,8.7890682853479731,14.560628855487405,20.053311854081539,26.54223901234927,30.209085282038775,33.467347767785327,31.425120559610139,30.004645954840051,22.557807339824638,13.167235426654507,11.598344682888269,11.399090146912796,13.550087477858838,14.482495291068403,19.765672270818595,22.678098773586143,26.363929141632738,{"$f":"DZ20*1000/DZ18","v":36.397878054011166},25.365345602213161,22.407353425962146,12.705531634746142,8.0021431923329871,6.8340876161769257,6.159235006869662,9.7860123911328429,12.42400132473646,13.014978189217036,18.68346180410979,26.49257428474872,29.249880881366597,24.090700320307544,17.593548676727398,13.478683899522848,9.5718543713248128,6.9039904763296116,4.4303885921454862,6.9566207249799339,9.8409557231190377,14.850363761161441,21.203217862393103,22.479527604913471,21.103172717815287,21.712693688946693,17.351057399969115,12.852178567337893,8.965602111258816,7.634727559056504,6.0257722168154251,7.0139221716417337,12.173064976656235,{"$f":"FG20*1000/FG18","v":14.911237186317608},21.392994803294133,{"$f":"FI20*1000/FI18","v":20.021403187372648},23.782803683807867,{"$f":"FK20*1000/FK18","v":19.623449789668019},{"$f":"FL20*1000/FL18","v":22.306515772949492},11.802642969802676,{"$f":"FN20*1000/FN18","v":7.287442719524325},4.5681674452702881,6.0789513680293608,{"$f":"FQ20*1000/FQ18","v":5.7070895845180027},10.832713867546374,{"$f":"FS20*1000/FS18","v":14.203489440197234},{"$f":"FT20*1000/FT18","v":20.407735735605591},24.496120244775724,{"$f":"FV20*1000/FV18","v":29.868150096616077},{"$f":"FW20*1000/FW18","v":26.611407721327815},23.247168841825182,{"$f":"FY20*1000/FY18","v":16.234299564820621},10.196768764092655,{"$f":"GA20*1000/GA18","v":7.4353068872441721},5.1692039617951506,{"$f":"GC20*1000/GC18","v":10.945822781034792},16.265586076032722,{"$f":"GE20*1000/GE18","v":17.459942520256543},30.544003775309058,{"$f":"GG20*1000/GG18","v":43.318955117619872},39.03745306116997,{"$f":"GI20*1000/GI18","v":30.289149080475767},29.649183656458646,{"$f":"GK20*1000/GK18","v":17.163901555284202},17.719647306234592,{"$f":"GM20*1000/GM18","v":10.53821138415387},6.012405122944303,{"$f":"GO20*1000/GO18","v":9.1556180072155655},12.948022108593751,{"$f":"GQ20*1000/GQ18","v":17.495438333748787},25.092547913958896,{"$f":"GS20*1000/GS18","v":33.517264367911345},36.094863585027134,{"$f":"GU20*1000/GU18","v":33.953078072813007},25.99493591259273,{"$f":"GW20*1000/GW18","v":22.487812791188375},17.978768346141802,{"$f":"GY20*1000/GY18","v":14.396346739018481},13.719293944223953,{"$f":"HA20*1000/HA18","v":9.2631309337433976},6.7833970088216438,{"$f":"HC20*1000/HC18","v":8.1960371545769721}]
["Days per Month",31,28,31,30,31,30,31,31,30,31,30,31,31,28,31,30,31,30,31,31,30,31,30,31,31,28,31,30,31,30,31,31,30,31,30,31,31,29,31,30,31,30,31,31,30,31,30,31,31,28,31,30,31,30,31,31,30,31,30,31,31,28,31,30,31,30,31,31,30,31,30,31,31,28,31,30,31,30,31,31,30,31,30,31,31,29,31,30,31,30,31,31,30,31,30,31,31,28,31,30,31,30,31,31,30,31,30,31,31,28,31,30,31,30,31,31,30,31,30,31,31,28,31,30,31,30,31,31,30,31,30,31,31,29,31,30,31,30,31,31,30,31,30,31,31,28,31,30,31,30,31,31,30,31,30,31,31,28,31,30,31,30,31,31,30,31,30,31,31,28,31,30,31,30,31,31,30,31,30,{"$f":"DAY(EOMONTH(FY3,0))","v":31},31,29,31,30,31,{"$f":"DAY(EOMONTH(GE3,0))","v":30},31,{"$f":"DAY(EOMONTH(GG3,0))","v":31},30,{"$f":"DAY(EOMONTH(GI3,0))","v":31},30,{"$f":"DAY(EOMONTH(GK3,0))","v":31},31,{"$f":"DAY(EOMONTH(GM3,0))","v":28},31,{"$f":"DAY(EOMONTH(GO3,0))","v":30},31,{"$f":"DAY(EOMONTH(GQ3,0))","v":30},31,{"$f":"DAY(EOMONTH(GS3,0))","v":31},30,{"$f":"DAY(EOMONTH(GU3,0))","v":31},30,{"$f":"DAY(EOMONTH(GW3,0))","v":31},31,{"$f":"DAY(EOMONTH(GY3,0))","v":28},31,{"$f":"DAY(EOMONTH(HA3,0))","v":30},31,{"$f":"DAY(EOMONTH(HC3,0))","v":30}]
[]
["CHANGE FROM PREVIOUS YEAR",{"$f":"B$3","v":"2005-01-15"},{"$f":"C$3","v":"2005-02-15"},"2005-03-15","2005-04-15","2005-05-15","2005-06-15","2005-07-15","2005-08-15","2005-09-15","2005-10-15","2005-11-15","2005-12-15","2006-01-15","2006-02-15","2006-03-15","2006-04-15","2006-05-15","2006-06-15","2006-07-15","2006-08-15","2006-09-15","2006-10-15","2006-11-15","2006-12-15","2007-01-15","2007-02-15","2007-03-15","2007-04-15","2007-05-15","2007-06-15","2007-07-15","2007-08-15","2007-09-15","2007-10-15","2007-11-15","2007-12-15","2008-01-15","2008-02-15","2008-03-15","2008-04-15","2008-05-15","2008-06-15","2008-07-15","2008-08-15","2008-09-15","2008-10-15","2008-11-15","2008-12-15","2009-01-15","2009-02-15","2009-03-15","2009-04-15","2009-05-15","2009-06-15","2009-07-15","2009-08-15","2009-09-15","2009-10-15","2009-11-15","2009-12-15","2010-01-15","2010-02-15","2010-03-15","2010-04-15","2010-05-15",{"$f":"BO$3","v":"2010-06-15"},"2010-07-15","2010-08-15","2010-09-15","2010-10-15","2010-11-15","2010-12-15","2011-01-15","2011-02-15","2011-03-15","2011-04-15","2011-05-15","2011-06-15","2011-07-15","2011-08-15","2011-09-15","2011-10-15","2011-11-15","2011-12-15","2012-01-15","2012-02-15","2012-03-15","2012-04-15","2012-05-15","2012-06-15","2012-07-15","2012-08-15","2012-09-15","2012-10-15","2012-11-15","2012-12-15","2013-01-15","2013-02-15","2013-03-15","2013-04-15","2013-05-15","2013-06-15","2013-07-15","2013-08-15","2013-09-15","2013-10-15","2013-11-15","2013-12-15","2014-01-15","2014-02-15","2014-03-15","2014-04-15","2014-05-15","2014-06-15","2014-07-15","2014-08-15","2014-09-15","2014-10-15","2014-11-15","2014-12-15","2015-01-15","2015-02-15","2015-03-15","2015-04-15","2015-05-15","2015-06-15","2015-07-15","2015-08-15","2015-09-15",{"$f":"EA$3","v":"2015-10-15"},"2015-11-15","2015-12-15","2016-01-15","2016-02-15","2016-03-15","2016-04-15","2016-05-15","2016-06-15","2016-07-15","2016-08-15","2016-09-15","2016-10-15","2016-11-15","2016-12-15","2017-01-15","2017-02-15","2017-03-15","2017-04-15","2017-05-15","2017-06-15","2017-07-15","2017-08-15","2017-09-15","2017-10-15","2017-11-15","2017-12-15","2018-01-15","2018-02-15","2018-03-15","2018-04-15","2018-05-15","2018-06-15","2018-07-15","2018-08-15","2018-09-15","2018-10-15","2018-11-15","2018-12-15","2019-01-15","2019-02-15","2019-03-15","2019-04-15","2019-05-15","2019-06-15","2019-07-15","2019-08-15","2019-09-15","2019-10-15","2019-11-15","2019-12-15","2020-01-15","2020-02-15","2020-03-15","2020-04-15","2020-05-15","2020-06-15","2020-07-15","2020-08-15","2020-09-15","2020-10-15","2020-11-15","2020-12-15","2021-01-15","2021-02-15","2021-03-15","2021-04-15","2021-05-15","2021-06-15","2021-07-15","2021-08-15","2021-09-15","2021-10-15","2021-11-15",{"$f":"GW$3","v":"2021-12-15"},"2022-01-15","2022-02-15","2022-03-15","2022-04-15","2022-05-15","2022-06-15"]
[{"$f":"A4","v":"SUPPLY"}]
["Gas Processing",null,null,null,null,null,null,null,null,null,null,null,null,{"$f":"N5-B5","v":-419.35483870967801},71.428571428570649,-677.41935483871021,-333.33333333333212,709.677419354839,-133.33333333333394,-322.58064516128979,-483.8709677419356,-1533.3333333333321,-1129.032258064517,{"$f":"X5-L5","v":-900},-645.16129032257959,-258.0645161290322,-5928.5714285714284,-354.83870967741859,466.66666666666606,516.1290322580644,333.33333333333394,1032.2580645161288,612.90322580645261,{"$f":"AH5-V5","v":1133.3333333333321},1161.2903225806458,966.66666666666606,1032.2580645161288,870.96774193548481,5666.2561576354683,225.8064516129034,-33.33333333333394,-483.8709677419356,-233.33333333333394,{"$f":"AR5-AF5","v":-645.16129032258141},-483.8709677419356,-400,-225.8064516129034,0,-451.6129032258068,{"$f":"AX5-AL5","v":548.3870967741932},48.029556650246377,-483.8709677419356,-1333.3333333333321,-677.41935483870839,-66.66666666666606,-677.41935483871021,-96.774193548388212,166.66666666666788,-322.58064516128979,-633.33333333333394,-838.70967741935419,-1322.5806451612898,-857.14285714285688,354.83870967741859,1166.6666666666661,580.64516129032199,-400,-32.258064516128798,-903.22580645161179,-1500,-1451.6129032258068,-866.66666666666606,-967.7419354838712,-2580.645161290322,-714.28571428571558,-1419.354838709678,-1533.3333333333339,-2064.5161290322576,-1566.6666666666679,-1354.8387096774186,-580.64516129032199,{"$f":"CD5-BR5","v":-1066.6666666666679},-1193.5483870967746,-866.66666666666606,451.6129032258068,1290.322580645161,250,-516.1290322580644,-166.66666666666606,451.6129032258068,300,258.0645161290322,645.16129032257959,2400,3032.2580645161288,2200,2354.8387096774186,2580.645161290322,2107.1428571428587,3387.0967741935492,2633.3333333333339,2870.967741935483,2866.6666666666679,3000,2032.2580645161288,833.33333333333394,64.516129032259414,266.66666666666606,-1193.5483870967746,-677.41935483871021,-1428.5714285714294,-1225.8064516129034,-866.66666666666788,{"$f":"DJ5-CX5","v":-2096.7741935483864},-1366.6666666666679,-1322.5806451612898,-1064.5161290322576,-1000,-741.9354838709678,-900,-161.29032258064399,-419.35483870967619,-642.85714285714312,64.516129032257595,-400,645.16129032257959,-400,-322.58064516129161,-451.6129032258068,-733.33333333333394,-1870.9677419354848,-100,-806.4516129032254,{"$f":"ED5-DR5","v":-903.22580645161361},{"$f":"EE5-DS5","v":-451.97044334975362},-1258.0645161290322,{"$f":"EG5-DU5","v":-1366.6666666666661},-1354.8387096774186,-1000,-1483.8709677419356,-1451.6129032258068,-1300,-548.3870967741932,-3800,-1387.0967741935492,-1322.5806451612898,{"$f":"EQ5-EE5","v":-1379.3103448275851},{"$f":"ER5-EF5","v":-967.7419354838712},-633.33333333333394,-967.7419354838712,-1033.3333333333339,-387.09677419354739,-451.6129032258068,-466.66666666666606,-129.03225806451519,1400,-1161.2903225806458,-935.4838709677424,-133.004926108375,-1032.2580645161288,-499.99999999999818,-193.54838709677279,400,-193.5483870967746,64.516129032259414,-66.66666666666606,-322.58064516128979,-366.66666666666606,-32.258064516128798,{"$f":"FN5-FB5","v":-193.5483870967746},{"$f":"FO5-FC5","v":-428.57142857142935},{"$f":"FP5-FD5","v":129.03225806451701},-433.33333333333394,-645.16129032258323,-900,{"$f":"FT5-FH5","v":-870.96774193548481},{"$f":"FU5-FI5","v":-870.96774193548481},-1200.0000000000018,-838.70967741935601,-800,-387.09677419354739,-483.8709677419356,-817.73399014778261,-1096.7741935483882,-1066.6666666666661,-1096.7741935483864,-1233.3333333333321,-806.4516129032254,-1193.5483870967746,-466.66666666666424,-870.96774193548481,-1066.666666666667,-935.4838709677424,-1032.2580645161279,-1217.9802955665027,-548.38709677419138,-333.33333333333394,420.11196466666479,408.49906144085799,250.99517842633941,475.55199612459,94.42644973237293,474.18224726857807,{"$f":"GV5-GJ5","v":818.18504218321777},{"$f":"GW5-GK5","v":540.22097995980766},786.81378838126602,1095.3274697488405,478.08486555231866,340.54971401287366,-326.29528529064191,-298.47536378057157]
["Refinery Production",null,null,null,null,null,null,null,null,null,null,null,null,-6354.8387096774168,-1571.4285714285652,1870.9677419354848,-1633.3333333333285,1677.419354838712,-800,2580.6451612903256,1290.3225806451665,-8433.3333333333358,-6806.4516129032272,-10433.333333333336,-7225.8064516129016,-1129.0322580645225,-7714.2857142857174,-6612.9032258064544,-5033.3333333333358,1032.2580645161288,-1833.3333333333358,-1225.8064516129016,-96.774193548386393,1800,6032.2580645161288,4233.3333333333358,2677.4193548387047,3709.6774193548408,-620.68965517241304,-3677.4193548387047,-7366.6666666666642,-5064.5161290322576,-933.33333333333576,-1741.9354838709696,-677.41935483871202,1700,-677.41935483871202,3433.3333333333358,-13322.580645161288,{"$f":"AX6-AL6","v":-11709.677419354841},-57.881773399014492,4419.3548387096744,9666.6666666666642,-2806.4516129032272,-4700,-7612.9032258064544,-6580.6451612903256,166.66666666667152,1677.419354838712,-7933.3333333333358,2290.3225806451592,-1322.580645161288,2535.7142857142826,903.22580645161361,1000,-3741.9354838709623,-3566.6666666666642,516.12903225806804,-5032.2580645161288,-4133.3333333333358,-3161.290322580644,-2200,-516.12903225806076,4580.6451612903256,-1357.1428571428551,1322.580645161288,-4866.6666666666642,-1967.7419354838712,900,3645.161290322576,5645.1612903225832,{"$f":"CD6-BR6","v":-333.33333333333576},-5290.3225806451665,-700,3967.7419354838712,-4774.1935483870984,-7035.7142857142826,-9774.1935483870984,-5733.3333333333358,1193.5483870967728,600,-1161.290322580644,290.32258064515918,-1666.6666666666642,7000,4500,-5967.7419354838712,-1806.4516129032272,-8035.7142857142899,-838.70967741934874,1566.6666666666642,-1322.5806451612953,-1166.6666666666642,193.54838709677279,1258.0645161290377,2066.6666666666642,-1161.290322580644,-3333.3333333333358,2580.6451612903184,9838.709677419356,14750,7161.290322580644,4866.6666666666715,{"$f":"DJ6-CX6","v":9322.5806451612953},5400,6451.6129032258104,4580.6451612903184,4033.3333333333358,193.54838709677279,4766.6666666666715,8129.0322580645225,-8677.419354838712,-8642.8571428571449,-7483.8709677419392,-866.66666666667152,-10935.483870967742,-10966.666666666672,-11903.225806451614,-12741.93548387097,-8633.3333333333358,-9548.3870967741896,-14866.666666666672,-24903.225806451617,2806.4516129032272,774.63054187192756,1903.2258064516136,1566.6666666666715,3580.6451612903184,4566.6666666666715,4612.9032258064544,8580.6451612903256,3266.6666666666715,7387.0967741935456,11233.333333333336,16096.77419354839,1225.8064516129016,2241.3793103448261,4290.3225806451665,-1933.3333333333358,-1258.0645161290304,1233.3333333333285,-1354.8387096774168,-2806.4516129032272,-1366.6666666666715,-612.90322580644715,1100,2000.0000000000073,2741.9354838709696,1091.1330049261087,96.774193548386393,-1966.6666666666715,-3741.9354838709623,933.33333333334303,5806.4516129032199,161.29032258064399,2500.0000000000073,-2838.7096774193633,-7966.6666666666715,-7580.6451612903329,-6548.3870967741896,-8250,-6129.0322580645225,-14333.333333333328,-6677.4193548387193,-8500.0000000000073,-12774.193548387091,-7451.6129032258032,-8300,-4322.580645161288,3266.6666666666715,4580.6451612903184,-2548.3870967741968,2503.6945812807899,-4193.5483870967655,2533.3333333333358,-5387.0967741935456,-7500,-4129.0322580645225,-5709.6774193548408,-2866.6666666666642,-6290.3225806451592,-11333.333333333332,-10935.483870967735,-6548.3870967741932,-6146.5517241379348,2258.0645161290231,7133.3333333333285,9278.6344168224387,7603.2382115510991,4177.3652114917641,5793.0948133507409,2743.4853044839474,7745.5363608797416,8300.4873209524558,6549.8601867250909,6942.2925253203321,6456.5095633075398,1831.7294393355405,1449.2848577882396,1707.7355142474407,1651.7775509769272]
[{"$f":"A7","v":"Imports"},null,null,null,null,null,null,null,null,null,null,null,null,{"$f":"N7-B7","v":-2419.3548387096771},-1142.8571428571427,2354.8387096774195,-2333.333333333333,870.9677419354839,-400,-161.29032258064518,-1451.6129032258066,233.33333333333337,1225.8064516129034,1899.9999999999995,7645.1612903225805,1516.1290322580644,1178.5714285714284,-1709.6774193548385,33.333333333333485,-903.22580645161293,-633.33333333333337,1032.258064516129,1225.8064516129032,733.33333333333326,1903.2258064516122,-2800,-5387.0967741935492,3322.5806451612902,794.33497536945833,4645.1612903225796,2700,3032.2580645161288,-333.33333333333331,-161.29032258064512,838.7096774193551,-666.66666666666652,-2161.2903225806449,1666.6666666666667,2322.5806451612902,{"$f":"AX7-AL7","v":1516.1290322580644},2562.807881773399,2903.2258064516136,-1333.3333333333335,-2193.5483870967741,1200,64.51612903225805,645.1612903225805,233.33333333333326,1806.4516129032263,333.33333333333348,-1645.1612903225805,-2193.5483870967737,-2428.5714285714289,-6451.6129032258068,633.33333333333303,129.0322580645161,1333.3333333333333,1483.8709677419354,-129.0322580645161,1433.3333333333335,-806.45161290322631,1133.3333333333335,3935.4838709677424,96.774193548386393,1928.5714285714289,129.0322580645161,-766.66666666666652,-516.12903225806451,-500,258.0645161290322,-1000,-1166.6666666666667,1064.5161290322585,-1033.3333333333335,-5193.5483870967746,-1451.6129032258059,-71.428571428571558,1387.0967741935483,1000,2677.4193548387098,1500,838.7096774193551,967.74193548387075,2433.333333333333,-548.38709677419411,2433.3333333333335,3129.0322580645161,4870.9677419354839,-821.42857142857156,419.35483870967801,-633.33333333333348,129.0322580645161,466.66666666666652,-1258.0645161290322,838.7096774193551,66.66666666666697,935.4838709677424,-2500.0000000000005,-806.4516129032254,-3096.7741935483873,392.85714285714312,-1000,-566.66666666666652,{"$f":"DJ7-CX7","v":-806.45161290322585},-399.99999999999955,-64.51612903225805,-96.774193548387302,-700.00000000000045,-870.9677419354839,-133.33333333333303,870.9677419354839,3483.8709677419347,1428.5714285714284,4387.0967741935474,633.33333333333348,2129.0322580645161,1066.6666666666665,4677.4193548387093,4516.1290322580644,3933.3333333333335,3999.9999999999991,6333.3333333333321,5709.6774193548372,967.7419354838712,1422.4137931034484,3129.0322580645152,5766.6666666666661,4677.4193548387093,5766.6666666666661,3096.7741935483873,13032.258064516129,12633.333333333332,20161.290322580644,20533.333333333336,17838.709677419356,26516.129032258064,22241.379310344826,18161.290322580648,13433.333333333332,11645.16129032258,19233.333333333336,12741.935483870968,-10761.165871218183,-8274.0703955012305,-11032.210586433008,-12625.39942331471,-11221.393114457765,-13171.364469210792,-10646.365670426705,-14228.785724658144,-9114.7882892018388,-13194.92456526893,-17442.983977530152,-11418.631791080699,0,0,0,0,0,49093.091230127167,40561.232996026134,32096.548299914724,27739.009396149657,16412.557758666953,25766.026173511993,23764.072281354056,21141.678241283495,24129.098513151075,35875.649078137445,36677.298609463622,35950.798538173185,-7759.9525506178834,-6411.3551531781195,-5073.3756136567536,-4384.5965149403637,-2594.2686893461105,-4072.7347884284682,-3756.293781712302,-3341.7822321221465,-3813.9920477513551,-5670.7232645827389,27975.136408717757,32225.254639478124,-11890.739049008167,-14069.390984281024,31489.994947142099,4320.7238800248015,18184.350757722255,3492.4374061514027,20822.091918091137,17893.882603652499,24687.617883324387,12042.289701002104,-25885.137522030738,-26895.525914578691,4896.1496116105991,16603.734006124119,-3642.4493115952064,-2448.5855516038355,-9331.40876132415,-7028.0181381225048]
["Net Inter-PADD Transfers (+ = Receipt)",null,null,null,null,null,null,null,null,null,null,null,null,-3441.7381833064137,-3441.7381833064137,-3441.7381833064137,-3441.7381833064137,-3441.7381833064137,-3441.7381833064137,-3441.7381833064137,-3441.7381833064137,-3441.7381833064137,-3441.7381833064137,-3441.7381833064137,-3441.7381833064137,-543.32718987386033,-543.32718987386033,-543.32718987386033,-543.32718987386033,-543.32718987386033,-543.32718987386033,-543.32718987386033,-543.32718987386033,-543.32718987386033,-543.32718987386033,-543.32718987386033,-543.32718987386033,-3353.1746380819095,-3353.1746380819095,-3353.1746380819095,-3353.1746380819095,-3353.1746380819095,-3353.1746380819095,-3353.1746380819095,-3353.1746380819095,-3353.1746380819095,-3353.1746380819095,-3353.1746380819095,-3353.1746380819095,-6472.0411242627742,-6472.0411242627742,-6472.0411242627742,-6472.0411242627742,-6472.0411242627742,-6472.0411242627742,-6472.0411242627742,-6472.0411242627742,-6472.0411242627742,-6472.0411242627742,-6472.0411242627742,-6472.0411242627742,3815.0908290119405,3815.0908290119405,3815.0908290119405,3815.0908290119405,3815.0908290119405,3815.0908290119405,3815.0908290119405,3815.0908290119405,3815.0908290119405,3815.0908290119405,3815.0908290119405,3815.0908290119405,10404.760091815013,10404.760091815013,10404.760091815013,10404.760091815013,10404.760091815013,10404.760091815013,10404.760091815013,10404.760091815013,10404.760091815013,10404.760091815013,10404.760091815013,10404.760091815013,-9914.2516334627362,-9914.2516334627362,-9914.2516334627362,-9914.2516334627362,-9914.2516334627362,-9914.2516334627362,-9914.2516334627362,-9914.2516334627362,-9914.2516334627362,-9914.2516334627362,-9914.2516334627362,-9914.2516334627362,-7271.9407996749005,-7271.9407996749005,-7271.9407996749005,-7271.9407996749005,-7271.9407996749005,-7271.9407996749005,-7271.9407996749005,-7271.9407996749005,-7271.9407996749005,-7271.9407996749005,-7271.9407996749005,-7271.9407996749005,523.28767123287707,523.28767123287707,523.28767123287707,523.28767123287707,523.28767123287707,523.28767123287707,523.28767123287707,523.28767123287707,523.28767123287707,523.28767123287707,523.28767123287707,523.28767123287707,479.45205479451943,479.45205479451943,479.45205479451943,479.45205479451943,479.45205479451943,479.45205479451943,479.45205479451943,479.45205479451943,479.45205479451943,479.45205479451943,479.45205479451943,479.45205479451943,2427.3972602739723,2427.3972602739723,2427.3972602739723,2427.3972602739723,2427.3972602739723,2427.3972602739723,2427.3972602739723,2427.3972602739723,2427.3972602739723,2427.3972602739723,2427.3972602739723,2427.3972602739723,-1517.8082191780813,-1517.8082191780813,-1517.8082191780813,-1517.8082191780813,-1517.8082191780813,-1517.8082191780813,-1517.8082191780813,-1517.8082191780813,-1517.8082191780813,-1517.8082191780813,-1517.8082191780813,-1517.8082191780813,-2460.2739726027394,-2460.2739726027394,-2460.2739726027394,-2460.2739726027394,-2460.2739726027394,-2460.2739726027394,-2460.2739726027394,-2460.2739726027394,-2460.2739726027394,-2460.2739726027394,-2460.2739726027394,-2460.2739726027394,-13695.342848916116,-13695.342848916116,-13695.342848916116,-13695.342848916116,-13695.342848916116,-13695.342848916116,-13695.342848916116,-6695.3428489161161,-13695.342848916116,-13695.342848916116,-13695.342848916116,-13695.342848916116,10855.745388620402,10855.745388620402,10855.745388620402,10855.745388620402,10855.745388620402,10855.745388620402,10855.745388620402,3855.7453886204021,10855.745388620402,10855.745388620402,15895.342848916116,15375.98801020644,3794.4361699731326,7600.3117460100038,7746.0490731989394,11722.930793629046,17326.694234489267,8939.597460295714,-1092.6606042204148,3479.9200409408768,56.264126962383671,1246.0490731989394,2083.3333333333339,3524.1935483870966,5000.0000000000018,-2005.541871921183,-1508.0645161290322,-6358.3333333333339,-8395.1612903225832,1383.3333333333321]
["Total Stock Change (Primary+Secondary+Tertiary)",null,null,null,null,null,null,null,null,null,null,null,null,576.65325081165429,1131.9527899821751,3092.7822830697178,927.19088522027096,-5100.766104027055,-8439.4757814464119,-13133.024168543177,13028.266154037476,-972.8091147797295,-36.249974994782406,-39.475781446395558,-4520.1209427367176,15107.263421259286,7919.4754028261068,-763.70432067618094,-2273.3817400310363,2558.876324485107,9826.6182599689655,13042.747292227035,-12021.76883680523,2826.6182599689491,429.84406642056229,1326.61825996895,-666.93012712782547,-6206.1259414337037,3055.6728826565704,-1206.1259414337346,2290.6482521146686,2019.6805101791697,4357.3149187813488,-3109.3517478853464,-2883.5452962724285,5923.9815854480166,-8528.7065865950099,-7009.3517478853182,1632.583735985665,-266.40722921552515,-7105.3949933979675,1411.012125623196,-3009.4179819036849,-2330.9233582477564,-776.08464857035142,1991.6572869135271,3991.6572869135252,-5876.0846485703514,4862.6250288490037,6890.5820180962992,13217.463738526392,-9650.0960587505324,-5112.0776255708206,1253.1297477010849,2561.7318982387033,2543.4523283462295,-1004.9347684279637,-101.70896197634465,2672.4845864107538,-171.6014350946316,-3553.3218652021424,328.39856490538659,-2295.2573490731083,-3293.6163779903454,5428.7338524244151,-2261.3583134742175,-8468.8851951946745,5383.8029768483502,-3402.2185285279938,-35.551861861327779,-2616.1970231516352,-902.21852852799384,1125.7384607193317,1531.114804805351,-9035.5518618613132,9669.2250910085513,-11742.06523157208,-2459.8071670559511,207.93476842794098,-8717.8716831849833,607.93476842793461,-7137.2265218946541,7862.7734781053387,-5625.3985649054066,4959.5476716537269,-3092.065231572079,-2363.0329735075647,2961.7216908043265,302.73551568910034,-13973.762180163434,-5954.4073414537497,-9651.1815350021297,-11854.407341453754,2381.0765295139954,-11199.568631776337,-7421.0740081204149,-11941.504115647305,-13521.074008120422,1284.3023359655999,-14648.831016829179,281.63521514726563,12991.686993083906,10048.287506869317,6269.8768358961115,9559.2499718748168,-163.85084218425436,982.14882629487511,10241.094422311289,8863.2531647769738,9958.1489127178356,-10028.614452295855,16756.657231059122,17161.253832677787,10394.621579949217,13826.158902075877,26101.247614291544,24686.002975690641,24611.048329683435,24330.546147846249,14655.959700209938,32930.769394027317,30248.847480287452,47103.524651564563,8540.3446752098898,14709.302247115171,14991.957578435698,-5860.730593607319,-11459.65532479009,-3260.730593607308,-6556.4295183384893,-24879.010163499792,-11794.063926940647,-33362.881131241724,-8360.7305936073171,-34137.074679628815,-36082.090285155733,-20878.545008042649,-18850.878090010523,-251.38422737505607,5641.2200075230867,-20428.271672085128,-11114.683637895907,24605.749112206413,33212.707909592653,16875.028578324371,5502.6134419134578,10749.549184579802,22068.582257430407,-4390.6874850179411,8117.301408003601,12269.801592171043,10452.875398372915,24456.057444457769,9983.7866107713398,7362.3413483281802,-8512.0450787797126,16444.308720797118,-8370.5323035381625,14430.803607446567,-48040.67631020218,-5850.1476316597909,-23472.851137468369,-7778.6168027029817,-7574.9828607888594,-14218.670365613398,3227.199833455923,-13743.070874473044,-10694.969528736241,-33250.670191305922,-25167.015174230946,-42591.073187000744,22270.278910172863,-18570.825628088154,3505.515505780786,-11998.206997596186,11979.733982534806,17507.68612104308,-10266.206621301739,-13505.967990429752,-12795.905055152816,7533.2797530030657,-35363.408046108227,-14150.118597216881,9118.7184417352382,54508.399514518373,2442.1504779580227,13082.401055199469,-31928.815589860715,-25030.865143660463,-11829.975788264448,-11708.699652220294,-11435.150158863824,-15435.531950884606,48810.519182224627,21662.192119532614,8221.3891859162086,-21501.206801971726,620.2109568629694,13147.659465009358,21319.558941943833,7643.8720531326871]
["     TOTAL SUPPLY",null,null,null,null,null,null,null,null,null,null,null,null,-12058.633319591521,-4952.6425361813745,3199.4311965375091,-6814.5472980861523,-5284.4397712044301,-13214.547298086152,-14477.988158301188,8941.3666804084933,-14147.880631419481,-10187.665577656051,-12914.547298086123,-8187.6655776560219,14692.968489449937,-5088.1375013334764,-9984.4508653887606,-7350.0422632382251,2660.7104249338299,7149.9577367617603,13338.129779772527,-10823.160542808138,5949.9577367617458,8983.2910700951034,3183.2910700950742,-2887.6766718404106,-1656.0747730639996,5542.3997224071791,-3365.7521924188477,-5762.5263859672559,-3849.623160160816,-495.85971930056985,-9010.9134827414528,-6559.3005795156205,3204.1402806994447,-14946.397353709181,-5262.5263859672123,-13172.203805322046,-16383.609643800883,-11024.480452636111,1777.6806787797541,-2481.4591061664396,-14480.383837349218,-10814.792439499783,-12706.190288962156,-8512.6419018653905,-11781.459106166454,1551.8742271668743,-7814.7924394998263,6551.8742271668452,-10673.714907157948,-2046.9867965588783,-125.32781038373651,9176.8227272506483,3326.2850928420376,176.82272725064831,5681.1238025194689,423.05928639045305,-556.51060608268017,-5157.5858748998726,2210.1560605839913,3971.4463831646281,9207.9179073730629,15690.636801382279,8175.6598428569123,-5230.791770046344,11240.17597188917,5835.874896620342,12917.595326727875,11853.079197695624,6935.8748966203275,6111.1437138246692,9335.8748966203711,595.01468156662304,-5180.5104134219291,-28513.459722177678,-21277.284606970294,-14606.316865034794,-14309.54267148643,-6906.3168650347943,-17115.994284389642,-148.25234890577849,-12372.983531701466,4529.1670059329044,-3872.9835317014949,-12761.155574712233,1334.9421814520028,-13719.205283985793,-18277.961044354466,-9659.6814744619915,-15245.70297983833,-16959.681474461984,-2955.3803991931709,-14342.477173386724,-11726.348141128648,-19374.735237902831,-26359.681474461984,-5406.9933024189959,-8061.027216564049,14519.20860066585,18450.458535284517,{"$f":"DI10-CW10","v":14004.90851143554},13212.519345838678,13715.870976441016,5423.9529580808885,4924.7913362374093,13097.715426877505,7967.1859973001701,14214.769917284058,-666.61710364361352,11623.206060047203,9783.5630303294456,7841.8155702276126,13672.277623537055,18419.409346505417,14865.455030485165,17542.113287703753,16132.57884780207,9702.0784216711181,25990.866610112149,22094.966201748641,27582.976706359084,13838.709677419334,18881.773399014754,21193.548387096773,2533.333333333343,-2129.0322580645152,8500.0000000000146,2096.7741935483937,-2290.3225806451665,5233.3333333333285,-3935.4838709677424,22033.333333333314,838.70967741934874,-11180.543665624136,707.09504864134942,1115.1846585533349,9097.4742201135086,13542.766627054691,-2512.7465579298878,-1632.4918570739828,9068.7105056811124,21587.495961580003,3583.0742888423119,-6140.5942005793331,-1150.9424716366775,8243.3954285201035,-16539.199049229646,-9507.2421602250251,-1771.9273363001994,-9137.8070104664948,5886.1328276582208,1717.7840728943411,5127.8738273383497,-8538.985718049109,10822.744425613724,-19164.139609474223,4357.6264090373588,-19384.863412862091,12337.171086878778,-11071.645686469768,-8501.6169221361051,-12180.348596199328,-11547.987041017535,-349.23202442871116,-7619.3161272669531,-9761.2138645012747,-16231.65428466523,281.60725298321631,-16142.069110646902,22333.813683659246,-12440.474801512843,3997.5627000992827,-4060.3914572494832,13757.339714067173,15557.363387901685,-8102.2388853613811,-19895.230640383117,-9087.4850476171123,5557.0115544600849,-3892.9287884743389,21580.156310532213,-6558.2295985901146,40674.788256542903,43387.871917653887,35926.055728853316,13280.975783839909,-4587.0930042213877,12327.815915524377,15933.749801848418,16146.643605639285,6072.5254314647609,34127.38735666289,5380.9409200259252,25846.645111228398,648.82236528760404,-2220.4885659734136,6130.5751518732868,4974.4291192538949,3352.4894355398719]
["DEMAND"]
["  Residential and Commercial ",null,null,null,null,null,null,null,null,null,null,null,null,-14370.166322062018,-5377.0787644583324,4210.4788392283081,-7172.3168596964388,145.96271019605047,-438.98352636310301,-4208.8759994813663,16823.382065034762,-5572.3168596964388,-2273.392128513653,-2805.6501930297454,2404.0272263250663,21759.951500052797,2777.2326060435953,-3046.5001128504082,631.9945108055108,7179.3063387625007,5565.327844138832,11888.983758117334,-11433.596887043968,5231.9945108054962,8082.5321452141216,-7168.0054891945038,-5240.0484999471955,-17135.598159027773,4534.7498466928591,-2651.7271912858341,-1981.8347181675927,-11425.920739672969,8784.8319484990861,283.75667968187918,3670.8534538754393,12551.498615165765,-5264.6304170923104,13184.831948499101,-1425.9207396729471,{"$f":"AX12-AL12","v":7828.402343579939},-643.78898011304409,11054.208795192826,3091.8432037950261,1280.0152468057859,-11241.490129538317,-14236.113785452315,-9590.9524951297353,-12708.156796204988,1118.7249242251128,-7274.8234628716818,5892.9184726122185,-10110.304799781225,-2750.8577951729458,-658.69189655541413,9534.8564905413441,3147.7597163477694,-131.81017612532742,5309.0500389284389,-1045.788670748967,-1065.1435094586559,-5594.1757675231565,1801.5231572080083,1567.1145550574729,4740.572811849619,11810.849309545461,3708.3147473334757,-12148.674499978355,1869.6050699141488,-2782.0078333116762,7192.1857150754222,5547.0244247528462,-2715.3411666450265,-2356.2013816987746,-148.67449997833319,-9775.5562204084636,-11051.485467433726,-31484.665190936008,-19470.840306143378,-11775.141381412199,-8374.0661125949991,-1175.1413814121988,-14599.872564207901,4109.8048551469328,-3241.8080480788558,8916.2564680501382,1891.5252852544581,-6180.5177254982336,20382.190669981879,4665.6008082307235,-3940.3899751794306,1503.6960463259456,-5521.0351364697344,-4796.3039536740471,10607.997121594781,-1843.615781631037,-1462.9706203407186,-7037.1641687277879,-13762.970620340704,8446.7067990141295,-15118.699337586215,6036.4212722704106,6747.6251239397752,4681.6449925639026,{"$f":"DJ12-CX12","v":5348.3956119132636},4292.6074575694074,-4891.7836790703259,-5778.042075107347,2974.4519080058744,-1090.4861237219957,4591.5063984124208,-6466.2247085367344,161.30180135258706,126.95831080534845,121.84679540397337,94.244332584399672,86.537345875345636,87.421739532488573,80.209029009169171,90.029427817156829,90.711797385127284,109.60751270787296,116.93291079596383,153.33051218060427,{"$f":"ED12-DR12","v":0},{"$f":"EE12-DS12","v":0},0,{"$f":"EG12-DU12","v":0},0,0,0,0,0,0,0,0,109.77891502102284,{"$f":"EQ12-EE12","v":86.405393468907278},{"$f":"ER12-EF12","v":82.926594037220639},64.140886780180153,58.895659312744101,-940.50243931157456,54.588728121325403,61.272303364596155,61.736711016506888,74.596772772063559,79.582298336339591,104.35380836207332,880.4088757338759,692.95707018719986,1665.057669870017,514.39938177469594,1472.3335186106488,1477.1606688276079,437.79263753730265,491.39381372566277,495.11828685076762,598.25387085532566,-6361.763032607887,-1663.0995890148624,{"$f":"FN12-FB12","v":-17609.200494926903},{"$f":"FO12-FC12","v":921.59364279092551},{"$f":"FP12-FD12","v":-9255.9668762225847},3973.6339742262571,-13472.805474542758,1835.2563016966451,{"$f":"FT12-FH12","v":-3291.9737604079346},{"$f":"FU12-FI12","v":-3572.5917489648164},-3592.0904658050567,-4132.0357093626299,3658.6409711825763,2118.579168341741,17000,1905.1376706676456,2210.4583312666728,-6329.230764833992,7309.8415209371124,-14020.325296563478,-2712.8166193484903,-5677.655299433969,-6675.2121181387556,-1607.5571985711067,13859.22659207636,9840.9809993979288,8409.1183215323254,26559.411989309454,38439.093195636306,27924.463949921039,20803.796069970496,17382.590010724682,11164.998892980064,8495.8357252973292,10428.394962399077,12177.678028442751,{"$f":"GV12-GJ12","v":12165.209683185465},{"$f":"GW12-GK12","v":9768.3525938735256},11854.059194190733,-2425.9321694362588,-872.29587384284241,6032.5872088793112,4527.3356240447538,4457.6777252402608]
["  Chemical",null,null,null,null,null,null,null,null,null,null,null,null,-3010.0456621004578,-3010.0456621004578,-3010.0456621004578,-3010.0456621004578,-3010.0456621004578,-3010.0456621004578,-3010.0456621004578,-3010.0456621004578,-3010.0456621004578,-3010.0456621004578,-3010.0456621004578,-3010.0456621004578,-293.15068493150648,-293.15068493150648,-293.15068493150648,-293.15068493150648,-293.15068493150648,-293.15068493150648,-293.15068493150648,-293.15068493150648,-293.15068493150648,-293.15068493150648,-293.15068493150648,-293.15068493150648,-6019.5897896549141,-6019.5897896549141,-6019.5897896549141,-6019.5897896549141,-6019.5897896549141,-6019.5897896549141,-6019.5897896549141,-6019.5897896549141,-6019.5897896549141,-6019.5897896549141,-6019.5897896549141,-6019.5897896549141,5693.5623923946405,5693.5623923946405,5693.5623923946405,5693.5623923946405,5693.5623923946405,5693.5623923946405,5693.5623923946405,5693.5623923946405,5693.5623923946405,5693.5623923946405,5693.5623923946405,5693.5623923946405,-57.534246575341967,-57.534246575341967,-57.534246575341967,-57.534246575341967,-57.534246575341967,-57.534246575341967,-57.534246575341967,-57.534246575341967,-57.534246575341967,-57.534246575341967,-57.534246575341967,-57.534246575341967,660.27397260273938,660.27397260273938,660.27397260273938,660.27397260273938,660.27397260273938,660.27397260273938,660.27397260273938,660.27397260273938,660.27397260273938,660.27397260273938,660.27397260273938,660.27397260273938,-1003.9523916460821,-1003.9523916460821,-1003.9523916460821,-1003.9523916460821,-1003.9523916460821,-1003.9523916460821,-1003.9523916460821,-1003.9523916460821,-1003.9523916460821,-1003.9523916460821,-1003.9523916460821,-1003.9523916460821,-472.75993712104173,-472.75993712104173,-472.75993712104173,-472.75993712104173,-472.75993712104173,-472.75993712104173,-472.75993712104173,-472.75993712104173,-472.75993712104173,-472.75993712104173,-472.75993712104173,-472.75993712104173,1912.3287671232883,1912.3287671232883,1912.3287671232883,1912.3287671232883,1912.3287671232883,1912.3287671232883,1912.3287671232883,1912.3287671232883,1912.3287671232883,1912.3287671232883,1912.3287671232883,1912.3287671232883,-1682.9673208219192,-1682.9673208219192,-1682.9673208219192,-1682.9673208219192,-1682.9673208219192,-1682.9673208219192,-1682.9673208219192,-1682.9673208219192,-1682.9673208219192,-1682.9673208219192,-1682.9673208219192,-1682.9673208219192,0,0,0,0,0,0,0,0,0,0,0,0,0,0,0,0,0,-370.82073666666383,-370.82073666666383,-370.82073666666383,-370.82073666666383,-370.82073666666383,-370.82073666666383,-370.82073666666383,0.77554000000054657,0.77554000000054657,0.77554000000054657,0.77554000000054657,0.77554000000054657,371.59627666666438,371.59627666666438,371.59627666666438,371.59627666666438,371.59627666666438,371.59627666666438,371.59627666666438,-55.145929830112436,-55.145929830112436,-55.145929830112436,-55.145929830112436,-55.145929830112436,-55.145929830112436,-55.145929830112436,-55.145929830112436,-55.145929830112436,-55.145929830112436,-55.145929830112436,-55.145929830112436,-1423.0735272697384,-1423.0735272697384,-1423.0735272697384,-1423.0735272697384,-1423.0735272697384,-1423.0735272697384,-1423.0735272697384,-1423.0735272697384,-1423.0735272697384,-1423.0735272697384,-3642.7035325354791,-3642.7035325354791,-2219.6300052657407,-2219.6300052657407,-2219.6300052657407,-2219.6300052657407,-2219.6300052657407,-2219.6300052657407,-2219.6300052657407,-2219.6300052657407,-2219.6300052657407,-2219.6300052657407,0,0,0,0,0,0,0,0]
["  Farm",null,null,null,null,null,null,null,null,null,null,null,null,1027.8860898512166,1027.8860898512166,1027.8860898512166,{"$f":"Q14-E14","v":1027.8860898512166},1027.8860898512166,1027.8860898512166,1027.8860898512166,1027.8860898512166,1027.8860898512166,1027.8860898512166,1027.8860898512166,1027.8860898512166,400.37768605059046,400.37768605059046,400.37768605059046,400.37768605059046,400.37768605059046,400.37768605059046,400.37768605059046,400.37768605059046,400.37768605059046,400.37768605059046,400.37768605059046,400.37768605059046,-420.57712861371601,-420.57712861371601,-420.57712861371601,-420.57712861371601,-420.57712861371601,-420.57712861371601,-420.57712861371601,-420.57712861371601,-420.57712861371601,-420.57712861371601,-420.57712861371601,-420.57712861371601,-1419.9675923350414,-1419.9675923350414,-1419.9675923350414,-1419.9675923350414,-1419.9675923350414,-1419.9675923350414,-1419.9675923350414,-1419.9675923350414,-1419.9675923350414,-1419.9675923350414,-1419.9675923350414,-1419.9675923350414,113.82751877362898,113.82751877362898,113.82751877362898,113.82751877362898,113.82751877362898,113.82751877362898,113.82751877362898,113.82751877362898,113.82751877362898,113.82751877362898,113.82751877362898,113.82751877362898,640.35860417294225,640.35860417294225,640.35860417294225,640.35860417294225,640.35860417294225,640.35860417294225,640.35860417294225,640.35860417294225,640.35860417294225,640.35860417294225,640.35860417294225,640.35860417294225,-302.54403131115396,-302.54403131115396,-302.54403131115396,-302.54403131115396,-302.54403131115396,-302.54403131115396,-302.54403131115396,-302.54403131115396,-302.54403131115396,-302.54403131115396,-302.54403131115396,-302.54403131115396,861.38290932811469,861.38290932811469,861.38290932811469,861.38290932811469,861.38290932811469,861.38290932811469,861.38290932811469,861.38290932811469,861.38290932811469,861.38290932811469,861.38290932811469,861.38290932811469,144.02374329102349,144.02374329102349,144.02374329102349,144.02374329102349,144.02374329102349,144.02374329102349,144.02374329102349,144.02374329102349,144.02374329102349,144.02374329102349,144.02374329102349,144.02374329102349,157.72157960114328,157.72157960114328,157.72157960114328,157.72157960114328,157.72157960114328,157.72157960114328,157.72157960114328,157.72157960114328,157.72157960114328,157.72157960114328,157.72157960114328,157.72157960114328,0,0,0,0,0,0,0,0,0,0,0,0,0,0,0,0,0,-3482.3350304864553,-3577.1890613621376,-386.02845118739424,3936.605241575845,9986.937353860445,8055.9802967483383,3204.8741462491535,-222.87631964162847,-1830.6497570485662,-3501.0637179908404,-3403.6229036025411,-3501.0637179908404,78.712126883914152,76.125343371297276,163.15213154576577,281.03555162073644,446.03538567551368,393.37586416866907,261.08036452340639,-1527.4282794921655,-1127.8405868956875,-712.68454263960575,-736.9019785545438,-712.68454263960575,-736.9019785545438,-712.68454263960575,-1527.4282794921655,-2631.051430472914,-4175.7778784757502,-3682.7800759216534,-2444.2312105576784,-92.366061702825391,-68.202346806616333,-43.097188472892867,-44.561656042360028,-43.097188472892867,-44.561656042360028,-43.097188472892867,-92.366061702825391,-159.10394093997456,-252.51605090670637,-6459.8420492119849,-2714.9892644315123,1375.3330005644602,4459.8313175227613,4035.2357441770764,3719.0495107587444,1152.3900660639315,971.68640569645959,-1403.6213636584794,-4341.568985884709,426.13163942532356,-3829.814410782652,5028.8109636417548,-1387.4450503499452,-1104.9075924910276,-283.10763839928677,-26.331362949539653,-569.39803965295505,446.37417922885197,-1105.9076056806771]
["  Other",null,null,null,null,null,null,null,null,null,null,null,null,{"$f":"N15-B15","v":906.59580052619094},906.59580052619094,906.59580052619094,906.59580052619094,906.59580052619094,906.59580052619094,906.59580052619094,906.59580052619094,906.59580052619094,906.59580052619094,906.59580052619094,906.59580052619094,277.40289150383978,277.40289150383978,277.40289150383978,277.40289150383978,277.40289150383978,277.40289150383978,277.40289150383978,277.40289150383978,277.40289150383978,277.40289150383978,277.40289150383978,277.40289150383978,-2273.8580828643589,-2273.8580828643589,-2273.8580828643589,-2273.8580828643589,-2273.8580828643589,-2273.8580828643589,-2273.8580828643589,-2273.8580828643589,-2273.8580828643589,-2273.8580828643589,-2273.8580828643589,-2273.8580828643589,-2646.8971100210711,-2646.8971100210711,-2646.8971100210711,-2646.8971100210711,-2646.8971100210711,-2646.8971100210711,-2646.8971100210711,-2646.8971100210711,-2646.8971100210711,-2646.8971100210711,-2646.8971100210711,-2646.8971100210711,-780.99370215563613,-780.99370215563613,-780.99370215563613,-780.99370215563613,-780.99370215563613,-780.99370215563613,-780.99370215563613,-780.99370215563613,-780.99370215563613,-780.99370215563613,-780.99370215563613,-780.99370215563613,1650.5834864896806,1650.5834864896806,1650.5834864896806,1650.5834864896806,1650.5834864896806,1650.5834864896806,1650.5834864896806,1650.5834864896806,1650.5834864896806,1650.5834864896806,1650.5834864896806,1650.5834864896806,-760.81735159817435,-760.81735159817435,-760.81735159817435,-760.81735159817435,-760.81735159817435,-760.81735159817435,-760.81735159817435,-760.81735159817435,-760.81735159817435,-760.81735159817435,-760.81735159817435,-760.81735159817435,-930.52902804957557,-930.52902804957557,-930.52902804957557,-930.52902804957557,-930.52902804957557,-930.52902804957557,-930.52902804957557,-930.52902804957557,-930.52902804957557,-930.52902804957557,-930.52902804957557,-930.52902804957557,298.26534695293594,298.26534695293594,298.26534695293594,{"$f":"DI15-CW15","v":298.26534695293594},298.26534695293594,298.26534695293594,298.26534695293594,298.26534695293594,298.26534695293594,298.26534695293594,298.26534695293594,298.26534695293594,219.92485299851978,219.92485299851978,219.92485299851978,219.92485299851978,219.92485299851978,219.92485299851978,219.92485299851978,219.92485299851978,219.92485299851978,219.92485299851978,219.92485299851978,219.92485299851978,0,0,0,0,0,0,0,0,0,0,0,0,0,0,0,0,0,-585.75501813184383,-610.03852910199566,-138.93841628105292,293.3080789876476,473.00606016677011,1094.6639410026546,2362.2632136445754,2939.9260421052713,2064.4668661046308,1198.9560898312739,383.18731219431356,-367.91686721532642,58.663755280038458,58.076266931990176,69.473540884126123,79.93083347938591,84.278247254942471,99.317948964977404,129.98484073309737,-3354.3790311935445,-3330.0074677577686,-3305.912853906495,-3283.2029879777056,-3262.2932943481501,-3257.8621009961917,-3257.1697270349487,-3270.6017818830733,-3282.9260383932087,-3288.0496057064101,-3305.7743791142457,-3341.9162998911597,-21.714469303671649,-13.203593178026495,-4.789431553803297,3.1411575632773747,10.443102421078947,11.990534443923025,12.232320697494288,7.5416673782438011,3.2378720647066075,1.4486537882894481,-382.9431321366028,-1645.0673757697296,-2058.5347863889147,-1215.9580499496951,-382.95604915183503,402.17227343925515,1125.0648143615381,1278.2605846232145,1302.1974237266004,837.8227451208968,411.74700908060913,234.61439971554864,3.3376502356986748E-2,3.3376502356986748E-2,0.71931598029186716,0.71931598029186716,0.71931598029186716,0.71931598029186716,0.71931598029186716,0.71931598029186716]
["     US DOMESTIC CONSUMPTION",null,null,null,null,null,null,null,null,null,null,null,null,-15445.730093785052,-6452.6425361813745,3134.9150675052515,-8247.8806314194953,-929.6010615270061,-1514.5472980861523,-5284.4397712044156,15747.81829331172,-6647.8806314194808,-3348.9559002367023,-3881.2139647527947,1328.4634546020243,22144.581392675711,3161.8624986665091,-2661.8702202274872,1016.6244034284464,7563.9362313854363,5949.9577367617603,12273.61365074027,-11048.966994421047,5616.6244034284173,8467.1620378370426,-6783.3755965715827,-4855.4186073242745,-25849.623160160772,-4179.2751544401253,-11365.752192418819,-10695.859719300584,-20139.945740805961,70.806947366087115,-8430.2683214511126,-5043.1715472575452,3837.4736140327732,-13978.655418225302,4470.8069473661017,-10139.945740805939,{"$f":"AX16-AL16","v":9455.1000336184807},982.90870992548298,12680.90648523136,4718.5408938335459,2906.7129368443057,-9614.7924394997826,-12609.416095413799,-7964.2548050912155,-11081.459106166454,2745.4226142636471,-5648.1257728331402,7519.6161626507528,-10835.005229738585,-3475.5582251302985,-1383.3923265127669,8810.1560605840059,2423.0592863904239,-856.51060608268017,4584.349608971097,-1770.4891007063125,-1789.8439394160087,-6318.8761974805093,1076.8227272506629,842.41412510011287,7691.7888751149876,14762.06537281083,6659.530810598837,-9197.458436713001,4820.8211331795101,169.20822995368508,10143.401778340776,8498.2404880182003,235.87489662033477,595.01468156657938,2802.5415632870136,-6824.3401571431023,-13118.799241989123,-33551.97896549142,-21538.15408069879,-13842.455155967611,-10441.379887150411,-3242.4551559676111,-16667.186338763306,2042.4910805915279,-5309.121822634268,6848.9426934947405,-175.78848930094682,-8247.831500053624,19840.284614139367,4123.6947523882263,-4482.2960310219278,961.78999048344849,-6062.9411923122316,-5338.2100095165442,10066.091065752284,-2385.5218374735341,-2004.8766761832157,-7579.0702245702851,-14304.876676183201,7904.8007431716105,-12764.081480218971,8391.0391296376474,9102.2429813070121,7036.2628499311468,7703.0134692805077,6647.2253149366443,-2537.1658217030854,-3423.4242177401102,5329.0697653731113,1264.1317336452339,6946.1242557796577,-4111.6068511694903,-1144.0190868696664,-1178.362577416905,-1183.4740928182728,-1211.076555637861,-1218.7835423469078,-1217.8991486897576,-1225.1118592130806,-1215.2914604050893,-1214.6090908371261,-1195.7133755143732,-1188.3879774262896,-1151.9903760416491,0,0,0,0,0,0,0,0,0,0,0,0,109.77891502101556,86.405393468914554,82.926594037213363,64.140886780180153,58.895659312736825,-5379.4132245965448,-4503.4595990094749,-834.51530077052303,3920.8292949133465,10163.719450132616,8859.4057994206669,5300.6704315891402,3598.2341381975275,927.54971924326674,-636.27441828954034,-2505.2606696335279,-2395.8715265955179,1986.1328276582353,943.59052450724994,1095.6157628222281,1227.680948617548,1500.1637804524507,-5497.4729428075661,-900.43810709168611,-22546.153735442727,-3591.4003416926425,-13329.710202598799,-101.61692213610513,-17502.929241360624,-2214.6537076842069,-7316.9739599125969,-8425.7677401701731,-9561.2138645012892,-11651.009123374912,-3385.0594136834407,-3722.7142719372059,15462.845941723761,400.65820341327344,739.49818397023046,-7793.7247905828044,5854.1139076155596,-15475.969945431658,-4166.7550143936242,-7185.5532210282836,-8254.151714283762,-3281.6981229592493,3373.7378781922889,1838.2208266612142,5506.286530442143,27583.655251616772,39871.742885395819,29826.055728853295,20861.620945130235,17412.906995778612,8843.9449477824382,2772.4594792677672,9046.6436056392631,6362.8480121098983,17194.054023329591,8380.9409200259252,10749.870917680004,-2708.320491855251,-897.90792081208201,5463.908485206659,4974.4291192538803,3352.4894355398792]
["EXPORTS",null,null,null,null,null,null,null,null,null,null,null,null,{"$f":"N17-B17","v":3387.0967741935492},1500.0000000000018,64.516129032257595,1433.3333333333321,-4354.8387096774204,-11700,-9193.5483870967746,-6806.4516129032263,-7499.9999999999991,-6838.7096774193551,-9033.3333333333321,-9516.1290322580644,-7451.6129032258068,-8250.0000000000018,-7322.5806451612898,-8366.6666666666642,-4903.2258064516127,1200,1064.5161290322576,225.8064516129034,333.33333333333303,516.1290322580644,9966.6666666666642,1967.7419354838721,24193.548387096773,9721.6748768472917,7999.9999999999982,4933.333333333333,16290.322580645159,-566.66666666666606,-580.64516129032199,-1516.1290322580653,-633.33333333333303,-967.74193548387029,-9733.3333333333321,-3032.2580645161297,-25838.709677419356,-12007.389162561576,-10903.22580645161,-7200,-17387.096774193546,-1200,-96.774193548387302,-548.3870967741932,-700,-1193.5483870967746,-2166.666666666667,-967.7419354838712,161.29032258064581,1428.5714285714284,1258.0645161290322,366.66666666666697,903.2258064516127,1033.333333333333,1096.7741935483873,2193.5483870967746,1233.333333333333,1161.2903225806449,1133.3333333333339,3129.0322580645161,1516.1290322580644,928.57142857142935,1516.1290322580635,3966.666666666667,6419.354838709678,5666.6666666666661,2774.1935483870966,3354.8387096774186,6700,5516.1290322580653,6533.333333333333,7419.3548387096762,7935.4838709677415,5035.7142857142862,258.0645161290322,-766.66666666666788,-3870.9677419354848,-3666.6666666666661,-451.6129032258068,-2193.5483870967746,-7066.666666666667,-2322.5806451612898,-3700,-4516.1290322580626,-6483.8709677419356,-5821.4285714285725,-1774.1935483870957,1400,2838.7096774193542,400,-1000,64.516129032259414,2300.0000000000009,225.80645161290158,-33.33333333333394,-1290.3225806451628,967.7419354838712,2392.8571428571431,5677.4193548387093,3233.3333333333339,{"$f":"DJ17-CX17","v":1774.1935483870984},3333.3333333333339,4225.8064516129034,4612.9032258064508,4033.3333333333321,3032.2580645161306,3800,258.06451612903402,4483.8709677419356,2678.5714285714294,677.41935483871021,6600,11354.838709677417,7799.9999999999982,10483.870967741934,9064.5161290322576,2633.3333333333339,18838.709677419352,14733.333333333334,19903.225806451614,13838.709677419354,18881.773399014775,21193.548387096773,2533.3333333333321,-2129.0322580645152,8500,2096.77419354839,-2290.3225806451592,5233.3333333333321,-3935.4838709677388,22033.333333333336,838.70967741935601,-11290.322580645159,620.68965517241668,1032.2580645161288,9033.3333333333358,13483.870967741936,2866.6666666666679,2870.9677419354848,9903.2258064516136,17666.666666666668,-6580.645161290322,-15000,-6451.6129032258104,4645.161290322576,-17466.748768472909,-8870.9677419354848,733.33333333333212,-6741.935483870966,3900,774.19354838709478,4032.2580645161288,-9766.6666666666679,9322.580645161288,-13666.666666666668,5258.064516129034,3161.2903225806476,15928.571428571428,2258.064516129034,-8400,5322.5806451612916,-9333.3333333333358,6967.7419354838748,806.45161290321994,-199.99999999999636,-4580.645161290322,3666.6666666666642,-12419.354838709678,6870.9677419354848,-12841.133004926105,3258.064516129034,3733.3333333333358,7903.2258064516063,31033.333333333336,-3935.483870967746,-12709.677419354834,-833.33333333333576,8838.7096774193524,-7266.6666666666642,19741.93548387097,-12064.516129032258,13091.133004926105,3516.1290322580608,6100,-7580.6451612903184,-22000,3483.8709677419356,13161.290322580644,7100,-290.32258064515918,16933.333333333332,-3000,15096.774193548386,3357.1428571428587,-1322.580645161288,666.66666666666424,0,0]
["     TOTAL DEMAND",null,null,null,null,null,null,null,null,null,null,null,null,-12058.633319591507,-4952.6425361813745,3199.4311965375091,-6814.5472980861668,-5284.4397712044301,-13214.547298086152,-14477.988158301188,8941.3666804084933,-14147.880631419481,-10187.665577656051,-12914.547298086123,-8187.6655776560365,14692.968489449908,-5088.1375013334909,-9984.4508653887751,-7350.0422632382106,2660.7104249338299,7149.9577367617603,13338.129779772527,-10823.160542808138,5949.9577367617458,8983.2910700951034,3183.2910700950742,-2887.6766718404106,-1656.0747730639996,5542.3997224071645,-3365.7521924188331,-5762.5263859672559,-3849.6231601608015,-495.85971930056985,-9010.9134827414382,-6559.3005795156059,3204.1402806994447,-14946.397353709181,-5262.5263859672268,-13172.20380532206,{"$f":"AX18-AL18","v":-16383.609643800868},-11024.480452636082,1777.6806787797541,-2481.4591061664541,-14480.383837349247,-10814.792439499783,-12706.190288962185,-8512.6419018654124,-11781.459106166454,1551.8742271668743,-7814.7924394998117,6551.8742271668743,-10673.714907157948,-2046.9867965588783,-125.32781038373651,9176.8227272506774,3326.2850928420376,176.82272725064831,5681.1238025194834,423.05928639046033,-556.51060608268017,-5157.585874899858,2210.1560605840059,3971.4463831646281,9207.9179073730484,15690.636801382265,8175.6598428569123,-5230.791770046344,11240.175971889184,5835.8748966203566,12917.595326727875,11853.079197695624,6935.8748966203275,6111.1437138246401,9335.874896620342,595.01468156657938,-5183.315371021381,-28516.26467977713,-21280.08956456976,-14609.121822634275,-14312.347629085896,-6909.1218226342753,-17118.799241989116,-151.05730650524492,-12375.788489300932,4526.3620483334525,-3875.7884893009468,-12763.960532311685,13356.413646397443,-1697.7338190403534,-6256.4895794090262,2361.7899904834485,-3224.2315148928756,-4938.2100095165515,9066.0910657522836,-2321.0057084412838,295.12332381679153,-7353.2637729573762,-14338.210009516537,6614.4781625264441,-11796.339544735107,10783.896272494792,14779.662336145717,10269.596183264483,{"$f":"DJ18-CX18","v":9477.2070176676061},9980.5586482699728,1688.6406299098162,1189.4790080663515,9362.4030987064471,4296.3897981613554,10746.124255779665,-3853.5423350404599,3339.8518808722729,1500.2088511545298,-506.05473797956074,5388.923444362139,10136.055167330516,6582.1008513102424,9258.7591085288586,7849.2246686271683,1418.7242424962024,17642.996301904976,13544.945355907039,18751.235430409972,13838.709677419349,18881.773399014768,21193.548387096773,2533.3333333333285,-2129.0322580645152,8500,2096.7741935483791,-2290.3225806451665,5233.3333333333285,-3935.4838709677279,22033.333333333328,838.70967741934874,-11180.543665624136,707.09504864133487,1115.1846585533349,9097.4742201135232,13542.766627054676,-2512.7465579298732,-1632.4918570739828,9068.7105056810979,21587.495961580018,3583.0742888422974,-6140.5942005793331,-1150.9424716366775,8243.3954285201035,-16539.199049229646,-9507.2421602250251,-1771.9273363001994,-9137.8070104664948,5886.1328276582353,1717.7840728943411,5127.8738273383497,-8538.9857180491235,10822.744425613724,-19164.139609474223,4357.6264090373588,-19384.863412862091,12337.171086878792,-11071.645686469754,-8501.6169221361051,-12180.348596199328,-11547.98704101755,-349.23202442871116,-7619.3161272669531,-9761.2138645012747,-16231.65428466523,281.60725298321631,-16142.069110646888,22333.813683659246,-12440.474801512828,3997.5627000992681,-4060.3914572494687,13757.339714067173,15557.363387901685,-8102.2388853613811,-19895.230640383117,-9087.4850476171123,5557.011554460114,-3892.928788474368,21580.156310532184,-6558.2295985901146,40674.788256542874,43387.871917653887,35926.055728853302,13280.975783839909,-4587.0930042213877,12327.815915524377,15933.749801848404,16146.64360563927,6072.5254314647318,34127.387356662919,5380.9409200259252,25846.645111228398,648.82236528760404,-2220.4885659733845,6130.5751518733159,4974.4291192538803,3352.4894355398719]
[]
["INVENTORIES (End of Month, Thousand Barrels)",null,null,null,null,null,null,null,null,null,null,null,null,114,84,-10,-36,124,379.00000000000023,788,386,417,420,423,565,144,-35,36,150,118,-131,-488,-68,-107,-73,-67,1,159,23,26,-76,-173,-337,-275,-220,-430.99999999999955,-201,-24,-109,{"$f":"AX20-AL20","v":-100},119,76,167,240,264,203,80,256.99999999999955,107,-99,-508,-209,-66,-105,-182,-261,-231,-228,-311,-306.00000000000023,-196,-206,-135,-34,-187,-118,135,-33,67.999999999999773,68,148,174.00000000000023,138,91,370,24,338.46428571428567,341,290,514,451.00000000000023,626,336,460,260,308,335,-22,-297.46428571428567,-101.99999999999989,-180,-146,-47,-386,-304,-338,-233,-84,-389,66,27,-20.000000000000114,-3,{"$f":"DJ20-CX20","v":88},27,172,371,224,246,249,668,474,499,489,443,141,109,-63,-82,273,-55,-349,-720,{"$f":"ED20-DR20","v":-420},-292,-325,{"$f":"EG20-DU20","v":-288},-200,-429,-280,-50,-397,-223,-91,101,76,{"$f":"EQ20-EE20","v":12.379310344827559},{"$f":"ER20-EF20","v":-182},-179,-79,125,172,-120,-214,-152,-136,-88,10,-47.379310344827559,117,-7,112,93,52,-118,75,3,144,-70,{"$f":"FN20-FB20","v":-332},{"$f":"FO20-FC20","v":-224},{"$f":"FP20-FD20","v":-62},-170,-248,-229,{"$f":"FT20-FH20","v":-88},{"$f":"FU20-FI20","v":238},288,344,97,270,502,205,-60,398,628,533,581,781,429,517,502,467,761,712,339,185,-120.51936034868868,-76.852017707959249,-92.062415441806479,-126.42041320759017,358.03184306692037,573.91473821438012,{"$f":"GV20-GJ20","v":548.94255600834822},{"$f":"GW20-GK20","v":789.13484956178354},493.20642540220206,518.59846540268973,1018.0744335620893,69.294441344513643,-591.61188585574507,-820.92804744972568]
["Days of Forward Supply",null,null,null,null,null,null,null,null,null,null,null,null,1.7442213853862167,1.0443122584172686,-0.21240435659817303,-7.6403951813031945E-2,1.9237475349803042,7.3040817704677217,15.520093072195991,2.0192548978449274,10.262610145973149,7.6432176574003599,7.2862017346246617,5.8815014690422576,0.22901875021483509,-5.3285245936440795E-2,0.76196114162490147,2.1520354721898238,1.1000199823288828,-3.3298216668965637,-11.531715812944491,2.5372316166963707,-3.9059438423105988,-3.659401977894138,-1.5874244473400658,0.47080386013415421,1.426500345497292,-8.8083393323262982E-2,0.4482163820444196,-0.50493699405006076,-1.6422564514150935,-4.113075713241976,-1.1865244731412083,-0.55503822637717448,-6.3364734882963596,2.4641630153380056,1.1815135360471771,1.3251701852544855,0.53967721198349494,1.9635584772884229,0.73295724324697709,2.3958420763619568,5.3131242789437554,5.6481699677404507,7.8195079234831688,4.8083082979406662,7.6060931540502459,0.77146353441873572,1.2605068481527582,-6.1761104599346428,-1.0801170657378698,-0.55502708388196975,-1.1335274470860055,-3.0321020797644245,-4.3121422406656578,-3.373529502210415,-6.0207981740808982,-5.0236222946366382,-4.039379857511868,-0.56828215693422379,-3.1653543288189354,-1.7532023831322974,-1.1347493423169723,-2.8097350351628192,-1.5331965780051529,2.0349958700294701,-1.6663003125288807,-0.18283565307523375,-2.7682711008248795,-2.1922494230676755,-0.27195473207067877,-0.49141934893423667,-1.4212242388642586,3.3865007406242658,0.66217367891157508,5.9304934668667668,5.0824177827143657,6.0787494979068031,9.16680596806526,8.0004063441646505,15.883662704014633,4.4535231551212071,12.220603297404804,1.5161197919557736,4.4183821666969223,5.5345105272697097,-1.2226300668312096,-3.6808949377655802,-0.72294320922645028,-3.135029864572827,-1.4217035581768123,0.95911390050866885,-10.184324907859004,-3.2042236699122597,-5.2866095216687015,-0.14306980066702835,4.0258192295013906,-5.1727262156645377,1.5313137682514899,-0.50326072924287768,-1.4429387600169106,-1.3828497499366801,-0.77276102264036339,-2.7320905387522281,1.8444275803964167,4.5307798328887472,-1.3500003679630552,1.4114735580601803,-0.97728362861360907,7.4660455367045149,4.3255294024947233,5.5436315665791689,5.6581955572879332,4.7610191925108651,-7.8133564419001544E-2,-0.28763958326294414,-3.8641402387631274,-3.8451561404060364,2.9305302862258387,-6.0597749573969786,-7.5972925288779045,-9.8522757050784957,-5.16509223432152,-4.7642570667113437,-5.2398551400431339,-3.7640750867259953,-2.0584939663319428,-6.7506940816015586,-3.9946369694763533,0.12864514311598185,-7.147997172644569,-1.2746452819056167,-4.8138047492347482,0.77315226477670507,1.5697111789918257,{"$f":"EQ21-EE21","v":6.9902860152685875E-2},-1.7288464147241758,-2.829391666152909,-2.5830456016174228,1.8353855719444052,2.5197560582833134,-4.0130466798352487,-8.1467081635513097,-2.3780066313608508,-0.24249127675828319,-0.62650533218495497,-0.60625226006599675,0.73073708272689242,1.5953836246699389,5.7301446661799815E-2,2.3321092535371974,6.0873425156167116E-2,0.18977694090103014,-2.458124417540823,2.6796309659925797,-2.0892438992786744,4.9554583729803774,-1.0495355975352165,-1.678159391734491,-3.066560113786216,5.3179151213935683E-2,-1.306832587123731,-1.3403511091098608,-0.70774774612037383,-0.98525906768854199,4.4747170574030761,6.0853464128082102,6.9879579316597962,0.94065306887569022,4.4316565950179445,2.9093260445683296,2.867139441973884,-0.90974740623421013,5.2387331965167894,5.4328722084863479,3.256453080059309,10.136268039703467,18.822834872844147,9.1693029645538928,3.6777413591479515,6.4020148146334641,0.92960199046358127,7.5228785421419371,3.1029044969096979,0.84320116114915233,-1.7902047738192266,-3.3175639674389714,3.54958134922434E-2,-5.451455861350162,-9.8016907497085271,-2.9425894761428353,3.6639289923372402,-3.6542477438659162,5.3239112359041734,0.25912103990721036,3.8581353548646113,7.7068888212796498,0.10751292652783206,-6.164625099772107,-9.2994011791718147]
[]
["CHANGE FROM PREVIOUS FCST"]
[null,{"$f":"B$3","v":"2005-01-15"},{"$f":"C$3","v":"2005-02-15"},"2005-03-15","2005-04-15","2005-05-15","2005-06-15","2005-07-15","2005-08-15","2005-09-15","2005-10-15","2005-11-15","2005-12-15","2006-01-15","2006-02-15","2006-03-15","2006-04-15","2006-05-15","2006-06-15","2006-07-15","2006-08-15","2006-09-15","2006-10-15","2006-11-15","2006-12-15","2007-01-15","2007-02-15","2007-03-15","2007-04-15","2007-05-15","2007-06-15","2007-07-15","2007-08-15","2007-09-15","2007-10-15","2007-11-15","2007-12-15","2008-01-15","2008-02-15","2008-03-15","2008-04-15","2008-05-15","2008-06-15","2008-07-15","2008-08-15","2008-09-15","2008-10-15","2008-11-15","2008-12-15","2009-01-15","2009-02-15","2009-03-15","2009-04-15","2009-05-15","2009-06-15","2009-07-15","2009-08-15","2009-09-15","2009-10-15","2009-11-15","2009-12-15","2010-01-15","2010-02-15","2010-03-15","2010-04-15","2010-05-15",{"$f":"BO$3","v":"2010-06-15"},"2010-07-15","2010-08-15","2010-09-15","2010-10-15","2010-11-15","2010-12-15","2011-01-15","2011-02-15","2011-03-15","2011-04-15","2011-05-15","2011-06-15","2011-07-15","2011-08-15","2011-09-15","2011-10-15","2011-11-15","2011-12-15","2012-01-15","2012-02-15","2012-03-15","2012-04-15","2012-05-15","2012-06-15","2012-07-15","2012-08-15","2012-09-15","2012-10-15","2012-11-15","2012-12-15","2013-01-15","2013-02-15","2013-03-15","2013-04-15","2013-05-15","2013-06-15","2013-07-15","2013-08-15","2013-09-15","2013-10-15","2013-11-15","2013-12-15","2014-01-15","2014-02-15","2014-03-15","2014-04-15","2014-05-15","2014-06-15","2014-07-15","2014-08-15","2014-09-15","2014-10-15","2014-11-15","2014-12-15","2015-01-15","2015-02-15","2015-03-15","2015-04-15","2015-05-15","2015-06-15","2015-07-15","2015-08-15","2015-09-15",{"$f":"EA$3","v":"2015-10-15"},"2015-11-15","2015-12-15","2016-01-15","2016-02-15","2016-03-15","2016-04-15","2016-05-15","2016-06-15","2016-07-15","2016-08-15","2016-09-15","2016-10-15","2016-11-15","2016-12-15","2017-01-15","2017-02-15","2017-03-15","2017-04-15","2017-05-15","2017-06-15","2017-07-15","2017-08-15","2017-09-15","2017-10-15","2017-11-15","2017-12-15","2018-01-15","2018-02-15","2018-03-15","2018-04-15","2018-05-15","2018-06-15","2018-07-15","2018-08-15","2018-09-15","2018-10-15","2018-11-15","2018-12-15","2019-01-15","2019-02-15","2019-03-15","2019-04-15","2019-05-15","2019-06-15","2019-07-15","2019-08-15","2019-09-15","2019-10-15","2019-11-15","2019-12-15","2020-01-15","2020-02-15","2020-03-15","2020-04-15","2020-05-15","2020-06-15","2020-07-15","2020-08-15","2020-09-15","2020-10-15","2020-11-15","2020-12-15","2021-01-15","2021-02-15","2021-03-15","2021-04-15","2021-05-15","2021-06-15","2021-07-15","2021-08-15","2021-09-15","2021-10-15",{"$f":"GV$3","v":"2021-11-15"},"2021-12-15","2022-01-15","2022-02-15","2022-03-15","2022-04-15","2022-05-15"]
[{"$f":"A4","v":"SUPPLY"}]
["Gas Processing",null,null,null,null,null,null,null,null,null,null,null,null,null,null,null,null,null,null,null,null,null,null,null,null,null,null,null,null,null,null,null,null,null,null,null,null,null,null,null,null,null,null,null,null,null,null,null,null,null,null,null,null,null,null,null,null,null,null,null,null,null,null,null,null,null,null,null,null,null,null,null,null,null,null,null,null,null,null,null,null,null,null,null,null,null,null,null,null,null,null,null,null,null,null,null,null,null,null,null,null,null,null,null,null,null,null,null,null,{"$f":"DF5-DF68","v":0},0,0,0,0,0,0,0,0,0,0,0,0,0,0,0,0,0,0,0,0,0,0,0,{"$f":"ED5-ED68","v":0},0,0,0,0,0,0,0,0,0,0,0,0,0,0,0,0,0,0,0,0,0,0,0,0,0,0,0,{"$f":"FF5-FF68","v":0},0,{"$f":"FH5-FH68","v":0},0,{"$f":"FJ5-FJ68","v":0},0,{"$f":"FL5-FL68","v":0},0,{"$f":"FN5-FN68","v":0},0,{"$f":"FP5-FP68","v":0},0,{"$f":"FR5-FR68","v":0},0,{"$f":"FT5-FT68","v":0},0,{"$f":"FV5-FV68","v":0},0,{"$f":"FX5-FX68","v":0},0,{"$f":"FZ5-FZ68","v":0},0,{"$f":"GB5-GB68","v":0},0,{"$f":"GD5-GD68","v":0},0,{"$f":"GF5-GF68","v":0},0,{"$f":"GH5-GH68","v":0},0,{"$f":"GJ5-GJ68","v":0},0,{"$f":"GL5-GL68","v":0},0,{"$f":"GN5-GN68","v":0},53.814968666665663,{"$f":"GP5-GP68","v":519.15455595698586},471.10022344086065,{"$f":"GR5-GR68","v":612.37560554228003},612.35772727364019,{"$f":"GT5-GT68","v":612.3488587326774},612.17677464158078,{"$f":"GV5-GV68","v":612.10887083714988},612.00155656109746,{"$f":"GX5-GX68","v":611.81221400139111},0,{"$f":"GZ5-GZ68","v":0},0,{"$f":"HB5-HB68","v":0}]
["Refinery Production",null,null,null,null,null,null,null,null,null,null,null,null,null,null,null,null,null,null,null,null,null,null,null,null,null,null,null,null,null,null,null,null,null,null,null,null,null,null,null,null,null,null,null,null,null,null,null,null,null,null,null,null,null,null,null,null,null,null,null,null,null,null,null,null,null,null,null,null,null,null,null,null,null,null,null,null,null,null,null,null,null,null,null,null,null,null,null,null,null,null,null,null,null,null,null,null,null,null,null,null,null,null,null,null,null,null,null,null,{"$f":"DF6-DF69","v":0},0,0,0,0,0,0,0,0,0,0,0,0,0,0,0,0,0,0,0,0,0,0,0,{"$f":"ED6-ED69","v":0},0,0,0,0,0,0,0,0,0,0,0,0,0,0,0,0,0,0,0,0,0,0,0,0,0,0,0,{"$f":"FF6-FF69","v":0},0,{"$f":"FH6-FH69","v":0},0,{"$f":"FJ6-FJ69","v":0},0,{"$f":"FL6-FL69","v":0},0,{"$f":"FN6-FN69","v":0},0,{"$f":"FP6-FP69","v":0},0,{"$f":"FR6-FR69","v":0},0,{"$f":"FT6-FT69","v":0},0,{"$f":"FV6-FV69","v":0},0,{"$f":"FX6-FX69","v":0},0,{"$f":"FZ6-FZ69","v":0},0,{"$f":"GB6-GB69","v":0},0,{"$f":"GD6-GD69","v":0},0,{"$f":"GF6-GF69","v":0},0,{"$f":"GH6-GH69","v":0},0,{"$f":"GJ6-GJ69","v":0},0,{"$f":"GL6-GL69","v":0},0,{"$f":"GN6-GN69","v":0},2355.0109379557252,{"$f":"GP6-GP69","v":479.94239365128306},94.887858627356763,{"$f":"GR6-GR69","v":132.67452672703803},133.44283187963447,{"$f":"GT6-GT69","v":721.50603153391421},-32.974123891297495,{"$f":"GV6-GV69","v":-30.512600879766978},275.17558871275105,{"$f":"GX6-GX69","v":320.39086335276079},0,{"$f":"GZ6-GZ69","v":0},0,{"$f":"HB6-HB69","v":0}]
[{"$f":"A7","v":"Imports"},null,null,null,null,null,null,null,null,null,null,null,null,null,null,null,null,null,null,null,null,null,null,null,null,null,null,null,null,null,null,null,null,null,null,null,null,null,null,null,null,null,null,null,null,null,null,null,null,null,null,null,null,null,null,null,null,null,null,null,null,null,null,null,null,null,null,null,null,null,null,null,null,null,null,null,null,null,null,null,null,null,null,null,null,null,null,null,null,null,null,null,null,null,null,null,null,null,null,null,null,null,null,null,null,null,null,null,null,{"$f":"DF7-DF70","v":0},0,0,0,0,0,0,0,0,0,0,0,0,0,0,0,0,0,0,0,0,0,0,0,{"$f":"ED7-ED70","v":0},0,0,0,0,0,0,0,0,0,0,0,0,0,0,0,0,0,0,0,0,0,0,0,0,0,0,0,{"$f":"FF7-FF70","v":0},0,{"$f":"FH7-FH70","v":0},0,{"$f":"FJ7-FJ70","v":0},0,{"$f":"FL7-FL70","v":0},0,{"$f":"FN7-FN70","v":0},0,{"$f":"FP7-FP70","v":0},0,{"$f":"FR7-FR70","v":0},0,{"$f":"FT7-FT70","v":0},0,{"$f":"FV7-FV70","v":0},0,{"$f":"FX7-FX70","v":0},0,{"$f":"FZ7-FZ70","v":0},0,{"$f":"GB7-GB70","v":0},0,{"$f":"GD7-GD70","v":0},0,{"$f":"GF7-GF70","v":0},0,{"$f":"GH7-GH70","v":0},0,{"$f":"GJ7-GJ70","v":0},0,{"$f":"GL7-GL70","v":0},0,{"$f":"GN7-GN70","v":17580.513174515589},-14066.765465609045,{"$f":"GP7-GP70","v":-4435.9313017250097},-3849.9893064334756,{"$f":"GR7-GR70","v":-3680.7629792797889},-4052.6081161691764,{"$f":"GT7-GT70","v":-4544.9362021645647},-4996.8037669405167,{"$f":"GV7-GV70","v":5029.8876777017504},4773.8408351762191,{"$f":"GX7-GX70","v":4325.9784464928161},0,{"$f":"GZ7-GZ70","v":0},0,{"$f":"HB7-HB70","v":0}]
["Net Inter-PADD Transfers (+ = Receipt)",null,null,null,null,null,null,null,null,null,null,null,null,null,null,null,null,null,null,null,null,null,null,null,null,null,null,null,null,null,null,null,null,null,null,null,null,null,null,null,null,null,null,null,null,null,null,null,null,null,null,null,null,null,null,null,null,null,null,null,null,null,null,null,null,null,null,null,null,null,null,null,null,null,null,null,null,null,null,null,null,null,null,null,null,null,null,null,null,null,null,null,null,null,null,null,null,null,null,null,null,null,null,null,null,null,null,null,null,{"$f":"DF8-DF71","v":0},0,0,0,0,0,0,0,0,0,0,0,0,0,0,0,0,0,0,0,0,0,0,0,{"$f":"ED8-ED71","v":0},0,0,0,0,0,0,0,0,0,0,0,0,0,0,0,0,0,0,0,0,0,0,0,0,0,0,0,{"$f":"FF8-FF71","v":0},0,{"$f":"FH8-FH71","v":0},0,{"$f":"FJ8-FJ71","v":0},0,{"$f":"FL8-FL71","v":0},0,{"$f":"FN8-FN71","v":0},0,{"$f":"FP8-FP71","v":0},0,{"$f":"FR8-FR71","v":0},0,{"$f":"FT8-FT71","v":0},0,{"$f":"FV8-FV71","v":0},0,{"$f":"FX8-FX71","v":0},0,{"$f":"FZ8-FZ71","v":0},0,{"$f":"GB8-GB71","v":0},0,{"$f":"GD8-GD71","v":0},0,{"$f":"GF8-GF71","v":0},0,{"$f":"GH8-GH71","v":0},0,{"$f":"GJ8-GJ71","v":0},0,{"$f":"GL8-GL71","v":0},0,{"$f":"GN8-GN71","v":-129.03225806451701},-2616.6666666666679,{"$f":"GP8-GP71","v":0},0,{"$f":"GR8-GR71","v":0},0,{"$f":"GT8-GT71","v":0},0,{"$f":"GV8-GV71","v":0},0,{"$f":"GX8-GX71","v":5000},0,{"$f":"GZ8-GZ71","v":0},0,{"$f":"HB8-HB71","v":0}]
["Total Stock Change (Primary+Secondary+Tertiary)",null,null,null,null,null,null,null,null,null,null,null,null,null,null,null,null,null,null,null,null,null,null,null,null,null,null,null,null,null,null,null,null,null,null,null,null,null,null,null,null,null,null,null,null,null,null,null,null,null,null,null,null,null,null,null,null,null,null,null,null,null,null,null,null,null,null,null,null,null,null,null,null,null,null,null,null,null,null,null,null,null,null,null,null,null,null,null,null,null,null,null,null,null,null,null,null,null,null,null,null,null,null,null,null,null,null,null,null,{"$f":"DF9-DF72","v":0},0,0,0,0,0,0,0,0,0,0,0,0,0,0,0,0,0,0,0,0,0,0,0,{"$f":"ED9-ED72","v":0},0,0,0,0,0,0,0,0,0,0,0,0,0,0,0,0,0,0,0,0,0,0,0,0,0,0,0,{"$f":"FF9-FF72","v":0},0,{"$f":"FH9-FH72","v":0},0,{"$f":"FJ9-FJ72","v":0},0,{"$f":"FL9-FL72","v":0},0,{"$f":"FN9-FN72","v":0},0,{"$f":"FP9-FP72","v":0},0,{"$f":"FR9-FR72","v":0},0,{"$f":"FT9-FT72","v":0},0,{"$f":"FV9-FV72","v":0},0,{"$f":"FX9-FX72","v":0},0,{"$f":"FZ9-FZ72","v":0},0,{"$f":"GB9-GB72","v":0},0,{"$f":"GD9-GD72","v":0},0,{"$f":"GF9-GF72","v":0},0,{"$f":"GH9-GH72","v":0},0,{"$f":"GJ9-GJ72","v":0},0,{"$f":"GL9-GL72","v":0},0,{"$f":"GN9-GN72","v":-10587.261986655611},4782.3738426855089,{"$f":"GP9-GP72","v":-23376.60941022449},-89.901541745086433,{"$f":"GR9-GR72","v":-93.266212443064433},833.91014173487201,{"$f":"GT9-GT72","v":1272.4279680594409},2554.2017217528919,{"$f":"GV9-GV72","v":8782.8413344478977},6922.4298249782587,{"$f":"GX9-GX72","v":4798.8597471500907},0,{"$f":"GZ9-GZ72","v":0},0,{"$f":"HB9-HB72","v":0}]
["     TOTAL SUPPLY",null,null,null,null,null,null,null,null,null,null,null,null,null,null,null,null,null,null,null,null,null,null,null,null,null,null,null,null,null,null,null,null,null,null,null,null,null,null,null,null,null,null,null,null,null,null,null,null,null,null,null,null,null,null,null,null,null,null,null,null,null,null,null,null,null,null,null,null,null,null,null,null,null,null,null,null,null,null,null,null,null,null,null,null,null,null,null,null,null,null,null,null,null,null,null,null,null,null,null,null,null,null,null,null,null,null,null,null,{"$f":"DF10-DF73","v":0},0,0,0,0,0,0,0,0,0,0,0,0,0,0,0,0,0,0,0,0,0,0,0,{"$f":"ED10-ED73","v":0},0,0,0,0,0,0,0,0,0,0,0,0,0,0,0,0,0,0,0,0,0,0,0,0,0,0,0,{"$f":"FF10-FF73","v":0},0,{"$f":"FH10-FH73","v":0},0,{"$f":"FJ10-FJ73","v":0},0,{"$f":"FL10-FL73","v":0},0,{"$f":"FN10-FN73","v":0},0,{"$f":"FP10-FP73","v":0},0,{"$f":"FR10-FR73","v":0},0,{"$f":"FT10-FT73","v":0},0,{"$f":"FV10-FV73","v":0},0,{"$f":"FX10-FX73","v":0},0,{"$f":"FZ10-FZ73","v":0},0,{"$f":"GB10-GB73","v":0},0,{"$f":"GD10-GD73","v":0},0,{"$f":"GF10-GF73","v":0},0,{"$f":"GH10-GH73","v":0},0,{"$f":"GJ10-GJ73","v":0},0,{"$f":"GL10-GL73","v":0},0,{"$f":"GN10-GN73","v":6864.218929795461},-9492.2323829678062,{"$f":"GP10-GP73","v":-26813.443762341223},-3373.9027661103464,{"$f":"GR10-GR73","v":-3028.9790594535298},-2472.8974152810406,{"$f":"GT10-GT73","v":-1938.6533438385231},-1863.399394437336,{"$f":"GV10-GV73","v":14394.325282107049},12583.447805428325,{"$f":"GX10-GX73","v":15057.041270997041},0,{"$f":"GZ10-GZ73","v":0},0,{"$f":"HB10-HB73","v":0}]
["DEMAND"]
["  Residential and Commercial ",null,null,null,null,null,null,null,null,null,null,null,null,null,null,null,null,null,null,null,null,null,null,null,null,null,null,null,null,null,null,null,null,null,null,null,null,null,null,null,null,null,null,null,null,null,null,null,null,null,null,null,null,null,null,null,null,null,null,null,null,null,null,null,null,null,null,null,null,null,null,null,null,null,null,null,null,null,null,null,null,null,null,null,null,null,null,null,null,null,null,null,null,null,null,null,null,null,null,null,null,null,null,null,null,null,null,null,null,{"$f":"DF12-DF75","v":0},0,0,0,0,0,0,0,0,0,0,0,0,0,0,0,0,0,0,0,0,0,0,0,{"$f":"ED12-ED75","v":0},0,0,0,0,0,0,0,0,0,0,0,0,0,0,0,0,0,0,0,0,0,0,0,0,0,0,0,{"$f":"FF12-FF75","v":0},0,{"$f":"FH12-FH75","v":0},0,{"$f":"FJ12-FJ75","v":0},0,{"$f":"FL12-FL75","v":0},0,{"$f":"FN12-FN75","v":0},0,{"$f":"FP12-FP75","v":0},0,{"$f":"FR12-FR75","v":0},0,{"$f":"FT12-FT75","v":0},0,{"$f":"FV12-FV75","v":0},0,{"$f":"FX12-FX75","v":0},0,{"$f":"FZ12-FZ75","v":0},0,{"$f":"GB12-GB75","v":0},0,{"$f":"GD12-GD75","v":0},0,{"$f":"GF12-GF75","v":0},0,{"$f":"GH12-GH75","v":0},0,{"$f":"GJ12-GJ75","v":0},0,{"$f":"GL12-GL75","v":0},0,{"$f":"GN12-GN75","v":7243.914537137287},-8460.9682074107695,{"$f":"GP12-GP75","v":-26611.819441878171},-5188.4761432929445,{"$f":"GR12-GR75","v":-3194.3410505467109},-2471.8901521448643,{"$f":"GT12-GT75","v":-1943.5617603399151},-1844.0155886145512,{"$f":"GV12-GV75","v":14491.3354964842},12799.885819962044,{"$f":"GX12-GX75","v":15357.75810725514},0,{"$f":"GZ12-GZ75","v":0},0,{"$f":"HB12-HB75","v":0}]
["  Chemical",null,null,null,null,null,null,null,null,null,null,null,null,null,null,null,null,null,null,null,null,null,null,null,null,null,null,null,null,null,null,null,null,null,null,null,null,null,null,null,null,null,null,null,null,null,null,null,null,null,null,null,null,null,null,null,null,null,null,null,null,null,null,null,null,null,null,null,null,null,null,null,null,null,null,null,null,null,null,null,null,null,null,null,null,null,null,null,null,null,null,null,null,null,null,null,null,null,null,null,null,null,null,null,null,null,null,null,null,{"$f":"DF13-DF76","v":0},0,0,0,0,0,0,0,0,0,0,0,0,0,0,0,0,0,0,0,0,0,0,0,{"$f":"ED13-ED76","v":0},0,0,0,0,0,0,0,0,0,0,0,0,0,0,0,0,0,0,0,0,0,0,0,0,0,0,0,{"$f":"FF13-FF76","v":0},0,{"$f":"FH13-FH76","v":0},0,{"$f":"FJ13-FJ76","v":0},0,{"$f":"FL13-FL76","v":0},0,{"$f":"FN13-FN76","v":0},0,{"$f":"FP13-FP76","v":0},0,{"$f":"FR13-FR76","v":0},0,{"$f":"FT13-FT76","v":0},0,{"$f":"FV13-FV76","v":0},0,{"$f":"FX13-FX76","v":0},0,{"$f":"FZ13-FZ76","v":0},0,{"$f":"GB13-GB76","v":0},0,{"$f":"GD13-GD76","v":0},0,{"$f":"GF13-GF76","v":0},0,{"$f":"GH13-GH76","v":0},0,{"$f":"GJ13-GJ76","v":0},0,{"$f":"GL13-GL76","v":0},0,{"$f":"GN13-GN76","v":0},0,{"$f":"GP13-GP76","v":0},0,{"$f":"GR13-GR76","v":0},0,{"$f":"GT13-GT76","v":0},0,{"$f":"GV13-GV76","v":0},0,{"$f":"GX13-GX76","v":0},0,{"$f":"GZ13-GZ76","v":0},0,{"$f":"HB13-HB76","v":0}]
["  Farm",null,null,null,null,null,null,null,null,null,null,null,null,null,null,null,null,null,null,null,null,null,null,null,null,null,null,null,null,null,null,null,null,null,null,null,null,null,null,null,null,null,null,null,null,null,null,null,null,null,null,null,null,null,null,null,null,null,null,null,null,null,null,null,null,null,null,null,null,null,null,null,null,null,null,null,null,null,null,null,null,null,null,null,null,null,null,null,null,null,null,null,null,null,null,null,null,null,null,null,null,null,null,null,null,null,null,null,null,{"$f":"DF14-DF77","v":0},0,0,0,0,0,0,0,0,0,0,0,0,0,0,0,0,0,0,0,0,0,0,0,{"$f":"ED14-ED77","v":0},0,0,0,0,0,0,0,0,0,0,0,0,0,0,0,0,0,0,0,0,0,0,0,0,0,0,0,{"$f":"FF14-FF77","v":0},0,{"$f":"FH14-FH77","v":0},0,{"$f":"FJ14-FJ77","v":0},0,{"$f":"FL14-FL77","v":0},0,{"$f":"FN14-FN77","v":0},0,{"$f":"FP14-FP77","v":0},0,{"$f":"FR14-FR77","v":0},0,{"$f":"FT14-FT77","v":0},0,{"$f":"FV14-FV77","v":0},0,{"$f":"FX14-FX77","v":0},0,{"$f":"FZ14-FZ77","v":0},0,{"$f":"GB14-GB77","v":0},0,{"$f":"GD14-GD77","v":0},0,{"$f":"GF14-GF77","v":0},0,{"$f":"GH14-GH77","v":0},0,{"$f":"GJ14-GJ77","v":0},0,{"$f":"GL14-GL77","v":0},0,{"$f":"GN14-GN77","v":-379.69560734183688},-364.59750889038969,{"$f":"GP14-GP77","v":-201.62432046304821},1814.5733771825999,{"$f":"GR14-GR77","v":165.36199109317658},-1.0072631361709057,{"$f":"GT14-GT77","v":4.9084165013846359},-19.383805822788418,{"$f":"GV14-GV77","v":-97.010214377172815},-216.43801453371952,{"$f":"GX14-GX77","v":-300.71683625811056},0,{"$f":"GZ14-GZ77","v":0},0,{"$f":"HB14-HB77","v":0}]
["  Other",null,null,null,null,null,null,null,null,null,null,null,null,null,null,null,null,null,null,null,null,null,null,null,null,null,null,null,null,null,null,null,null,null,null,null,null,null,null,null,null,null,null,null,null,null,null,null,null,null,null,null,null,null,null,null,null,null,null,null,null,null,null,null,null,null,null,null,null,null,null,null,null,null,null,null,null,null,null,null,null,null,null,null,null,null,null,null,null,null,null,null,null,null,null,null,null,null,null,null,null,null,null,null,null,null,null,null,null,{"$f":"DF15-DF78","v":0},0,0,0,0,0,0,0,0,0,0,0,0,0,0,0,0,0,0,0,0,0,0,0,{"$f":"ED15-ED78","v":0},0,0,0,0,0,0,0,0,0,0,0,0,0,0,0,0,0,0,0,0,0,0,0,0,0,0,0,{"$f":"FF15-FF78","v":0},0,{"$f":"FH15-FH78","v":0},0,{"$f":"FJ15-FJ78","v":0},0,{"$f":"FL15-FL78","v":0},0,{"$f":"FN15-FN78","v":0},0,{"$f":"FP15-FP78","v":0},0,{"$f":"FR15-FR78","v":0},0,{"$f":"FT15-FT78","v":0},0,{"$f":"FV15-FV78","v":0},0,{"$f":"FX15-FX78","v":0},0,{"$f":"FZ15-FZ78","v":0},0,{"$f":"GB15-GB78","v":0},0,{"$f":"GD15-GD78","v":0},0,{"$f":"GF15-GF78","v":0},0,{"$f":"GH15-GH78","v":0},0,{"$f":"GJ15-GJ78","v":0},0,{"$f":"GL15-GL78","v":0},0,{"$f":"GN15-GN78","v":0},0,{"$f":"GP15-GP78","v":0},0,{"$f":"GR15-GR78","v":0},0,{"$f":"GT15-GT78","v":0},0,{"$f":"GV15-GV78","v":0},0,{"$f":"GX15-GX78","v":0},0,{"$f":"GZ15-GZ78","v":0},0,{"$f":"HB15-HB78","v":0}]
["     US DOMESTIC CONSUMPTION",null,null,null,null,null,null,null,null,null,null,null,null,null,null,null,null,null,null,null,null,null,null,null,null,null,null,null,null,null,null,null,null,null,null,null,null,null,null,null,null,null,null,null,null,null,null,null,null,null,null,null,null,null,null,null,null,null,null,null,null,null,null,null,null,null,null,null,null,null,null,null,null,null,null,null,null,null,null,null,null,null,null,null,null,null,null,null,null,null,null,null,null,null,null,null,null,null,null,null,null,null,null,null,null,null,null,null,null,{"$f":"DF16-DF79","v":0},0,0,0,0,0,0,0,0,0,0,0,0,0,0,0,0,0,0,0,0,0,0,0,{"$f":"ED16-ED79","v":0},0,0,0,0,0,0,0,0,0,0,0,0,0,0,0,0,0,0,0,0,0,0,0,0,0,0,0,{"$f":"FF16-FF79","v":0},0,{"$f":"FH16-FH79","v":0},0,{"$f":"FJ16-FJ79","v":0},0,{"$f":"FL16-FL79","v":0},0,{"$f":"FN16-FN79","v":0},0,{"$f":"FP16-FP79","v":0},0,{"$f":"FR16-FR79","v":0},0,{"$f":"FT16-FT79","v":0},0,{"$f":"FV16-FV79","v":0},0,{"$f":"FX16-FX79","v":0},0,{"$f":"FZ16-FZ79","v":0},0,{"$f":"GB16-GB79","v":0},0,{"$f":"GD16-GD79","v":0},0,{"$f":"GF16-GF79","v":0},0,{"$f":"GH16-GH79","v":0},0,{"$f":"GJ16-GJ79","v":0},0,{"$f":"GL16-GL79","v":0},0,{"$f":"GN16-GN79","v":6864.2189297954465},-8825.5657163011638,{"$f":"GP16-GP79","v":-26813.443762341223},-3373.9027661103464,{"$f":"GR16-GR79","v":-3028.979059453537},-2472.8974152810406,{"$f":"GT16-GT79","v":-1938.6533438385304},-1863.399394437336,{"$f":"GV16-GV79","v":14394.325282107035},12583.447805428325,{"$f":"GX16-GX79","v":15057.041270997055},0,{"$f":"GZ16-GZ79","v":0},0,{"$f":"HB16-HB79","v":0}]
["EXPORTS",null,null,null,null,null,null,null,null,null,null,null,null,null,null,null,null,null,null,null,null,null,null,null,null,null,null,null,null,null,null,null,null,null,null,null,null,null,null,null,null,null,null,null,null,null,null,null,null,null,null,null,null,null,null,null,null,null,null,null,null,null,null,null,null,null,null,null,null,null,null,null,null,null,null,null,null,null,null,null,null,null,null,null,null,null,null,null,null,null,null,null,null,null,null,null,null,null,null,null,null,null,null,null,null,null,null,null,null,{"$f":"DF17-DF80","v":0},0,0,0,0,0,0,0,0,0,0,0,0,0,0,0,0,0,0,0,0,0,0,0,{"$f":"ED17-ED80","v":0},0,0,0,0,0,0,0,0,0,0,0,0,0,0,0,0,0,0,0,0,0,0,0,0,0,0,0,{"$f":"FF17-FF80","v":0},0,{"$f":"FH17-FH80","v":0},0,{"$f":"FJ17-FJ80","v":0},0,{"$f":"FL17-FL80","v":0},0,{"$f":"FN17-FN80","v":0},0,{"$f":"FP17-FP80","v":0},0,{"$f":"FR17-FR80","v":0},0,{"$f":"FT17-FT80","v":0},0,{"$f":"FV17-FV80","v":0},0,{"$f":"FX17-FX80","v":0},0,{"$f":"FZ17-FZ80","v":0},0,{"$f":"GB17-GB80","v":0},0,{"$f":"GD17-GD80","v":0},0,{"$f":"GF17-GF80","v":0},0,{"$f":"GH17-GH80","v":0},0,{"$f":"GJ17-GJ80","v":0},0,{"$f":"GL17-GL80","v":0},0,{"$f":"GN17-GN80","v":0},-666.66666666666424,{"$f":"GP17-GP80","v":0},0,{"$f":"GR17-GR80","v":0},0,{"$f":"GT17-GT80","v":0},0,{"$f":"GV17-GV80","v":0},0,{"$f":"GX17-GX80","v":0},0,{"$f":"GZ17-GZ80","v":0},0,{"$f":"HB17-HB80","v":0}]
["     TOTAL DEMAND",null,null,null,null,null,null,null,null,null,null,null,null,null,null,null,null,null,null,null,null,null,null,null,null,null,null,null,null,null,null,null,null,null,null,null,null,null,null,null,null,null,null,null,null,null,null,null,null,null,null,null,null,null,null,null,null,null,null,null,null,null,null,null,null,null,null,null,null,null,null,null,null,null,null,null,null,null,null,null,null,null,null,null,null,null,null,null,null,null,null,null,null,null,null,null,null,null,null,null,null,null,null,null,null,null,null,null,null,{"$f":"DF18-DF81","v":0},0,0,0,0,0,0,0,0,0,0,0,0,0,0,0,0,0,0,0,0,0,0,0,{"$f":"ED18-ED81","v":0},0,0,0,0,0,0,0,0,0,0,0,0,0,0,0,0,0,0,0,0,0,0,0,0,0,0,0,{"$f":"FF18-FF81","v":0},0,{"$f":"FH18-FH81","v":0},0,{"$f":"FJ18-FJ81","v":0},0,{"$f":"FL18-FL81","v":0},0,{"$f":"FN18-FN81","v":0},0,{"$f":"FP18-FP81","v":0},0,{"$f":"FR18-FR81","v":0},0,{"$f":"FT18-FT81","v":0},0,{"$f":"FV18-FV81","v":0},0,{"$f":"FX18-FX81","v":0},0,{"$f":"FZ18-FZ81","v":0},0,{"$f":"GB18-GB81","v":0},0,{"$f":"GD18-GD81","v":0},0,{"$f":"GF18-GF81","v":0},0,{"$f":"GH18-GH81","v":0},0,{"$f":"GJ18-GJ81","v":0},0,{"$f":"GL18-GL81","v":0},0,{"$f":"GN18-GN81","v":6864.218929795461},-9492.2323829678207,{"$f":"GP18-GP81","v":-26813.443762341223},-3373.9027661103464,{"$f":"GR18-GR81","v":-3028.9790594535298},-2472.8974152810406,{"$f":"GT18-GT81","v":-1938.6533438385377},-1863.399394437336,{"$f":"GV18-GV81","v":14394.325282107035},12583.447805428325,{"$f":"GX18-GX81","v":15057.041270997055},0,{"$f":"GZ18-GZ81","v":0},0,{"$f":"HB18-HB81","v":0}]
[]
["INVENTORIES (End of Month, Thousand Barrels)",null,null,null,null,null,null,null,null,null,null,null,null,null,null,null,null,null,null,null,null,null,null,null,null,null,null,null,null,null,null,null,null,null,null,null,null,null,null,null,null,null,null,null,null,null,null,null,null,null,null,null,null,null,null,null,null,null,null,null,null,null,null,null,null,null,null,null,null,null,null,null,null,null,null,null,null,null,null,null,null,null,null,null,null,null,null,null,null,null,null,null,null,null,null,null,null,null,null,null,null,null,null,null,null,null,null,null,null,{"$f":"DF20-DF83","v":0},0,0,0,0,0,0,0,0,0,0,0,0,0,0,0,0,0,0,0,0,0,0,0,{"$f":"ED20-ED83","v":0},0,0,0,0,0,0,0,0,0,0,0,0,0,0,0,0,0,0,0,0,0,0,0,0,0,0,0,{"$f":"FF20-FF83","v":0},0,{"$f":"FH20-FH83","v":0},0,{"$f":"FJ20-FJ83","v":0},0,{"$f":"FL20-FL83","v":0},0,{"$f":"FN20-FN83","v":0},0,{"$f":"FP20-FP83","v":0},0,{"$f":"FR20-FR83","v":0},0,{"$f":"FT20-FT83","v":0},0,{"$f":"FV20-FV83","v":0},0,{"$f":"FX20-FX83","v":0},0,{"$f":"FZ20-FZ83","v":0},0,{"$f":"GB20-GB83","v":0},0,{"$f":"GD20-GD83","v":0},0,{"$f":"GF20-GF83","v":0},0,{"$f":"GH20-GH83","v":0},0,{"$f":"GJ20-GJ83","v":0},0,{"$f":"GL20-GL83","v":0},0,{"$f":"GN20-GN83","v":0},410.87899298672971,{"$f":"GP20-GP83","v":1135.5538847036887},1138.2509309560414,{"$f":"GR20-GR83","v":1141.1421835417766},1115.2909691479958,{"$f":"GT20-GT83","v":1077.1181301062124},997.93787673187262,{"$f":"GV20-GV83","v":734.45263669843553},519.85731212410974,{"$f":"GX20-GX83","v":371.09265996245722},0,{"$f":"GZ20-GZ83","v":0},0,{"$f":"HB20-HB83","v":0}]
["Days of Forward Supply",null,null,null,null,null,null,null,null,null,null,null,null,null,null,null,null,null,null,null,null,null,null,null,null,null,null,null,null,null,null,null,null,null,null,null,null,null,null,null,null,null,null,null,null,null,null,null,null,null,null,null,null,null,null,null,null,null,null,null,null,null,null,null,null,null,null,null,null,null,null,null,null,null,null,null,null,null,null,null,null,null,null,null,null,null,null,null,null,null,null,null,null,null,null,null,null,null,null,null,null,null,null,null,null,null,null,null,null,{"$f":"DF21-DF84","v":0},{"$f":"DG21-DG84","v":0},{"$f":"DH21-DH84","v":0},{"$f":"DI21-DI84","v":0},0,0,0,0,0,0,0,0,0,0,0,0,0,0,0,0,0,0,0,0,{"$f":"ED21-ED84","v":0},0,0,0,0,0,0,0,0,0,0,0,0,0,0,0,0,0,0,0,0,0,0,0,0,0,0,0,{"$f":"FF21-FF84","v":0},0,{"$f":"FH21-FH84","v":0},0,{"$f":"FJ21-FJ84","v":0},0,{"$f":"FL21-FL84","v":0},0,{"$f":"FN21-FN84","v":0},0,{"$f":"FP21-FP84","v":0},0,{"$f":"FR21-FR84","v":0},0,{"$f":"FT21-FT84","v":0},0,{"$f":"FV21-FV84","v":0},0,{"$f":"FX21-FX84","v":0},0,{"$f":"FZ21-FZ84","v":0},0,{"$f":"GB21-GB84","v":0},0,{"$f":"GD21-GD84","v":0},0,{"$f":"GF21-GF84","v":0},0,{"$f":"GH21-GH84","v":0},0,{"$f":"GJ21-GJ84","v":0},0,{"$f":"GL21-GL84","v":0},0,{"$f":"GN21-GN84","v":-0.31946095053897139},3.956517080214434,{"$f":"GP21-GP84","v":11.560744041308739},12.655403100717251,{"$f":"GR21-GR84","v":13.677611764164144},13.966291269765438,{"$f":"GT21-GT84","v":12.141963992288371},9.7985909470479342,{"$f":"GV21-GV84","v":3.2086454019716903},2.0025041346316037,{"$f":"GX21-GX84","v":0.83075260107270665},0,{"$f":"GZ21-GZ84","v":0},0,{"$f":"HB21-HB84","v":0}]
[]
["PREVIOUS FCST VALUES"]
[null,{"$f":"B$3","v":"2005-01-15"},{"$f":"C$3","v":"2005-02-15"},"2005-03-15","2005-04-15","2005-05-15","2005-06-15","2005-07-15","2005-08-15","2005-09-15","2005-10-15","2005-11-15","2005-12-15","2006-01-15","2006-02-15","2006-03-15","2006-04-15","2006-05-15","2006-06-15","2006-07-15","2006-08-15","2006-09-15","2006-10-15","2006-11-15","2006-12-15","2007-01-15","2007-02-15","2007-03-15","2007-04-15","2007-05-15","2007-06-15","2007-07-15","2007-08-15","2007-09-15","2007-10-15","2007-11-15","2007-12-15","2008-01-15","2008-02-15","2008-03-15","2008-04-15","2008-05-15","2008-06-15","2008-07-15","2008-08-15","2008-09-15","2008-10-15","2008-11-15","2008-12-15","2009-01-15","2009-02-15","2009-03-15","2009-04-15","2009-05-15","2009-06-15","2009-07-15","2009-08-15","2009-09-15","2009-10-15","2009-11-15","2009-12-15","2010-01-15","2010-02-15","2010-03-15","2010-04-15","2010-05-15",{"$f":"BO$3","v":"2010-06-15"},"2010-07-15","2010-08-15","2010-09-15","2010-10-15","2010-11-15","2010-12-15","2011-01-15","2011-02-15","2011-03-15","2011-04-15","2011-05-15","2011-06-15","2011-07-15","2011-08-15","2011-09-15","2011-10-15","2011-11-15","2011-12-15","2012-01-15","2012-02-15","2012-03-15","2012-04-15","2012-05-15","2012-06-15","2012-07-15","2012-08-15","2012-09-15","2012-10-15","2012-11-15","2012-12-15","2013-01-15","2013-02-15","2013-03-15","2013-04-15","2013-05-15","2013-06-15","2013-07-15","2013-08-15","2013-09-15","2013-10-15","2013-11-15","2013-12-15","2014-01-15","2014-02-15","2014-03-15","2014-04-15","2014-05-15","2014-06-15","2014-07-15","2014-08-15","2014-09-15","2014-10-15","2014-11-15","2014-12-15","2015-01-15","2015-02-15","2015-03-15","2015-04-15","2015-05-15","2015-06-15","2015-07-15","2015-08-15","2015-09-15",{"$f":"EA$3","v":"2015-10-15"},"2015-11-15","2015-12-15","2016-01-15","2016-02-15","2016-03-15","2016-04-15","2016-05-15","2016-06-15","2016-07-15","2016-08-15","2016-09-15","2016-10-15","2016-11-15","2016-12-15","2017-01-15","2017-02-15","2017-03-15","2017-04-15","2017-05-15","2017-06-15","2017-07-15","2017-08-15","2017-09-15","2017-10-15","2017-11-15","2017-12-15","2018-01-15","2018-02-15","2018-03-15","2018-04-15","2018-05-15","2018-06-15","2018-07-15","2018-08-15","2018-09-15","2018-10-15","2018-11-15","2018-12-15","2019-01-15","2019-02-15","2019-03-15","2019-04-15","2019-05-15","2019-06-15","2019-07-15","2019-08-15","2019-09-15","2019-10-15","2019-11-15","2019-12-15","2020-01-15","2020-02-15","2020-03-15","2020-04-15","2020-05-15","2020-06-15","2020-07-15","2020-08-15","2020-09-15","2020-10-15","2020-11-15","2020-12-15","2021-01-15","2021-02-15","2021-03-15","2021-04-15","2021-05-15","2021-06-15","2021-07-15","2021-08-15","2021-09-15","2021-10-15",{"$f":"GV$3","v":"2021-11-15"},"2021-12-15","2022-01-15","2022-02-15","2022-03-15","2022-04-15","2022-05-15"]
[{"$f":"A4","v":"SUPPLY"}]
["Gas Processing",13290.322580645161,13535.714285714286,13709.677419354839,13166.666666666666,12354.838709677419,12933.333333333334,12709.677419354839,13064.516129032258,13966.666666666666,13709.677419354839,13433.333333333334,13354.838709677419,12870.967741935483,13607.142857142857,13032.258064516129,12833.333333333334,13064.516129032258,12800,12387.096774193549,12580.645161290322,12433.333333333334,12580.645161290322,12533.333333333334,12709.677419354839,12612.903225806451,7678.5714285714284,12677.41935483871,13300,13580.645161290322,13133.333333333334,13419.354838709678,13193.548387096775,13566.666666666666,13741.935483870968,13500,13741.935483870968,13483.870967741936,13344.827586206897,12903.225806451614,13266.666666666666,13096.774193548386,12900,12774.193548387097,12709.677419354839,13166.666666666666,13516.129032258064,13500,13290.322580645161,14032.258064516129,13392.857142857143,12419.354838709678,11933.333333333334,12419.354838709678,12833.333333333334,12096.774193548386,12612.903225806451,13333.333333333334,13193.548387096775,12866.666666666666,12451.612903225807,12709.677419354839,12535.714285714286,12774.193548387097,13100,13000,12433.333333333334,12064.516129032258,11709.677419354839,11833.333333333334,11741.935483870968,12000,11483.870967741936,10129.032258064517,11821.428571428571,11354.838709677419,11566.666666666666,10935.483870967742,10866.666666666666,10709.677419354839,11129.032258064517,10766.666666666666,10548.387096774193,11133.333333333334,11935.483870967742,11419.354838709678,12071.428571428571,10838.709677419354,11400,11387.096774193549,11166.666666666666,10967.741935483871,11774.193548387097,13166.666666666666,13580.645161290322,13333.333333333334,14290.322580645161,14000,14178.571428571429,14225.806451612903,14033.333333333334,14258.064516129032,14033.333333333334,13967.741935483871,13806.451612903225,14000,13645.161290322581,13600,13096.774193548386,13322.58064516129,12750,13000,13166.666666666666,12161.290322580646,12666.666666666666,12645.161290322581,12741.935483870968,13000,12903.225806451614,12700,12935.483870967742,12903.225806451614,12107.142857142857,13064.516129032258,12766.666666666666,12806.451612903225,12266.666666666666,12322.58064516129,12290.322580645161,12266.666666666666,11032.258064516129,12600,12129.032258064517,12000,11655.172413793103,11806.451612903225,11400,11451.612903225807,11266.666666666666,10838.709677419354,10838.709677419354,10966.666666666666,10483.870967741936,8800,10741.935483870968,10677.41935483871,10275.862068965518,10838.709677419354,10766.666666666666,10483.870967741936,10233.333333333332,10451.612903225807,10387.096774193547,10500,10354.83870967742,10200,9580.645161290322,9741.9354838709678,10142.857142857143,9806.4516129032254,10266.666666666668,10290.322580645163,10633.333333333332,10258.064516129032,10451.612903225807,10433.333333333334,10032.258064516131,9833.3333333333339,9548.3870967741932,9548.3870967741932,9714.2857142857138,9935.4838709677424,9833.3333333333339,9645.1612903225796,9733.3333333333321,9387.0967741935474,9580.645161290322,9233.3333333333321,9193.5483870967746,9033.3333333333339,9161.2903225806458,9064.5161290322576,8896.5517241379312,8838.7096774193542,8766.6666666666679,8548.3870967741932,8500,8580.645161290322,8387.0967741935474,8766.6666666666679,8322.5806451612898,7966.666666666667,8225.8064516129034,8032.2580645161297,7678.5714285714284,8290.3225806451628,8379.5183646666683,8449.3445054838721,8437.3988379999973,8219.2647341743814,8250.2910430444972,8248.7442576663634,8184.5861177882871,8172.7428380127349,8154.0258750116136,8207.2596388960046,{"$f":"'PADD5 mthly rpt'!GY5","v":8773.8988983202689},{"$f":"'PADD5 mthly rpt'!GZ5","v":8768.4074461974815},{"$f":"'PADD5 mthly rpt'!HA5","v":8773.8830473462076},{"$f":"'PADD5 mthly rpt'!HB5","v":8642.2037761502161}]
["Refinery Production",58903.225806451614,57285.714285714283,54032.258064516129,55566.666666666664,55419.354838709674,59233.333333333336,53258.06451612903,54419.354838709674,58000,51612.903225806454,56800,61000,52548.387096774197,55714.285714285717,55903.225806451614,53933.333333333336,57096.774193548386,58433.333333333336,55838.709677419356,55709.677419354841,49566.666666666664,44806.451612903227,46366.666666666664,53774.193548387098,51419.354838709674,48000,49290.322580645159,48900,58129.032258064515,56600,54612.903225806454,55612.903225806454,51366.666666666664,50838.709677419356,50600,56451.612903225803,55129.032258064515,47379.310344827587,45612.903225806454,41533.333333333336,53064.516129032258,55666.666666666664,52870.967741935485,54935.483870967742,53066.666666666664,50161.290322580644,54033.333333333336,43129.032258064515,43419.354838709674,47321.428571428572,50032.258064516129,51200,50258.06451612903,50966.666666666664,45258.06451612903,48354.838709677417,53233.333333333336,51838.709677419356,46100,45419.354838709674,42096.774193548386,49857.142857142855,50935.483870967742,52200,46516.129032258068,47400,45774.193548387098,43322.580645161288,49100,48677.419354838712,43900,44903.225806451614,46677.419354838712,48500,52258.06451612903,47333.333333333336,44548.387096774197,48300,49419.354838709674,48967.741935483871,48766.666666666664,43387.096774193546,43200,48870.967741935485,41903.225806451614,41464.285714285717,42483.870967741932,41600,45741.93548387097,48900,48258.06451612903,49258.06451612903,47100,50387.096774193546,47700,42903.225806451614,40096.774193548386,33428.571428571428,41645.161290322583,43166.666666666664,44419.354838709674,47733.333333333336,48451.612903225803,50516.129032258068,49166.666666666664,49225.806451612902,44366.666666666664,45483.870967741932,49935.483870967742,48178.571428571428,48806.451612903227,48033.333333333336,53741.93548387097,53133.333333333336,54903.225806451614,55096.774193548386,53200,49419.354838709674,49133.333333333336,53612.903225806454,41258.06451612903,39535.714285714283,41322.580645161288,47166.666666666664,42806.451612903227,42166.666666666664,43000,42354.838709677417,44566.666666666664,39870.967741935485,34266.666666666664,28709.677419354837,44064.516129032258,40310.34482758621,43225.806451612902,48733.333333333336,46387.096774193546,46733.333333333336,47612.903225806454,50935.483870967742,47833.333333333336,47258.06451612903,45500,44806.451612903227,45290.322580645159,42551.724137931036,47516.129032258068,46800,45129.032258064515,47966.666666666664,46258.064516129038,48129.032258064515,46466.666666666664,46645.161290322583,46600,46806.451612903234,48032.258064516129,43642.857142857145,47612.903225806454,44833.333333333328,41387.096774193553,48900.000000000007,52064.516129032258,48290.322580645159,48966.666666666672,43806.45161290322,38633.333333333328,39225.806451612902,41483.870967741939,35392.857142857145,41483.870967741932,30500,34709.677419354834,40400,39290.322580645166,40838.709677419356,40666.666666666672,39483.870967741932,41900,43806.45161290322,38935.483870967742,37896.551724137935,37290.322580645166,33033.333333333336,29322.580645161288,32900,35161.290322580644,35129.032258064515,37800.000000000007,33193.548387096773,30566.666666666668,32870.967741935485,32387.096774193549,31750,39548.38709677419,37811.655728710939,38121.272668332444,40408.350352923742,39205.98100734537,40788.684239535622,39821.97927295004,40972.058871867812,38897.666588498891,39145.652339947825,39008.99843616112,{"$f":"'PADD5 mthly rpt'!GY6","v":38206.50956330754},{"$f":"'PADD5 mthly rpt'!GZ6","v":41380.11653610973},{"$f":"'PADD5 mthly rpt'!HA6","v":41615.951524454904},{"$f":"'PADD5 mthly rpt'!HB6","v":40308.950576231167}]
[{"$f":"A7","v":"Imports"},3967.7419354838707,2928.5714285714284,1516.1290322580646,4066.6666666666665,322.58064516129031,1700,451.61290322580646,1677.4193548387098,866.66666666666663,1806.4516129032259,2633.3333333333335,322.58064516129031,1548.3870967741937,1785.7142857142858,3870.9677419354839,1733.3333333333333,1193.5483870967741,1300,290.32258064516128,225.80645161290323,1100,3032.2580645161293,4533.333333333333,7967.7419354838712,3064.516129032258,2964.2857142857142,2161.2903225806454,1766.6666666666667,290.32258064516128,666.66666666666663,1322.5806451612902,1451.6129032258063,1833.3333333333333,4935.4838709677415,1733.3333333333333,2580.6451612903224,6387.0967741935483,3758.6206896551726,6806.4516129032254,4466.666666666667,3322.5806451612902,333.33333333333331,1161.2903225806451,2290.3225806451615,1166.6666666666667,2774.1935483870966,3400,4903.2258064516127,7903.2258064516127,6321.4285714285716,9709.677419354839,3133.3333333333335,1129.0322580645161,1533.3333333333333,1225.8064516129032,2935.483870967742,1400,4580.6451612903229,3733.3333333333335,3258.0645161290322,5709.677419354839,3892.8571428571427,3258.0645161290322,3766.6666666666665,1258.0645161290322,2866.6666666666665,2709.6774193548385,2806.4516129032259,2833.3333333333335,3774.1935483870966,4866.666666666667,7193.5483870967746,5806.4516129032254,5821.4285714285716,3387.0967741935483,3000,741.93548387096769,2366.6666666666665,2967.7419354838707,1806.4516129032259,1666.6666666666667,4838.7096774193551,3833.3333333333335,2000,4354.8387096774195,5750,4774.1935483870966,4000,3419.3548387096776,3866.6666666666665,3806.4516129032259,2774.1935483870966,4100,4290.322580645161,6266.666666666667,5129.0322580645161,9225.8064516129034,4928.5714285714284,5193.5483870967746,3366.6666666666665,3548.3870967741937,4333.333333333333,2548.3870967741937,3612.9032258064517,4166.666666666667,5225.8064516129034,3766.6666666666665,4322.5806451612907,6129.0322580645161,5321.4285714285716,4193.5483870967746,2800,2741.9354838709678,3933.3333333333335,2483.8709677419356,3516.1290322580644,3466.6666666666665,4354.8387096774195,3633.3333333333335,5193.5483870967746,9612.9032258064508,6750,8580.645161290322,3433.3333333333335,4870.9677419354839,5000,7161.2903225806449,8032.2580645161288,7400,8354.8387096774186,9966.6666666666661,10903.225806451612,10580.645161290322,8172.4137931034484,11709.677419354837,9200,9548.3870967741932,10766.666666666666,10258.064516129032,21064.516129032258,20033.333333333332,28516.129032258064,30500,28741.935483870966,37096.774193548386,30413.793103448275,29870.967741935485,22633.333333333332,21193.548387096773,30000,23000,10303.350257814074,11759.262937832102,17483.918445825057,17874.60057668529,17520.542369413201,23925.409724337595,19767.42743302157,15642.18201727734,13518.545044131493,7998.6238218278431,12557.016022469848,11581.368208919301,10303.350257814074,11759.262937832102,17483.918445825057,17874.60057668529,17520.542369413201,73018.500954464762,60328.660429047704,47738.730317192065,41257.55444028115,24411.181580494795,38323.042195981841,35345.440490273359,31445.028499097571,35888.361450983175,53359.567523962505,54551.899186148912,53471.340907586389,65258.548403846879,53917.305275869585,42665.354703535311,36872.957925340786,21816.912891148684,34250.307407553373,31589.146708561057,28103.246266975424,32074.36940323182,47688.844259379766,82527.035594866669,85696.595547064513,53367.809354838711,39847.91429158856,56574.836476161821,55260.447270974633,44437.194950595949,41592.734120138251,56092.001605931982,50049.736986797099,61306.923488720771,64727.937727322387,51612.010395134181,54027.228797309603,53937.980519956494,{"$f":"'PADD5 mthly rpt'!GY7","v":56451.64829771268},{"$f":"'PADD5 mthly rpt'!GZ7","v":70512.900339082204},{"$f":"'PADD5 mthly rpt'!HA7","v":38745.096253761752},{"$f":"'PADD5 mthly rpt'!HB7","v":30669.85488754679}]
["Net Inter-PADD Transfers (+ = Receipt)",24724.567853315093,24724.567853315093,24724.567853315093,24724.567853315093,24724.567853315093,24724.567853315093,24724.567853315093,24724.567853315093,24724.567853315093,24724.567853315093,24724.567853315093,24724.567853315093,21282.829670008679,21282.829670008679,21282.829670008679,21282.829670008679,21282.829670008679,21282.829670008679,21282.829670008679,21282.829670008679,21282.829670008679,21282.829670008679,21282.829670008679,21282.829670008679,20739.502480134819,20739.502480134819,20739.502480134819,20739.502480134819,20739.502480134819,20739.502480134819,20739.502480134819,20739.502480134819,20739.502480134819,20739.502480134819,20739.502480134819,20739.502480134819,17386.32784205291,17386.32784205291,17386.32784205291,17386.32784205291,17386.32784205291,17386.32784205291,17386.32784205291,17386.32784205291,17386.32784205291,17386.32784205291,17386.32784205291,17386.32784205291,10914.286717790135,10914.286717790135,10914.286717790135,10914.286717790135,10914.286717790135,10914.286717790135,10914.286717790135,10914.286717790135,10914.286717790135,10914.286717790135,10914.286717790135,10914.286717790135,14729.377546802076,14729.377546802076,14729.377546802076,14729.377546802076,14729.377546802076,14729.377546802076,14729.377546802076,14729.377546802076,14729.377546802076,14729.377546802076,14729.377546802076,14729.377546802076,25134.137638617089,25134.137638617089,25134.137638617089,25134.137638617089,25134.137638617089,25134.137638617089,25134.137638617089,25134.137638617089,25134.137638617089,25134.137638617089,25134.137638617089,25134.137638617089,15219.886005154352,15219.886005154352,15219.886005154352,15219.886005154352,15219.886005154352,15219.886005154352,15219.886005154352,15219.886005154352,15219.886005154352,15219.886005154352,15219.886005154352,15219.886005154352,7947.9452054794519,7947.9452054794519,7947.9452054794519,7947.9452054794519,7947.9452054794519,7947.9452054794519,7947.9452054794519,7947.9452054794519,7947.9452054794519,7947.9452054794519,7947.9452054794519,7947.9452054794519,8471.232876712329,8471.232876712329,8471.232876712329,8471.232876712329,8471.232876712329,8471.232876712329,8471.232876712329,8471.232876712329,8471.232876712329,8471.232876712329,8471.232876712329,8471.232876712329,8950.6849315068484,8950.6849315068484,8950.6849315068484,8950.6849315068484,8950.6849315068484,8950.6849315068484,8950.6849315068484,8950.6849315068484,8950.6849315068484,8950.6849315068484,8950.6849315068484,8950.6849315068484,11378.082191780821,11378.082191780821,11378.082191780821,11378.082191780821,11378.082191780821,11378.082191780821,11378.082191780821,11378.082191780821,11378.082191780821,11378.082191780821,11378.082191780821,11378.082191780821,9860.2739726027394,9860.2739726027394,9860.2739726027394,9860.2739726027394,9860.2739726027394,9860.2739726027394,9860.2739726027394,9860.2739726027394,9860.2739726027394,9860.2739726027394,9860.2739726027394,9860.2739726027394,7400,7400,7400,7400,7400,7400,7400,7400,7400,7400,7400,7400,-6295.3428489161161,-6295.3428489161161,-6295.3428489161161,-6295.3428489161161,-6295.3428489161161,-6295.3428489161161,-6295.3428489161161,704.65715108388395,-6295.3428489161161,-6295.3428489161161,-6295.3428489161161,-6295.3428489161161,4560.402539704286,4560.402539704286,4560.402539704286,4560.402539704286,4560.402539704286,4560.402539704286,4560.402539704286,4560.402539704286,4560.402539704286,4560.402539704286,9600,9080.6451612903238,8354.8387096774186,12160.71428571429,12435.483870967742,18900,21887.096774193553,13500,3467.7419354838712,8040.3225806451628,4616.6666666666697,5806.4516129032254,11683.333333333334,12604.83870967742,8354.8387096774204,{"$f":"'PADD5 mthly rpt'!GY8","v":10155.172413793107},{"$f":"'PADD5 mthly rpt'!GZ8","v":10798.387096774193},{"$f":"'PADD5 mthly rpt'!HA8","v":9924.9999999999982},{"$f":"'PADD5 mthly rpt'!HB8","v":13491.93548387097}]
["Total Stock Change (Primary+Secondary+Tertiary)",19023.732424156158,9709.2162951238861,6539.8614564142235,625.88296179056738,-4202.0740274567443,-12007.450371542765,-9879.4933822954536,-12782.719188747082,-8907.4503715427654,3249.5388757690616,7025.8829617905676,20991.474359640029,19600.385674967813,10841.169085106061,9632.6437394839413,1553.0738470108383,-9302.8401314837993,-20446.926152989177,-23012.517550838631,245.5469652903937,-9880.2594863224949,3213.2889007742792,6986.407180344172,16471.353416903312,34707.649096227098,18760.644487932168,8868.9394188077604,-720.30789302019821,-6743.9638069986922,-10620.307893020212,-9969.7702586115956,-11776.221871514836,-7053.6412263535458,3643.1329671948415,8313.0254403131221,15804.423289775486,28501.523154793394,21816.317370588738,7662.8134773740258,1570.3403590944704,-4724.2832968195225,-6262.9929742388631,-13079.122006496942,-14659.767167787264,-1129.6596409055296,-4885.5736194001684,1303.6736924278036,17437.007025761151,28235.115925577869,14710.922377190771,9073.8256029972217,-1439.0776228092145,-7055.2066550672789,-7039.0776228092145,-11087.464719583415,-10668.109880873739,-7005.7442894758806,-22.948590551164671,8194.2557105241031,30654.470764287544,18585.019866827337,9598.8447516199503,10326.955350698307,1122.6542754294885,-4511.7543267210494,-8044.0123912371782,-11189.17368155976,-7995.625294462985,-7177.3457245705122,-3576.270455753307,8522.6542754294896,28359.213415214435,15291.403488836992,15027.578604044365,8065.597037224089,-7346.2309197651866,872.04865012730033,-11446.230919765172,-11224.725543421087,-10611.82231761462,-8079.564253098506,-2450.5319950339754,10053.769080234841,19323.661553353122,24960.628579845543,3285.5133724722859,5605.7898701681379,-7138.2961513372456,-7845.8230330576826,-10838.296151337237,-18361.952065315741,-2749.0488395092812,-13704.962818003913,2509.0156766197515,6961.7038486627616,16960.628579845557,27922.350270649869,3588.2488881613863,-8367.9723099952953,-13092.703492790995,-17497.004568059812,-22692.703492790992,-15980.875535801746,-13948.617471285619,-21126.036826124327,-9432.4884390275529,-6559.3701594576605,18244.930915811157,13273.51925382069,3869.8841033086519,4623.7146830886104,-3044.4159859216788,-11227.127732163701,-13133.453520916175,-16144.726377986,-12966.468644990744,-10884.942403813038,-569.2352742505791,3398.7787532601747,8216.3164635153025,30030.176484879812,21031.137935986437,15018.336263037827,10781.742916154197,14874.119882127843,11552.549454774466,8466.3219516974332,11364.077502855505,3771.0172963968998,32361.534119776734,33647.626233547628,55319.841115079864,38570.521160089702,35740.440183101608,30010.293841473525,4921.0123225468778,3414.4645573377529,8291.8188611671576,1909.8924333589439,-13514.932660644285,-8023.0466305437476,-1001.3470114649863,25286.895639940311,21182.766435451053,2488.4308749339652,14861.895175058959,11159.415751463002,4669.6280951718218,9055.6845648608396,-12136.45281091797,-9204.7912045369631,11090.816451562128,25189.661279048905,15873.681566859384,30789.509081853768,31932.315620030855,24557.013132364373,10471.207690041017,19276.717159466603,16939.429687342865,19508.559963233754,12319.604633539799,778.99540623437679,18453.157799890309,16677.616200269193,32317.990287656503,22418.976778315606,46363.119227477422,-23483.663177837807,4621.0600583812266,-4196.1339780017661,9160.8128846398831,11933.577102444895,-1899.0657320735991,4006.1952396902998,4710.0869254172649,5982.6466715329516,-932.67990364941943,-2748.0383959153405,3772.0460404766782,-1213.3842676649438,-13949.765569706928,-690.61847222098004,-2837.3941129563027,23913.311084979701,15608.620388969481,-6260.011381611439,-8795.8810650124869,-6813.2583836198646,6600.5998493536463,-38111.446442023567,-10378.072556740202,7905.3341740702945,40558.633944811445,12338.793992392653,5462.6330995576573,15361.104905343476,-9332.3432129458961,-17996.720957432823,-21338.490858967652,-19520.836510543129,-11389.133823283852,1916.2314057531639,4361.6897378141548,11327.863612836412,{"$f":"'PADD5 mthly rpt'!GY9","v":19057.427142839719},{"$f":"'PADD5 mthly rpt'!GZ9","v":2371.7429626000121},{"$f":"'PADD5 mthly rpt'!HA9","v":23392.666407252524},{"$f":"'PADD5 mthly rpt'!HB9","v":13304.054437062819}]
["     TOTAL SUPPLY",119909.59060005189,108183.78414843898,100522.49382585834,98150.450815105665,88619.268019406722,86583.784148438994,81264.429309729312,81103.138987148661,88650.450815105665,95103.138987148675,104617.11748177232,120393.46156779383,107850.95728046037,103231.1416122576,103721.92502239585,91335.903517019513,83334.828248202291,73369.236850352841,66786.441151428124,90044.505667557154,74502.570183686184,84915.473409492624,91702.570183686199,112205.79599013781,122543.9257699103,98143.004110924128,93737.474157007091,83985.861253781288,85995.538673136121,80519.194587114602,80124.570931200651,79221.345124749016,80452.52792044793,93898.764479587728,94885.861253781273,109318.11931829739,120887.8509968463,103685.40383333131,90371.721964588243,78223.334867814032,82145.915512975305,80023.334867814032,71113.657448459198,72662.044545233395,83656.668201147375,78952.367125878547,89623.334867814061,96145.915512975349,104504.24135304542,92660.923380695196,92149.402643367997,75741.875761647592,67665.531675626087,69208.542428314249,58407.467159497042,64149.402643368005,71875.209094980921,80504.241353045421,81808.542428314235,102697.78974014219,93830.526445887474,90613.936584136318,92024.074832984261,84918.698488898241,70991.816768468125,69385.365155564898,64088.590962016511,64572.461929758458,71318.698488898241,75346.655478145549,84018.698488898226,106669.23612330682,103038.44435326054,106304.5733855186,100199.73467584117,79687.906718851897,82231.992740357295,75221.24005218524,77006.186288744386,76425.541127454082,78254.573385518568,81457.799191970218,93354.573385518597,107264.25080487345,97857.933939838607,77791.113663340919,78922.450068870879,65081.589853817102,67922.450068870865,68314.923187150445,59890.192004354743,76277.288778548304,65881.589853817102,85986.966197903123,89481.589853817102,94503.095230161212,99192.87612129061,64071.908379355125,60644.489024516413,55421.908379355111,52676.747089032535,51355.241712688461,56934.811605161573,61934.81160516158,54155.241712688454,66612.230960000292,63121.908379355118,89096.101927742217,91131.848904726561,78591.116980020975,79094.94755980093,69426.816890790651,65889.266434871213,65071.112689129477,62358.764563242461,66859.602941398989,67252.957139565959,74579.416957300462,77336.678296639177,88429.484824098603,102755.05496477376,88374.680010350421,86936.763130028543,83099.094514327706,84308.675781376631,79936.567719614643,79900.877850946214,82992.181789201059,76955.035561237077,100570.28356741261,99431.644498387817,116012.46153045769,116593.7646421931,107256.45340936517,108130.31151712532,85632.427847661049,82179.643523312116,88436.567719614657,81997.652044494607,80701.859208555892,82188.368894570405,96634.799696444868,121464.97783172113,116851.17120787704,105413.22097656896,107963.54845800652,109245.49617567865,94729.902067774558,95722.410150366806,85923.821161684769,80365.160187420624,89770.569714237005,103775.86485615041,100217.87398528718,115324.3836311418,115700.22873624036,113656.61640508907,91424.349408776878,99738.254015453625,92957.974731474358,86584.603139900311,91809.95398934299,82082.944260314966,94898.443541575354,95236.8791381013,111040.6184109009,96160.244021667575,120057.85514527772,94271.752992226975,103761.52049565566,88666.608328983857,84456.357809338253,74404.254543700983,80261.966948325455,81733.712235886254,87279.127414308401,85475.665273600025,94808.964126235674,96441.851274650791,103915.78603463082,116605.56667588622,91321.045694142813,92664.17102908314,80395.96635208877,88161.594257768156,95819.33033622714,73631.473350524873,67383.896773925284,76388.180225982913,100365.97568069576,92548.922486176452,125495.94234516303,110047.33707729611,131995.83395068572,129187.82401694157,125814.25446390989,128256.01380394929,94606.140098116099,88988.26832550278,85790.543991054743,94473.477175460721,108301.90050659786,112281.98456073229,118293.43545976063,120836.94091752746,{"$f":"'PADD5 mthly rpt'!GY10","v":132644.65631597332},{"$f":"'PADD5 mthly rpt'!GZ10","v":133831.55438076361},{"$f":"'PADD5 mthly rpt'!HA10","v":122452.59723281537},{"$f":"'PADD5 mthly rpt'!HB10","v":106416.99916086196}]
["DEMAND"]
["  Residential and Commercial ",74285.942532801913,58609.675251695924,50285.942532801906,49397.770489791168,39189.168339253512,35097.770489791168,33092.394145705141,33705.297371511595,40431.103823124504,47092.394145705148,54064.437156457825,68963.36188764064,59915.776210739896,53232.596487237592,54496.421372030214,42225.453630094729,39335.131049449563,34658.786963428065,28883.518146223774,50528.679436546357,34858.786963428065,44819.002017191495,51258.78696342808,71367.389113965706,81675.727710792693,56009.829093281187,51449.921259179806,42857.44814090024,46514.437388212064,40224.114807566897,40772.501904341108,39095.082549502389,40090.781474233561,52901.534162405616,44090.781474233576,66127.340614018511,64540.12955176492,60544.578939974046,48798.194067893972,40875.613422732647,35088.516648539095,49008.946756065983,41056.258584022988,42765.936003377828,52642.280089399326,47636.903745313306,57275.613422732677,64701.419874345564,72368.531895344859,59900.789959861002,59852.402863086798,43967.456626527674,36368.53189534488,37767.456626527666,26820.144798570673,33174.983508248093,39934.123293194338,48755.628669538419,50000.789959860995,70594.338346957782,62258.227095563634,57149.932164688056,59193.710966531384,53502.313117069018,39516.29161169265,37635.646450402339,32129.194837499112,32129.194837499126,38868.979783735682,43161.452902015262,51802.313117069003,72161.452902015255,66998.799907413253,68960.781474233518,62902.025713864859,41353.638617090663,41385.896681606799,34853.638617090663,39321.380552574534,37676.219262251972,36153.638617090655,40805.251520316488,51653.63861709067,62385.896681606791,55947.314439979527,37476.11628329751,43431.185407721481,29578.497235678464,33011.8305690118,33678.497235678464,24721.507988366633,41786.024117398905,32911.8305690118,49721.507988366626,53545.163902345128,56205.378956108558,76329.505109961407,42141.717091528233,39490.795432542051,31082.193282004409,27490.795432542065,28882.193282004417,35329.505109961414,39942.408335767868,31448.859948671081,42684.343819638838,39782.193282004424,64652.085755122687,61210.805772375192,48178.138363798644,46238.420556481826,35763.838274568312,32839.191044455329,33174.800739573824,30437.721430891088,34164.366260660521,34423.311856676955,41593.857695916842,44373.699680416845,58185.861046585953,61372.107573727779,48305.096674603992,46360.267351885799,35858.082607152712,32925.728390330674,33262.222479106313,30517.930459900257,34254.395688477678,34514.023654062083,41703.465208624715,44490.632591212809,58339.191558766557,61372.107573727779,48305.096674603992,46360.267351885799,35858.082607152712,32925.728390330674,33262.222479106313,30517.930459900257,34254.395688477678,34514.023654062083,41703.465208624715,44490.632591212809,58339.191558766557,61481.886488748802,48391.502068072899,46443.19394592302,35922.223493932892,32984.624049643418,32321.720039794738,30572.519188021583,34315.667991842274,34575.76036507859,41778.061981396779,44570.214889549148,58443.54536712863,62362.295364482678,49084.459138260099,48108.251615793037,36436.622875707588,34456.957568254067,33798.880708622346,31010.311825558885,34807.061805567937,35070.878651929357,42376.315852252104,38208.451856941261,56780.445778113768,44753.094869555774,50006.052781051025,38852.284739570452,40410.256849933845,20984.152093711309,35634.137010318991,27718.338065150951,31234.470056603121,31478.7881861243,38244.280142889475,41867.092828123838,58899.024946455509,61753.094869555774,51911.19045171867,41062.743070837125,34081.026085099853,28293.993614648421,21613.811713755513,25005.52144580246,25556.814757169152,24803.576067985545,36636.722944318368,55726.319420200198,68740.005945853438,70162.2131910881,78470.602441028124,72257.921729336143,70466.458242431661,75709.609126497089,44184.877867773139,39364.861389329235,36524.540634611345,37175.532790724537,50658.41656137567,53400.193606901463,65708.472719764919,66658.514278023693,{"$f":"'PADD5 mthly rpt'!GY12","v":76044.670271591865},{"$f":"'PADD5 mthly rpt'!GZ12","v":78629.540392630588},{"$f":"'PADD5 mthly rpt'!HA12","v":68038.077243900203},{"$f":"'PADD5 mthly rpt'!HB12","v":53625.125308663672}]
["  Chemical",12473.059360730595,12473.059360730595,12473.059360730595,12473.059360730595,12473.059360730595,12473.059360730595,12473.059360730595,12473.059360730595,12473.059360730595,12473.059360730595,12473.059360730595,12473.059360730595,9463.0136986301368,9463.0136986301368,9463.0136986301368,9463.0136986301368,9463.0136986301368,9463.0136986301368,9463.0136986301368,9463.0136986301368,9463.0136986301368,9463.0136986301368,9463.0136986301368,9463.0136986301368,9169.8630136986303,9169.8630136986303,9169.8630136986303,9169.8630136986303,9169.8630136986303,9169.8630136986303,9169.8630136986303,9169.8630136986303,9169.8630136986303,9169.8630136986303,9169.8630136986303,9169.8630136986303,3150.2732240437158,3150.2732240437158,3150.2732240437158,3150.2732240437158,3150.2732240437158,3150.2732240437158,3150.2732240437158,3150.2732240437158,3150.2732240437158,3150.2732240437158,3150.2732240437158,3150.2732240437158,8843.8356164383567,8843.8356164383567,8843.8356164383567,8843.8356164383567,8843.8356164383567,8843.8356164383567,8843.8356164383567,8843.8356164383567,8843.8356164383567,8843.8356164383567,8843.8356164383567,8843.8356164383567,8786.3013698630148,8786.3013698630148,8786.3013698630148,8786.3013698630148,8786.3013698630148,8786.3013698630148,8786.3013698630148,8786.3013698630148,8786.3013698630148,8786.3013698630148,8786.3013698630148,8786.3013698630148,9446.5753424657541,9446.5753424657541,9446.5753424657541,9446.5753424657541,9446.5753424657541,9446.5753424657541,9446.5753424657541,9446.5753424657541,9446.5753424657541,9446.5753424657541,9446.5753424657541,9446.5753424657541,8442.622950819672,8442.622950819672,8442.622950819672,8442.622950819672,8442.622950819672,8442.622950819672,8442.622950819672,8442.622950819672,8442.622950819672,8442.622950819672,8442.622950819672,8442.622950819672,7969.8630136986303,7969.8630136986303,7969.8630136986303,7969.8630136986303,7969.8630136986303,7969.8630136986303,7969.8630136986303,7969.8630136986303,7969.8630136986303,7969.8630136986303,7969.8630136986303,7969.8630136986303,9882.1917808219187,9882.1917808219187,9882.1917808219187,9882.1917808219187,9882.1917808219187,9882.1917808219187,9882.1917808219187,9882.1917808219187,9882.1917808219187,9882.1917808219187,9882.1917808219187,9882.1917808219187,8199.2244599999995,8199.2244599999995,8199.2244599999995,8199.2244599999995,8199.2244599999995,8199.2244599999995,8199.2244599999995,8199.2244599999995,8199.2244599999995,8199.2244599999995,8199.2244599999995,8199.2244599999995,8199.2244599999995,8199.2244599999995,8199.2244599999995,8199.2244599999995,8199.2244599999995,8199.2244599999995,8199.2244599999995,8199.2244599999995,8199.2244599999995,8199.2244599999995,8199.2244599999995,8199.2244599999995,8199.2244599999995,8199.2244599999995,8199.2244599999995,8199.2244599999995,8199.2244599999995,7828.4037233333356,7828.4037233333356,7828.4037233333356,7828.4037233333356,7828.4037233333356,7828.4037233333356,7828.4037233333356,8200,8200,8200,8200,8200,8200,8200,8200,8200,8200,8200,8200,8144.8540701698876,8144.8540701698876,8144.8540701698876,8144.8540701698876,8144.8540701698876,8144.8540701698876,8144.8540701698876,8144.8540701698876,8144.8540701698876,8144.8540701698876,8144.8540701698876,8144.8540701698876,6721.7805429001492,6721.7805429001492,6721.7805429001492,6721.7805429001492,6721.7805429001492,6721.7805429001492,6721.7805429001492,6721.7805429001492,6721.7805429001492,6721.7805429001492,4502.1505376344085,4502.1505376344085,4502.1505376344085,4502.1505376344085,4502.1505376344085,4502.1505376344085,4502.1505376344085,4502.1505376344085,4502.1505376344085,4502.1505376344085,4502.1505376344085,4502.1505376344085,4502.1505376344085,4502.1505376344085,4502.1505376344085,{"$f":"'PADD5 mthly rpt'!GY13","v":4502.1505376344085},{"$f":"'PADD5 mthly rpt'!GZ13","v":4502.1505376344085},{"$f":"'PADD5 mthly rpt'!HA13","v":4502.1505376344085},{"$f":"'PADD5 mthly rpt'!HB13","v":4502.1505376344085}]
["  Farm",5166.1183054663279,5166.1183054663279,5166.1183054663279,5166.1183054663279,5166.1183054663279,5166.1183054663279,5166.1183054663279,5166.1183054663279,5166.1183054663279,5166.1183054663279,5166.1183054663279,5166.1183054663279,6194.0043953175445,6194.0043953175445,6194.0043953175445,6194.0043953175445,6194.0043953175445,6194.0043953175445,6194.0043953175445,6194.0043953175445,6194.0043953175445,6194.0043953175445,6194.0043953175445,6194.0043953175445,6594.382081368135,6594.382081368135,6594.382081368135,6594.382081368135,6594.382081368135,6594.382081368135,6594.382081368135,6594.382081368135,6594.382081368135,6594.382081368135,6594.382081368135,6594.382081368135,6173.804952754419,6173.804952754419,6173.804952754419,6173.804952754419,6173.804952754419,6173.804952754419,6173.804952754419,6173.804952754419,6173.804952754419,6173.804952754419,6173.804952754419,6173.804952754419,4753.8373604193775,4753.8373604193775,4753.8373604193775,4753.8373604193775,4753.8373604193775,4753.8373604193775,4753.8373604193775,4753.8373604193775,4753.8373604193775,4753.8373604193775,4753.8373604193775,4753.8373604193775,4867.6648791930065,4867.6648791930065,4867.6648791930065,4867.6648791930065,4867.6648791930065,4867.6648791930065,4867.6648791930065,4867.6648791930065,4867.6648791930065,4867.6648791930065,4867.6648791930065,4867.6648791930065,5508.0234833659488,5508.0234833659488,5508.0234833659488,5508.0234833659488,5508.0234833659488,5508.0234833659488,5508.0234833659488,5508.0234833659488,5508.0234833659488,5508.0234833659488,5508.0234833659488,5508.0234833659488,5205.4794520547948,5205.4794520547948,5205.4794520547948,5205.4794520547948,5205.4794520547948,5205.4794520547948,5205.4794520547948,5205.4794520547948,5205.4794520547948,5205.4794520547948,5205.4794520547948,5205.4794520547948,6066.8623613829095,6066.8623613829095,6066.8623613829095,6066.8623613829095,6066.8623613829095,6066.8623613829095,6066.8623613829095,6066.8623613829095,6066.8623613829095,6066.8623613829095,6066.8623613829095,6066.8623613829095,6210.886104673933,6210.886104673933,6210.886104673933,6210.886104673933,6210.886104673933,6210.886104673933,6210.886104673933,6210.886104673933,6210.886104673933,6210.886104673933,6210.886104673933,6210.886104673933,6368.6076842750763,6368.6076842750763,6368.6076842750763,6368.6076842750763,6368.6076842750763,6368.6076842750763,6368.6076842750763,6368.6076842750763,6368.6076842750763,6368.6076842750763,6368.6076842750763,6368.6076842750763,6368.6076842750763,6368.6076842750763,6368.6076842750763,6368.6076842750763,6368.6076842750763,6368.6076842750763,6368.6076842750763,6368.6076842750763,6368.6076842750763,6368.6076842750763,6368.6076842750763,6368.6076842750763,6368.6076842750763,6368.6076842750763,6368.6076842750763,6368.6076842750763,6368.6076842750763,2886.272653788621,2791.4186229129386,5982.579233087682,10305.212925850921,16355.545038135522,14424.587981023415,9573.4818305242297,6145.7313646334478,4537.95792722651,2867.5439662842359,2964.9847806725352,2867.5439662842359,2964.9847806725352,2867.5439662842359,6145.7313646334478,10586.248477471658,16801.580423811036,14817.963845192084,9834.5621950476361,4618.3030851412823,3410.1173403308226,2154.8594236446302,2228.0828021179914,2154.8594236446302,2228.0828021179914,2154.8594236446302,4618.3030851412823,7955.1970469987436,12625.802545335286,11135.18376927043,7390.3309844899577,4525.9370234384569,3341.9149935242062,2111.7622351717373,2183.5211460756313,2111.7622351717373,2183.5211460756313,2111.7622351717373,4525.9370234384569,7796.0931060587691,12373.286494428579,4675.3417200584454,4675.3417200584454,5901.2700240029171,7801.7463110469671,6526.6935866906506,6267.1681657247655,3465.776621698717,1340.6341745894911,542.77888042008146,185.3753006899185,8217.316328982708,8562.8558894687158,9801.162898077373,3504.3346842422197,5097.0792677700001,{"$f":"'PADD5 mthly rpt'!GY14","v":7518.6386726476803},{"$f":"'PADD5 mthly rpt'!GZ14","v":6120.6666163992741},{"$f":"'PADD5 mthly rpt'!HA14","v":5333.1726171814207},{"$f":"'PADD5 mthly rpt'!HB14","v":3710.5264804645208}]
["  Other",16113.502659117572,16113.502659117572,16113.502659117572,16113.502659117572,16113.502659117572,16113.502659117572,16113.502659117572,16113.502659117572,16113.502659117572,16113.502659117572,16113.502659117572,16113.502659117572,17020.098459643763,17020.098459643763,17020.098459643763,17020.098459643763,17020.098459643763,17020.098459643763,17020.098459643763,17020.098459643763,17020.098459643763,17020.098459643763,17020.098459643763,17020.098459643763,17297.501351147603,17297.501351147603,17297.501351147603,17297.501351147603,17297.501351147603,17297.501351147603,17297.501351147603,17297.501351147603,17297.501351147603,17297.501351147603,17297.501351147603,17297.501351147603,15023.643268283244,15023.643268283244,15023.643268283244,15023.643268283244,15023.643268283244,15023.643268283244,15023.643268283244,15023.643268283244,15023.643268283244,15023.643268283244,15023.643268283244,15023.643268283244,12376.746158262173,12376.746158262173,12376.746158262173,12376.746158262173,12376.746158262173,12376.746158262173,12376.746158262173,12376.746158262173,12376.746158262173,12376.746158262173,12376.746158262173,12376.746158262173,11595.752456106537,11595.752456106537,11595.752456106537,11595.752456106537,11595.752456106537,11595.752456106537,11595.752456106537,11595.752456106537,11595.752456106537,11595.752456106537,11595.752456106537,11595.752456106537,13246.335942596217,13246.335942596217,13246.335942596217,13246.335942596217,13246.335942596217,13246.335942596217,13246.335942596217,13246.335942596217,13246.335942596217,13246.335942596217,13246.335942596217,13246.335942596217,12485.518590998043,12485.518590998043,12485.518590998043,12485.518590998043,12485.518590998043,12485.518590998043,12485.518590998043,12485.518590998043,12485.518590998043,12485.518590998043,12485.518590998043,12485.518590998043,11554.989562948467,11554.989562948467,11554.989562948467,11554.989562948467,11554.989562948467,11554.989562948467,11554.989562948467,11554.989562948467,11554.989562948467,11554.989562948467,11554.989562948467,11554.989562948467,11853.254909901403,11853.254909901403,11853.254909901403,11853.254909901403,11853.254909901403,11853.254909901403,11853.254909901403,11853.254909901403,11853.254909901403,11853.254909901403,11853.254909901403,11853.254909901403,12073.179762899923,12073.179762899923,12073.179762899923,12073.179762899923,12073.179762899923,12073.179762899923,12073.179762899923,12073.179762899923,12073.179762899923,12073.179762899923,12073.179762899923,12073.179762899923,12073.179762899923,12073.179762899923,12073.179762899923,12073.179762899923,12073.179762899923,12073.179762899923,12073.179762899923,12073.179762899923,12073.179762899923,12073.179762899923,12073.179762899923,12073.179762899923,12073.179762899923,12073.179762899923,12073.179762899923,12073.179762899923,12073.179762899923,11487.424744768079,11463.141233797927,11934.24134661887,12366.487841887571,12546.185823066693,13167.843703902578,14435.442976544498,15013.105805005194,14137.646629004554,13272.135852731197,12456.367075094236,11705.262895684597,11546.088500048118,11521.217500729917,12003.714887502996,12446.418675366956,12630.464070321636,13267.161652867555,14565.427817277596,11658.72677381165,10807.639161246785,9966.2229988247018,9173.1640871165309,8442.9696013364464,8288.2263990519259,8264.0477736949688,8733.1131056199229,9163.4926369737477,9342.4144646152254,9961.3872737533093,11223.511517386436,11637.012304507978,10794.435568068759,9961.4335672708985,9176.3052446798083,8453.4127037575254,8300.2169334958489,8276.2800943924631,8740.6547729981667,9166.7305090384543,9343.8631184035148,9578.4441416167065,9578.4441416167065,9578.4775181190635,9578.4775181190635,9578.4775181190635,9578.4775181190635,9578.4775181190635,9578.4775181190635,9578.4775181190635,9578.4775181190635,9578.4775181190635,9578.4775181190635,9578.4775181190635,9578.4775181190635,9579.1968340993553,{"$f":"'PADD5 mthly rpt'!GY15","v":9579.1968340993553},{"$f":"'PADD5 mthly rpt'!GZ15","v":9579.1968340993553},{"$f":"'PADD5 mthly rpt'!HA15","v":9579.1968340993553},{"$f":"'PADD5 mthly rpt'!HB15","v":9579.1968340993553}]
["     US DOMESTIC CONSUMPTION",108038.6228581164,92362.355577010414,84038.622858116403,83150.450815105665,72941.84866456801,68850.450815105665,66845.07447101963,67457.977696826085,74183.784148438994,80845.074471019645,87817.117481772322,102716.04221295513,92592.892764331351,85909.71304082904,87173.537925621655,74902.57018368617,72012.247603041003,67335.903517019513,61560.634699815215,83205.795990137805,67535.903517019513,77496.118570782943,83935.903517019527,104044.50566755715,114737.47415700706,89071.575539495549,84511.667705394168,75919.194587114616,79576.18383442644,73285.861253781273,73834.248350555485,72156.828995716758,73152.52792044793,85963.280608619985,77152.527920447945,99189.08706023288,88887.850996846289,84892.300385055423,73145.915512975349,65223.334867814032,59436.238093620479,73356.66820114736,65403.980029104372,67113.657448459213,76990.001534480703,71984.625190394683,81623.334867814046,89049.141319426941,98342.95103046477,85875.209094980906,85826.821998206709,69941.875761647578,62342.951030464785,63741.875761647578,52794.563933690573,59149.402643367997,65908.542428314249,74730.04780465833,75975.209094980906,96568.757482077694,87507.945800726186,82399.650869850608,84443.429671693943,78752.031822231584,64766.010316855209,62885.365155564898,57378.91354266167,57378.913542661685,64118.698488898241,68411.171607177821,77052.031822231569,97411.171607177806,95199.734675841173,97161.716242661438,91102.960482292779,69554.573385518583,69586.831450034719,63054.573385518583,67522.315321002447,65877.154030679885,64354.573385518575,69006.1862887444,79854.573385518583,90586.831450034704,82080.93543385205,63609.737277170017,69564.806401593989,55712.118229550972,59145.451562884307,59812.118229550972,50855.128982239141,67919.645111271413,59045.451562884307,75855.128982239141,79678.784896217636,82338.99994998108,101921.22004799142,67733.432029558244,65082.510370572061,56673.90822003442,53082.510370572076,54473.908220034427,60921.220047991425,65534.123273797879,57040.574886701092,68276.058757668856,65373.908220034435,90243.800693152691,89157.138567772447,76124.471159195891,74184.753351879073,63710.171069965567,60785.523839852583,61121.133534971072,58384.054226288339,62110.699056057769,62369.644652074203,69540.19049131409,72320.032475814092,86132.1938419832,88013.11948090278,74946.108581778986,73001.279259060801,62499.094514327706,59566.740297505676,59903.234386281314,57158.942367075259,60895.407595652679,61155.035561237077,68344.477115799717,71131.644498387803,84980.203465941551,88013.11948090278,74946.108581778986,73001.279259060801,62499.094514327706,59566.740297505676,59903.234386281314,57158.942367075259,60895.407595652679,61155.035561237077,68344.477115799717,71131.644498387803,84980.203465941551,88122.898395923796,75032.513975247901,73084.205853098014,62563.235401107886,59625.635956818413,54523.821161684769,52655.482768065784,60060.892294882156,65075.864856150423,78508.196565932332,79991.05029780847,90280.873897530691,91721.132534121323,75960.063694491168,72447.931434808474,60057.974731474358,57229.764430222895,56509.953989343005,53599.073292573034,61156.508057704385,66303.545804767971,80008.360346384783,74493.577355000903,89380.435790439005,69174.978798678596,72368.663352798525,59118.221232209675,59956.357809338253,39726.835188862271,54295.300281658798,46282.099332660437,52730.740317534211,56742.331940266682,68357.351223009871,71108.517941317463,85657.721518501799,84637.824740402357,72769.321556211798,59857.719416179905,52162.633018755449,45580.949096477831,38819.33033622714,42115.344318266812,45545.187096505928,48488.18022598292,65075.653100050622,74482.255819509752,87495.942345163014,90144.1112708445,100352.97680782857,92865.243371780278,90814.254463909907,93256.013803949289,59606.140098116099,53988.268325502788,50790.543991054736,59473.477175460714,73301.900506597856,77281.984560732308,83293.435459760614,85836.940917527449,{"$f":"'PADD5 mthly rpt'!GY16","v":97644.65631597332},{"$f":"'PADD5 mthly rpt'!GZ16","v":98831.554380763642},{"$f":"'PADD5 mthly rpt'!HA16","v":87452.597232815402},{"$f":"'PADD5 mthly rpt'!HB16","v":71416.999160861946}]
["EXPORTS",11870.967741935483,15821.428571428571,16483.870967741936,15000,15677.41935483871,17733.333333333332,14419.354838709678,13645.161290322581,14466.666666666666,14258.064516129032,16800,17677.419354838708,15258.064516129032,17321.428571428572,16548.387096774193,16433.333333333332,11322.58064516129,6033.333333333333,5225.8064516129034,6838.7096774193551,6966.666666666667,7419.3548387096771,7766.666666666667,8161.2903225806449,7806.4516129032254,9071.4285714285706,9225.8064516129034,8066.666666666667,6419.3548387096771,7233.333333333333,6290.322580645161,7064.5161290322585,7300,7935.4838709677415,17733.333333333332,10129.032258064517,32000,18793.103448275862,17225.806451612902,13000,22709.677419354837,6666.666666666667,5709.677419354839,5548.3870967741932,6666.666666666667,6967.7419354838712,8000,7096.7741935483873,6161.2903225806449,6785.7142857142853,6322.5806451612907,5800,5322.5806451612907,5466.666666666667,5612.9032258064517,5000,5966.666666666667,5774.1935483870966,5833.333333333333,6129.0322580645161,6322.5806451612907,8214.2857142857138,7580.6451612903229,6166.666666666667,6225.8064516129034,6500,6709.677419354839,7193.5483870967746,7200,6935.4838709677415,6966.666666666667,9258.0645161290322,7838.7096774193551,9142.8571428571431,9096.7741935483864,10133.333333333334,12645.161290322581,12166.666666666666,9483.8709677419356,10548.387096774193,13900,12451.612903225807,13500,16677.419354838708,15774.193548387097,14178.571428571429,9354.8387096774186,9366.6666666666661,8774.1935483870966,8500,9032.2580645161288,8354.8387096774186,6833.333333333333,10129.032258064517,9800,12161.290322580646,9290.322580645161,8357.1428571428569,7580.6451612903229,10766.666666666666,11612.903225806451,8900,8032.2580645161288,8419.354838709678,9133.3333333333339,10354.838709677419,9766.6666666666661,10870.967741935483,10258.064516129032,10750,13258.064516129032,14000,13387.096774193549,12233.333333333334,12258.064516129032,13032.258064516129,13166.666666666666,13387.096774193549,13566.666666666666,11129.032258064517,14741.935483870968,13428.571428571429,13935.483870967742,20600,24741.935483870966,20033.333333333332,22741.935483870966,22096.774193548386,15800,32225.806451612902,28300,31032.258064516129,28580.645161290322,32310.344827586207,35129.032258064515,23133.333333333332,22612.903225806451,28533.333333333332,24838.709677419356,19806.451612903227,21033.333333333332,28290.322580645163,50333.333333333336,31870.967741935485,17290.322580645163,32931.034482758623,36161.290322580644,32166.666666666668,36096.774193548386,31400,27709.677419354841,29709.677419354841,38700,21709.677419354841,35333.333333333336,25419.354838709674,21935.483870967739,15464.285714285714,27290.322580645159,32900,29354.83870967742,35300,28483.870967741936,33741.93548387097,28933.333333333332,31032.258064516129,21666.666666666668,30677.419354838708,25096.774193548386,31392.857142857141,29548.387096774193,24500,34677.419354838712,25966.666666666664,35451.61290322581,34548.38709677419,28733.333333333336,26451.612903225807,25333.333333333332,18258.06451612903,31967.741935483871,18551.724137931036,32806.451612903227,28233.333333333336,42580.645161290318,57000,31516.129032258064,21838.709677419356,27900,35290.322580645159,18066.666666666668,38000,19903.225806451614,31642.857142857141,36322.580645161288,35000,35000,35000,35000,35000,35000,35000,35000,35000,35000,{"$f":"'PADD5 mthly rpt'!GY17","v":35000},{"$f":"'PADD5 mthly rpt'!GZ17","v":35000},{"$f":"'PADD5 mthly rpt'!HA17","v":35000},{"$f":"'PADD5 mthly rpt'!HB17","v":35000}]
["     TOTAL DEMAND",119909.59060005189,108183.78414843898,100522.49382585834,98150.450815105665,88619.268019406722,86583.784148438994,81264.429309729312,81103.138987148661,88650.450815105665,95103.138987148675,104617.11748177232,120393.46156779384,107850.95728046038,103231.1416122576,103721.92502239585,91335.903517019498,83334.828248202291,73369.236850352841,66786.441151428124,90044.505667557154,74502.570183686184,84915.473409492624,91702.570183686199,112205.79599013781,122543.92576991029,98143.004110924114,93737.474157007076,83985.861253781288,85995.538673136121,80519.194587114602,80124.570931200651,79221.345124749016,80452.52792044793,93898.764479587728,94885.861253781273,109318.11931829739,120887.85099684629,103685.40383333128,90371.721964588243,78223.334867814032,82145.91551297532,80023.334867814032,71113.657448459213,72662.04454523341,83656.668201147375,78952.367125878547,89623.334867814046,96145.915512975334,104504.24135304542,92660.923380695196,92149.402643367997,75741.875761647578,67665.531675626073,69208.542428314249,58407.467159497028,64149.402643367997,71875.209094980921,80504.241353045421,81808.542428314235,102697.78974014221,93830.526445887474,90613.936584136318,92024.074832984261,84918.698488898255,70991.81676846811,69385.365155564898,64088.590962016511,64572.461929758458,71318.698488898241,75346.655478145563,84018.698488898241,106669.23612330684,103038.44435326052,106304.57338551858,100199.73467584117,79687.906718851911,82231.992740357295,75221.240052185254,77006.186288744386,76425.541127454082,78254.573385518568,81457.799191970204,93354.573385518583,107264.25080487342,97855.128982239141,77788.308705741452,78919.645111271413,65078.784896217636,67919.645111271398,68312.118229550979,59887.38704675527,76274.483820948837,65878.784896217636,85984.161240303656,89478.784896217636,94500.290272561731,111211.54262863658,76090.574886701099,72663.155531862387,67440.574886701084,64695.413596378523,63373.908220034427,68953.478112507553,73953.478112507553,66173.908220034427,78630.89746734628,75140.574886701099,101114.76843508818,99415.203083901477,86874.471159195891,87442.817868008104,77710.171069965567,74172.620614046129,73354.4668683044,70642.11874241737,75142.957120573905,75536.311318740874,82927.287265507635,85886.699142480764,97261.226100047716,102755.05496477375,88374.680010350421,86936.763130028543,83099.094514327706,84308.675781376645,79936.567719614643,79900.877850946228,82992.181789201073,76955.035561237077,100570.28356741261,99431.644498387803,116012.46153045769,116593.7646421931,107256.45340936519,108130.31151712532,85632.427847661034,82179.64352331213,88436.567719614643,81997.652044494607,80701.859208555907,82188.368894570405,96634.799696444883,121464.97783172113,116851.17120787704,105413.22097656896,107963.54845800652,109245.49617567865,94729.902067774558,95722.410150366806,85923.821161684769,80365.160187420624,89770.569714237005,103775.86485615042,100217.87398528718,115324.3836311418,115700.22873624036,113656.61640508907,91424.349408776878,99738.254015453625,92957.974731474358,86584.603139900311,91809.953989343005,82082.944260314966,94898.443541575354,95236.8791381013,111040.6184109009,96160.244021667575,120057.85514527772,94271.752992226975,103761.52049565567,88666.608328983872,84456.357809338253,74404.254543700983,80261.966948325455,81733.712235886254,87279.127414308401,85475.665273600025,94808.964126235674,96441.851274650791,103915.78603463083,116605.56667588622,91321.045694142842,92664.17102908314,80395.966352088784,88161.594257768156,95819.33033622714,73631.473350524873,67383.896773925284,76388.180225982913,100365.97568069579,92548.922486176423,125495.94234516301,110047.33707729611,131995.83395068572,129187.82401694157,125814.25446390991,128256.01380394929,94606.140098116099,88988.26832550278,85790.543991054728,94473.477175460721,108301.90050659786,112281.98456073231,118293.43545976061,120836.94091752745,{"$f":"'PADD5 mthly rpt'!GY18","v":132644.65631597332},{"$f":"'PADD5 mthly rpt'!GZ18","v":133831.55438076364},{"$f":"'PADD5 mthly rpt'!HA18","v":122452.5972328154},{"$f":"'PADD5 mthly rpt'!HB18","v":106416.99916086195}]
[]
["INVENTORIES (End of Month, Thousand Barrels)",737,520,378,418,609,1027.9999999999998,1395,1852,2178,2138,1986,1396,851,604,368,382,733,1407,2183,2238,2595,2558,2409,1961,995,569,404,532,851,1276,1695,2170,2488,2485,2342,1962,1154,592,430,456,678,939,1420,1950,2057.0000000000005,2284,2318,1853,1054,711,506,623,918,1203,1623,2030,2314,2391,2219,1345,845,645,401,441,657,972,1395,1719,2007.9999999999998,2195,2013,1210,811,458,283,576,624,1039.9999999999998,1463,1867,2182,2333,2104,1580,835,796.46428571428567,624,866,1138,1491,2089,2203,2642,2593,2412,1915,813,499,522.00000000000011,686,992,1444,1703,1899,2304,2360,2328,1526,879,526,502,683,1080,1471,1875,2270,2528,2606,2577,2194,1353,1025,991,1126,1221,1580,1812,2188,2801,2551,2228,1474,933,733,666,838,1021,1151,1532,2138,2404,2328,2137,1575,1009,745.37931034482756,484,659,942,1276,1704,2018,2190,2176,2001,1487,1019,698,601,652,1054,1369,1756,1900,2265,2179,2145,1417,687,474,539,482,806,1140,1668,2138,2553,2523,2242,1687,1189,679,479,880,1434,1673,2249,2919,2982,3040,2744,2154,1950,1391,818,654.12100701327029,177.92675494762256,457.89705133599944,1015.7954010164169,1677.288617644414,2262.9137129607079,2615.9768614825075,2558.4899193099127,2423.2775374376738,2072.1137654397448,{"$f":"'PADD5 mthly rpt'!GY20","v":1909.5984654026897},{"$f":"'PADD5 mthly rpt'!GZ20","v":1836.0744335620893},{"$f":"'PADD5 mthly rpt'!HA20","v":1134.2944413445136},{"$f":"'PADD5 mthly rpt'!HB20","v":721.86875379556625}]
["Days of Forward Supply",6.1462973588009318,4.8066353390495928,3.7603523909268906,4.2587680089969435,6.87209467659601,11.872892945376464,17.166182201109542,22.835121095540604,24.568402980178391,22.480856286866711,18.98350908345401,11.595314079526728,7.8905187441871485,5.8509475974668614,3.5479480343287175,4.1823640571839116,8.7958422115763142,19.176974715844185,32.686275273305533,24.854375993385531,34.831013126151539,30.124073944267071,26.269710818078671,17.476815548568986,8.1195374944019836,5.7976623515304206,4.309909175953619,6.3343995293737354,9.8958621939051969,15.847153048947622,21.154559460361043,27.391607610081902,30.925069283840941,26.464671966372933,24.682286370738606,17.94761940870314,9.5460378398992756,5.7095789582071577,4.7581255579980386,5.8294625353236746,8.2536057424901035,11.734077335705646,19.968034987219834,26.836569383704727,24.588595795544581,28.928834981710938,25.863799906785783,19.272789593957626,10.085715051882771,7.6731374354955806,5.4910828012450157,8.2253046116856314,13.566730021433859,17.382247303446096,27.787542910703003,31.644877681645394,32.194688949594827,29.700298516129674,27.124306754938541,13.096679134022983,9.0055979861449007,7.1181103516136108,4.3575553541590102,5.193202531921207,9.2545877807682011,14.008717801235681,21.766744736622105,26.621255387008755,28.155309092082959,29.13201635919545,23.958952426119605,11.343476750890686,7.8708486438279284,4.3083753164507916,2.8243587761538573,7.2281984019506771,7.5882874682393204,13.825882148160447,18.998473635797225,24.42900596394108,27.88335436001228,28.640597010261214,22.537728187255347,14.729977491514951,8.5330223227395035,10.238868783317558,7.9067765588682235,13.30694789985748,16.75509343630458,21.826288492325098,34.882136339811858,28.882529119062287,40.103957657417084,30.156716802216987,26.956110353952269,20.264488018784661,7.3103922559082939,6.5579738455519783,7.1838333496417732,10.171918035284653,15.333389878127768,22.785402392833767,24.697811431952854,25.678305449150027,34.817348135748382,30.013647001549959,30.98192958345366,15.091761803120123,8.8417060241597838,6.0547131163091006,5.7408945896248627,8.7890682853479731,14.560628855487405,20.053311854081539,26.54223901234927,30.209085282038775,33.467347767785327,31.425120559610139,30.004645954840051,22.557807339824638,13.167235426654507,11.598344682888269,11.399090146912796,13.550087477858838,14.482495291068403,19.765672270818595,22.678098773586143,26.363929141632738,36.397878054011166,25.365345602213161,22.407353425962146,12.705531634746142,8.0021431923329871,6.8340876161769257,6.159235006869662,9.7860123911328429,12.42400132473646,13.014978189217036,18.68346180410979,26.49257428474872,29.249880881366597,24.090700320307544,17.593548676727398,13.478683899522848,9.5718543713248128,6.9039904763296116,4.4303885921454862,6.9566207249799339,9.8409557231190377,14.850363761161441,21.203217862393103,22.479527604913471,21.103172717815287,21.712693688946693,17.351057399969115,12.852178567337893,8.965602111258816,7.634727559056504,6.0257722168154251,7.0139221716417337,12.173064976656235,14.911237186317608,21.392994803294133,20.021403187372648,23.782803683807867,19.623449789668019,22.306515772949492,11.802642969802676,7.287442719524325,4.5681674452702881,6.0789513680293608,5.7070895845180027,10.832713867546374,14.203489440197234,20.407735735605591,24.496120244775724,29.868150096616077,26.611407721327815,23.247168841825182,16.234299564820621,10.196768764092655,7.4353068872441721,5.1692039617951506,10.945822781034792,16.265586076032722,17.459942520256543,30.544003775309058,43.318955117619872,39.03745306116997,30.289149080475767,29.649183656458646,17.163901555284202,17.719647306234592,10.53821138415387,6.3318660734832743,5.1991009270011315,1.3872780672850118,4.8400352330315357,11.414936149794752,19.550973098145906,23.952899592738763,24.154487125765073,22.78629051062104,20.485308656556771,17.148015745069095,{"$f":"'PADD5 mthly rpt'!GY21","v":14.396346739018481},{"$f":"'PADD5 mthly rpt'!GZ21","v":13.719293944223953},{"$f":"'PADD5 mthly rpt'!HA21","v":9.2631309337433976},{"$f":"'PADD5 mthly rpt'!HB21","v":6.7833970088216438}]
["Days per Month",31,28,31,30,31,30,31,31,30,31,30,31,31,28,31,30,31,30,31,31,30,31,30,31,31,28,31,30,31,30,31,31,30,31,30,31,31,29,31,30,31,30,31,31,30,31,30,31,31,28,31,30,31,30,31,31,30,31,30,31,31,28,31,30,31,30,31,31,30,31,30,31,31,28,31,30,31,30,31,31,30,31,30,31,31,29,31,30,31,30,31,31,30,31,30,31,31,28,31,30,31,30,31,31,30,31,30,31,31,28,31,30,31,30,31,31,30,31,30,31,31,28,31,30,31,30,31,31,30,31,30,31,31,29,31,30,31,30,31,31,30,31,30,31,31,28,31,30,31,30,31,31,30,31,30,31,31,28,31,30,31,30,31,31,30,31,30,31,31,28,31,30,31,30,31,31,30,31,30,31,31,29,31,30,31,30,31,31,30,31,30,31,31,28,31,30,31,30,31,31,30,31,30,31,31,{"$f":"'PADD5 mthly rpt'!GY22","v":28},{"$f":"'PADD5 mthly rpt'!GZ22","v":31},{"$f":"'PADD5 mthly rpt'!HA22","v":30},{"$f":"'PADD5 mthly rpt'!HB22","v":31}]